{"text_format":"2","workbook":"xlsx","n_sheets":27,"sheets":["Übersicht","WMO_Planung_MM","SCB_Planung_MM","WMO_Planung_Ulm","SCB_Planung_Ulm","WMO_Planung_LL","SCB_Planung_LL","WMO_Planung_KRU","SCB_Planung_KRU","WMO_Planung_GÖG","SCB_Planung_GÖG","WMO_Planung_LEH","SCB_Planung_LEH","WMO_Planung_WTB","SCB_Planung_WTB","WMO_Plan_dynamisch","Saisonalisierung","Basisdaten","Arbeitstage","Verarb_Ums_Lohn","Verarb_Ums_Teile","Verarb_DG","Verarb_DG_0052052","Verarb_DG_0052053","Verarb_AW","Verarb_AW_Satz","Verarb_Arbeitstage"],"not_rendered":{"charts":0,"images":0,"macros":0,"external_links":0,"defined_names":8,"comments":0,"pivot_tables":0},"unopened":[],"bounds":{"document_bytes":16777216,"sheet_cells":100000,"run_cost":"one","rows_first":2000,"rows_last":500,"rows_between":2000,"halvings":0,"cell_chars":16384,"cell_head_chars":4096},"cells_cut":0,"cells_raw":0,"read":"whole","date_system":"1900"}

{"sheet":"Übersicht","index":0,"n_rows":0,"n_cols":0,"rows_kept":0,"cut":false,"hidden":false,"merged":[]}

{"sheet":"WMO_Planung_MM","index":1,"n_rows":85,"n_cols":32,"rows_kept":85,"cut":false,"hidden":false,"merged":[[84,1,84,5],[84,7,84,11],[84,13,84,20],[84,22,84,29],[84,31,84,50],[82,1,82,5],[82,7,82,11],[82,13,82,20],[82,22,82,29],[82,31,82,50],[83,1,83,5],[83,7,83,11],[83,13,83,20],[83,22,83,29],[83,31,83,50],[80,1,80,5],[80,7,80,11],[80,13,80,20],[80,22,80,29],[80,31,80,50],[81,1,81,5],[81,7,81,11],[81,13,81,20],[81,22,81,29],[81,31,81,50],[78,1,78,5],[78,7,78,11],[78,13,78,20],[78,22,78,29],[78,31,78,50],[79,1,79,5],[79,7,79,11],[79,13,79,20],[79,22,79,29],[79,31,79,50],[76,1,76,5],[76,7,76,11],[76,13,76,20],[76,22,76,29],[76,31,76,50],[77,1,77,5],[77,7,77,11],[77,13,77,20],[77,22,77,29],[77,31,77,50],[74,1,74,5],[74,7,74,11],[74,13,74,20],[74,22,74,29],[74,31,74,50],[75,1,75,5],[75,7,75,11],[75,13,75,20],[75,22,75,29],[75,31,75,50],[72,1,72,5],[72,7,72,11],[72,13,72,20],[72,22,72,29],[72,31,72,50],[73,1,73,5],[73,7,73,11],[73,13,73,20],[73,22,73,29],[73,31,73,50],[68,1,68,11],[68,13,68,20],[68,22,68,29],[68,31,68,50],[70,1,70,50],[71,1,71,5],[71,7,71,11],[71,13,71,20],[71,22,71,29],[71,31,71,50],[65,1,65,50],[66,1,66,11],[66,13,66,20],[66,22,66,29],[66,31,66,50],[67,1,67,11],[67,13,67,20],[67,22,67,29],[67,31,67,50],[62,1,62,11],[62,13,62,20],[62,22,62,29],[62,31,62,50],[63,1,63,11],[63,13,63,20],[63,22,63,29],[63,31,63,50],[58,1,58,11],[58,13,58,20],[58,22,58,29],[58,31,58,50],[60,1,60,50],[61,1,61,11],[61,13,61,20],[61,22,61,29],[61,31,61,50],[55,1,55,50],[56,1,56,11],[56,13,56,20],[56,22,56,29],[56,31,56,50],[57,1,57,11],[57,13,57,20],[57,22,57,29],[57,31,57,50],[50,1,50,11],[50,13,50,20],[50,22,50,29],[50,31,50,50],[52,1,52,50],[53,1,53,11],[53,13,53,20],[53,22,53,29],[53,31,53,50],[48,1,48,11],[48,13,48,20],[48,22,48,29],[48,31,48,50],[49,1,49,11],[49,13,49,20],[49,22,49,29],[49,31,49,50],[46,1,46,11],[46,13,46,20],[46,22,46,29],[46,31,46,50],[47,1,47,11],[47,13,47,20],[47,22,47,29],[47,31,47,50],[44,1,44,11],[44,13,44,20],[44,22,44,29],[44,31,44,50],[45,1,45,11],[45,13,45,20],[45,22,45,29],[45,31,45,50],[42,1,42,11],[42,13,42,20],[42,22,42,29],[42,31,42,50],[43,1,43,11],[43,13,43,20],[43,22,43,29],[43,31,43,50],[39,1,39,50],[40,1,40,11],[40,13,40,20],[40,22,40,29],[40,31,40,50],[41,1,41,11],[41,13,41,20],[41,22,41,29],[41,31,41,50],[36,1,36,11],[36,13,36,20],[36,22,36,29],[36,31,36,50],[37,1,37,11],[37,13,37,20],[37,22,37,29],[37,31,37,50],[34,1,34,11],[34,13,34,20],[34,22,34,29],[34,31,34,50],[35,1,35,11],[35,13,35,20],[35,22,35,29],[35,31,35,50],[32,1,32,11],[32,13,32,20],[32,22,32,29],[32,31,32,50],[33,1,33,11],[33,13,33,20],[33,22,33,29],[33,31,33,50],[30,1,30,11],[30,13,30,20],[30,22,30,29],[30,31,30,50],[31,1,31,11],[31,13,31,20],[31,22,31,29],[31,31,31,50],[26,28,26,29],[26,31,26,50],[28,1,28,50],[29,1,29,11],[29,13,29,20],[29,22,29,29],[29,31,29,50],[25,28,25,29],[25,31,25,50],[26,1,26,11],[26,13,26,14],[26,15,26,16],[26,17,26,18],[26,19,26,20],[26,22,26,23],[26,24,26,25],[26,26,26,27],[24,31,24,50],[25,1,25,11],[25,13,25,14],[25,15,25,16],[25,17,25,18],[25,19,25,20],[25,22,25,23],[25,24,25,25],[25,26,25,27],[24,1,24,11],[24,13,24,14],[24,15,24,16],[24,17,24,18],[24,19,24,20],[24,22,24,23],[24,24,24,25],[24,26,24,27],[24,28,24,29],[22,31,22,50],[23,1,23,11],[23,13,23,14],[23,15,23,16],[23,17,23,18],[23,19,23,20],[23,22,23,23],[23,24,23,25],[23,26,23,27],[23,28,23,29],[23,31,23,50],[22,1,22,11],[22,13,22,14],[22,15,22,16],[22,17,22,18],[22,19,22,20],[22,22,22,23],[22,24,22,25],[22,26,22,27],[22,28,22,29],[20,31,20,50],[21,1,21,11],[21,13,21,14],[21,15,21,16],[21,17,21,18],[21,19,21,20],[21,22,21,23],[21,24,21,25],[21,26,21,27],[21,28,21,29],[21,31,21,50],[20,1,20,11],[20,13,20,14],[20,15,20,16],[20,17,20,18],[20,19,20,20],[20,22,20,23],[20,24,20,25],[20,26,20,27],[20,28,20,29],[17,1,17,50],[18,1,18,50],[19,1,19,12],[19,13,19,14],[19,15,19,16],[19,17,19,18],[19,19,19,20],[19,22,19,23],[19,24,19,25],[19,26,19,27],[19,28,19,29],[19,30,19,50],[15,1,15,11],[15,13,15,20],[15,22,15,29],[15,31,15,50],[16,1,16,11],[16,13,16,20],[16,22,16,29],[16,31,16,50],[13,1,13,11],[13,13,13,20],[13,22,13,29],[13,31,13,50],[14,1,14,11],[14,13,14,20],[14,22,14,29],[14,31,14,50],[8,1,8,11],[8,13,8,20],[8,22,8,29],[8,31,8,50],[11,1,11,11],[11,13,11,20],[11,22,11,29],[11,31,11,50],[12,1,12,11],[12,13,12,20],[12,22,12,29],[12,31,12,50],[9,1,9,11],[9,13,9,20],[9,22,9,29],[9,31,9,50],[10,1,10,11],[10,13,10,20],[10,22,10,29],[10,31,10,50],[1,5,1,10],[2,5,2,10],[4,1,4,50],[5,13,5,20],[5,22,5,29],[5,31,5,50],[6,1,6,50],[7,1,7,11],[7,13,7,20],[7,22,7,29],[7,31,7,50]]}
[]
[null,"Standort",null,null,null,"Memmingen",{"$nulls":7},"Legende:"]
[null,"Planjahr",null,null,null,2022,{"$nulls":8},"Simulationseingabe"]
[]
[null,"Kennzahlenplanung auf Jahresbasis (pro WMO)"]
[null,"Bezeichnung Parameter",{"$nulls":11},"IST-Wert Vorjahr gesamt",{"$nulls":8},"Plan-Werte aktuelles Jahr",{"$nulls":8},"Rechenweg/Bemerkung"]
[null,"Berechnung  anwesende Std. pro Jahr (betriebsübergriefend)"]
[null,"Anzahl Kalendertage",{"$nulls":11},365,{"$nulls":8},365]
[null,"./. Anzahl Wochenendtage",{"$nulls":11},104,{"$nulls":8},104]
[null,"./. Anzahl Feiertage ",{"$nulls":11},11,{"$nulls":8},11,{"$nulls":8},"Die auf einen Wochentag (außer Samstag) fallen"]
[null,"= Anzahl Arbeitstage brutto",{"$nulls":11},{"$f":"N8-N9-N10","v":250},{"$nulls":8},{"$f":"W8-W9-W10","v":250},{"$nulls":8},"Anzahl Kalendertage - Wochenendtage - Feiertage"]
[null,"./. Krankheitstage",{"$nulls":11},7,{"$nulls":8},7]
[null,"./. Schulungstage",{"$nulls":11},4,{"$nulls":8},4]
[null,"./. Urlaubstage",{"$nulls":11},25,{"$nulls":8},25]
[null,"= Anzahl Arbeitstage netto",{"$nulls":11},{"$f":"N11-N12-N13-N14","v":214},{"$nulls":8},{"$f":"W11-W12-W13-W14","v":214},{"$nulls":8},"Arbeitstage brutto - Krankheitstage - Schulungstage - Urlaubstage (Berufsschultage werden später berücksichtigt)"]
[null,"* Arbeitszeit pro Tag in h",{"$nulls":11},8.4,{"$nulls":8},8.4]
[null,"= Anwesende Stunden pro Jahr pro WMO /AZG",{"$nulls":11},{"$f":"N15*N16","v":1797.6000000000001},{"$nulls":8},{"$f":"W15*W16","v":1797.6000000000001},{"$nulls":8},"Arbeitstage netto * Arbeitszeit pro Tag in h (Berufsschulstunden werden später berücksichtigt)"]
[]
[null,"Berechnung Leistungskennzahlen pro Jahr (betriebsindividuell)"]
[{"$nulls":13},"Anzahl",null,"LG",null,"AUSL",null,"PR",null,null,"Anzahl",null,"LG",null,"AUSL",null,"PR"]
[null,"WMOM gewichtet mit Prod.fakt.NAV",{"$nulls":13},{"$f":"T21/R21","v":1.1282051282051284},null,0.97499999999999998,null,1.1000000000000001,null,null,9,null,{"$f":"AC21/AA21","v":1.1282051282051284},null,0.97499999999999998,null,1.1000000000000001,null,null,"LG = Leistungsgrad / AUSL = Auslastung / PR = Produktivität"]
[null,"WMOE gewichtet mit Prod.fakt.NAV",{"$nulls":13},{"$f":"T22/R22","v":1.0256410256410258},null,0.97499999999999998,null,1,null,null,4,null,{"$f":"AC22/AA22","v":1.0256410256410258},null,0.97499999999999998,null,1,null,null,"LG = Leistungsgrad / AUSL = Auslastung / PR = Produktivität"]
[null,"WMOK gewichtet mit Prod.fakt.NAV",{"$nulls":13},1.2307692307692308,null,0.97499999999999998,null,1.2,null,null,2,null,1.2307692307692308,null,0.97499999999999998,null,1.2,null,null,"LG = Leistungsgrad / AUSL = Auslastung / PR = Produktivität"]
[null,"AZG1 gewichtet mit Prod.fakt.NAV",{"$nulls":13},0,null,0.97499999999999998,null,0,null,null,1,null,0,null,0.97499999999999998,null,0,null,null,"LG = Leistungsgrad / AUSL = Auslastung / PR = Produktivität"]
[null,"AZG2 gewichtet mit Prod.fakt.NAV",{"$nulls":13},0.20512820512820515,null,0.97499999999999998,null,0.2,null,null,1,null,0.20512820512820515,null,0.97499999999999998,null,0.2,null,null,"LG = Leistungsgrad / AUSL = Auslastung / PR = Produktivität"]
[null,"AZG3 gewichtet mit Prod.fakt.NAV",{"$nulls":13},0.4102564102564103,null,0.97499999999999998,null,0.4,null,null,3,null,0.4102564102564103,null,0.97499999999999998,null,0.4,null,null,"LG = Leistungsgrad / AUSL = Auslastung / PR = Produktivität"]
[null,"AZG4 gewichtet mit Prod.fakt.NAV",{"$nulls":13},0.4102564102564103,null,0.97499999999999998,null,0.4,null,null,3,null,0.4102564102564103,null,0.97499999999999998,null,0.4,null,null,"LG = Leistungsgrad / AUSL = Auslastung / PR = Produktivität"]
[]
[null,"Berechnung verkaufbare AW pro Jahr WMO"]
[null,"= Anwesende Stunden pro Jahr pro WMO",{"$nulls":11},{"$f":"N17","v":1797.6000000000001},{"$nulls":8},{"$f":"W17","v":1797.6000000000001},{"$nulls":8},"Übertrag aus Zeile 14"]
[null,"* Leistungsgrad gewichtetes Mittel alle WMO",{"$nulls":11},{"$f":"(N21*P21+N22*P22+N23*P23)/N37","v":{"$error":"#DIV/0!"}},{"$nulls":8},{"$f":"(W21*Y21+W22*Y22+W23*Y23)/W37","v":1.1145299145299148},{"$nulls":8},"Gewichtetetes Mittel aus Zeile 19-21 [(Anzahl * LG + Anzahl * LG…)/Anzhal WMO]"]
[null,"* Auslastung (100% anw. Stunden - 2,5 % Wvariabel)",{"$nulls":11},{"$f":"(N21*R21+N22*R22+N23*R23)/N37","v":{"$error":"#DIV/0!"}},{"$nulls":8},{"$f":"(W21*AA21+W22*AA22+W23*AA23)/W37","v":0.97499999999999998},{"$nulls":8},"Gewichtetetes Mittel aus Zeile 19-21 [(Anzahl * AUSL + Anzahl * AUSL…)/Anzhal WMO]"]
[null,"Produktivität (LG * AUSL) gew. Mittel alle WMO",{"$nulls":11},{"$f":"N31*N32","v":{"$error":"#DIV/0!"}},{"$nulls":8},{"$f":"W31*W32","v":1.0866666666666669},{"$nulls":8},"Die PR wird hier nur aus Plausibilitätsgründen ausgewiesen und nicht als Rechenfaktor angewendet"]
[null,"= verkaufbare Std. gewicht. Mittel ein WMO Jahresw.",{"$nulls":11},{"$f":"N30*N31*N32","v":{"$error":"#DIV/0!"}},{"$nulls":8},{"$f":"W30*W31*W32","v":1953.3920000000005},{"$nulls":8},"Anw. Stunden * Leistungsgrad * Auslastung"]
[null,"* Umrechnungsfaktor AW",{"$nulls":11},12,{"$nulls":8},12]
[null,"= verkaufbare AW gewicht. Mittel ein WMO Jahresw.",{"$nulls":11},{"$f":"N34*N35","v":{"$error":"#DIV/0!"}},{"$nulls":8},{"$f":"W34*W35","v":23440.704000000005},{"$nulls":8},"verkaufbare prod. Std. * Umrechnungsfaktor AW"]
[null,"* Anzahl WMO gesamt gewichtet mit Prod.fakt.NAV",{"$nulls":11},{"$f":"SUM(N21:O23)","v":0},{"$nulls":8},{"$f":"SUM(W21:X23)","v":15},{"$nulls":8},"Summe aller WMO (Zeile 19-21)"]
[null,"= verkaufbare AW gesamt alle WMO Jahreswert",{"$nulls":11},{"$f":"N36*N37","v":{"$error":"#DIV/0!"}},{"$nulls":8},{"$f":"W36*W37","v":351610.56000000006},{"$nulls":8},"verkaufbare prod. AW * Anzahl WMO"]
[]
[null,"Berechnung verkaufbare AW pro Jahr AZG"]
[null,"= Anwesende Std. pro Jahr pro AZG (mit Berufsschulzeit)",{"$nulls":11},{"$f":"N17","v":1797.6000000000001},{"$nulls":8},{"$f":"W17","v":1797.6000000000001},{"$nulls":8},"Übertrag aus Zeile 14"]
[null,"./. Std. Berufsschulzeit und Lehrgänge pro Jahr",{"$nulls":11},480,{"$nulls":8},480,{"$nulls":8},"Mittelwert über alle Lehrjahre [(52 Wochen - 12 Wochen Ferien) *1,5 Tage * 8 Std.) = 480 Std."]
[null,"= Anwesende Stunden pro Jahr (ohne Berufsschulzeit)",{"$nulls":11},{"$f":"N41-N42","v":1317.6000000000001},{"$nulls":8},{"$f":"W41-W42","v":1317.6000000000001},{"$nulls":8},"Anwesende Std. - Std. Berufsschulzeit"]
[null,"* Leistungsgrad gewichtetes Mittel alle AZG",{"$nulls":11},{"$f":"(N24*P24+N25*P25+N26*P26+N27*P27)/N50","v":{"$error":"#DIV/0!"}},{"$nulls":8},{"$f":"(W24*Y24+W25*Y25+W26*Y26+W27*Y27)/W50","v":0.33333333333333337},{"$nulls":8},"Gewichtetetes Mittel aus Zeile 22-25 [(Anzahl * LG + Anzahl * LG…)/Anzhal AZG]"]
[null,"* Auslastung (100% anw. Stunden - 2,5 % Wvariabel)",{"$nulls":11},{"$f":"(N24*R24+N25*R25+N26*R26+N27*R27)/N50","v":{"$error":"#DIV/0!"}},{"$nulls":8},{"$f":"(W24*AA24+W25*AA25+W26*AA26+W27*AA27)/W50","v":0.97499999999999998},{"$nulls":8},"Gewichtetetes Mittel aus Zeile 22-25 [(Anzahl * AUSL + Anzahl * AUSL…)/Anzhal AZG]"]
[null,"Produktivität (Leistungsgrad * Auslastung)",{"$nulls":11},{"$f":"N44*N45","v":{"$error":"#DIV/0!"}},{"$nulls":8},{"$f":"W44*W45","v":0.32500000000000001},{"$nulls":8},"Die PR wird hier nur aus Plausibilitätsgründen ausgewiesen und nicht als Rechenfaktor angewendet."]
[null,"= verkaufbare Std. ein AZG Jahreswert",{"$nulls":11},{"$f":"N43*N44*N45","v":{"$error":"#DIV/0!"}},{"$nulls":8},{"$f":"W43*W44*W45","v":428.22000000000008},{"$nulls":8},"Anw. Stunden * Leistungsgrad * Auslastung"]
[null,"* Umrechnungsfaktor AW",{"$nulls":11},12,{"$nulls":8},12]
[null,"= verkaufbare AW ein AZG Jahreswert",{"$nulls":11},{"$f":"N47*N48","v":{"$error":"#DIV/0!"}},{"$nulls":8},{"$f":"W47*W48","v":5138.6400000000012},{"$nulls":8},"verkaufbare prod. Std. * Umrechnungsfaktor AW"]
[null,"* Anzahl AZG gesamt gewichtet mit Prod.fakt.NAV",{"$nulls":11},{"$f":"SUM(N24:O27)","v":0},{"$nulls":8},{"$f":"SUM(W24:X27)","v":8},{"$nulls":8},"Summe aller AZG (Zeile 22-25)"]
[null,"= verkaufbare AW gesamt alle AZG Jahreswert",{"$nulls":11},{"$f":"N49*N50","v":{"$error":"#DIV/0!"}},{"$nulls":8},{"$f":"W49*W50","v":41109.12000000001},{"$nulls":8},"verkaufbare prod. AW * Anzahl AZG"]
[]
[null,"Berechnung verkaufbare AW pro Jahr gesamt (WMO und AZG)"]
[null,"= verkaufbare prod. AW WMO und AZG Jahreswert",{"$nulls":11},{"$f":"N51+N38","v":{"$error":"#DIV/0!"}},{"$nulls":8},{"$f":"W51+W38","v":392719.68000000005},{"$nulls":8},"Summe aller WMO und AZG (Zeile 19-25)"]
[]
[null,"Berechnung Umsatz Lohn pro Jahr WMO"]
[null,"= verkaufbare AW gesamt alle WMO Jahreswert",{"$nulls":11},{"$f":"N38","v":{"$error":"#DIV/0!"}},{"$nulls":8},{"$f":"W38","v":351610.56000000006},{"$nulls":8},"Übertrag aus Zeile 36"]
[null,"* Ø tatsächlich erzielbarer AW-Preis",{"$nulls":11},0,{"$nulls":8},9,{"$nulls":8},"AW-Preis Mechanik extern netto - 1,90€"]
[null,"= Umsatz Lohn Jahreswert WMO",{"$nulls":11},{"$f":"N57*N58","v":{"$error":"#DIV/0!"}},{"$nulls":8},{"$f":"W57*W58","v":3164495.0400000005},{"$nulls":8},"verkaufbare prod. AW gesamt WMO * Ø tatsächlich erzielbarer AW-Preis"]
[]
[null,"Berechnung Umsatz Lohn pro Jahr AZG"]
[null,"= verkaufbare AW gesamt alle AZG Jahreswert",{"$nulls":11},{"$f":"N51","v":{"$error":"#DIV/0!"}},{"$nulls":8},{"$f":"W51","v":41109.12000000001},{"$nulls":8},"Übertrag aus Zeile 49"]
[null,"* Ø tatsächlich erzielbarer AW-Preis",{"$nulls":11},{"$f":"N58","v":0},{"$nulls":8},{"$f":"W58","v":9},{"$nulls":8},"AW-Preis Mechanik extern netto - 1,90€ (entspricht Wert aus Zeile 56)"]
[null,"= Umsatz Lohn Jahreswert AZG",{"$nulls":11},{"$f":"N62*N63","v":{"$error":"#DIV/0!"}},{"$nulls":8},{"$f":"W62*W63","v":369982.08000000007},{"$nulls":8},"verkaufbare prod. AW gesamt AZG * Ø tatsächlich erzielbarer AW-Preis"]
[]
[null,"Berechnung Umsatz Lohn pro Jahr gesamt (WMO + AZG)"]
[null,"= verkaufbare AW gesamt WMO + AZG Jahreswert",{"$nulls":11},{"$f":"N62+N57","v":{"$error":"#DIV/0!"}},{"$nulls":8},{"$f":"W62+W57","v":392719.68000000005},{"$nulls":8},"Summe aus Zeile 57+62"]
[null,"* Ø tatsächlich erzielbarer AW-Preis",{"$nulls":11},{"$f":"N58","v":0},{"$nulls":8},{"$f":"W58","v":9},{"$nulls":8},"AW-Preis Mechanik extern netto - 1,90€ (entspricht Wert aus Zeile 56)"]
[null,"= Umsatz Lohn Jahreswert gesamt (WMO + AZG)",{"$nulls":11},{"$f":"N67*N68","v":{"$error":"#DIV/0!"}},{"$nulls":8},{"$f":"W67*W68","v":3534477.1200000006},{"$nulls":8},"verkaufbare prod. AW gesamt WMO + AZG * Ø tatsächlich erzielbarer AW-Preis"]
[]
[null,"Umsatz Lohn auf Basis Monatswerte nach Saisonfaktor"]
[null,"Monat",{"$nulls":5},"Saisonfaktor",{"$nulls":5},"Umatz Lohn",{"$nulls":8},"Umatz Lohn",{"$nulls":8},"Rechenweg/Bemerkung"]
[null,"Jan - Dez.",{"$nulls":5},{"$f":"SUM(H74:L85)","v":0.99999999999999978},{"$nulls":5},{"$f":"N69","v":{"$error":"#DIV/0!"}},{"$nulls":8},{"$f":"W69","v":3534477.1200000006},{"$nulls":8},"Übertrag aus Zeile 56. Saisonfaktor = Summe aller Einzelwerte zur Plausibbilität"]
[null,"Januar",{"$nulls":5},7.4999999999999997E-2,{"$nulls":5},{"$f":"$N$73*H74","v":{"$error":"#DIV/0!"}},{"$nulls":8},{"$f":"$W$73*H74","v":265085.78400000004},{"$nulls":8},"Umsatz Service Jahreswert * Saisonfaktor"]
[null,"Februar",{"$nulls":5},7.4999999999999997E-2,{"$nulls":5},{"$f":"$N$73*H75","v":{"$error":"#DIV/0!"}},{"$nulls":8},{"$f":"$W$73*H75","v":265085.78400000004},{"$nulls":8},"Umsatz Service Jahreswert * Saisonfaktor"]
[null,"März",{"$nulls":5},8.6999999999999994E-2,{"$nulls":5},{"$error":"#DIV/0!"},{"$nulls":8},307499.50944000005,{"$nulls":8},"Umsatz Service Jahreswert * Saisonfaktor"]
[null,"April",{"$nulls":5},8.8999999999999996E-2,{"$nulls":5},{"$error":"#DIV/0!"},{"$nulls":8},314568.46368000004,{"$nulls":8},"Umsatz Service Jahreswert * Saisonfaktor"]
[null,"Mai",{"$nulls":5},8.5999999999999993E-2,{"$nulls":5},{"$error":"#DIV/0!"},{"$nulls":8},303965.03232,{"$nulls":8},"Umsatz Service Jahreswert * Saisonfaktor"]
[null,"Juni",{"$nulls":5},8.4000000000000005E-2,{"$nulls":5},{"$error":"#DIV/0!"},{"$nulls":8},296896.07808000006,{"$nulls":8},"Umsatz Service Jahreswert * Saisonfaktor"]
[null,"Juli",{"$nulls":5},8.4000000000000005E-2,{"$nulls":5},{"$error":"#DIV/0!"},{"$nulls":8},296896.07808000006,{"$nulls":8},"Umsatz Service Jahreswert * Saisonfaktor"]
[null,"August",{"$nulls":5},8.1000000000000003E-2,{"$nulls":5},{"$error":"#DIV/0!"},{"$nulls":8},286292.64672000008,{"$nulls":8},"Umsatz Service Jahreswert * Saisonfaktor"]
[null,"September",{"$nulls":5},8.3000000000000004E-2,{"$nulls":5},{"$error":"#DIV/0!"},{"$nulls":8},293361.60096000007,{"$nulls":8},"Umsatz Service Jahreswert * Saisonfaktor"]
[null,"Oktober",{"$nulls":5},0.08,{"$nulls":5},{"$error":"#DIV/0!"},{"$nulls":8},282758.16960000008,{"$nulls":8},"Umsatz Service Jahreswert * Saisonfaktor"]
[null,"November",{"$nulls":5},8.7999999999999995E-2,{"$nulls":5},{"$error":"#DIV/0!"},{"$nulls":8},311033.98656000005,{"$nulls":8},"Umsatz Service Jahreswert * Saisonfaktor"]
[null,"Dezember",{"$nulls":5},8.7999999999999995E-2,{"$nulls":5},{"$error":"#DIV/0!"},{"$nulls":8},311033.98656000005,{"$nulls":8},"Umsatz Service Jahreswert * Saisonfaktor"]

{"sheet":"SCB_Planung_MM","index":2,"n_rows":25,"n_cols":8,"rows_kept":25,"cut":false,"hidden":false,"merged":[[5,1,5,7],[6,6,6,7],[23,1,23,7]]}
[]
[null,{"$f":"WMO_Planung_MM!B2","v":"Standort"},{"$f":"WMO_Planung_MM!F2","v":"Memmingen"},null,"Legende:"]
[null,{"$f":"WMO_Planung_MM!B3","v":"Planjahr"},{"$f":"WMO_Planung_MM!F3","v":2022},null,null,"Simulationseingabe"]
[{"$nulls":5},"Supervariable (wird durch die Simulationseingabe verändert)"]
[]
[null,"Kennzahlenplanung auf Jahresbasis"]
[null,"Bezeichnung","\nVorwärtkalkulation\nSimulation 1","\nVorwärtkalkulation\nSimulation 2","\nVorwärtkalkulation\nSimulation 3",null,"Rückwärtskalkulation\nbezogen auf Planung gesamt\n (WMO +AZG)"]
[null,"Anzahl Kalendertage",365,365,365,null,365]
[null,"./. Anzahl Wochenendtage",104,104,104,null,104]
[null,"./. Anzahl Feiertage ",11,11,11,null,11]
[null,"= Anzahl Arbeitstage brutto",{"$f":"C8-C9-C10","v":250},{"$f":"D8-D9-D10","v":250},{"$f":"E8-E9-E10","v":250},null,{"$f":"G8-G9-G10","v":250}]
[null,"./. Krankheitstage",7,7,7,null,7]
[null,"./. Schulungstage",4,4,4,null,4]
[null,"./. Urlaubstage",25,25,25,null,25]
[null,"= Anzahl Arbeitstage netto",{"$f":"C11-C12-C13-C14","v":214},{"$f":"D11-D12-D13-D14","v":214},{"$f":"E11-E12-E13-E14","v":214},null,{"$f":"G11-G12-G13-G14","v":214}]
[null,"* Durchgänge pro Tag",10,11,10,null,10,{"$f":"WMO_Planung_MM!W54/(SCB_Planung_MM!H17*SCB_Planung_MM!G15*SCB_Planung_MM!G21)","v":10.923444592790389}]
[null,"* AW pro Durchgang",24,24,24,null,{"$f":"WMO_Planung_MM!W54/(SCB_Planung_MM!G16*SCB_Planung_MM!G15*G21)","v":26.216267022696933},24]
[null,"* Ø tatsächlich erzielbarer AW-Preis",10.5,10.5,10.5,null,{"$f":"WMO_Planung_MM!W58","v":9},{"$f":"G18","v":9}]
[null,"= Umsatz Lohn Jahreswert pro SCB",{"$f":"C15*C16*C17*C18","v":539280},{"$f":"D15*D16*D17*D18","v":593208},{"$f":"E15*E16*E17*E18","v":539280},null,{"$f":"G22/G21","v":504925.30285714293},{"$f":"H22/H21","v":504925.30285714293}]
[]
[null,"* Anzahl SCB",7.4,7.4,7.4,null,7,7]
[null,"= Umsatz Lohn gesamt",{"$f":"C19*C21","v":3990672},{"$f":"D19*D21","v":4389739.2},3990672,null,{"$f":"WMO_Planung_MM!W69","v":3534477.1200000006},{"$f":"G22","v":3534477.1200000006}]
[]
[null,"Plausibilitätsrechnung"]
[null,"Lohnumsatz pro Durchgang",{"$f":"C19/(C16*C15)","v":252},{"$f":"D19/(D16*D15)","v":252},252,null,235.9464032042724,{"$f":"H19/(H16*G15)","v":216}]

{"sheet":"WMO_Planung_Ulm","index":3,"n_rows":85,"n_cols":32,"rows_kept":85,"cut":false,"hidden":false,"merged":[[5,13,5,20],[5,22,5,29],[5,31,5,50],[82,31,82,50],[83,31,83,50],[84,31,84,50],[42,31,42,50],[1,5,1,10],[2,5,2,10],[84,22,84,29],[73,31,73,50],[74,31,74,50],[75,31,75,50],[76,31,76,50],[77,31,77,50],[78,31,78,50],[79,31,79,50],[80,31,80,50],[81,31,81,50],[78,22,78,29],[79,22,79,29],[80,22,80,29],[81,22,81,29],[82,22,82,29],[78,13,78,20],[79,13,79,20],[83,22,83,29],[80,13,80,20],[81,13,81,20],[82,13,82,20],[83,13,83,20],[84,13,84,20],[73,22,73,29],[74,22,74,29],[75,22,75,29],[76,22,76,29],[77,22,77,29],[84,1,84,5],[73,7,73,11],[74,7,74,11],[75,7,75,11],[76,7,76,11],[77,7,77,11],[78,7,78,11],[79,7,79,11],[80,7,80,11],[81,7,81,11],[78,1,78,5],[79,1,79,5],[80,1,80,5],[81,1,81,5],[82,1,82,5],[83,1,83,5],[82,7,82,11],[83,7,83,11],[84,7,84,11],[72,31,72,50],[73,1,73,5],[74,1,74,5],[75,1,75,5],[76,1,76,5],[77,1,77,5],[70,1,70,50],[71,1,71,5],[71,7,71,11],[72,1,72,5],[72,7,72,11],[71,13,71,20],[71,22,71,29],[71,31,71,50],[72,13,72,20],[72,22,72,29],[73,13,73,20],[74,13,74,20],[75,13,75,20],[76,13,76,20],[77,13,77,20],[68,1,68,11],[68,13,68,20],[68,22,68,29],[68,31,68,50],[53,31,53,50],[65,1,65,50],[66,1,66,11],[66,13,66,20],[66,22,66,29],[66,31,66,50],[67,1,67,11],[67,13,67,20],[67,22,67,29],[67,31,67,50],[62,1,62,11],[62,13,62,20],[62,22,62,29],[62,31,62,50],[63,1,63,11],[63,13,63,20],[63,22,63,29],[63,31,63,50],[53,1,53,11],[53,13,53,20],[50,13,50,20],[50,22,50,29],[50,31,50,50],[60,1,60,50],[61,1,61,11],[61,13,61,20],[61,22,61,29],[61,31,61,50],[37,1,37,11],[37,13,37,20],[37,22,37,29],[37,31,37,50],[49,1,49,11],[49,13,49,20],[49,22,49,29],[49,31,49,50],[57,1,57,11],[57,13,57,20],[57,22,57,29],[57,31,57,50],[58,1,58,11],[58,13,58,20],[58,22,58,29],[58,31,58,50],[53,22,53,29],[55,1,55,50],[56,1,56,11],[56,13,56,20],[56,22,56,29],[56,31,56,50],[52,1,52,50],[41,1,41,11],[41,13,41,20],[41,22,41,29],[41,31,41,50],[42,1,42,11],[42,13,42,20],[42,22,42,29],[50,1,50,11],[48,1,48,11],[48,13,48,20],[48,22,48,29],[48,31,48,50],[46,1,46,11],[46,13,46,20],[46,22,46,29],[46,31,46,50],[47,1,47,11],[47,13,47,20],[47,22,47,29],[47,31,47,50],[44,1,44,11],[44,13,44,20],[44,22,44,29],[44,31,44,50],[45,1,45,11],[45,13,45,20],[45,22,45,29],[45,31,45,50],[40,1,40,11],[40,13,40,20],[40,22,40,29],[40,31,40,50],[43,1,43,11],[43,13,43,20],[43,22,43,29],[43,31,43,50],[31,31,31,50],[32,31,32,50],[33,31,33,50],[34,31,34,50],[35,31,35,50],[39,1,39,50],[36,1,36,11],[36,13,36,20],[36,22,36,29],[36,31,36,50],[35,13,35,20],[30,22,30,29],[31,22,31,29],[32,22,32,29],[33,22,33,29],[34,22,34,29],[35,22,35,29],[31,1,31,11],[32,1,32,11],[33,1,33,11],[34,1,34,11],[35,1,35,11],[30,13,30,20],[31,13,31,20],[32,13,32,20],[33,13,33,20],[34,13,34,20],[30,1,30,11],[28,1,28,50],[29,1,29,11],[29,13,29,20],[29,22,29,29],[29,31,29,50],[30,31,30,50],[26,28,26,29],[19,1,19,12],[19,30,19,50],[20,31,20,50],[21,31,21,50],[22,31,22,50],[23,31,23,50],[24,31,24,50],[25,31,25,50],[26,31,26,50],[20,28,20,29],[21,28,21,29],[22,28,22,29],[23,28,23,29],[24,28,24,29],[25,28,25,29],[25,26,25,27],[26,26,26,27],[26,15,26,16],[20,24,20,25],[21,24,21,25],[22,24,22,25],[23,24,23,25],[24,24,24,25],[25,24,25,25],[26,24,26,25],[20,17,20,18],[21,17,21,18],[20,19,20,20],[21,19,21,20],[22,19,22,20],[23,19,23,20],[24,19,24,20],[25,19,25,20],[26,19,26,20],[22,17,22,18],[23,17,23,18],[24,17,24,18],[25,17,25,18],[26,17,26,18],[22,13,22,14],[23,13,23,14],[24,13,24,14],[25,13,25,14],[23,15,23,16],[24,15,24,16],[25,15,25,16],[20,26,20,27],[21,26,21,27],[22,26,22,27],[23,26,23,27],[24,26,24,27],[21,1,21,11],[22,1,22,11],[23,1,23,11],[24,1,24,11],[25,1,25,11],[26,1,26,11],[15,22,15,29],[19,22,19,23],[19,24,19,25],[19,26,19,27],[19,28,19,29],[16,22,16,29],[26,13,26,14],[20,22,20,23],[21,22,21,23],[22,22,22,23],[23,22,23,23],[24,22,24,23],[25,22,25,23],[26,22,26,23],[21,15,21,16],[22,15,22,16],[20,15,20,16],[21,13,21,14],[14,22,14,29],[10,22,10,29],[7,22,7,29],[9,13,9,20],[11,13,11,20],[12,13,12,20],[13,13,13,20],[15,13,15,20],[20,1,20,11],[19,13,19,14],[19,15,19,16],[19,17,19,18],[19,19,19,20],[20,13,20,14],[14,1,14,11],[15,1,15,11],[16,1,16,11],[7,1,7,11],[8,1,8,11],[9,1,9,11],[10,1,10,11],[11,1,11,11],[12,1,12,11],[13,1,13,11],[16,31,16,50],[17,1,17,50],[4,1,4,50],[18,1,18,50],[7,13,7,20],[8,13,8,20],[10,13,10,20],[14,13,14,20],[6,1,6,50],[7,31,7,50],[9,31,9,50],[11,31,11,50],[12,31,12,50],[8,31,8,50],[10,31,10,50],[8,22,8,29],[9,22,9,29],[13,31,13,50],[15,31,15,50],[14,31,14,50],[11,22,11,29],[12,22,12,29],[13,22,13,29],[16,13,16,20]]}
[]
[null,"Standort",null,null,null,"Ulm",{"$nulls":7},"Legende:"]
[null,"Planjahr",null,null,null,2022,{"$nulls":8},"Simulationseingabe"]
[]
[null,"Kennzahlenplanung auf Jahresbasis (pro WMO)"]
[null,"Bezeichnung Parameter",{"$nulls":11},"IST-Wert Vorjahr gesamt",{"$nulls":8},"Plan-Werte aktuelles Jahr",{"$nulls":8},"Rechenweg/Bemerkung"]
[null,"Berechnung  anwesende Std. pro Jahr (betriebsübergriefend)"]
[null,"Anzahl Kalendertage",{"$nulls":11},365,{"$nulls":8},365]
[null,"./. Anzahl Wochenendtage",{"$nulls":11},104,{"$nulls":8},104]
[null,"./. Anzahl Feiertage ",{"$nulls":11},11,{"$nulls":8},11,{"$nulls":8},"Die auf einen Wochentag (außer Samstag) fallen"]
[null,"= Anzahl Arbeitstage brutto",{"$nulls":11},{"$f":"N8-N9-N10","v":250},{"$nulls":8},{"$f":"W8-W9-W10","v":250},{"$nulls":8},"Anzahl Kalendertage - Wochenendtage - Feiertage"]
[null,"./. Krankheitstage",{"$nulls":11},7,{"$nulls":8},7]
[null,"./. Schulungstage",{"$nulls":11},4,{"$nulls":8},4]
[null,"./. Urlaubstage",{"$nulls":11},25,{"$nulls":8},25]
[null,"= Anzahl Arbeitstage netto",{"$nulls":11},{"$f":"N11-N12-N13-N14","v":214},{"$nulls":8},{"$f":"W11-W12-W13-W14","v":214},{"$nulls":8},"Arbeitstage brutto - Krankheitstage - Schulungstage - Urlaubstage (Berufsschultage werden später berücksichtigt)"]
[null,"* Arbeitszeit pro Tag in h",{"$nulls":11},8.4,{"$nulls":8},8.4]
[null,"= Anwesende Stunden pro Jahr pro WMO /AZG",{"$nulls":11},{"$f":"N15*N16","v":1797.6000000000001},{"$nulls":8},{"$f":"W15*W16","v":1797.6000000000001},{"$nulls":8},"Arbeitstage netto * Arbeitszeit pro Tag in h (Berufsschulstunden werden später berücksichtigt)"]
[]
[null,"Berechnung Leistungskennzahlen pro Jahr (betriebsindividuell)"]
[{"$nulls":13},"Anzahl",null,"LG",null,"AUSL",null,"PR",null,null,"Anzahl",null,"LG",null,"AUSL",null,"PR"]
[null,"WMOM gewichtet mit Prod.fakt.NAV",{"$nulls":13},{"$f":"T21/R21","v":1.1282051282051284},null,0.97499999999999998,null,1.1000000000000001,null,null,14,null,{"$f":"AC21/AA21","v":1.1282051282051284},null,0.97499999999999998,null,1.1000000000000001,null,null,"LG = Leistungsgrad / AUSL = Auslastung / PR = Produktivität"]
[null,"WMOE gewichtet mit Prod.fakt.NAV",{"$nulls":13},{"$f":"T22/R22","v":1.0256410256410258},null,0.97499999999999998,null,1,null,null,4,null,{"$f":"AC22/AA22","v":1.0256410256410258},null,0.97499999999999998,null,1,null,null,"LG = Leistungsgrad / AUSL = Auslastung / PR = Produktivität"]
[null,"WMOK gewichtet mit Prod.fakt.NAV",{"$nulls":13},1.2307692307692308,null,0.97499999999999998,null,1.2,null,null,3,null,1.2307692307692308,null,0.97499999999999998,null,1.2,null,null,"LG = Leistungsgrad / AUSL = Auslastung / PR = Produktivität"]
[null,"AZG1 gewichtet mit Prod.fakt.NAV",{"$nulls":13},0,null,0.97499999999999998,null,0,null,null,2,null,0,null,0.97499999999999998,null,0,null,null,"LG = Leistungsgrad / AUSL = Auslastung / PR = Produktivität"]
[null,"AZG2 gewichtet mit Prod.fakt.NAV",{"$nulls":13},0.20512820512820515,null,0.97499999999999998,null,0.2,null,null,2,null,0.20512820512820515,null,0.97499999999999998,null,0.2,null,null,"LG = Leistungsgrad / AUSL = Auslastung / PR = Produktivität"]
[null,"AZG3 gewichtet mit Prod.fakt.NAV",{"$nulls":13},0.4102564102564103,null,0.97499999999999998,null,0.4,null,null,5,null,0.4102564102564103,null,0.97499999999999998,null,0.4,null,null,"LG = Leistungsgrad / AUSL = Auslastung / PR = Produktivität"]
[null,"AZG4 gewichtet mit Prod.fakt.NAV",{"$nulls":13},0.4102564102564103,null,0.97499999999999998,null,0.4,null,null,5,null,0.4102564102564103,null,0.97499999999999998,null,0.4,null,null,"LG = Leistungsgrad / AUSL = Auslastung / PR = Produktivität"]
[]
[null,"Berechnung verkaufbare AW pro Jahr WMO"]
[null,"= Anwesende Stunden pro Jahr pro WMO",{"$nulls":11},{"$f":"N17","v":1797.6000000000001},{"$nulls":8},{"$f":"W17","v":1797.6000000000001},{"$nulls":8},"Übertrag aus Zeile 14"]
[null,"* Leistungsgrad gewichtetes Mittel alle WMO",{"$nulls":11},{"$f":"(N21*P21+N22*P22+N23*P23)/N37","v":{"$error":"#DIV/0!"}},{"$nulls":8},{"$f":"(W21*Y21+W22*Y22+W23*Y23)/W37","v":1.1233211233211235},{"$nulls":8},"Gewichtetetes Mittel aus Zeile 19-21 [(Anzahl * LG + Anzahl * LG…)/Anzhal WMO]"]
[null,"* Auslastung (100% anw. Stunden - 2,5 % Wvariabel)",{"$nulls":11},{"$f":"(N21*R21+N22*R22+N23*R23)/N37","v":{"$error":"#DIV/0!"}},{"$nulls":8},{"$f":"(W21*AA21+W22*AA22+W23*AA23)/W37","v":0.97500000000000009},{"$nulls":8},"Gewichtetetes Mittel aus Zeile 19-21 [(Anzahl * AUSL + Anzahl * AUSL…)/Anzhal WMO]"]
[null,"Produktivität (LG * AUSL) gew. Mittel alle WMO",{"$nulls":11},{"$f":"N31*N32","v":{"$error":"#DIV/0!"}},{"$nulls":8},{"$f":"W31*W32","v":1.0952380952380956},{"$nulls":8},"Die PR wird hier nur aus Plausibilitätsgründen ausgewiesen und nicht als Rechenfaktor angewendet"]
[null,"= verkaufbare Std. gewicht. Mittel ein WMO Jahresw.",{"$nulls":11},{"$f":"N30*N31*N32","v":{"$error":"#DIV/0!"}},{"$nulls":8},{"$f":"W30*W31*W32","v":1968.8000000000009},{"$nulls":8},"Anw. Stunden * Leistungsgrad * Auslastung"]
[null,"* Umrechnungsfaktor AW",{"$nulls":11},12,{"$nulls":8},12]
[null,"= verkaufbare AW gewicht. Mittel ein WMO Jahresw.",{"$nulls":11},{"$f":"N34*N35","v":{"$error":"#DIV/0!"}},{"$nulls":8},{"$f":"W34*W35","v":23625.600000000009},{"$nulls":8},"verkaufbare prod. Std. * Umrechnungsfaktor AW"]
[null,"* Anzahl WMO gesamt gewichtet mit Prod.fakt.NAV",{"$nulls":11},{"$f":"SUM(N21:O23)","v":0},{"$nulls":8},{"$f":"SUM(W21:X23)","v":21},{"$nulls":8},"Summe aller WMO (Zeile 19-21)"]
[null,"= verkaufbare AW gesamt alle WMO Jahreswert",{"$nulls":11},{"$f":"N36*N37","v":{"$error":"#DIV/0!"}},{"$nulls":8},{"$f":"W36*W37","v":496137.60000000021},{"$nulls":8},"verkaufbare prod. AW * Anzahl WMO"]
[]
[null,"Berechnung verkaufbare AW pro Jahr AZG"]
[null,"= Anwesende Std. pro Jahr pro AZG (mit Berufsschulzeit)",{"$nulls":11},{"$f":"N17","v":1797.6000000000001},{"$nulls":8},{"$f":"W17","v":1797.6000000000001},{"$nulls":8},"Übertrag aus Zeile 14"]
[null,"./. Std. Berufsschulzeit und Lehrgänge pro Jahr",{"$nulls":20},480,{"$nulls":8},"Mittelwert über alle Lehrjahre [(52 Wochen - 12 Wochen Ferien) *1,5 Tage * 8 Std.) = 480 Std."]
[null,"= Anwesende Stunden pro Jahr (ohne Berufsschulzeit)",{"$nulls":11},{"$f":"N41-N42","v":1797.6000000000001},{"$nulls":8},{"$f":"W41-W42","v":1317.6000000000001},{"$nulls":8},"Anwesende Std. - Std. Berufsschulzeit"]
[null,"* Leistungsgrad gewichtetes Mittel alle AZG",{"$nulls":11},{"$f":"(N24*P24+N25*P25+N26*P26+N27*P27)/N50","v":{"$error":"#DIV/0!"}},{"$nulls":8},{"$f":"(W24*Y24+W25*Y25+W26*Y26+W27*Y27)/W50","v":0.32234432234432236},{"$nulls":8},"Gewichtetetes Mittel aus Zeile 22-25 [(Anzahl * LG + Anzahl * LG…)/Anzhal AZG]"]
[null,"* Auslastung (100% anw. Stunden - 2,5 % Wvariabel)",{"$nulls":11},{"$f":"(N24*R24+N25*R25+N26*R26+N27*R27)/N50","v":{"$error":"#DIV/0!"}},{"$nulls":8},{"$f":"(W24*AA24+W25*AA25+W26*AA26+W27*AA27)/W50","v":0.97499999999999998},{"$nulls":8},"Gewichtetetes Mittel aus Zeile 22-25 [(Anzahl * AUSL + Anzahl * AUSL…)/Anzhal AZG]"]
[null,"Produktivität (Leistungsgrad * Auslastung)",{"$nulls":11},{"$f":"N44*N45","v":{"$error":"#DIV/0!"}},{"$nulls":8},{"$f":"W44*W45","v":0.31428571428571428},{"$nulls":8},"Die PR wird hier nur aus Plausibilitätsgründen ausgewiesen und nicht als Rechenfaktor angewendet."]
[null,"= verkaufbare Std. ein AZG Jahreswert",{"$nulls":11},{"$f":"N43*N44*N45","v":{"$error":"#DIV/0!"}},{"$nulls":8},{"$f":"W43*W44*W45","v":414.1028571428572},{"$nulls":8},"Anw. Stunden * Leistungsgrad * Auslastung"]
[null,"* Umrechnungsfaktor AW",{"$nulls":11},12,{"$nulls":8},12]
[null,"= verkaufbare AW ein AZG Jahreswert",{"$nulls":11},{"$f":"N47*N48","v":{"$error":"#DIV/0!"}},{"$nulls":8},{"$f":"W47*W48","v":4969.2342857142867},{"$nulls":8},"verkaufbare prod. Std. * Umrechnungsfaktor AW"]
[null,"* Anzahl AZG gesamt gewichtet mit Prod.fakt.NAV",{"$nulls":11},{"$f":"SUM(N24:O27)","v":0},{"$nulls":8},{"$f":"SUM(W24:X27)","v":14},{"$nulls":8},"Summe aller AZG (Zeile 22-25)"]
[null,"= verkaufbare AW gesamt alle AZG Jahreswert",{"$nulls":11},{"$f":"N49*N50","v":{"$error":"#DIV/0!"}},{"$nulls":8},{"$f":"W49*W50","v":69569.280000000013},{"$nulls":8},"verkaufbare prod. AW * Anzahl AZG"]
[]
[null,"Berechnung verkaufbare AW pro Jahr gesamt (WMO und AZG)"]
[null,"= verkaufbare prod. AW WMO und AZG Jahreswert",{"$nulls":11},{"$f":"N51+N38","v":{"$error":"#DIV/0!"}},{"$nulls":8},{"$f":"W51+W38","v":565706.88000000024},{"$nulls":8},"Summe aller WMO und AZG (Zeile 19-25)"]
[]
[null,"Berechnung Umsatz Lohn pro Jahr WMO"]
[null,"= verkaufbare AW gesamt alle WMO Jahreswert",{"$nulls":11},{"$f":"N38","v":{"$error":"#DIV/0!"}},{"$nulls":8},{"$f":"W38","v":496137.60000000021},{"$nulls":8},"Übertrag aus Zeile 36"]
[null,"* Ø tatsächlich erzielbarer AW-Preis",{"$nulls":11},0,{"$nulls":8},9,{"$nulls":8},"AW-Preis Mechanik extern netto - 1,90€"]
[null,"= Umsatz Lohn Jahreswert WMO",{"$nulls":11},{"$f":"N57*N58","v":{"$error":"#DIV/0!"}},{"$nulls":8},{"$f":"W57*W58","v":4465238.4000000022},{"$nulls":8},"verkaufbare prod. AW gesamt WMO * Ø tatsächlich erzielbarer AW-Preis"]
[]
[null,"Berechnung Umsatz Lohn pro Jahr AZG"]
[null,"= verkaufbare AW gesamt alle AZG Jahreswert",{"$nulls":11},{"$f":"N51","v":{"$error":"#DIV/0!"}},{"$nulls":8},{"$f":"W51","v":69569.280000000013},{"$nulls":8},"Übertrag aus Zeile 49"]
[null,"* Ø tatsächlich erzielbarer AW-Preis",{"$nulls":11},{"$f":"N58","v":0},{"$nulls":8},{"$f":"W58","v":9},{"$nulls":8},"AW-Preis Mechanik extern netto - 1,90€ (entspricht Wert aus Zeile 56)"]
[null,"= Umsatz Lohn Jahreswert AZG",{"$nulls":11},{"$f":"N62*N63","v":{"$error":"#DIV/0!"}},{"$nulls":8},{"$f":"W62*W63","v":626123.52000000014},{"$nulls":8},"verkaufbare prod. AW gesamt AZG * Ø tatsächlich erzielbarer AW-Preis"]
[]
[null,"Berechnung Umsatz Lohn pro Jahr gesamt (WMO + AZG)"]
[null,"= verkaufbare AW gesamt WMO + AZG Jahreswert",{"$nulls":11},{"$f":"N62+N57","v":{"$error":"#DIV/0!"}},{"$nulls":8},{"$f":"W62+W57","v":565706.88000000024},{"$nulls":8},"Summe aus Zeile 57+62"]
[null,"* Ø tatsächlich erzielbarer AW-Preis",{"$nulls":11},{"$f":"N58","v":0},{"$nulls":8},{"$f":"W58","v":9},{"$nulls":8},"AW-Preis Mechanik extern netto - 1,90€ (entspricht Wert aus Zeile 56)"]
[null,"= Umsatz Lohn Jahreswert gesamt (WMO + AZG)",{"$nulls":11},{"$f":"N67*N68","v":{"$error":"#DIV/0!"}},{"$nulls":8},{"$f":"W67*W68","v":5091361.9200000018},{"$nulls":8},"verkaufbare prod. AW gesamt WMO + AZG * Ø tatsächlich erzielbarer AW-Preis"]
[]
[null,"Umsatz Lohn auf Basis Monatswerte nach Saisonfaktor"]
[null,"Monat",{"$nulls":5},"Saisonfaktor",{"$nulls":5},"Umatz Lohn",{"$nulls":8},"Umatz Lohn",{"$nulls":8},"Rechenweg/Bemerkung"]
[null,"Jan - Dez.",{"$nulls":5},{"$f":"SUM(H74:L85)","v":0.99999999999999978},{"$nulls":5},{"$f":"N69","v":{"$error":"#DIV/0!"}},{"$nulls":8},{"$f":"W69","v":5091361.9200000018},{"$nulls":8},"Übertrag aus Zeile 56. Saisonfaktor = Summe aller Einzelwerte zur Plausibbilität"]
[null,"Januar",{"$nulls":5},7.4999999999999997E-2,{"$nulls":5},{"$f":"$N$73*H74","v":{"$error":"#DIV/0!"}},{"$nulls":8},{"$f":"$W$73*H74","v":381852.14400000015},{"$nulls":8},"Umsatz Service Jahreswert * Saisonfaktor"]
[null,"Februar",{"$nulls":5},7.4999999999999997E-2,{"$nulls":5},{"$f":"$N$73*H75","v":{"$error":"#DIV/0!"}},{"$nulls":8},{"$f":"$W$73*H75","v":381852.14400000015},{"$nulls":8},"Umsatz Service Jahreswert * Saisonfaktor"]
[null,"März",{"$nulls":5},8.6999999999999994E-2,{"$nulls":5},{"$error":"#DIV/0!"},{"$nulls":8},442948.48704000015,{"$nulls":8},"Umsatz Service Jahreswert * Saisonfaktor"]
[null,"April",{"$nulls":5},8.8999999999999996E-2,{"$nulls":5},{"$error":"#DIV/0!"},{"$nulls":8},453131.21088000014,{"$nulls":8},"Umsatz Service Jahreswert * Saisonfaktor"]
[null,"Mai",{"$nulls":5},8.5999999999999993E-2,{"$nulls":5},{"$error":"#DIV/0!"},{"$nulls":8},437857.1251200001,{"$nulls":8},"Umsatz Service Jahreswert * Saisonfaktor"]
[null,"Juni",{"$nulls":5},8.4000000000000005E-2,{"$nulls":5},{"$error":"#DIV/0!"},{"$nulls":8},427674.40128000017,{"$nulls":8},"Umsatz Service Jahreswert * Saisonfaktor"]
[null,"Juli",{"$nulls":5},8.4000000000000005E-2,{"$nulls":5},{"$error":"#DIV/0!"},{"$nulls":8},427674.40128000017,{"$nulls":8},"Umsatz Service Jahreswert * Saisonfaktor"]
[null,"August",{"$nulls":5},8.1000000000000003E-2,{"$nulls":5},{"$error":"#DIV/0!"},{"$nulls":8},412400.31552000018,{"$nulls":8},"Umsatz Service Jahreswert * Saisonfaktor"]
[null,"September",{"$nulls":5},8.3000000000000004E-2,{"$nulls":5},{"$error":"#DIV/0!"},{"$nulls":8},422583.03936000017,{"$nulls":8},"Umsatz Service Jahreswert * Saisonfaktor"]
[null,"Oktober",{"$nulls":5},0.08,{"$nulls":5},{"$error":"#DIV/0!"},{"$nulls":8},407308.95360000012,{"$nulls":8},"Umsatz Service Jahreswert * Saisonfaktor"]
[null,"November",{"$nulls":5},8.7999999999999995E-2,{"$nulls":5},{"$error":"#DIV/0!"},{"$nulls":8},448039.84896000015,{"$nulls":8},"Umsatz Service Jahreswert * Saisonfaktor"]
[null,"Dezember",{"$nulls":5},8.7999999999999995E-2,{"$nulls":5},{"$error":"#DIV/0!"},{"$nulls":8},448039.84896000015,{"$nulls":8},"Umsatz Service Jahreswert * Saisonfaktor"]

{"sheet":"SCB_Planung_Ulm","index":4,"n_rows":25,"n_cols":8,"rows_kept":25,"cut":false,"hidden":false,"merged":[[6,6,6,7],[5,1,5,7],[23,1,23,7]]}
[]
[null,{"$f":"WMO_Planung_Ulm!B2","v":"Standort"},{"$f":"WMO_Planung_Ulm!F2","v":"Ulm"},null,"Legende:"]
[null,{"$f":"WMO_Planung_Ulm!B3","v":"Planjahr"},{"$f":"WMO_Planung_Ulm!F3","v":2022},null,null,"Simulationseingabe"]
[{"$nulls":5},"Supervariable (wird durch die Simulationseingabe verändert)"]
[]
[null,"Kennzahlenplanung auf Jahresbasis gesamt (WMO+AZG)"]
[null,"Bezeichnung","\nVorwärtkalkulation\nSimulation 1","\nVorwärtkalkulation\nSimulation 2","\nVorwärtkalkulation\nSimulation 3",null,"Rückwärtskalkulation\nbezogen auf Planung gesamt\n (WMO +AZG)"]
[null,"Anzahl Kalendertage",365,365,365,null,365]
[null,"./. Anzahl Wochenendtage",104,104,104,null,104]
[null,"./. Anzahl Feiertage ",11,11,11,null,11]
[null,"= Anzahl Arbeitstage brutto",{"$f":"C8-C9-C10","v":250},{"$f":"D8-D9-D10","v":250},{"$f":"E8-E9-E10","v":250},null,{"$f":"G8-G9-G10","v":250}]
[null,"./. Krankheitstage",7,7,7,null,7]
[null,"./. Schulungstage",4,4,4,null,4]
[null,"./. Urlaubstage",25,25,25,null,25]
[null,"= Anzahl Arbeitstage netto",{"$f":"C11-C12-C13-C14","v":214},{"$f":"D11-D12-D13-D14","v":214},{"$f":"E11-E12-E13-E14","v":214},null,{"$f":"G11-G12-G13-G14","v":214}]
[null,"* Durchgänge pro Tag",10,11,10,null,10,{"$f":"WMO_Planung_Ulm!W54/(SCB_Planung_Ulm!H17*SCB_Planung_Ulm!G15*SCB_Planung_Ulm!G21)","v":11.01454205607477}]
[null,"* AW pro Durchgang",24,24,24,null,{"$f":"WMO_Planung_Ulm!W54/(SCB_Planung_Ulm!G16*SCB_Planung_Ulm!G15*G21)","v":26.434900934579449},24]
[null,"* Ø tatsächlich erzielbarer AW-Preis",10.5,10.5,10.5,null,{"$f":"WMO_Planung_Ulm!W58","v":9},{"$f":"G18","v":9}]
[null,"= Umsatz Lohn Jahreswert pro SCB",{"$f":"C15*C16*C17*C18","v":539280},{"$f":"D15*D16*D17*D18","v":593208},{"$f":"E15*E16*E17*E18","v":539280},null,{"$f":"G22/G21","v":509136.19200000016},{"$f":"H22/H21","v":509136.19200000016}]
[]
[null,"* Anzahl SCB",10,10,10,null,10,10]
[null,"= Umsatz Lohn gesamt",{"$f":"C19*C21","v":5392800},{"$f":"D19*D21","v":5932080},5392800,null,{"$f":"WMO_Planung_Ulm!W69","v":5091361.9200000018},{"$f":"G22","v":5091361.9200000018}]
[]
[null,"Plausibilitätsrechnung"]
[null,"Lohnumsatz pro Durchgang",{"$f":"C19/(C16*C15)","v":252},{"$f":"D19/(D16*D15)","v":252},252,null,237.91410841121504,{"$f":"H19/(H16*G15)","v":215.99999999999997}]

{"sheet":"WMO_Planung_LL","index":5,"n_rows":85,"n_cols":32,"rows_kept":85,"cut":false,"hidden":false,"merged":[[84,1,84,5],[84,7,84,11],[84,13,84,20],[84,22,84,29],[84,31,84,50],[82,1,82,5],[82,7,82,11],[82,13,82,20],[82,22,82,29],[82,31,82,50],[83,1,83,5],[83,7,83,11],[83,13,83,20],[83,22,83,29],[83,31,83,50],[80,1,80,5],[80,7,80,11],[80,13,80,20],[80,22,80,29],[80,31,80,50],[81,1,81,5],[81,7,81,11],[81,13,81,20],[81,22,81,29],[81,31,81,50],[78,1,78,5],[78,7,78,11],[78,13,78,20],[78,22,78,29],[78,31,78,50],[79,1,79,5],[79,7,79,11],[79,13,79,20],[79,22,79,29],[79,31,79,50],[76,1,76,5],[76,7,76,11],[76,13,76,20],[76,22,76,29],[76,31,76,50],[77,1,77,5],[77,7,77,11],[77,13,77,20],[77,22,77,29],[77,31,77,50],[74,1,74,5],[74,7,74,11],[74,13,74,20],[74,22,74,29],[74,31,74,50],[75,1,75,5],[75,7,75,11],[75,13,75,20],[75,22,75,29],[75,31,75,50],[72,1,72,5],[72,7,72,11],[72,13,72,20],[72,22,72,29],[72,31,72,50],[73,1,73,5],[73,7,73,11],[73,13,73,20],[73,22,73,29],[73,31,73,50],[68,1,68,11],[68,13,68,20],[68,22,68,29],[68,31,68,50],[70,1,70,50],[71,1,71,5],[71,7,71,11],[71,13,71,20],[71,22,71,29],[71,31,71,50],[65,1,65,50],[66,1,66,11],[66,13,66,20],[66,22,66,29],[66,31,66,50],[67,1,67,11],[67,13,67,20],[67,22,67,29],[67,31,67,50],[62,1,62,11],[62,13,62,20],[62,22,62,29],[62,31,62,50],[63,1,63,11],[63,13,63,20],[63,22,63,29],[63,31,63,50],[58,1,58,11],[58,13,58,20],[58,22,58,29],[58,31,58,50],[60,1,60,50],[61,1,61,11],[61,13,61,20],[61,22,61,29],[61,31,61,50],[55,1,55,50],[56,1,56,11],[56,13,56,20],[56,22,56,29],[56,31,56,50],[57,1,57,11],[57,13,57,20],[57,22,57,29],[57,31,57,50],[50,1,50,11],[50,13,50,20],[50,22,50,29],[50,31,50,50],[52,1,52,50],[53,1,53,11],[53,13,53,20],[53,22,53,29],[53,31,53,50],[48,1,48,11],[48,13,48,20],[48,22,48,29],[48,31,48,50],[49,1,49,11],[49,13,49,20],[49,22,49,29],[49,31,49,50],[46,1,46,11],[46,13,46,20],[46,22,46,29],[46,31,46,50],[47,1,47,11],[47,13,47,20],[47,22,47,29],[47,31,47,50],[44,1,44,11],[44,13,44,20],[44,22,44,29],[44,31,44,50],[45,1,45,11],[45,13,45,20],[45,22,45,29],[45,31,45,50],[42,1,42,11],[42,13,42,20],[42,22,42,29],[42,31,42,50],[43,1,43,11],[43,13,43,20],[43,22,43,29],[43,31,43,50],[39,1,39,50],[40,1,40,11],[40,13,40,20],[40,22,40,29],[40,31,40,50],[41,1,41,11],[41,13,41,20],[41,22,41,29],[41,31,41,50],[36,1,36,11],[36,13,36,20],[36,22,36,29],[36,31,36,50],[37,1,37,11],[37,13,37,20],[37,22,37,29],[37,31,37,50],[34,1,34,11],[34,13,34,20],[34,22,34,29],[34,31,34,50],[35,1,35,11],[35,13,35,20],[35,22,35,29],[35,31,35,50],[32,1,32,11],[32,13,32,20],[32,22,32,29],[32,31,32,50],[33,1,33,11],[33,13,33,20],[33,22,33,29],[33,31,33,50],[30,1,30,11],[30,13,30,20],[30,22,30,29],[30,31,30,50],[31,1,31,11],[31,13,31,20],[31,22,31,29],[31,31,31,50],[26,28,26,29],[26,31,26,50],[28,1,28,50],[29,1,29,11],[29,13,29,20],[29,22,29,29],[29,31,29,50],[25,28,25,29],[25,31,25,50],[26,1,26,11],[26,13,26,14],[26,15,26,16],[26,17,26,18],[26,19,26,20],[26,22,26,23],[26,24,26,25],[26,26,26,27],[24,31,24,50],[25,1,25,11],[25,13,25,14],[25,15,25,16],[25,17,25,18],[25,19,25,20],[25,22,25,23],[25,24,25,25],[25,26,25,27],[24,1,24,11],[24,13,24,14],[24,15,24,16],[24,17,24,18],[24,19,24,20],[24,22,24,23],[24,24,24,25],[24,26,24,27],[24,28,24,29],[22,31,22,50],[23,1,23,11],[23,13,23,14],[23,15,23,16],[23,17,23,18],[23,19,23,20],[23,22,23,23],[23,24,23,25],[23,26,23,27],[23,28,23,29],[23,31,23,50],[22,1,22,11],[22,13,22,14],[22,15,22,16],[22,17,22,18],[22,19,22,20],[22,22,22,23],[22,24,22,25],[22,26,22,27],[22,28,22,29],[20,31,20,50],[21,1,21,11],[21,13,21,14],[21,15,21,16],[21,17,21,18],[21,19,21,20],[21,22,21,23],[21,24,21,25],[21,26,21,27],[21,28,21,29],[21,31,21,50],[20,1,20,11],[20,13,20,14],[20,15,20,16],[20,17,20,18],[20,19,20,20],[20,22,20,23],[20,24,20,25],[20,26,20,27],[20,28,20,29],[17,1,17,50],[18,1,18,50],[19,1,19,12],[19,13,19,14],[19,15,19,16],[19,17,19,18],[19,19,19,20],[19,22,19,23],[19,24,19,25],[19,26,19,27],[19,28,19,29],[19,30,19,50],[15,1,15,11],[15,13,15,20],[15,22,15,29],[15,31,15,50],[16,1,16,11],[16,13,16,20],[16,22,16,29],[16,31,16,50],[13,1,13,11],[13,13,13,20],[13,22,13,29],[13,31,13,50],[14,1,14,11],[14,13,14,20],[14,22,14,29],[14,31,14,50],[8,1,8,11],[8,13,8,20],[8,22,8,29],[8,31,8,50],[11,1,11,11],[11,13,11,20],[11,22,11,29],[11,31,11,50],[12,1,12,11],[12,13,12,20],[12,22,12,29],[12,31,12,50],[9,1,9,11],[9,13,9,20],[9,22,9,29],[9,31,9,50],[10,1,10,11],[10,13,10,20],[10,22,10,29],[10,31,10,50],[1,5,1,10],[2,5,2,10],[4,1,4,50],[5,13,5,20],[5,22,5,29],[5,31,5,50],[6,1,6,50],[7,1,7,11],[7,13,7,20],[7,22,7,29],[7,31,7,50]]}
[]
[null,"Standort",null,null,null,"Landsberg",{"$nulls":7},"Legende:"]
[null,"Planjahr",null,null,null,2022,{"$nulls":8},"Simulationseingabe"]
[]
[null,"Kennzahlenplanung auf Jahresbasis (pro WMO)"]
[null,"Bezeichnung Parameter",{"$nulls":11},"IST-Wert Vorjahr gesamt",{"$nulls":8},"Plan-Werte aktuelles Jahr",{"$nulls":8},"Rechenweg/Bemerkung"]
[null,"Berechnung  anwesende Std. pro Jahr (betriebsübergriefend)"]
[null,"Anzahl Kalendertage",{"$nulls":11},365,{"$nulls":8},365]
[null,"./. Anzahl Wochenendtage",{"$nulls":11},104,{"$nulls":8},104]
[null,"./. Anzahl Feiertage ",{"$nulls":11},11,{"$nulls":8},11,{"$nulls":8},"Die auf einen Wochentag (außer Samstag) fallen"]
[null,"= Anzahl Arbeitstage brutto",{"$nulls":11},{"$f":"N8-N9-N10","v":250},{"$nulls":8},{"$f":"W8-W9-W10","v":250},{"$nulls":8},"Anzahl Kalendertage - Wochenendtage - Feiertage"]
[null,"./. Krankheitstage",{"$nulls":11},7,{"$nulls":8},7]
[null,"./. Schulungstage",{"$nulls":11},4,{"$nulls":8},4]
[null,"./. Urlaubstage",{"$nulls":11},25,{"$nulls":8},25]
[null,"= Anzahl Arbeitstage netto",{"$nulls":11},{"$f":"N11-N12-N13-N14","v":214},{"$nulls":8},{"$f":"W11-W12-W13-W14","v":214},{"$nulls":8},"Arbeitstage brutto - Krankheitstage - Schulungstage - Urlaubstage (Berufsschultage werden später berücksichtigt)"]
[null,"* Arbeitszeit pro Tag in h",{"$nulls":11},8.4,{"$nulls":8},8.4]
[null,"= Anwesende Stunden pro Jahr pro WMO /AZG",{"$nulls":11},{"$f":"N15*N16","v":1797.6000000000001},{"$nulls":8},{"$f":"W15*W16","v":1797.6000000000001},{"$nulls":8},"Arbeitstage netto * Arbeitszeit pro Tag in h (Berufsschulstunden werden später berücksichtigt)"]
[]
[null,"Berechnung Leistungskennzahlen pro Jahr (betriebsindividuell)"]
[{"$nulls":13},"Anzahl",null,"LG",null,"AUSL",null,"PR",null,null,"Anzahl",null,"LG",null,"AUSL",null,"PR"]
[null,"WMOM gewichtet mit Prod.fakt.NAV",{"$nulls":13},{"$f":"T21/R21","v":1.1282051282051284},null,0.97499999999999998,null,1.1000000000000001,null,null,10,null,{"$f":"AC21/AA21","v":1.1282051282051284},null,0.97499999999999998,null,1.1000000000000001,null,null,"LG = Leistungsgrad / AUSL = Auslastung / PR = Produktivität"]
[null,"WMOE gewichtet mit Prod.fakt.NAV",{"$nulls":13},{"$f":"T22/R22","v":1.0256410256410258},null,0.97499999999999998,null,1,null,null,2,null,{"$f":"AC22/AA22","v":1.0256410256410258},null,0.97499999999999998,null,1,null,null,"LG = Leistungsgrad / AUSL = Auslastung / PR = Produktivität"]
[null,"WMOK gewichtet mit Prod.fakt.NAV",{"$nulls":13},1.2307692307692308,null,0.97499999999999998,null,1.2,null,null,2,null,1.2307692307692308,null,0.97499999999999998,null,1.2,null,null,"LG = Leistungsgrad / AUSL = Auslastung / PR = Produktivität"]
[null,"AZG1 gewichtet mit Prod.fakt.NAV",{"$nulls":13},0,null,0.97499999999999998,null,0,null,null,3,null,0,null,0.97499999999999998,null,0,null,null,"LG = Leistungsgrad / AUSL = Auslastung / PR = Produktivität"]
[null,"AZG2 gewichtet mit Prod.fakt.NAV",{"$nulls":13},0.20512820512820515,null,0.97499999999999998,null,0.2,null,null,4,null,0.20512820512820515,null,0.97499999999999998,null,0.2,null,null,"LG = Leistungsgrad / AUSL = Auslastung / PR = Produktivität"]
[null,"AZG3 gewichtet mit Prod.fakt.NAV",{"$nulls":13},0.4102564102564103,null,0.97499999999999998,null,0.4,null,null,3,null,0.4102564102564103,null,0.97499999999999998,null,0.4,null,null,"LG = Leistungsgrad / AUSL = Auslastung / PR = Produktivität"]
[null,"AZG4 gewichtet mit Prod.fakt.NAV",{"$nulls":13},0.4102564102564103,null,0.97499999999999998,null,0.4,null,null,3,null,0.4102564102564103,null,0.97499999999999998,null,0.4,null,null,"LG = Leistungsgrad / AUSL = Auslastung / PR = Produktivität"]
[]
[null,"Berechnung verkaufbare AW pro Jahr WMO"]
[null,"= Anwesende Stunden pro Jahr pro WMO",{"$nulls":11},{"$f":"N17","v":1797.6000000000001},{"$nulls":8},{"$f":"W17","v":1797.6000000000001},{"$nulls":8},"Übertrag aus Zeile 14"]
[null,"* Leistungsgrad gewichtetes Mittel alle WMO",{"$nulls":11},{"$f":"(N21*P21+N22*P22+N23*P23)/N37","v":{"$error":"#DIV/0!"}},{"$nulls":8},{"$f":"(W21*Y21+W22*Y22+W23*Y23)/W37","v":1.1282051282051284},{"$nulls":8},"Gewichtetetes Mittel aus Zeile 19-21 [(Anzahl * LG + Anzahl * LG…)/Anzhal WMO]"]
[null,"* Auslastung (100% anw. Stunden - 2,5 % Wvariabel)",{"$nulls":11},{"$f":"(N21*R21+N22*R22+N23*R23)/N37","v":{"$error":"#DIV/0!"}},{"$nulls":8},{"$f":"(W21*AA21+W22*AA22+W23*AA23)/W37","v":0.97499999999999987},{"$nulls":8},"Gewichtetetes Mittel aus Zeile 19-21 [(Anzahl * AUSL + Anzahl * AUSL…)/Anzhal WMO]"]
[null,"Produktivität (LG * AUSL) gew. Mittel alle WMO",{"$nulls":11},{"$f":"N31*N32","v":{"$error":"#DIV/0!"}},{"$nulls":8},{"$f":"W31*W32","v":1.1000000000000001},{"$nulls":8},"Die PR wird hier nur aus Plausibilitätsgründen ausgewiesen und nicht als Rechenfaktor angewendet"]
[null,"= verkaufbare Std. gewicht. Mittel ein WMO Jahresw.",{"$nulls":11},{"$f":"N30*N31*N32","v":{"$error":"#DIV/0!"}},{"$nulls":8},{"$f":"W30*W31*W32","v":1977.3600000000001},{"$nulls":8},"Anw. Stunden * Leistungsgrad * Auslastung"]
[null,"* Umrechnungsfaktor AW",{"$nulls":11},12,{"$nulls":8},12]
[null,"= verkaufbare AW gewicht. Mittel ein WMO Jahresw.",{"$nulls":11},{"$f":"N34*N35","v":{"$error":"#DIV/0!"}},{"$nulls":8},{"$f":"W34*W35","v":23728.32},{"$nulls":8},"verkaufbare prod. Std. * Umrechnungsfaktor AW"]
[null,"* Anzahl WMO gesamt gewichtet mit Prod.fakt.NAV",{"$nulls":11},{"$f":"SUM(N21:O23)","v":0},{"$nulls":8},{"$f":"SUM(W21:X23)","v":14},{"$nulls":8},"Summe aller WMO (Zeile 19-21)"]
[null,"= verkaufbare AW gesamt alle WMO Jahreswert",{"$nulls":11},{"$f":"N36*N37","v":{"$error":"#DIV/0!"}},{"$nulls":8},{"$f":"W36*W37","v":332196.47999999998},{"$nulls":8},"verkaufbare prod. AW * Anzahl WMO"]
[]
[null,"Berechnung verkaufbare AW pro Jahr AZG"]
[null,"= Anwesende Std. pro Jahr pro AZG (mit Berufsschulzeit)",{"$nulls":11},{"$f":"N17","v":1797.6000000000001},{"$nulls":8},{"$f":"W17","v":1797.6000000000001},{"$nulls":8},"Übertrag aus Zeile 14"]
[null,"./. Std. Berufsschulzeit und Lehrgänge pro Jahr",{"$nulls":11},480,{"$nulls":8},480,{"$nulls":8},"Mittelwert über alle Lehrjahre [(52 Wochen - 12 Wochen Ferien) *1,5 Tage * 8 Std.) = 480 Std."]
[null,"= Anwesende Stunden pro Jahr (ohne Berufsschulzeit)",{"$nulls":11},{"$f":"N41-N42","v":1317.6000000000001},{"$nulls":8},{"$f":"W41-W42","v":1317.6000000000001},{"$nulls":8},"Anwesende Std. - Std. Berufsschulzeit"]
[null,"* Leistungsgrad gewichtetes Mittel alle AZG",{"$nulls":11},{"$f":"(N24*P24+N25*P25+N26*P26+N27*P27)/N50","v":{"$error":"#DIV/0!"}},{"$nulls":8},{"$f":"(W24*Y24+W25*Y25+W26*Y26+W27*Y27)/W50","v":0.25246548323471402},{"$nulls":8},"Gewichtetetes Mittel aus Zeile 22-25 [(Anzahl * LG + Anzahl * LG…)/Anzhal AZG]"]
[null,"* Auslastung (100% anw. Stunden - 2,5 % Wvariabel)",{"$nulls":11},{"$f":"(N24*R24+N25*R25+N26*R26+N27*R27)/N50","v":{"$error":"#DIV/0!"}},{"$nulls":8},{"$f":"(W24*AA24+W25*AA25+W26*AA26+W27*AA27)/W50","v":0.97500000000000009},{"$nulls":8},"Gewichtetetes Mittel aus Zeile 22-25 [(Anzahl * AUSL + Anzahl * AUSL…)/Anzhal AZG]"]
[null,"Produktivität (Leistungsgrad * Auslastung)",{"$nulls":11},{"$f":"N44*N45","v":{"$error":"#DIV/0!"}},{"$nulls":8},{"$f":"W44*W45","v":0.2461538461538462},{"$nulls":8},"Die PR wird hier nur aus Plausibilitätsgründen ausgewiesen und nicht als Rechenfaktor angewendet."]
[null,"= verkaufbare Std. ein AZG Jahreswert",{"$nulls":11},{"$f":"N43*N44*N45","v":{"$error":"#DIV/0!"}},{"$nulls":8},{"$f":"W43*W44*W45","v":324.33230769230778},{"$nulls":8},"Anw. Stunden * Leistungsgrad * Auslastung"]
[null,"* Umrechnungsfaktor AW",{"$nulls":11},12,{"$nulls":8},12]
[null,"= verkaufbare AW ein AZG Jahreswert",{"$nulls":11},{"$f":"N47*N48","v":{"$error":"#DIV/0!"}},{"$nulls":8},{"$f":"W47*W48","v":3891.9876923076936},{"$nulls":8},"verkaufbare prod. Std. * Umrechnungsfaktor AW"]
[null,"* Anzahl AZG gesamt gewichtet mit Prod.fakt.NAV",{"$nulls":11},{"$f":"SUM(N24:O27)","v":0},{"$nulls":8},{"$f":"SUM(W24:X27)","v":13},{"$nulls":8},"Summe aller AZG (Zeile 22-25)"]
[null,"= verkaufbare AW gesamt alle AZG Jahreswert",{"$nulls":11},{"$f":"N49*N50","v":{"$error":"#DIV/0!"}},{"$nulls":8},{"$f":"W49*W50","v":50595.840000000018},{"$nulls":8},"verkaufbare prod. AW * Anzahl AZG"]
[]
[null,"Berechnung verkaufbare AW pro Jahr gesamt (WMO und AZG)"]
[null,"= verkaufbare prod. AW WMO und AZG Jahreswert",{"$nulls":11},{"$f":"N51+N38","v":{"$error":"#DIV/0!"}},{"$nulls":8},{"$f":"W51+W38","v":382792.32},{"$nulls":8},"Summe aller WMO und AZG (Zeile 19-25)"]
[]
[null,"Berechnung Umsatz Lohn pro Jahr WMO"]
[null,"= verkaufbare AW gesamt alle WMO Jahreswert",{"$nulls":11},{"$f":"N38","v":{"$error":"#DIV/0!"}},{"$nulls":8},{"$f":"W38","v":332196.47999999998},{"$nulls":8},"Übertrag aus Zeile 36"]
[null,"* Ø tatsächlich erzielbarer AW-Preis",{"$nulls":11},0,{"$nulls":8},9,{"$nulls":8},"AW-Preis Mechanik extern netto - 1,90€"]
[null,"= Umsatz Lohn Jahreswert WMO",{"$nulls":11},{"$f":"N57*N58","v":{"$error":"#DIV/0!"}},{"$nulls":8},{"$f":"W57*W58","v":2989768.32},{"$nulls":8},"verkaufbare prod. AW gesamt WMO * Ø tatsächlich erzielbarer AW-Preis"]
[]
[null,"Berechnung Umsatz Lohn pro Jahr AZG"]
[null,"= verkaufbare AW gesamt alle AZG Jahreswert",{"$nulls":11},{"$f":"N51","v":{"$error":"#DIV/0!"}},{"$nulls":8},{"$f":"W51","v":50595.840000000018},{"$nulls":8},"Übertrag aus Zeile 49"]
[null,"* Ø tatsächlich erzielbarer AW-Preis",{"$nulls":11},{"$f":"N58","v":0},{"$nulls":8},{"$f":"W58","v":9},{"$nulls":8},"AW-Preis Mechanik extern netto - 1,90€ (entspricht Wert aus Zeile 56)"]
[null,"= Umsatz Lohn Jahreswert AZG",{"$nulls":11},{"$f":"N62*N63","v":{"$error":"#DIV/0!"}},{"$nulls":8},{"$f":"W62*W63","v":455362.56000000017},{"$nulls":8},"verkaufbare prod. AW gesamt AZG * Ø tatsächlich erzielbarer AW-Preis"]
[]
[null,"Berechnung Umsatz Lohn pro Jahr gesamt (WMO + AZG)"]
[null,"= verkaufbare AW gesamt WMO + AZG Jahreswert",{"$nulls":11},{"$f":"N62+N57","v":{"$error":"#DIV/0!"}},{"$nulls":8},{"$f":"W62+W57","v":382792.32},{"$nulls":8},"Summe aus Zeile 57+62"]
[null,"* Ø tatsächlich erzielbarer AW-Preis",{"$nulls":11},{"$f":"N58","v":0},{"$nulls":8},{"$f":"W58","v":9},{"$nulls":8},"AW-Preis Mechanik extern netto - 1,90€ (entspricht Wert aus Zeile 56)"]
[null,"= Umsatz Lohn Jahreswert gesamt (WMO + AZG)",{"$nulls":11},{"$f":"N67*N68","v":{"$error":"#DIV/0!"}},{"$nulls":8},{"$f":"W67*W68","v":3445130.88},{"$nulls":8},"verkaufbare prod. AW gesamt WMO + AZG * Ø tatsächlich erzielbarer AW-Preis"]
[]
[null,"Umsatz Lohn auf Basis Monatswerte nach Saisonfaktor"]
[null,"Monat",{"$nulls":5},"Saisonfaktor",{"$nulls":5},"Umatz Lohn",{"$nulls":8},"Umatz Lohn",{"$nulls":8},"Rechenweg/Bemerkung"]
[null,"Jan - Dez.",{"$nulls":5},{"$f":"SUM(H74:L85)","v":0.99999999999999978},{"$nulls":5},{"$f":"N69","v":{"$error":"#DIV/0!"}},{"$nulls":8},{"$f":"W69","v":3445130.88},{"$nulls":8},"Übertrag aus Zeile 56. Saisonfaktor = Summe aller Einzelwerte zur Plausibbilität"]
[null,"Januar",{"$nulls":5},7.4999999999999997E-2,{"$nulls":5},{"$f":"$N$73*H74","v":{"$error":"#DIV/0!"}},{"$nulls":8},{"$f":"$W$73*H74","v":258384.81599999999},{"$nulls":8},"Umsatz Service Jahreswert * Saisonfaktor"]
[null,"Februar",{"$nulls":5},7.4999999999999997E-2,{"$nulls":5},{"$f":"$N$73*H75","v":{"$error":"#DIV/0!"}},{"$nulls":8},{"$f":"$W$73*H75","v":258384.81599999999},{"$nulls":8},"Umsatz Service Jahreswert * Saisonfaktor"]
[null,"März",{"$nulls":5},8.6999999999999994E-2,{"$nulls":5},{"$error":"#DIV/0!"},{"$nulls":8},299726.38655999996,{"$nulls":8},"Umsatz Service Jahreswert * Saisonfaktor"]
[null,"April",{"$nulls":5},8.8999999999999996E-2,{"$nulls":5},{"$error":"#DIV/0!"},{"$nulls":8},306616.64831999998,{"$nulls":8},"Umsatz Service Jahreswert * Saisonfaktor"]
[null,"Mai",{"$nulls":5},8.5999999999999993E-2,{"$nulls":5},{"$error":"#DIV/0!"},{"$nulls":8},296281.25567999994,{"$nulls":8},"Umsatz Service Jahreswert * Saisonfaktor"]
[null,"Juni",{"$nulls":5},8.4000000000000005E-2,{"$nulls":5},{"$error":"#DIV/0!"},{"$nulls":8},289390.99392000004,{"$nulls":8},"Umsatz Service Jahreswert * Saisonfaktor"]
[null,"Juli",{"$nulls":5},8.4000000000000005E-2,{"$nulls":5},{"$error":"#DIV/0!"},{"$nulls":8},289390.99392000004,{"$nulls":8},"Umsatz Service Jahreswert * Saisonfaktor"]
[null,"August",{"$nulls":5},8.1000000000000003E-2,{"$nulls":5},{"$error":"#DIV/0!"},{"$nulls":8},279055.60128,{"$nulls":8},"Umsatz Service Jahreswert * Saisonfaktor"]
[null,"September",{"$nulls":5},8.3000000000000004E-2,{"$nulls":5},{"$error":"#DIV/0!"},{"$nulls":8},285945.86304000003,{"$nulls":8},"Umsatz Service Jahreswert * Saisonfaktor"]
[null,"Oktober",{"$nulls":5},0.08,{"$nulls":5},{"$error":"#DIV/0!"},{"$nulls":8},275610.47039999999,{"$nulls":8},"Umsatz Service Jahreswert * Saisonfaktor"]
[null,"November",{"$nulls":5},8.7999999999999995E-2,{"$nulls":5},{"$error":"#DIV/0!"},{"$nulls":8},303171.51743999997,{"$nulls":8},"Umsatz Service Jahreswert * Saisonfaktor"]
[null,"Dezember",{"$nulls":5},8.7999999999999995E-2,{"$nulls":5},{"$error":"#DIV/0!"},{"$nulls":8},303171.51743999997,{"$nulls":8},"Umsatz Service Jahreswert * Saisonfaktor"]

{"sheet":"SCB_Planung_LL","index":6,"n_rows":25,"n_cols":8,"rows_kept":25,"cut":false,"hidden":false,"merged":[[5,1,5,7],[6,6,6,7],[23,1,23,7]]}
[]
[null,{"$f":"WMO_Planung_LL!B2","v":"Standort"},{"$f":"WMO_Planung_LL!F2","v":"Landsberg"},null,"Legende:"]
[null,{"$f":"WMO_Planung_LL!B3","v":"Planjahr"},{"$f":"WMO_Planung_LL!F3","v":2022},null,null,"Simulationseingabe"]
[{"$nulls":5},"Supervariable (wird durch die Simulationseingabe verändert)"]
[]
[null,"Kennzahlenplanung auf Jahresbasis"]
[null,"Bezeichnung","\nVorwärtkalkulation\nSimulation 1","\nVorwärtkalkulation\nSimulation 2","\nVorwärtkalkulation\nSimulation 3",null,"Rückwärtskalkulation\nbezogen auf Planung gesamt\n (WMO +AZG)"]
[null,"Anzahl Kalendertage",365,365,365,null,365]
[null,"./. Anzahl Wochenendtage",104,104,104,null,104]
[null,"./. Anzahl Feiertage ",11,11,11,null,11]
[null,"= Anzahl Arbeitstage brutto",{"$f":"C8-C9-C10","v":250},{"$f":"D8-D9-D10","v":250},{"$f":"E8-E9-E10","v":250},null,{"$f":"G8-G9-G10","v":250}]
[null,"./. Krankheitstage",7,7,7,null,7]
[null,"./. Schulungstage",4,4,4,null,4]
[null,"./. Urlaubstage",25,25,25,null,25]
[null,"= Anzahl Arbeitstage netto",{"$f":"C11-C12-C13-C14","v":214},{"$f":"D11-D12-D13-D14","v":214},{"$f":"E11-E12-E13-E14","v":214},null,{"$f":"G11-G12-G13-G14","v":214}]
[null,"* Durchgänge pro Tag",10,11,10,null,10,{"$f":"WMO_Planung_LL!W54/(SCB_Planung_LL!H17*SCB_Planung_LL!G15*SCB_Planung_LL!G21)","v":14.906242990654206}]
[null,"* AW pro Durchgang",24,24,24,null,{"$f":"WMO_Planung_LL!W54/(SCB_Planung_LL!G16*SCB_Planung_LL!G15*G21)","v":35.774983177570093},24]
[null,"* Ø tatsächlich erzielbarer AW-Preis",10.5,10.5,10.5,null,{"$f":"WMO_Planung_LL!W58","v":9},{"$f":"G18","v":9}]
[null,"= Umsatz Lohn Jahreswert pro SCB",{"$f":"C15*C16*C17*C18","v":539280},{"$f":"D15*D16*D17*D18","v":593208},{"$f":"E15*E16*E17*E18","v":539280},null,{"$f":"G22/G21","v":689026.17599999998},{"$f":"H22/H21","v":689026.17599999998}]
[]
[null,"* Anzahl SCB",5,5,5,null,5,5]
[null,"= Umsatz Lohn gesamt",{"$f":"C19*C21","v":2696400},{"$f":"D19*D21","v":2966040},2696400,null,{"$f":"WMO_Planung_LL!W69","v":3445130.88},{"$f":"G22","v":3445130.88}]
[]
[null,"Plausibilitätsrechnung"]
[null,"Lohnumsatz pro Durchgang",{"$f":"C19/(C16*C15)","v":252},{"$f":"D19/(D16*D15)","v":252},252,null,321.97484859813085,{"$f":"H19/(H16*G15)","v":215.99999999999997}]

{"sheet":"WMO_Planung_KRU","index":7,"n_rows":85,"n_cols":32,"rows_kept":85,"cut":false,"hidden":false,"merged":[[1,5,1,10],[2,5,2,10],[4,1,4,50],[5,13,5,20],[5,22,5,29],[5,31,5,50],[6,1,6,50],[7,1,7,11],[7,13,7,20],[7,22,7,29],[7,31,7,50],[8,1,8,11],[8,13,8,20],[8,22,8,29],[8,31,8,50],[11,1,11,11],[11,13,11,20],[11,22,11,29],[11,31,11,50],[12,1,12,11],[12,13,12,20],[12,22,12,29],[12,31,12,50],[9,1,9,11],[9,13,9,20],[9,22,9,29],[9,31,9,50],[10,1,10,11],[10,13,10,20],[10,22,10,29],[10,31,10,50],[15,1,15,11],[15,13,15,20],[15,22,15,29],[15,31,15,50],[16,1,16,11],[16,13,16,20],[16,22,16,29],[16,31,16,50],[13,1,13,11],[13,13,13,20],[13,22,13,29],[13,31,13,50],[14,1,14,11],[14,13,14,20],[14,22,14,29],[14,31,14,50],[17,1,17,50],[18,1,18,50],[19,1,19,12],[19,13,19,14],[19,15,19,16],[19,17,19,18],[19,19,19,20],[19,22,19,23],[19,24,19,25],[19,26,19,27],[19,28,19,29],[19,30,19,50],[20,31,20,50],[21,1,21,11],[21,13,21,14],[21,15,21,16],[21,17,21,18],[21,19,21,20],[21,22,21,23],[21,24,21,25],[21,26,21,27],[21,28,21,29],[21,31,21,50],[20,1,20,11],[20,13,20,14],[20,15,20,16],[20,17,20,18],[20,19,20,20],[20,22,20,23],[20,24,20,25],[20,26,20,27],[20,28,20,29],[22,31,22,50],[23,1,23,11],[23,13,23,14],[23,15,23,16],[23,17,23,18],[23,19,23,20],[23,22,23,23],[23,24,23,25],[23,26,23,27],[23,28,23,29],[23,31,23,50],[22,1,22,11],[22,13,22,14],[22,15,22,16],[22,17,22,18],[22,19,22,20],[22,22,22,23],[22,24,22,25],[22,26,22,27],[22,28,22,29],[24,31,24,50],[25,1,25,11],[25,13,25,14],[25,15,25,16],[25,17,25,18],[25,19,25,20],[25,22,25,23],[25,24,25,25],[25,26,25,27],[24,1,24,11],[24,13,24,14],[24,15,24,16],[24,17,24,18],[24,19,24,20],[24,22,24,23],[24,24,24,25],[24,26,24,27],[24,28,24,29],[26,28,26,29],[26,31,26,50],[28,1,28,50],[29,1,29,11],[29,13,29,20],[29,22,29,29],[29,31,29,50],[25,28,25,29],[25,31,25,50],[26,1,26,11],[26,13,26,14],[26,15,26,16],[26,17,26,18],[26,19,26,20],[26,22,26,23],[26,24,26,25],[26,26,26,27],[32,1,32,11],[32,13,32,20],[32,22,32,29],[32,31,32,50],[33,1,33,11],[33,13,33,20],[33,22,33,29],[33,31,33,50],[30,1,30,11],[30,13,30,20],[30,22,30,29],[30,31,30,50],[31,1,31,11],[31,13,31,20],[31,22,31,29],[31,31,31,50],[36,1,36,11],[36,13,36,20],[36,22,36,29],[36,31,36,50],[37,1,37,11],[37,13,37,20],[37,22,37,29],[37,31,37,50],[34,1,34,11],[34,13,34,20],[34,22,34,29],[34,31,34,50],[35,1,35,11],[35,13,35,20],[35,22,35,29],[35,31,35,50],[39,1,39,50],[40,1,40,11],[40,13,40,20],[40,22,40,29],[40,31,40,50],[41,1,41,11],[41,13,41,20],[41,22,41,29],[41,31,41,50],[44,1,44,11],[44,13,44,20],[44,22,44,29],[44,31,44,50],[45,1,45,11],[45,13,45,20],[45,22,45,29],[45,31,45,50],[42,1,42,11],[42,13,42,20],[42,22,42,29],[42,31,42,50],[43,1,43,11],[43,13,43,20],[43,22,43,29],[43,31,43,50],[48,1,48,11],[48,13,48,20],[48,22,48,29],[48,31,48,50],[49,1,49,11],[49,13,49,20],[49,22,49,29],[49,31,49,50],[46,1,46,11],[46,13,46,20],[46,22,46,29],[46,31,46,50],[47,1,47,11],[47,13,47,20],[47,22,47,29],[47,31,47,50],[50,1,50,11],[50,13,50,20],[50,22,50,29],[50,31,50,50],[52,1,52,50],[53,1,53,11],[53,13,53,20],[53,22,53,29],[53,31,53,50],[55,1,55,50],[56,1,56,11],[56,13,56,20],[56,22,56,29],[56,31,56,50],[57,1,57,11],[57,13,57,20],[57,22,57,29],[57,31,57,50],[62,1,62,11],[62,13,62,20],[62,22,62,29],[62,31,62,50],[63,1,63,11],[63,13,63,20],[63,22,63,29],[63,31,63,50],[58,1,58,11],[58,13,58,20],[58,22,58,29],[58,31,58,50],[60,1,60,50],[61,1,61,11],[61,13,61,20],[61,22,61,29],[61,31,61,50],[65,1,65,50],[66,1,66,11],[66,13,66,20],[66,22,66,29],[66,31,66,50],[67,1,67,11],[67,13,67,20],[67,22,67,29],[67,31,67,50],[68,1,68,11],[68,13,68,20],[68,22,68,29],[68,31,68,50],[70,1,70,50],[71,1,71,5],[71,7,71,11],[71,13,71,20],[71,22,71,29],[71,31,71,50],[72,1,72,5],[72,7,72,11],[72,13,72,20],[72,22,72,29],[72,31,72,50],[73,1,73,5],[73,7,73,11],[73,13,73,20],[73,22,73,29],[73,31,73,50],[74,1,74,5],[74,7,74,11],[74,13,74,20],[74,22,74,29],[74,31,74,50],[75,1,75,5],[75,7,75,11],[75,13,75,20],[75,22,75,29],[75,31,75,50],[76,1,76,5],[76,7,76,11],[76,13,76,20],[76,22,76,29],[76,31,76,50],[77,1,77,5],[77,7,77,11],[77,13,77,20],[77,22,77,29],[77,31,77,50],[78,1,78,5],[78,7,78,11],[78,13,78,20],[78,22,78,29],[78,31,78,50],[79,1,79,5],[79,7,79,11],[79,13,79,20],[79,22,79,29],[79,31,79,50],[80,1,80,5],[80,7,80,11],[80,13,80,20],[80,22,80,29],[80,31,80,50],[81,1,81,5],[81,7,81,11],[81,13,81,20],[81,22,81,29],[81,31,81,50],[84,1,84,5],[84,7,84,11],[84,13,84,20],[84,22,84,29],[84,31,84,50],[82,1,82,5],[82,7,82,11],[82,13,82,20],[82,22,82,29],[82,31,82,50],[83,1,83,5],[83,7,83,11],[83,13,83,20],[83,22,83,29],[83,31,83,50]]}
[]
[null,"Standort",null,null,null,"Krumbach",{"$nulls":7},"Legende:"]
[null,"Planjahr",null,null,null,2022,{"$nulls":8},"Simulationseingabe"]
[]
[null,"Kennzahlenplanung auf Jahresbasis (pro WMO)"]
[null,"Bezeichnung Parameter",{"$nulls":11},"IST-Wert Vorjahr gesamt",{"$nulls":8},"Plan-Werte aktuelles Jahr",{"$nulls":8},"Rechenweg/Bemerkung"]
[null,"Berechnung  anwesende Std. pro Jahr (betriebsübergriefend)"]
[null,"Anzahl Kalendertage",{"$nulls":11},365,{"$nulls":8},365]
[null,"./. Anzahl Wochenendtage",{"$nulls":11},104,{"$nulls":8},104]
[null,"./. Anzahl Feiertage ",{"$nulls":11},11,{"$nulls":8},11,{"$nulls":8},"Die auf einen Wochentag (außer Samstag) fallen"]
[null,"= Anzahl Arbeitstage brutto",{"$nulls":11},{"$f":"N8-N9-N10","v":250},{"$nulls":8},{"$f":"W8-W9-W10","v":250},{"$nulls":8},"Anzahl Kalendertage - Wochenendtage - Feiertage"]
[null,"./. Krankheitstage",{"$nulls":11},7,{"$nulls":8},7]
[null,"./. Schulungstage",{"$nulls":11},4,{"$nulls":8},4]
[null,"./. Urlaubstage",{"$nulls":11},25,{"$nulls":8},25]
[null,"= Anzahl Arbeitstage netto",{"$nulls":11},{"$f":"N11-N12-N13-N14","v":214},{"$nulls":8},{"$f":"W11-W12-W13-W14","v":214},{"$nulls":8},"Arbeitstage brutto - Krankheitstage - Schulungstage - Urlaubstage (Berufsschultage werden später berücksichtigt)"]
[null,"* Arbeitszeit pro Tag in h",{"$nulls":11},8.4,{"$nulls":8},8.4]
[null,"= Anwesende Stunden pro Jahr pro WMO /AZG",{"$nulls":11},{"$f":"N15*N16","v":1797.6000000000001},{"$nulls":8},{"$f":"W15*W16","v":1797.6000000000001},{"$nulls":8},"Arbeitstage netto * Arbeitszeit pro Tag in h (Berufsschulstunden werden später berücksichtigt)"]
[]
[null,"Berechnung Leistungskennzahlen pro Jahr (betriebsindividuell)"]
[{"$nulls":13},"Anzahl",null,"LG",null,"AUSL",null,"PR",null,null,"Anzahl",null,"LG",null,"AUSL",null,"PR"]
[null,"WMOM gewichtet mit Prod.fakt.NAV",{"$nulls":13},{"$f":"T21/R21","v":1.1282051282051284},null,0.97499999999999998,null,1.1000000000000001,null,null,2,null,{"$f":"AC21/AA21","v":1.1282051282051284},null,0.97499999999999998,null,1.1000000000000001,null,null,"LG = Leistungsgrad / AUSL = Auslastung / PR = Produktivität"]
[null,"WMOE gewichtet mit Prod.fakt.NAV",{"$nulls":13},{"$f":"T22/R22","v":1.0256410256410258},null,0.97499999999999998,null,1,null,null,1,null,{"$f":"AC22/AA22","v":1.0256410256410258},null,0.97499999999999998,null,1,null,null,"LG = Leistungsgrad / AUSL = Auslastung / PR = Produktivität"]
[null,"WMOK gewichtet mit Prod.fakt.NAV",{"$nulls":13},1.2307692307692308,null,0.97499999999999998,null,1.2,null,null,0,null,1.2307692307692308,null,0.97499999999999998,null,1.2,null,null,"LG = Leistungsgrad / AUSL = Auslastung / PR = Produktivität"]
[null,"AZG1 gewichtet mit Prod.fakt.NAV",{"$nulls":13},0,null,0.97499999999999998,null,0,null,null,1,null,0,null,0.97499999999999998,null,0,null,null,"LG = Leistungsgrad / AUSL = Auslastung / PR = Produktivität"]
[null,"AZG2 gewichtet mit Prod.fakt.NAV",{"$nulls":13},0.20512820512820515,null,0.97499999999999998,null,0.2,null,null,2,null,0.20512820512820515,null,0.97499999999999998,null,0.2,null,null,"LG = Leistungsgrad / AUSL = Auslastung / PR = Produktivität"]
[null,"AZG3 gewichtet mit Prod.fakt.NAV",{"$nulls":13},0.4102564102564103,null,0.97499999999999998,null,0.4,null,null,1,null,0.4102564102564103,null,0.97499999999999998,null,0.4,null,null,"LG = Leistungsgrad / AUSL = Auslastung / PR = Produktivität"]
[null,"AZG4 gewichtet mit Prod.fakt.NAV",{"$nulls":13},0.4102564102564103,null,0.97499999999999998,null,0.4,null,null,0,null,0.4102564102564103,null,0.97499999999999998,null,0.4,null,null,"LG = Leistungsgrad / AUSL = Auslastung / PR = Produktivität"]
[]
[null,"Berechnung verkaufbare AW pro Jahr WMO"]
[null,"= Anwesende Stunden pro Jahr pro WMO",{"$nulls":11},{"$f":"N17","v":1797.6000000000001},{"$nulls":8},{"$f":"W17","v":1797.6000000000001},{"$nulls":8},"Übertrag aus Zeile 14"]
[null,"* Leistungsgrad gewichtetes Mittel alle WMO",{"$nulls":11},{"$f":"(N21*P21+N22*P22+N23*P23)/N37","v":{"$error":"#DIV/0!"}},{"$nulls":8},{"$f":"(W21*Y21+W22*Y22+W23*Y23)/W37","v":1.0940170940170943},{"$nulls":8},"Gewichtetetes Mittel aus Zeile 19-21 [(Anzahl * LG + Anzahl * LG…)/Anzhal WMO]"]
[null,"* Auslastung (100% anw. Stunden - 2,5 % Wvariabel)",{"$nulls":11},{"$f":"(N21*R21+N22*R22+N23*R23)/N37","v":{"$error":"#DIV/0!"}},{"$nulls":8},{"$f":"(W21*AA21+W22*AA22+W23*AA23)/W37","v":0.97499999999999998},{"$nulls":8},"Gewichtetetes Mittel aus Zeile 19-21 [(Anzahl * AUSL + Anzahl * AUSL…)/Anzhal WMO]"]
[null,"Produktivität (LG * AUSL) gew. Mittel alle WMO",{"$nulls":11},{"$f":"N31*N32","v":{"$error":"#DIV/0!"}},{"$nulls":8},{"$f":"W31*W32","v":1.0666666666666669},{"$nulls":8},"Die PR wird hier nur aus Plausibilitätsgründen ausgewiesen und nicht als Rechenfaktor angewendet"]
[null,"= verkaufbare Std. gewicht. Mittel ein WMO Jahresw.",{"$nulls":11},{"$f":"N30*N31*N32","v":{"$error":"#DIV/0!"}},{"$nulls":8},{"$f":"W30*W31*W32","v":1917.4400000000007},{"$nulls":8},"Anw. Stunden * Leistungsgrad * Auslastung"]
[null,"* Umrechnungsfaktor AW",{"$nulls":11},12,{"$nulls":8},12]
[null,"= verkaufbare AW gewicht. Mittel ein WMO Jahresw.",{"$nulls":11},{"$f":"N34*N35","v":{"$error":"#DIV/0!"}},{"$nulls":8},{"$f":"W34*W35","v":23009.28000000001},{"$nulls":8},"verkaufbare prod. Std. * Umrechnungsfaktor AW"]
[null,"* Anzahl WMO gesamt gewichtet mit Prod.fakt.NAV",{"$nulls":11},{"$f":"SUM(N21:O23)","v":0},{"$nulls":8},{"$f":"SUM(W21:X23)","v":3},{"$nulls":8},"Summe aller WMO (Zeile 19-21)"]
[null,"= verkaufbare AW gesamt alle WMO Jahreswert",{"$nulls":11},{"$f":"N36*N37","v":{"$error":"#DIV/0!"}},{"$nulls":8},{"$f":"W36*W37","v":69027.840000000026},{"$nulls":8},"verkaufbare prod. AW * Anzahl WMO"]
[]
[null,"Berechnung verkaufbare AW pro Jahr AZG"]
[null,"= Anwesende Std. pro Jahr pro AZG (mit Berufsschulzeit)",{"$nulls":11},{"$f":"N17","v":1797.6000000000001},{"$nulls":8},{"$f":"W17","v":1797.6000000000001},{"$nulls":8},"Übertrag aus Zeile 14"]
[null,"./. Std. Berufsschulzeit und Lehrgänge pro Jahr",{"$nulls":20},480,{"$nulls":8},"Mittelwert über alle Lehrjahre [(52 Wochen - 12 Wochen Ferien) *1,5 Tage * 8 Std.) = 480 Std."]
[null,"= Anwesende Stunden pro Jahr (ohne Berufsschulzeit)",{"$nulls":11},{"$f":"N41-N42","v":1797.6000000000001},{"$nulls":8},{"$f":"W41-W42","v":1317.6000000000001},{"$nulls":8},"Anwesende Std. - Std. Berufsschulzeit"]
[null,"* Leistungsgrad gewichtetes Mittel alle AZG",{"$nulls":11},{"$f":"(N24*P24+N25*P25+N26*P26+N27*P27)/N50","v":{"$error":"#DIV/0!"}},{"$nulls":8},{"$f":"(W24*Y24+W25*Y25+W26*Y26+W27*Y27)/W50","v":0.20512820512820515},{"$nulls":8},"Gewichtetetes Mittel aus Zeile 22-25 [(Anzahl * LG + Anzahl * LG…)/Anzhal AZG]"]
[null,"* Auslastung (100% anw. Stunden - 2,5 % Wvariabel)",{"$nulls":11},{"$f":"(N24*R24+N25*R25+N26*R26+N27*R27)/N50","v":{"$error":"#DIV/0!"}},{"$nulls":8},{"$f":"(W24*AA24+W25*AA25+W26*AA26+W27*AA27)/W50","v":0.97499999999999998},{"$nulls":8},"Gewichtetetes Mittel aus Zeile 22-25 [(Anzahl * AUSL + Anzahl * AUSL…)/Anzhal AZG]"]
[null,"Produktivität (Leistungsgrad * Auslastung)",{"$nulls":11},{"$f":"N44*N45","v":{"$error":"#DIV/0!"}},{"$nulls":8},{"$f":"W44*W45","v":0.2},{"$nulls":8},"Die PR wird hier nur aus Plausibilitätsgründen ausgewiesen und nicht als Rechenfaktor angewendet."]
[null,"= verkaufbare Std. ein AZG Jahreswert",{"$nulls":11},{"$f":"N43*N44*N45","v":{"$error":"#DIV/0!"}},{"$nulls":8},{"$f":"W43*W44*W45","v":263.52000000000004},{"$nulls":8},"Anw. Stunden * Leistungsgrad * Auslastung"]
[null,"* Umrechnungsfaktor AW",{"$nulls":11},12,{"$nulls":8},12]
[null,"= verkaufbare AW ein AZG Jahreswert",{"$nulls":11},{"$f":"N47*N48","v":{"$error":"#DIV/0!"}},{"$nulls":8},{"$f":"W47*W48","v":3162.2400000000007},{"$nulls":8},"verkaufbare prod. Std. * Umrechnungsfaktor AW"]
[null,"* Anzahl AZG gesamt gewichtet mit Prod.fakt.NAV",{"$nulls":11},{"$f":"SUM(N24:O27)","v":0},{"$nulls":8},{"$f":"SUM(W24:X27)","v":4},{"$nulls":8},"Summe aller AZG (Zeile 22-25)"]
[null,"= verkaufbare AW gesamt alle AZG Jahreswert",{"$nulls":11},{"$f":"N49*N50","v":{"$error":"#DIV/0!"}},{"$nulls":8},{"$f":"W49*W50","v":12648.960000000003},{"$nulls":8},"verkaufbare prod. AW * Anzahl AZG"]
[]
[null,"Berechnung verkaufbare AW pro Jahr gesamt (WMO und AZG)"]
[null,"= verkaufbare prod. AW WMO und AZG Jahreswert",{"$nulls":11},{"$f":"N51+N38","v":{"$error":"#DIV/0!"}},{"$nulls":8},{"$f":"W51+W38","v":81676.800000000032},{"$nulls":8},"Summe aller WMO und AZG (Zeile 19-25)"]
[]
[null,"Berechnung Umsatz Lohn pro Jahr WMO"]
[null,"= verkaufbare AW gesamt alle WMO Jahreswert",{"$nulls":11},{"$f":"N38","v":{"$error":"#DIV/0!"}},{"$nulls":8},{"$f":"W38","v":69027.840000000026},{"$nulls":8},"Übertrag aus Zeile 36"]
[null,"* Ø tatsächlich erzielbarer AW-Preis",{"$nulls":11},0,{"$nulls":8},9,{"$nulls":8},"AW-Preis Mechanik extern netto - 1,90€"]
[null,"= Umsatz Lohn Jahreswert WMO",{"$nulls":11},{"$f":"N57*N58","v":{"$error":"#DIV/0!"}},{"$nulls":8},{"$f":"W57*W58","v":621250.56000000029},{"$nulls":8},"verkaufbare prod. AW gesamt WMO * Ø tatsächlich erzielbarer AW-Preis"]
[]
[null,"Berechnung Umsatz Lohn pro Jahr AZG"]
[null,"= verkaufbare AW gesamt alle AZG Jahreswert",{"$nulls":11},{"$f":"N51","v":{"$error":"#DIV/0!"}},{"$nulls":8},{"$f":"W51","v":12648.960000000003},{"$nulls":8},"Übertrag aus Zeile 49"]
[null,"* Ø tatsächlich erzielbarer AW-Preis",{"$nulls":11},{"$f":"N58","v":0},{"$nulls":8},{"$f":"W58","v":9},{"$nulls":8},"AW-Preis Mechanik extern netto - 1,90€ (entspricht Wert aus Zeile 56)"]
[null,"= Umsatz Lohn Jahreswert AZG",{"$nulls":11},{"$f":"N62*N63","v":{"$error":"#DIV/0!"}},{"$nulls":8},{"$f":"W62*W63","v":113840.64000000003},{"$nulls":8},"verkaufbare prod. AW gesamt AZG * Ø tatsächlich erzielbarer AW-Preis"]
[]
[null,"Berechnung Umsatz Lohn pro Jahr gesamt (WMO + AZG)"]
[null,"= verkaufbare AW gesamt WMO + AZG Jahreswert",{"$nulls":11},{"$f":"N62+N57","v":{"$error":"#DIV/0!"}},{"$nulls":8},{"$f":"W62+W57","v":81676.800000000032},{"$nulls":8},"Summe aus Zeile 57+62"]
[null,"* Ø tatsächlich erzielbarer AW-Preis",{"$nulls":11},{"$f":"N58","v":0},{"$nulls":8},{"$f":"W58","v":9},{"$nulls":8},"AW-Preis Mechanik extern netto - 1,90€ (entspricht Wert aus Zeile 56)"]
[null,"= Umsatz Lohn Jahreswert gesamt (WMO + AZG)",{"$nulls":11},{"$f":"N67*N68","v":{"$error":"#DIV/0!"}},{"$nulls":8},{"$f":"W67*W68","v":735091.2000000003},{"$nulls":8},"verkaufbare prod. AW gesamt WMO + AZG * Ø tatsächlich erzielbarer AW-Preis"]
[]
[null,"Umsatz Lohn auf Basis Monatswerte nach Saisonfaktor"]
[null,"Monat",{"$nulls":5},"Saisonfaktor",{"$nulls":5},"Umatz Lohn",{"$nulls":8},"Umatz Lohn",{"$nulls":8},"Rechenweg/Bemerkung"]
[null,"Jan - Dez.",{"$nulls":5},{"$f":"SUM(H74:L85)","v":0.99999999999999978},{"$nulls":5},{"$f":"N69","v":{"$error":"#DIV/0!"}},{"$nulls":8},{"$f":"W69","v":735091.2000000003},{"$nulls":8},"Übertrag aus Zeile 56. Saisonfaktor = Summe aller Einzelwerte zur Plausibbilität"]
[null,"Januar",{"$nulls":5},7.4999999999999997E-2,{"$nulls":5},{"$f":"$N$73*H74","v":{"$error":"#DIV/0!"}},{"$nulls":8},{"$f":"$W$73*H74","v":55131.840000000018},{"$nulls":8},"Umsatz Service Jahreswert * Saisonfaktor"]
[null,"Februar",{"$nulls":5},7.4999999999999997E-2,{"$nulls":5},{"$f":"$N$73*H75","v":{"$error":"#DIV/0!"}},{"$nulls":8},{"$f":"$W$73*H75","v":55131.840000000018},{"$nulls":8},"Umsatz Service Jahreswert * Saisonfaktor"]
[null,"März",{"$nulls":5},8.6999999999999994E-2,{"$nulls":5},{"$error":"#DIV/0!"},{"$nulls":8},63952.93440000002,{"$nulls":8},"Umsatz Service Jahreswert * Saisonfaktor"]
[null,"April",{"$nulls":5},8.8999999999999996E-2,{"$nulls":5},{"$error":"#DIV/0!"},{"$nulls":8},65423.116800000025,{"$nulls":8},"Umsatz Service Jahreswert * Saisonfaktor"]
[null,"Mai",{"$nulls":5},8.5999999999999993E-2,{"$nulls":5},{"$error":"#DIV/0!"},{"$nulls":8},63217.843200000018,{"$nulls":8},"Umsatz Service Jahreswert * Saisonfaktor"]
[null,"Juni",{"$nulls":5},8.4000000000000005E-2,{"$nulls":5},{"$error":"#DIV/0!"},{"$nulls":8},61747.660800000027,{"$nulls":8},"Umsatz Service Jahreswert * Saisonfaktor"]
[null,"Juli",{"$nulls":5},8.4000000000000005E-2,{"$nulls":5},{"$error":"#DIV/0!"},{"$nulls":8},61747.660800000027,{"$nulls":8},"Umsatz Service Jahreswert * Saisonfaktor"]
[null,"August",{"$nulls":5},8.1000000000000003E-2,{"$nulls":5},{"$error":"#DIV/0!"},{"$nulls":8},59542.387200000026,{"$nulls":8},"Umsatz Service Jahreswert * Saisonfaktor"]
[null,"September",{"$nulls":5},8.3000000000000004E-2,{"$nulls":5},{"$error":"#DIV/0!"},{"$nulls":8},61012.569600000032,{"$nulls":8},"Umsatz Service Jahreswert * Saisonfaktor"]
[null,"Oktober",{"$nulls":5},0.08,{"$nulls":5},{"$error":"#DIV/0!"},{"$nulls":8},58807.296000000024,{"$nulls":8},"Umsatz Service Jahreswert * Saisonfaktor"]
[null,"November",{"$nulls":5},8.7999999999999995E-2,{"$nulls":5},{"$error":"#DIV/0!"},{"$nulls":8},64688.025600000023,{"$nulls":8},"Umsatz Service Jahreswert * Saisonfaktor"]
[null,"Dezember",{"$nulls":5},8.7999999999999995E-2,{"$nulls":5},{"$error":"#DIV/0!"},{"$nulls":8},64688.025600000023,{"$nulls":8},"Umsatz Service Jahreswert * Saisonfaktor"]

{"sheet":"SCB_Planung_KRU","index":8,"n_rows":25,"n_cols":8,"rows_kept":25,"cut":false,"hidden":false,"merged":[[5,1,5,7],[6,6,6,7],[23,1,23,7]]}
[]
[null,{"$f":"WMO_Planung_KRU!B2","v":"Standort"},{"$f":"WMO_Planung_KRU!F2","v":"Krumbach"},null,"Legende:"]
[null,{"$f":"WMO_Planung_KRU!B3","v":"Planjahr"},{"$f":"WMO_Planung_KRU!F3","v":2022},null,null,"Simulationseingabe"]
[{"$nulls":5},"Supervariable (wird durch die Simulationseingabe verändert)"]
[]
[null,"Kennzahlenplanung auf Jahresbasis gesamt (WMO+AZG)"]
[null,"Bezeichnung","\nVorwärtkalkulation\nSimulation 1","\nVorwärtkalkulation\nSimulation 2","\nVorwärtkalkulation\nSimulation 3",null,"Rückwärtskalkulation\nbezogen auf Planung gesamt\n (WMO +AZG)"]
[null,"Anzahl Kalendertage",365,365,365,null,365]
[null,"./. Anzahl Wochenendtage",104,104,104,null,104]
[null,"./. Anzahl Feiertage ",11,11,11,null,11]
[null,"= Anzahl Arbeitstage brutto",{"$f":"C8-C9-C10","v":250},{"$f":"D8-D9-D10","v":250},{"$f":"E8-E9-E10","v":250},null,{"$f":"G8-G9-G10","v":250}]
[null,"./. Krankheitstage",7,7,7,null,7]
[null,"./. Schulungstage",4,4,4,null,4]
[null,"./. Urlaubstage",25,25,25,null,25]
[null,"= Anzahl Arbeitstage netto",{"$f":"C11-C12-C13-C14","v":214},{"$f":"D11-D12-D13-D14","v":214},{"$f":"E11-E12-E13-E14","v":214},null,{"$f":"G11-G12-G13-G14","v":214}]
[null,"* Durchgänge pro Tag",10,11,10,null,10,{"$f":"WMO_Planung_KRU!W54/(SCB_Planung_KRU!H17*SCB_Planung_KRU!G15*SCB_Planung_KRU!G21)","v":9.3545904343045674}]
[null,"* AW pro Durchgang",24,24,24,null,{"$f":"WMO_Planung_KRU!W54/(SCB_Planung_KRU!G16*SCB_Planung_KRU!G15*G21)","v":22.45101704233096},24]
[null,"* Ø tatsächlich erzielbarer AW-Preis",10.5,10.5,10.5,null,{"$f":"WMO_Planung_KRU!W58","v":9},{"$f":"G18","v":9}]
[null,"= Umsatz Lohn Jahreswert pro SCB",{"$f":"C15*C16*C17*C18","v":539280},{"$f":"D15*D16*D17*D18","v":593208},{"$f":"E15*E16*E17*E18","v":539280},null,{"$f":"G22/G21","v":432406.58823529433},{"$f":"H22/H21","v":432406.58823529433}]
[]
[null,"* Anzahl SCB",1.77,1.77,1.77,null,1.7,1.7]
[null,"= Umsatz Lohn gesamt",{"$f":"C19*C21","v":954525.6},{"$f":"D19*D21","v":1049978.1599999999},954525.6,null,{"$f":"WMO_Planung_KRU!W69","v":735091.2000000003},{"$f":"G22","v":735091.2000000003}]
[]
[null,"Plausibilitätsrechnung"]
[null,"Lohnumsatz pro Durchgang",{"$f":"C19/(C16*C15)","v":252},{"$f":"D19/(D16*D15)","v":252},252,null,202.05915338097867,{"$f":"H19/(H16*G15)","v":216}]

{"sheet":"WMO_Planung_GÖG","index":9,"n_rows":85,"n_cols":32,"rows_kept":85,"cut":false,"hidden":false,"merged":[[1,5,1,10],[2,5,2,10],[4,1,4,50],[5,13,5,20],[5,22,5,29],[5,31,5,50],[6,1,6,50],[7,1,7,11],[7,13,7,20],[7,22,7,29],[7,31,7,50],[8,1,8,11],[8,13,8,20],[8,22,8,29],[8,31,8,50],[11,1,11,11],[11,13,11,20],[11,22,11,29],[11,31,11,50],[12,1,12,11],[12,13,12,20],[12,22,12,29],[12,31,12,50],[9,1,9,11],[9,13,9,20],[9,22,9,29],[9,31,9,50],[10,1,10,11],[10,13,10,20],[10,22,10,29],[10,31,10,50],[15,1,15,11],[15,13,15,20],[15,22,15,29],[15,31,15,50],[16,1,16,11],[16,13,16,20],[16,22,16,29],[16,31,16,50],[13,1,13,11],[13,13,13,20],[13,22,13,29],[13,31,13,50],[14,1,14,11],[14,13,14,20],[14,22,14,29],[14,31,14,50],[17,1,17,50],[18,1,18,50],[19,1,19,12],[19,13,19,14],[19,15,19,16],[19,17,19,18],[19,19,19,20],[19,22,19,23],[19,24,19,25],[19,26,19,27],[19,28,19,29],[19,30,19,50],[20,31,20,50],[21,1,21,11],[21,13,21,14],[21,15,21,16],[21,17,21,18],[21,19,21,20],[21,22,21,23],[21,24,21,25],[21,26,21,27],[21,28,21,29],[21,31,21,50],[20,1,20,11],[20,13,20,14],[20,15,20,16],[20,17,20,18],[20,19,20,20],[20,22,20,23],[20,24,20,25],[20,26,20,27],[20,28,20,29],[22,31,22,50],[23,1,23,11],[23,13,23,14],[23,15,23,16],[23,17,23,18],[23,19,23,20],[23,22,23,23],[23,24,23,25],[23,26,23,27],[23,28,23,29],[23,31,23,50],[22,1,22,11],[22,13,22,14],[22,15,22,16],[22,17,22,18],[22,19,22,20],[22,22,22,23],[22,24,22,25],[22,26,22,27],[22,28,22,29],[24,31,24,50],[25,1,25,11],[25,13,25,14],[25,15,25,16],[25,17,25,18],[25,19,25,20],[25,22,25,23],[25,24,25,25],[25,26,25,27],[24,1,24,11],[24,13,24,14],[24,15,24,16],[24,17,24,18],[24,19,24,20],[24,22,24,23],[24,24,24,25],[24,26,24,27],[24,28,24,29],[26,28,26,29],[26,31,26,50],[28,1,28,50],[29,1,29,11],[29,13,29,20],[29,22,29,29],[29,31,29,50],[25,28,25,29],[25,31,25,50],[26,1,26,11],[26,13,26,14],[26,15,26,16],[26,17,26,18],[26,19,26,20],[26,22,26,23],[26,24,26,25],[26,26,26,27],[32,1,32,11],[32,13,32,20],[32,22,32,29],[32,31,32,50],[33,1,33,11],[33,13,33,20],[33,22,33,29],[33,31,33,50],[30,1,30,11],[30,13,30,20],[30,22,30,29],[30,31,30,50],[31,1,31,11],[31,13,31,20],[31,22,31,29],[31,31,31,50],[36,1,36,11],[36,13,36,20],[36,22,36,29],[36,31,36,50],[37,1,37,11],[37,13,37,20],[37,22,37,29],[37,31,37,50],[34,1,34,11],[34,13,34,20],[34,22,34,29],[34,31,34,50],[35,1,35,11],[35,13,35,20],[35,22,35,29],[35,31,35,50],[39,1,39,50],[40,1,40,11],[40,13,40,20],[40,22,40,29],[40,31,40,50],[41,1,41,11],[41,13,41,20],[41,22,41,29],[41,31,41,50],[44,1,44,11],[44,13,44,20],[44,22,44,29],[44,31,44,50],[45,1,45,11],[45,13,45,20],[45,22,45,29],[45,31,45,50],[42,1,42,11],[42,13,42,20],[42,22,42,29],[42,31,42,50],[43,1,43,11],[43,13,43,20],[43,22,43,29],[43,31,43,50],[48,1,48,11],[48,13,48,20],[48,22,48,29],[48,31,48,50],[49,1,49,11],[49,13,49,20],[49,22,49,29],[49,31,49,50],[46,1,46,11],[46,13,46,20],[46,22,46,29],[46,31,46,50],[47,1,47,11],[47,13,47,20],[47,22,47,29],[47,31,47,50],[50,1,50,11],[50,13,50,20],[50,22,50,29],[50,31,50,50],[52,1,52,50],[53,1,53,11],[53,13,53,20],[53,22,53,29],[53,31,53,50],[55,1,55,50],[56,1,56,11],[56,13,56,20],[56,22,56,29],[56,31,56,50],[57,1,57,11],[57,13,57,20],[57,22,57,29],[57,31,57,50],[62,1,62,11],[62,13,62,20],[62,22,62,29],[62,31,62,50],[63,1,63,11],[63,13,63,20],[63,22,63,29],[63,31,63,50],[58,1,58,11],[58,13,58,20],[58,22,58,29],[58,31,58,50],[60,1,60,50],[61,1,61,11],[61,13,61,20],[61,22,61,29],[61,31,61,50],[65,1,65,50],[66,1,66,11],[66,13,66,20],[66,22,66,29],[66,31,66,50],[67,1,67,11],[67,13,67,20],[67,22,67,29],[67,31,67,50],[68,1,68,11],[68,13,68,20],[68,22,68,29],[68,31,68,50],[70,1,70,50],[71,1,71,5],[71,7,71,11],[71,13,71,20],[71,22,71,29],[71,31,71,50],[72,1,72,5],[72,7,72,11],[72,13,72,20],[72,22,72,29],[72,31,72,50],[73,1,73,5],[73,7,73,11],[73,13,73,20],[73,22,73,29],[73,31,73,50],[74,1,74,5],[74,7,74,11],[74,13,74,20],[74,22,74,29],[74,31,74,50],[75,1,75,5],[75,7,75,11],[75,13,75,20],[75,22,75,29],[75,31,75,50],[76,1,76,5],[76,7,76,11],[76,13,76,20],[76,22,76,29],[76,31,76,50],[77,1,77,5],[77,7,77,11],[77,13,77,20],[77,22,77,29],[77,31,77,50],[78,1,78,5],[78,7,78,11],[78,13,78,20],[78,22,78,29],[78,31,78,50],[79,1,79,5],[79,7,79,11],[79,13,79,20],[79,22,79,29],[79,31,79,50],[80,1,80,5],[80,7,80,11],[80,13,80,20],[80,22,80,29],[80,31,80,50],[81,1,81,5],[81,7,81,11],[81,13,81,20],[81,22,81,29],[81,31,81,50],[84,1,84,5],[84,7,84,11],[84,13,84,20],[84,22,84,29],[84,31,84,50],[82,1,82,5],[82,7,82,11],[82,13,82,20],[82,22,82,29],[82,31,82,50],[83,1,83,5],[83,7,83,11],[83,13,83,20],[83,22,83,29],[83,31,83,50]]}
[]
[null,"Standort",null,null,null,"Göggingen",{"$nulls":7},"Legende:"]
[null,"Planjahr",null,null,null,2022,{"$nulls":8},"Simulationseingabe"]
[]
[null,"Kennzahlenplanung auf Jahresbasis (pro WMO)"]
[null,"Bezeichnung Parameter",{"$nulls":11},"IST-Wert Vorjahr gesamt",{"$nulls":8},"Plan-Werte aktuelles Jahr",{"$nulls":8},"Rechenweg/Bemerkung"]
[null,"Berechnung  anwesende Std. pro Jahr (betriebsübergriefend)"]
[null,"Anzahl Kalendertage",{"$nulls":11},365,{"$nulls":8},365]
[null,"./. Anzahl Wochenendtage",{"$nulls":11},104,{"$nulls":8},104]
[null,"./. Anzahl Feiertage ",{"$nulls":11},11,{"$nulls":8},11,{"$nulls":8},"Die auf einen Wochentag (außer Samstag) fallen"]
[null,"= Anzahl Arbeitstage brutto",{"$nulls":11},{"$f":"N8-N9-N10","v":250},{"$nulls":8},{"$f":"W8-W9-W10","v":250},{"$nulls":8},"Anzahl Kalendertage - Wochenendtage - Feiertage"]
[null,"./. Krankheitstage",{"$nulls":11},7,{"$nulls":8},7]
[null,"./. Schulungstage",{"$nulls":11},4,{"$nulls":8},4]
[null,"./. Urlaubstage",{"$nulls":11},25,{"$nulls":8},25]
[null,"= Anzahl Arbeitstage netto",{"$nulls":11},{"$f":"N11-N12-N13-N14","v":214},{"$nulls":8},{"$f":"W11-W12-W13-W14","v":214},{"$nulls":8},"Arbeitstage brutto - Krankheitstage - Schulungstage - Urlaubstage (Berufsschultage werden später berücksichtigt)"]
[null,"* Arbeitszeit pro Tag in h",{"$nulls":11},8.4,{"$nulls":8},8.4]
[null,"= Anwesende Stunden pro Jahr pro WMO /AZG",{"$nulls":11},{"$f":"N15*N16","v":1797.6000000000001},{"$nulls":8},{"$f":"W15*W16","v":1797.6000000000001},{"$nulls":8},"Arbeitstage netto * Arbeitszeit pro Tag in h (Berufsschulstunden werden später berücksichtigt)"]
[]
[null,"Berechnung Leistungskennzahlen pro Jahr (betriebsindividuell)"]
[{"$nulls":13},"Anzahl",null,"LG",null,"AUSL",null,"PR",null,null,"Anzahl",null,"LG",null,"AUSL",null,"PR"]
[null,"WMOM gewichtet mit Prod.fakt.NAV",{"$nulls":13},{"$f":"T21/R21","v":1.1282051282051284},null,0.97499999999999998,null,1.1000000000000001,null,null,8,null,{"$f":"AC21/AA21","v":1.1282051282051284},null,0.97499999999999998,null,1.1000000000000001,null,null,"LG = Leistungsgrad / AUSL = Auslastung / PR = Produktivität"]
[null,"WMOE gewichtet mit Prod.fakt.NAV",{"$nulls":13},{"$f":"T22/R22","v":1.0256410256410258},null,0.97499999999999998,null,1,null,null,3,null,{"$f":"AC22/AA22","v":1.0256410256410258},null,0.97499999999999998,null,1,null,null,"LG = Leistungsgrad / AUSL = Auslastung / PR = Produktivität"]
[null,"WMOK gewichtet mit Prod.fakt.NAV",{"$nulls":13},1.2307692307692308,null,0.97499999999999998,null,1.2,null,null,3,null,1.2307692307692308,null,0.97499999999999998,null,1.2,null,null,"LG = Leistungsgrad / AUSL = Auslastung / PR = Produktivität"]
[null,"AZG1 gewichtet mit Prod.fakt.NAV",{"$nulls":13},0,null,0.97499999999999998,null,0,null,null,5,null,0,null,0.97499999999999998,null,0,null,null,"LG = Leistungsgrad / AUSL = Auslastung / PR = Produktivität"]
[null,"AZG2 gewichtet mit Prod.fakt.NAV",{"$nulls":13},0.20512820512820515,null,0.97499999999999998,null,0.2,null,null,3,null,0.20512820512820515,null,0.97499999999999998,null,0.2,null,null,"LG = Leistungsgrad / AUSL = Auslastung / PR = Produktivität"]
[null,"AZG3 gewichtet mit Prod.fakt.NAV",{"$nulls":13},0.4102564102564103,null,0.97499999999999998,null,0.4,null,null,2,null,0.4102564102564103,null,0.97499999999999998,null,0.4,null,null,"LG = Leistungsgrad / AUSL = Auslastung / PR = Produktivität"]
[null,"AZG4 gewichtet mit Prod.fakt.NAV",{"$nulls":13},0.4102564102564103,null,0.97499999999999998,null,0.4,null,null,2,null,0.4102564102564103,null,0.97499999999999998,null,0.4,null,null,"LG = Leistungsgrad / AUSL = Auslastung / PR = Produktivität"]
[]
[null,"Berechnung verkaufbare AW pro Jahr WMO"]
[null,"= Anwesende Stunden pro Jahr pro WMO",{"$nulls":11},{"$f":"N17","v":1797.6000000000001},{"$nulls":8},{"$f":"W17","v":1797.6000000000001},{"$nulls":8},"Übertrag aus Zeile 14"]
[null,"* Leistungsgrad gewichtetes Mittel alle WMO",{"$nulls":11},{"$f":"(N21*P21+N22*P22+N23*P23)/N37","v":{"$error":"#DIV/0!"}},{"$nulls":8},{"$f":"(W21*Y21+W22*Y22+W23*Y23)/W37","v":1.1282051282051284},{"$nulls":8},"Gewichtetetes Mittel aus Zeile 19-21 [(Anzahl * LG + Anzahl * LG…)/Anzhal WMO]"]
[null,"* Auslastung (100% anw. Stunden - 2,5 % Wvariabel)",{"$nulls":11},{"$f":"(N21*R21+N22*R22+N23*R23)/N37","v":{"$error":"#DIV/0!"}},{"$nulls":8},{"$f":"(W21*AA21+W22*AA22+W23*AA23)/W37","v":0.97499999999999987},{"$nulls":8},"Gewichtetetes Mittel aus Zeile 19-21 [(Anzahl * AUSL + Anzahl * AUSL…)/Anzhal WMO]"]
[null,"Produktivität (LG * AUSL) gew. Mittel alle WMO",{"$nulls":11},{"$f":"N31*N32","v":{"$error":"#DIV/0!"}},{"$nulls":8},{"$f":"W31*W32","v":1.1000000000000001},{"$nulls":8},"Die PR wird hier nur aus Plausibilitätsgründen ausgewiesen und nicht als Rechenfaktor angewendet"]
[null,"= verkaufbare Std. gewicht. Mittel ein WMO Jahresw.",{"$nulls":11},{"$f":"N30*N31*N32","v":{"$error":"#DIV/0!"}},{"$nulls":8},{"$f":"W30*W31*W32","v":1977.3600000000001},{"$nulls":8},"Anw. Stunden * Leistungsgrad * Auslastung"]
[null,"* Umrechnungsfaktor AW",{"$nulls":11},12,{"$nulls":8},12]
[null,"= verkaufbare AW gewicht. Mittel ein WMO Jahresw.",{"$nulls":11},{"$f":"N34*N35","v":{"$error":"#DIV/0!"}},{"$nulls":8},{"$f":"W34*W35","v":23728.32},{"$nulls":8},"verkaufbare prod. Std. * Umrechnungsfaktor AW"]
[null,"* Anzahl WMO gesamt gewichtet mit Prod.fakt.NAV",{"$nulls":11},{"$f":"SUM(N21:O23)","v":0},{"$nulls":8},{"$f":"SUM(W21:X23)","v":14},{"$nulls":8},"Summe aller WMO (Zeile 19-21)"]
[null,"= verkaufbare AW gesamt alle WMO Jahreswert",{"$nulls":11},{"$f":"N36*N37","v":{"$error":"#DIV/0!"}},{"$nulls":8},{"$f":"W36*W37","v":332196.47999999998},{"$nulls":8},"verkaufbare prod. AW * Anzahl WMO"]
[]
[null,"Berechnung verkaufbare AW pro Jahr AZG"]
[null,"= Anwesende Std. pro Jahr pro AZG (mit Berufsschulzeit)",{"$nulls":11},{"$f":"N17","v":1797.6000000000001},{"$nulls":8},{"$f":"W17","v":1797.6000000000001},{"$nulls":8},"Übertrag aus Zeile 14"]
[null,"./. Std. Berufsschulzeit und Lehrgänge pro Jahr",{"$nulls":20},480,{"$nulls":8},"Mittelwert über alle Lehrjahre [(52 Wochen - 12 Wochen Ferien) *1,5 Tage * 8 Std.) = 480 Std."]
[null,"= Anwesende Stunden pro Jahr (ohne Berufsschulzeit)",{"$nulls":11},{"$f":"N41-N42","v":1797.6000000000001},{"$nulls":8},{"$f":"W41-W42","v":1317.6000000000001},{"$nulls":8},"Anwesende Std. - Std. Berufsschulzeit"]
[null,"* Leistungsgrad gewichtetes Mittel alle AZG",{"$nulls":11},{"$f":"(N24*P24+N25*P25+N26*P26+N27*P27)/N50","v":{"$error":"#DIV/0!"}},{"$nulls":8},{"$f":"(W24*Y24+W25*Y25+W26*Y26+W27*Y27)/W50","v":0.18803418803418806},{"$nulls":8},"Gewichtetetes Mittel aus Zeile 22-25 [(Anzahl * LG + Anzahl * LG…)/Anzhal AZG]"]
[null,"* Auslastung (100% anw. Stunden - 2,5 % Wvariabel)",{"$nulls":11},{"$f":"(N24*R24+N25*R25+N26*R26+N27*R27)/N50","v":{"$error":"#DIV/0!"}},{"$nulls":8},{"$f":"(W24*AA24+W25*AA25+W26*AA26+W27*AA27)/W50","v":0.97499999999999998},{"$nulls":8},"Gewichtetetes Mittel aus Zeile 22-25 [(Anzahl * AUSL + Anzahl * AUSL…)/Anzhal AZG]"]
[null,"Produktivität (Leistungsgrad * Auslastung)",{"$nulls":11},{"$f":"N44*N45","v":{"$error":"#DIV/0!"}},{"$nulls":8},{"$f":"W44*W45","v":0.18333333333333335},{"$nulls":8},"Die PR wird hier nur aus Plausibilitätsgründen ausgewiesen und nicht als Rechenfaktor angewendet."]
[null,"= verkaufbare Std. ein AZG Jahreswert",{"$nulls":11},{"$f":"N43*N44*N45","v":{"$error":"#DIV/0!"}},{"$nulls":8},{"$f":"W43*W44*W45","v":241.56000000000006},{"$nulls":8},"Anw. Stunden * Leistungsgrad * Auslastung"]
[null,"* Umrechnungsfaktor AW",{"$nulls":11},12,{"$nulls":8},12]
[null,"= verkaufbare AW ein AZG Jahreswert",{"$nulls":11},{"$f":"N47*N48","v":{"$error":"#DIV/0!"}},{"$nulls":8},{"$f":"W47*W48","v":2898.7200000000007},{"$nulls":8},"verkaufbare prod. Std. * Umrechnungsfaktor AW"]
[null,"* Anzahl AZG gesamt gewichtet mit Prod.fakt.NAV",{"$nulls":11},{"$f":"SUM(N24:O27)","v":0},{"$nulls":8},{"$f":"SUM(W24:X27)","v":12},{"$nulls":8},"Summe aller AZG (Zeile 22-25)"]
[null,"= verkaufbare AW gesamt alle AZG Jahreswert",{"$nulls":11},{"$f":"N49*N50","v":{"$error":"#DIV/0!"}},{"$nulls":8},{"$f":"W49*W50","v":34784.640000000007},{"$nulls":8},"verkaufbare prod. AW * Anzahl AZG"]
[]
[null,"Berechnung verkaufbare AW pro Jahr gesamt (WMO und AZG)"]
[null,"= verkaufbare prod. AW WMO und AZG Jahreswert",{"$nulls":11},{"$f":"N51+N38","v":{"$error":"#DIV/0!"}},{"$nulls":8},{"$f":"W51+W38","v":366981.12},{"$nulls":8},"Summe aller WMO und AZG (Zeile 19-25)"]
[]
[null,"Berechnung Umsatz Lohn pro Jahr WMO"]
[null,"= verkaufbare AW gesamt alle WMO Jahreswert",{"$nulls":11},{"$f":"N38","v":{"$error":"#DIV/0!"}},{"$nulls":8},{"$f":"W38","v":332196.47999999998},{"$nulls":8},"Übertrag aus Zeile 36"]
[null,"* Ø tatsächlich erzielbarer AW-Preis",{"$nulls":11},0,{"$nulls":8},9,{"$nulls":8},"AW-Preis Mechanik extern netto - 1,90€"]
[null,"= Umsatz Lohn Jahreswert WMO",{"$nulls":11},{"$f":"N57*N58","v":{"$error":"#DIV/0!"}},{"$nulls":8},{"$f":"W57*W58","v":2989768.32},{"$nulls":8},"verkaufbare prod. AW gesamt WMO * Ø tatsächlich erzielbarer AW-Preis"]
[]
[null,"Berechnung Umsatz Lohn pro Jahr AZG"]
[null,"= verkaufbare AW gesamt alle AZG Jahreswert",{"$nulls":11},{"$f":"N51","v":{"$error":"#DIV/0!"}},{"$nulls":8},{"$f":"W51","v":34784.640000000007},{"$nulls":8},"Übertrag aus Zeile 49"]
[null,"* Ø tatsächlich erzielbarer AW-Preis",{"$nulls":11},{"$f":"N58","v":0},{"$nulls":8},{"$f":"W58","v":9},{"$nulls":8},"AW-Preis Mechanik extern netto - 1,90€ (entspricht Wert aus Zeile 56)"]
[null,"= Umsatz Lohn Jahreswert AZG",{"$nulls":11},{"$f":"N62*N63","v":{"$error":"#DIV/0!"}},{"$nulls":8},{"$f":"W62*W63","v":313061.76000000007},{"$nulls":8},"verkaufbare prod. AW gesamt AZG * Ø tatsächlich erzielbarer AW-Preis"]
[]
[null,"Berechnung Umsatz Lohn pro Jahr gesamt (WMO + AZG)"]
[null,"= verkaufbare AW gesamt WMO + AZG Jahreswert",{"$nulls":11},{"$f":"N62+N57","v":{"$error":"#DIV/0!"}},{"$nulls":8},{"$f":"W62+W57","v":366981.12},{"$nulls":8},"Summe aus Zeile 57+62"]
[null,"* Ø tatsächlich erzielbarer AW-Preis",{"$nulls":11},{"$f":"N58","v":0},{"$nulls":8},{"$f":"W58","v":9},{"$nulls":8},"AW-Preis Mechanik extern netto - 1,90€ (entspricht Wert aus Zeile 56)"]
[null,"= Umsatz Lohn Jahreswert gesamt (WMO + AZG)",{"$nulls":11},{"$f":"N67*N68","v":{"$error":"#DIV/0!"}},{"$nulls":8},{"$f":"W67*W68","v":3302830.0800000001},{"$nulls":8},"verkaufbare prod. AW gesamt WMO + AZG * Ø tatsächlich erzielbarer AW-Preis"]
[]
[null,"Umsatz Lohn auf Basis Monatswerte nach Saisonfaktor"]
[null,"Monat",{"$nulls":5},"Saisonfaktor",{"$nulls":5},"Umatz Lohn",{"$nulls":8},"Umatz Lohn",{"$nulls":8},"Rechenweg/Bemerkung"]
[null,"Jan - Dez.",{"$nulls":5},{"$f":"SUM(H74:L85)","v":0.99999999999999978},{"$nulls":5},{"$f":"N69","v":{"$error":"#DIV/0!"}},{"$nulls":8},{"$f":"W69","v":3302830.0800000001},{"$nulls":8},"Übertrag aus Zeile 56. Saisonfaktor = Summe aller Einzelwerte zur Plausibbilität"]
[null,"Januar",{"$nulls":5},7.4999999999999997E-2,{"$nulls":5},{"$f":"$N$73*H74","v":{"$error":"#DIV/0!"}},{"$nulls":8},{"$f":"$W$73*H74","v":247712.25599999999},{"$nulls":8},"Umsatz Service Jahreswert * Saisonfaktor"]
[null,"Februar",{"$nulls":5},7.4999999999999997E-2,{"$nulls":5},{"$f":"$N$73*H75","v":{"$error":"#DIV/0!"}},{"$nulls":8},{"$f":"$W$73*H75","v":247712.25599999999},{"$nulls":8},"Umsatz Service Jahreswert * Saisonfaktor"]
[null,"März",{"$nulls":5},8.6999999999999994E-2,{"$nulls":5},{"$error":"#DIV/0!"},{"$nulls":8},287346.21695999999,{"$nulls":8},"Umsatz Service Jahreswert * Saisonfaktor"]
[null,"April",{"$nulls":5},8.8999999999999996E-2,{"$nulls":5},{"$error":"#DIV/0!"},{"$nulls":8},293951.87712000002,{"$nulls":8},"Umsatz Service Jahreswert * Saisonfaktor"]
[null,"Mai",{"$nulls":5},8.5999999999999993E-2,{"$nulls":5},{"$error":"#DIV/0!"},{"$nulls":8},284043.38688000001,{"$nulls":8},"Umsatz Service Jahreswert * Saisonfaktor"]
[null,"Juni",{"$nulls":5},8.4000000000000005E-2,{"$nulls":5},{"$error":"#DIV/0!"},{"$nulls":8},277437.72672000004,{"$nulls":8},"Umsatz Service Jahreswert * Saisonfaktor"]
[null,"Juli",{"$nulls":5},8.4000000000000005E-2,{"$nulls":5},{"$error":"#DIV/0!"},{"$nulls":8},277437.72672000004,{"$nulls":8},"Umsatz Service Jahreswert * Saisonfaktor"]
[null,"August",{"$nulls":5},8.1000000000000003E-2,{"$nulls":5},{"$error":"#DIV/0!"},{"$nulls":8},267529.23648000002,{"$nulls":8},"Umsatz Service Jahreswert * Saisonfaktor"]
[null,"September",{"$nulls":5},8.3000000000000004E-2,{"$nulls":5},{"$error":"#DIV/0!"},{"$nulls":8},274134.89663999999,{"$nulls":8},"Umsatz Service Jahreswert * Saisonfaktor"]
[null,"Oktober",{"$nulls":5},0.08,{"$nulls":5},{"$error":"#DIV/0!"},{"$nulls":8},264226.40640000004,{"$nulls":8},"Umsatz Service Jahreswert * Saisonfaktor"]
[null,"November",{"$nulls":5},8.7999999999999995E-2,{"$nulls":5},{"$error":"#DIV/0!"},{"$nulls":8},290649.04703999998,{"$nulls":8},"Umsatz Service Jahreswert * Saisonfaktor"]
[null,"Dezember",{"$nulls":5},8.7999999999999995E-2,{"$nulls":5},{"$error":"#DIV/0!"},{"$nulls":8},290649.04703999998,{"$nulls":8},"Umsatz Service Jahreswert * Saisonfaktor"]

{"sheet":"SCB_Planung_GÖG","index":10,"n_rows":25,"n_cols":8,"rows_kept":25,"cut":false,"hidden":false,"merged":[[5,1,5,7],[6,6,6,7],[23,1,23,7]]}
[]
[null,{"$f":"WMO_Planung_GÖG!B2","v":"Standort"},{"$f":"WMO_Planung_GÖG!F2","v":"Göggingen"},null,"Legende:"]
[null,{"$f":"WMO_Planung_GÖG!B3","v":"Planjahr"},{"$f":"WMO_Planung_GÖG!F3","v":2022},null,null,"Simulationseingabe"]
[{"$nulls":5},"Supervariable (wird durch die Simulationseingabe verändert)"]
[]
[null,"Kennzahlenplanung auf Jahresbasis gesamt (WMO+AZG)"]
[null,"Bezeichnung","\nVorwärtkalkulation\nSimulation 1","\nVorwärtkalkulation\nSimulation 2","\nVorwärtkalkulation\nSimulation 3",null,"Rückwärtskalkulation\nbezogen auf Planung gesamt\n (WMO +AZG)"]
[null,"Anzahl Kalendertage",365,365,365,null,365]
[null,"./. Anzahl Wochenendtage",104,104,104,null,104]
[null,"./. Anzahl Feiertage ",11,11,11,null,11]
[null,"= Anzahl Arbeitstage brutto",{"$f":"C8-C9-C10","v":250},{"$f":"D8-D9-D10","v":250},{"$f":"E8-E9-E10","v":250},null,{"$f":"G8-G9-G10","v":250}]
[null,"./. Krankheitstage",7,7,7,null,7]
[null,"./. Schulungstage",4,4,4,null,4]
[null,"./. Urlaubstage",25,25,25,null,25]
[null,"= Anzahl Arbeitstage netto",{"$f":"C11-C12-C13-C14","v":214},{"$f":"D11-D12-D13-D14","v":214},{"$f":"E11-E12-E13-E14","v":214},null,{"$f":"G11-G12-G13-G14","v":214}]
[null,"* Durchgänge pro Tag",10,11,10,null,10,{"$f":"WMO_Planung_GÖG!W54/(SCB_Planung_GÖG!H17*SCB_Planung_GÖG!G15*SCB_Planung_GÖG!G21)","v":8.9315887850467295}]
[null,"* AW pro Durchgang",24,24,24,null,{"$f":"WMO_Planung_GÖG!W54/(SCB_Planung_GÖG!G16*SCB_Planung_GÖG!G15*G21)","v":21.435813084112148},24]
[null,"* Ø tatsächlich erzielbarer AW-Preis",10.5,10.5,10.5,null,{"$f":"WMO_Planung_GÖG!W58","v":9},{"$f":"G18","v":9}]
[null,"= Umsatz Lohn Jahreswert pro SCB",{"$f":"C15*C16*C17*C18","v":539280},{"$f":"D15*D16*D17*D18","v":593208},{"$f":"E15*E16*E17*E18","v":539280},null,{"$f":"G22/G21","v":412853.76000000001},{"$f":"H22/H21","v":412853.76000000001}]
[]
[null,"* Anzahl SCB",12,12,12,null,8,8]
[null,"= Umsatz Lohn gesamt",{"$f":"C19*C21","v":6471360},{"$f":"D19*D21","v":7118496},6471360,null,{"$f":"WMO_Planung_GÖG!W69","v":3302830.0800000001},{"$f":"G22","v":3302830.0800000001}]
[]
[null,"Plausibilitätsrechnung"]
[null,"Lohnumsatz pro Durchgang",{"$f":"C19/(C16*C15)","v":252},{"$f":"D19/(D16*D15)","v":252},252,null,192.92231775700935,{"$f":"H19/(H16*G15)","v":216}]

{"sheet":"WMO_Planung_LEH","index":11,"n_rows":85,"n_cols":32,"rows_kept":85,"cut":false,"hidden":false,"merged":[[1,5,1,10],[2,5,2,10],[4,1,4,50],[5,13,5,20],[5,22,5,29],[5,31,5,50],[6,1,6,50],[7,1,7,11],[7,13,7,20],[7,22,7,29],[7,31,7,50],[8,1,8,11],[8,13,8,20],[8,22,8,29],[8,31,8,50],[11,1,11,11],[11,13,11,20],[11,22,11,29],[11,31,11,50],[12,1,12,11],[12,13,12,20],[12,22,12,29],[12,31,12,50],[9,1,9,11],[9,13,9,20],[9,22,9,29],[9,31,9,50],[10,1,10,11],[10,13,10,20],[10,22,10,29],[10,31,10,50],[15,1,15,11],[15,13,15,20],[15,22,15,29],[15,31,15,50],[16,1,16,11],[16,13,16,20],[16,22,16,29],[16,31,16,50],[13,1,13,11],[13,13,13,20],[13,22,13,29],[13,31,13,50],[14,1,14,11],[14,13,14,20],[14,22,14,29],[14,31,14,50],[17,1,17,50],[18,1,18,50],[19,1,19,12],[19,13,19,14],[19,15,19,16],[19,17,19,18],[19,19,19,20],[19,22,19,23],[19,24,19,25],[19,26,19,27],[19,28,19,29],[19,30,19,50],[20,31,20,50],[21,1,21,11],[21,13,21,14],[21,15,21,16],[21,17,21,18],[21,19,21,20],[21,22,21,23],[21,24,21,25],[21,26,21,27],[21,28,21,29],[21,31,21,50],[20,1,20,11],[20,13,20,14],[20,15,20,16],[20,17,20,18],[20,19,20,20],[20,22,20,23],[20,24,20,25],[20,26,20,27],[20,28,20,29],[22,31,22,50],[23,1,23,11],[23,13,23,14],[23,15,23,16],[23,17,23,18],[23,19,23,20],[23,22,23,23],[23,24,23,25],[23,26,23,27],[23,28,23,29],[23,31,23,50],[22,1,22,11],[22,13,22,14],[22,15,22,16],[22,17,22,18],[22,19,22,20],[22,22,22,23],[22,24,22,25],[22,26,22,27],[22,28,22,29],[24,31,24,50],[25,1,25,11],[25,13,25,14],[25,15,25,16],[25,17,25,18],[25,19,25,20],[25,22,25,23],[25,24,25,25],[25,26,25,27],[24,1,24,11],[24,13,24,14],[24,15,24,16],[24,17,24,18],[24,19,24,20],[24,22,24,23],[24,24,24,25],[24,26,24,27],[24,28,24,29],[26,28,26,29],[26,31,26,50],[28,1,28,50],[29,1,29,11],[29,13,29,20],[29,22,29,29],[29,31,29,50],[25,28,25,29],[25,31,25,50],[26,1,26,11],[26,13,26,14],[26,15,26,16],[26,17,26,18],[26,19,26,20],[26,22,26,23],[26,24,26,25],[26,26,26,27],[32,1,32,11],[32,13,32,20],[32,22,32,29],[32,31,32,50],[33,1,33,11],[33,13,33,20],[33,22,33,29],[33,31,33,50],[30,1,30,11],[30,13,30,20],[30,22,30,29],[30,31,30,50],[31,1,31,11],[31,13,31,20],[31,22,31,29],[31,31,31,50],[36,1,36,11],[36,13,36,20],[36,22,36,29],[36,31,36,50],[37,1,37,11],[37,13,37,20],[37,22,37,29],[37,31,37,50],[34,1,34,11],[34,13,34,20],[34,22,34,29],[34,31,34,50],[35,1,35,11],[35,13,35,20],[35,22,35,29],[35,31,35,50],[39,1,39,50],[40,1,40,11],[40,13,40,20],[40,22,40,29],[40,31,40,50],[41,1,41,11],[41,13,41,20],[41,22,41,29],[41,31,41,50],[44,1,44,11],[44,13,44,20],[44,22,44,29],[44,31,44,50],[45,1,45,11],[45,13,45,20],[45,22,45,29],[45,31,45,50],[42,1,42,11],[42,13,42,20],[42,22,42,29],[42,31,42,50],[43,1,43,11],[43,13,43,20],[43,22,43,29],[43,31,43,50],[48,1,48,11],[48,13,48,20],[48,22,48,29],[48,31,48,50],[49,1,49,11],[49,13,49,20],[49,22,49,29],[49,31,49,50],[46,1,46,11],[46,13,46,20],[46,22,46,29],[46,31,46,50],[47,1,47,11],[47,13,47,20],[47,22,47,29],[47,31,47,50],[50,1,50,11],[50,13,50,20],[50,22,50,29],[50,31,50,50],[52,1,52,50],[53,1,53,11],[53,13,53,20],[53,22,53,29],[53,31,53,50],[55,1,55,50],[56,1,56,11],[56,13,56,20],[56,22,56,29],[56,31,56,50],[57,1,57,11],[57,13,57,20],[57,22,57,29],[57,31,57,50],[62,1,62,11],[62,13,62,20],[62,22,62,29],[62,31,62,50],[63,1,63,11],[63,13,63,20],[63,22,63,29],[63,31,63,50],[58,1,58,11],[58,13,58,20],[58,22,58,29],[58,31,58,50],[60,1,60,50],[61,1,61,11],[61,13,61,20],[61,22,61,29],[61,31,61,50],[65,1,65,50],[66,1,66,11],[66,13,66,20],[66,22,66,29],[66,31,66,50],[67,1,67,11],[67,13,67,20],[67,22,67,29],[67,31,67,50],[68,1,68,11],[68,13,68,20],[68,22,68,29],[68,31,68,50],[70,1,70,50],[71,1,71,5],[71,7,71,11],[71,13,71,20],[71,22,71,29],[71,31,71,50],[72,1,72,5],[72,7,72,11],[72,13,72,20],[72,22,72,29],[72,31,72,50],[73,1,73,5],[73,7,73,11],[73,13,73,20],[73,22,73,29],[73,31,73,50],[74,1,74,5],[74,7,74,11],[74,13,74,20],[74,22,74,29],[74,31,74,50],[75,1,75,5],[75,7,75,11],[75,13,75,20],[75,22,75,29],[75,31,75,50],[76,1,76,5],[76,7,76,11],[76,13,76,20],[76,22,76,29],[76,31,76,50],[77,1,77,5],[77,7,77,11],[77,13,77,20],[77,22,77,29],[77,31,77,50],[78,1,78,5],[78,7,78,11],[78,13,78,20],[78,22,78,29],[78,31,78,50],[79,1,79,5],[79,7,79,11],[79,13,79,20],[79,22,79,29],[79,31,79,50],[80,1,80,5],[80,7,80,11],[80,13,80,20],[80,22,80,29],[80,31,80,50],[81,1,81,5],[81,7,81,11],[81,13,81,20],[81,22,81,29],[81,31,81,50],[84,1,84,5],[84,7,84,11],[84,13,84,20],[84,22,84,29],[84,31,84,50],[82,1,82,5],[82,7,82,11],[82,13,82,20],[82,22,82,29],[82,31,82,50],[83,1,83,5],[83,7,83,11],[83,13,83,20],[83,22,83,29],[83,31,83,50]]}
[]
[null,"Standort",null,null,null,"Lechhausen",{"$nulls":7},"Legende:"]
[null,"Planjahr",null,null,null,2018,{"$nulls":8},"Simulationseingabe"]
[]
[null,"Kennzahlenplanung auf Jahresbasis (pro WMO)"]
[null,"Bezeichnung Parameter",{"$nulls":11},"IST-Wert Vorjahr gesamt",{"$nulls":8},"Plan-Werte aktuelles Jahr",{"$nulls":8},"Rechenweg/Bemerkung"]
[null,"Berechnung  anwesende Std. pro Jahr (betriebsübergriefend)"]
[null,"Anzahl Kalendertage",{"$nulls":11},365,{"$nulls":8},365]
[null,"./. Anzahl Wochenendtage",{"$nulls":11},104,{"$nulls":8},104]
[null,"./. Anzahl Feiertage ",{"$nulls":11},11,{"$nulls":8},11,{"$nulls":8},"Die auf einen Wochentag (außer Samstag) fallen"]
[null,"= Anzahl Arbeitstage brutto",{"$nulls":11},{"$f":"N8-N9-N10","v":250},{"$nulls":8},{"$f":"W8-W9-W10","v":250},{"$nulls":8},"Anzahl Kalendertage - Wochenendtage - Feiertage"]
[null,"./. Krankheitstage",{"$nulls":11},7,{"$nulls":8},7]
[null,"./. Schulungstage",{"$nulls":11},4,{"$nulls":8},4]
[null,"./. Urlaubstage",{"$nulls":11},25,{"$nulls":8},25]
[null,"= Anzahl Arbeitstage netto",{"$nulls":11},{"$f":"N11-N12-N13-N14","v":214},{"$nulls":8},{"$f":"W11-W12-W13-W14","v":214},{"$nulls":8},"Arbeitstage brutto - Krankheitstage - Schulungstage - Urlaubstage (Berufsschultage werden später berücksichtigt)"]
[null,"* Arbeitszeit pro Tag in h",{"$nulls":11},8.4,{"$nulls":8},8.4]
[null,"= Anwesende Stunden pro Jahr pro WMO /AZG",{"$nulls":11},{"$f":"N15*N16","v":1797.6000000000001},{"$nulls":8},{"$f":"W15*W16","v":1797.6000000000001},{"$nulls":8},"Arbeitstage netto * Arbeitszeit pro Tag in h (Berufsschulstunden werden später berücksichtigt)"]
[]
[null,"Berechnung Leistungskennzahlen pro Jahr (betriebsindividuell)"]
[{"$nulls":13},"Anzahl",null,"LG",null,"AUSL",null,"PR",null,null,"Anzahl",null,"LG",null,"AUSL",null,"PR"]
[null,"WMOM gewichtet mit Prod.fakt.NAV",{"$nulls":13},{"$f":"T21/R21","v":1.1282051282051284},null,0.97499999999999998,null,1.1000000000000001,null,null,7,null,{"$f":"AC21/AA21","v":1.1282051282051284},null,0.97499999999999998,null,1.1000000000000001,null,null,"LG = Leistungsgrad / AUSL = Auslastung / PR = Produktivität"]
[null,"WMOE gewichtet mit Prod.fakt.NAV",{"$nulls":13},{"$f":"T22/R22","v":1.0256410256410258},null,0.97499999999999998,null,1,null,null,2,null,{"$f":"AC22/AA22","v":1.0256410256410258},null,0.97499999999999998,null,1,null,null,"LG = Leistungsgrad / AUSL = Auslastung / PR = Produktivität"]
[null,"WMOK gewichtet mit Prod.fakt.NAV",{"$nulls":13},1.2307692307692308,null,0.97499999999999998,null,1.2,null,null,1,null,1.2307692307692308,null,0.97499999999999998,null,1.2,null,null,"LG = Leistungsgrad / AUSL = Auslastung / PR = Produktivität"]
[null,"AZG1 gewichtet mit Prod.fakt.NAV",{"$nulls":13},0,null,0.97499999999999998,null,0,null,null,3,null,0,null,0.97499999999999998,null,0,null,null,"LG = Leistungsgrad / AUSL = Auslastung / PR = Produktivität"]
[null,"AZG2 gewichtet mit Prod.fakt.NAV",{"$nulls":13},0.20512820512820515,null,0.97499999999999998,null,0.2,null,null,4,null,0.20512820512820515,null,0.97499999999999998,null,0.2,null,null,"LG = Leistungsgrad / AUSL = Auslastung / PR = Produktivität"]
[null,"AZG3 gewichtet mit Prod.fakt.NAV",{"$nulls":13},0.4102564102564103,null,0.97499999999999998,null,0.4,null,null,1,null,0.4102564102564103,null,0.97499999999999998,null,0.4,null,null,"LG = Leistungsgrad / AUSL = Auslastung / PR = Produktivität"]
[null,"AZG4 gewichtet mit Prod.fakt.NAV",{"$nulls":13},0.4102564102564103,null,0.97499999999999998,null,0.4,null,null,1,null,0.4102564102564103,null,0.97499999999999998,null,0.4,null,null,"LG = Leistungsgrad / AUSL = Auslastung / PR = Produktivität"]
[]
[null,"Berechnung verkaufbare AW pro Jahr WMO"]
[null,"= Anwesende Stunden pro Jahr pro WMO",{"$nulls":11},{"$f":"N17","v":1797.6000000000001},{"$nulls":8},{"$f":"W17","v":1797.6000000000001},{"$nulls":8},"Übertrag aus Zeile 14"]
[null,"* Leistungsgrad gewichtetes Mittel alle WMO",{"$nulls":11},{"$f":"(N21*P21+N22*P22+N23*P23)/N37","v":{"$error":"#DIV/0!"}},{"$nulls":8},{"$f":"(W21*Y21+W22*Y22+W23*Y23)/W37","v":1.1179487179487182},{"$nulls":8},"Gewichtetetes Mittel aus Zeile 19-21 [(Anzahl * LG + Anzahl * LG…)/Anzhal WMO]"]
[null,"* Auslastung (100% anw. Stunden - 2,5 % Wvariabel)",{"$nulls":11},{"$f":"(N21*R21+N22*R22+N23*R23)/N37","v":{"$error":"#DIV/0!"}},{"$nulls":8},{"$f":"(W21*AA21+W22*AA22+W23*AA23)/W37","v":0.97499999999999998},{"$nulls":8},"Gewichtetetes Mittel aus Zeile 19-21 [(Anzahl * AUSL + Anzahl * AUSL…)/Anzhal WMO]"]
[null,"Produktivität (LG * AUSL) gew. Mittel alle WMO",{"$nulls":11},{"$f":"N31*N32","v":{"$error":"#DIV/0!"}},{"$nulls":8},{"$f":"W31*W32","v":1.0900000000000003},{"$nulls":8},"Die PR wird hier nur aus Plausibilitätsgründen ausgewiesen und nicht als Rechenfaktor angewendet"]
[null,"= verkaufbare Std. gewicht. Mittel ein WMO Jahresw.",{"$nulls":11},{"$f":"N30*N31*N32","v":{"$error":"#DIV/0!"}},{"$nulls":8},{"$f":"W30*W31*W32","v":1959.3840000000005},{"$nulls":8},"Anw. Stunden * Leistungsgrad * Auslastung"]
[null,"* Umrechnungsfaktor AW",{"$nulls":11},12,{"$nulls":8},12]
[null,"= verkaufbare AW gewicht. Mittel ein WMO Jahresw.",{"$nulls":11},{"$f":"N34*N35","v":{"$error":"#DIV/0!"}},{"$nulls":8},{"$f":"W34*W35","v":23512.608000000007},{"$nulls":8},"verkaufbare prod. Std. * Umrechnungsfaktor AW"]
[null,"* Anzahl WMO gesamt gewichtet mit Prod.fakt.NAV",{"$nulls":11},{"$f":"SUM(N21:O23)","v":0},{"$nulls":8},{"$f":"SUM(W21:X23)","v":10},{"$nulls":8},"Summe aller WMO (Zeile 19-21)"]
[null,"= verkaufbare AW gesamt alle WMO Jahreswert",{"$nulls":11},{"$f":"N36*N37","v":{"$error":"#DIV/0!"}},{"$nulls":8},{"$f":"W36*W37","v":235126.08000000007},{"$nulls":8},"verkaufbare prod. AW * Anzahl WMO"]
[]
[null,"Berechnung verkaufbare AW pro Jahr AZG"]
[null,"= Anwesende Std. pro Jahr pro AZG (mit Berufsschulzeit)",{"$nulls":11},{"$f":"N17","v":1797.6000000000001},{"$nulls":8},{"$f":"W17","v":1797.6000000000001},{"$nulls":8},"Übertrag aus Zeile 14"]
[null,"./. Std. Berufsschulzeit und Lehrgänge pro Jahr",{"$nulls":20},480,{"$nulls":8},"Mittelwert über alle Lehrjahre [(52 Wochen - 12 Wochen Ferien) *1,5 Tage * 8 Std.) = 480 Std."]
[null,"= Anwesende Stunden pro Jahr (ohne Berufsschulzeit)",{"$nulls":11},{"$f":"N41-N42","v":1797.6000000000001},{"$nulls":8},{"$f":"W41-W42","v":1317.6000000000001},{"$nulls":8},"Anwesende Std. - Std. Berufsschulzeit"]
[null,"* Leistungsgrad gewichtetes Mittel alle AZG",{"$nulls":11},{"$f":"(N24*P24+N25*P25+N26*P26+N27*P27)/N50","v":{"$error":"#DIV/0!"}},{"$nulls":8},{"$f":"(W24*Y24+W25*Y25+W26*Y26+W27*Y27)/W50","v":0.18233618233618235},{"$nulls":8},"Gewichtetetes Mittel aus Zeile 22-25 [(Anzahl * LG + Anzahl * LG…)/Anzhal AZG]"]
[null,"* Auslastung (100% anw. Stunden - 2,5 % Wvariabel)",{"$nulls":11},{"$f":"(N24*R24+N25*R25+N26*R26+N27*R27)/N50","v":{"$error":"#DIV/0!"}},{"$nulls":8},{"$f":"(W24*AA24+W25*AA25+W26*AA26+W27*AA27)/W50","v":0.97499999999999987},{"$nulls":8},"Gewichtetetes Mittel aus Zeile 22-25 [(Anzahl * AUSL + Anzahl * AUSL…)/Anzhal AZG]"]
[null,"Produktivität (Leistungsgrad * Auslastung)",{"$nulls":11},{"$f":"N44*N45","v":{"$error":"#DIV/0!"}},{"$nulls":8},{"$f":"W44*W45","v":0.17777777777777776},{"$nulls":8},"Die PR wird hier nur aus Plausibilitätsgründen ausgewiesen und nicht als Rechenfaktor angewendet."]
[null,"= verkaufbare Std. ein AZG Jahreswert",{"$nulls":11},{"$f":"N43*N44*N45","v":{"$error":"#DIV/0!"}},{"$nulls":8},{"$f":"W43*W44*W45","v":234.23999999999998},{"$nulls":8},"Anw. Stunden * Leistungsgrad * Auslastung"]
[null,"* Umrechnungsfaktor AW",{"$nulls":11},12,{"$nulls":8},12]
[null,"= verkaufbare AW ein AZG Jahreswert",{"$nulls":11},{"$f":"N47*N48","v":{"$error":"#DIV/0!"}},{"$nulls":8},{"$f":"W47*W48","v":2810.8799999999997},{"$nulls":8},"verkaufbare prod. Std. * Umrechnungsfaktor AW"]
[null,"* Anzahl AZG gesamt gewichtet mit Prod.fakt.NAV",{"$nulls":11},{"$f":"SUM(N24:O27)","v":0},{"$nulls":8},{"$f":"SUM(W24:X27)","v":9},{"$nulls":8},"Summe aller AZG (Zeile 22-25)"]
[null,"= verkaufbare AW gesamt alle AZG Jahreswert",{"$nulls":11},{"$f":"N49*N50","v":{"$error":"#DIV/0!"}},{"$nulls":8},{"$f":"W49*W50","v":25297.919999999998},{"$nulls":8},"verkaufbare prod. AW * Anzahl AZG"]
[]
[null,"Berechnung verkaufbare AW pro Jahr gesamt (WMO und AZG)"]
[null,"= verkaufbare prod. AW WMO und AZG Jahreswert",{"$nulls":11},{"$f":"N51+N38","v":{"$error":"#DIV/0!"}},{"$nulls":8},{"$f":"W51+W38","v":260424.00000000006},{"$nulls":8},"Summe aller WMO und AZG (Zeile 19-25)"]
[]
[null,"Berechnung Umsatz Lohn pro Jahr WMO"]
[null,"= verkaufbare AW gesamt alle WMO Jahreswert",{"$nulls":11},{"$f":"N38","v":{"$error":"#DIV/0!"}},{"$nulls":8},{"$f":"W38","v":235126.08000000007},{"$nulls":8},"Übertrag aus Zeile 36"]
[null,"* Ø tatsächlich erzielbarer AW-Preis",{"$nulls":11},0,{"$nulls":8},9,{"$nulls":8},"AW-Preis Mechanik extern netto - 1,90€"]
[null,"= Umsatz Lohn Jahreswert WMO",{"$nulls":11},{"$f":"N57*N58","v":{"$error":"#DIV/0!"}},{"$nulls":8},{"$f":"W57*W58","v":2116134.7200000007},{"$nulls":8},"verkaufbare prod. AW gesamt WMO * Ø tatsächlich erzielbarer AW-Preis"]
[]
[null,"Berechnung Umsatz Lohn pro Jahr AZG"]
[null,"= verkaufbare AW gesamt alle AZG Jahreswert",{"$nulls":11},{"$f":"N51","v":{"$error":"#DIV/0!"}},{"$nulls":8},{"$f":"W51","v":25297.919999999998},{"$nulls":8},"Übertrag aus Zeile 49"]
[null,"* Ø tatsächlich erzielbarer AW-Preis",{"$nulls":11},{"$f":"N58","v":0},{"$nulls":8},{"$f":"W58","v":9},{"$nulls":8},"AW-Preis Mechanik extern netto - 1,90€ (entspricht Wert aus Zeile 56)"]
[null,"= Umsatz Lohn Jahreswert AZG",{"$nulls":11},{"$f":"N62*N63","v":{"$error":"#DIV/0!"}},{"$nulls":8},{"$f":"W62*W63","v":227681.27999999997},{"$nulls":8},"verkaufbare prod. AW gesamt AZG * Ø tatsächlich erzielbarer AW-Preis"]
[]
[null,"Berechnung Umsatz Lohn pro Jahr gesamt (WMO + AZG)"]
[null,"= verkaufbare AW gesamt WMO + AZG Jahreswert",{"$nulls":11},{"$f":"N62+N57","v":{"$error":"#DIV/0!"}},{"$nulls":8},{"$f":"W62+W57","v":260424.00000000006},{"$nulls":8},"Summe aus Zeile 57+62"]
[null,"* Ø tatsächlich erzielbarer AW-Preis",{"$nulls":11},{"$f":"N58","v":0},{"$nulls":8},{"$f":"W58","v":9},{"$nulls":8},"AW-Preis Mechanik extern netto - 1,90€ (entspricht Wert aus Zeile 56)"]
[null,"= Umsatz Lohn Jahreswert gesamt (WMO + AZG)",{"$nulls":11},{"$f":"N67*N68","v":{"$error":"#DIV/0!"}},{"$nulls":8},{"$f":"W67*W68","v":2343816.0000000005},{"$nulls":8},"verkaufbare prod. AW gesamt WMO + AZG * Ø tatsächlich erzielbarer AW-Preis"]
[]
[null,"Umsatz Lohn auf Basis Monatswerte nach Saisonfaktor"]
[null,"Monat",{"$nulls":5},"Saisonfaktor",{"$nulls":5},"Umatz Lohn",{"$nulls":8},"Umatz Lohn",{"$nulls":8},"Rechenweg/Bemerkung"]
[null,"Jan - Dez.",{"$nulls":5},{"$f":"SUM(H74:L85)","v":0.99999999999999978},{"$nulls":5},{"$f":"N69","v":{"$error":"#DIV/0!"}},{"$nulls":8},{"$f":"W69","v":2343816.0000000005},{"$nulls":8},"Übertrag aus Zeile 56. Saisonfaktor = Summe aller Einzelwerte zur Plausibbilität"]
[null,"Januar",{"$nulls":5},7.4999999999999997E-2,{"$nulls":5},{"$f":"$N$73*H74","v":{"$error":"#DIV/0!"}},{"$nulls":8},{"$f":"$W$73*H74","v":175786.20000000004},{"$nulls":8},"Umsatz Service Jahreswert * Saisonfaktor"]
[null,"Februar",{"$nulls":5},7.4999999999999997E-2,{"$nulls":5},{"$f":"$N$73*H75","v":{"$error":"#DIV/0!"}},{"$nulls":8},{"$f":"$W$73*H75","v":175786.20000000004},{"$nulls":8},"Umsatz Service Jahreswert * Saisonfaktor"]
[null,"März",{"$nulls":5},8.6999999999999994E-2,{"$nulls":5},{"$error":"#DIV/0!"},{"$nulls":8},203911.99200000003,{"$nulls":8},"Umsatz Service Jahreswert * Saisonfaktor"]
[null,"April",{"$nulls":5},8.8999999999999996E-2,{"$nulls":5},{"$error":"#DIV/0!"},{"$nulls":8},208599.62400000004,{"$nulls":8},"Umsatz Service Jahreswert * Saisonfaktor"]
[null,"Mai",{"$nulls":5},8.5999999999999993E-2,{"$nulls":5},{"$error":"#DIV/0!"},{"$nulls":8},201568.17600000004,{"$nulls":8},"Umsatz Service Jahreswert * Saisonfaktor"]
[null,"Juni",{"$nulls":5},8.4000000000000005E-2,{"$nulls":5},{"$error":"#DIV/0!"},{"$nulls":8},196880.54400000005,{"$nulls":8},"Umsatz Service Jahreswert * Saisonfaktor"]
[null,"Juli",{"$nulls":5},8.4000000000000005E-2,{"$nulls":5},{"$error":"#DIV/0!"},{"$nulls":8},196880.54400000005,{"$nulls":8},"Umsatz Service Jahreswert * Saisonfaktor"]
[null,"August",{"$nulls":5},8.1000000000000003E-2,{"$nulls":5},{"$error":"#DIV/0!"},{"$nulls":8},189849.09600000005,{"$nulls":8},"Umsatz Service Jahreswert * Saisonfaktor"]
[null,"September",{"$nulls":5},8.3000000000000004E-2,{"$nulls":5},{"$error":"#DIV/0!"},{"$nulls":8},194536.72800000006,{"$nulls":8},"Umsatz Service Jahreswert * Saisonfaktor"]
[null,"Oktober",{"$nulls":5},0.08,{"$nulls":5},{"$error":"#DIV/0!"},{"$nulls":8},187505.28000000003,{"$nulls":8},"Umsatz Service Jahreswert * Saisonfaktor"]
[null,"November",{"$nulls":5},8.7999999999999995E-2,{"$nulls":5},{"$error":"#DIV/0!"},{"$nulls":8},206255.80800000002,{"$nulls":8},"Umsatz Service Jahreswert * Saisonfaktor"]
[null,"Dezember",{"$nulls":5},8.7999999999999995E-2,{"$nulls":5},{"$error":"#DIV/0!"},{"$nulls":8},206255.80800000002,{"$nulls":8},"Umsatz Service Jahreswert * Saisonfaktor"]

{"sheet":"SCB_Planung_LEH","index":12,"n_rows":25,"n_cols":8,"rows_kept":25,"cut":false,"hidden":false,"merged":[[5,1,5,7],[6,6,6,7],[23,1,23,7]]}
[]
[null,{"$f":"WMO_Planung_LEH!B2","v":"Standort"},{"$f":"WMO_Planung_LEH!F2","v":"Lechhausen"},null,"Legende:"]
[null,{"$f":"WMO_Planung_LEH!B3","v":"Planjahr"},{"$f":"WMO_Planung_LEH!F3","v":2018},null,null,"Simulationseingabe"]
[{"$nulls":5},"Supervariable (wird durch die Simulationseingabe verändert)"]
[]
[null,"Kennzahlenplanung auf Jahresbasis gesamt (WMO+AZG)"]
[null,"Bezeichnung","\nVorwärtkalkulation\nSimulation 1","\nVorwärtkalkulation\nSimulation 2","\nVorwärtkalkulation\nSimulation 3",null,"Rückwärtskalkulation\nbezogen auf Planung gesamt\n (WMO +AZG)"]
[null,"Anzahl Kalendertage",365,365,365,null,365]
[null,"./. Anzahl Wochenendtage",104,104,104,null,104]
[null,"./. Anzahl Feiertage ",11,11,11,null,11]
[null,"= Anzahl Arbeitstage brutto",{"$f":"C8-C9-C10","v":250},{"$f":"D8-D9-D10","v":250},{"$f":"E8-E9-E10","v":250},null,{"$f":"G8-G9-G10","v":250}]
[null,"./. Krankheitstage",7,7,7,null,7]
[null,"./. Schulungstage",4,4,4,null,4]
[null,"./. Urlaubstage",25,25,25,null,25]
[null,"= Anzahl Arbeitstage netto",{"$f":"C11-C12-C13-C14","v":214},{"$f":"D11-D12-D13-D14","v":214},{"$f":"E11-E12-E13-E14","v":214},null,{"$f":"G11-G12-G13-G14","v":214}]
[null,"* Durchgänge pro Tag",10,11,10,null,10,{"$f":"WMO_Planung_LEH!W54/(SCB_Planung_LEH!H17*SCB_Planung_LEH!G15*SCB_Planung_LEH!G21)","v":12.676401869158882}]
[null,"* AW pro Durchgang",24,24,24,null,{"$f":"WMO_Planung_LEH!W54/(SCB_Planung_LEH!G16*SCB_Planung_LEH!G15*G21)","v":30.423364485981317},24]
[null,"* Ø tatsächlich erzielbarer AW-Preis",9,10.5,9.5,null,{"$f":"WMO_Planung_LEH!W58","v":9},{"$f":"G18","v":9}]
[null,"= Umsatz Lohn Jahreswert pro SCB",{"$f":"C15*C16*C17*C18","v":462240},{"$f":"D15*D16*D17*D18","v":593208},{"$f":"E15*E16*E17*E18","v":487920},null,{"$f":"G22/G21","v":585954.00000000012},{"$f":"H22/H21","v":585954.00000000012}]
[]
[null,"* Anzahl SCB",4,4,4,null,4,4]
[null,"= Umsatz Lohn gesamt",{"$f":"C19*C21","v":1848960},{"$f":"D19*D21","v":2372832},1951680,null,{"$f":"WMO_Planung_LEH!W69","v":2343816.0000000005},{"$f":"G22","v":2343816.0000000005}]
[]
[null,"Plausibilitätsrechnung"]
[null,"Lohnumsatz pro Durchgang",{"$f":"C19/(C16*C15)","v":216},{"$f":"D19/(D16*D15)","v":252},228,null,273.81028037383186,{"$f":"H19/(H16*G15)","v":215.99999999999997}]

{"sheet":"WMO_Planung_WTB","index":13,"n_rows":85,"n_cols":32,"rows_kept":85,"cut":false,"hidden":false,"merged":[[1,5,1,10],[2,5,2,10],[4,1,4,50],[5,13,5,20],[5,22,5,29],[5,31,5,50],[6,1,6,50],[7,1,7,11],[7,13,7,20],[7,22,7,29],[7,31,7,50],[8,1,8,11],[8,13,8,20],[8,22,8,29],[8,31,8,50],[11,1,11,11],[11,13,11,20],[11,22,11,29],[11,31,11,50],[12,1,12,11],[12,13,12,20],[12,22,12,29],[12,31,12,50],[9,1,9,11],[9,13,9,20],[9,22,9,29],[9,31,9,50],[10,1,10,11],[10,13,10,20],[10,22,10,29],[10,31,10,50],[15,1,15,11],[15,13,15,20],[15,22,15,29],[15,31,15,50],[16,1,16,11],[16,13,16,20],[16,22,16,29],[16,31,16,50],[13,1,13,11],[13,13,13,20],[13,22,13,29],[13,31,13,50],[14,1,14,11],[14,13,14,20],[14,22,14,29],[14,31,14,50],[17,1,17,50],[18,1,18,50],[19,1,19,12],[19,13,19,14],[19,15,19,16],[19,17,19,18],[19,19,19,20],[19,22,19,23],[19,24,19,25],[19,26,19,27],[19,28,19,29],[19,30,19,50],[20,31,20,50],[21,1,21,11],[21,13,21,14],[21,15,21,16],[21,17,21,18],[21,19,21,20],[21,22,21,23],[21,24,21,25],[21,26,21,27],[21,28,21,29],[21,31,21,50],[20,1,20,11],[20,13,20,14],[20,15,20,16],[20,17,20,18],[20,19,20,20],[20,22,20,23],[20,24,20,25],[20,26,20,27],[20,28,20,29],[22,31,22,50],[23,1,23,11],[23,13,23,14],[23,15,23,16],[23,17,23,18],[23,19,23,20],[23,22,23,23],[23,24,23,25],[23,26,23,27],[23,28,23,29],[23,31,23,50],[22,1,22,11],[22,13,22,14],[22,15,22,16],[22,17,22,18],[22,19,22,20],[22,22,22,23],[22,24,22,25],[22,26,22,27],[22,28,22,29],[24,31,24,50],[25,1,25,11],[25,13,25,14],[25,15,25,16],[25,17,25,18],[25,19,25,20],[25,22,25,23],[25,24,25,25],[25,26,25,27],[24,1,24,11],[24,13,24,14],[24,15,24,16],[24,17,24,18],[24,19,24,20],[24,22,24,23],[24,24,24,25],[24,26,24,27],[24,28,24,29],[26,28,26,29],[26,31,26,50],[28,1,28,50],[29,1,29,11],[29,13,29,20],[29,22,29,29],[29,31,29,50],[25,28,25,29],[25,31,25,50],[26,1,26,11],[26,13,26,14],[26,15,26,16],[26,17,26,18],[26,19,26,20],[26,22,26,23],[26,24,26,25],[26,26,26,27],[32,1,32,11],[32,13,32,20],[32,22,32,29],[32,31,32,50],[33,1,33,11],[33,13,33,20],[33,22,33,29],[33,31,33,50],[30,1,30,11],[30,13,30,20],[30,22,30,29],[30,31,30,50],[31,1,31,11],[31,13,31,20],[31,22,31,29],[31,31,31,50],[36,1,36,11],[36,13,36,20],[36,22,36,29],[36,31,36,50],[37,1,37,11],[37,13,37,20],[37,22,37,29],[37,31,37,50],[34,1,34,11],[34,13,34,20],[34,22,34,29],[34,31,34,50],[35,1,35,11],[35,13,35,20],[35,22,35,29],[35,31,35,50],[39,1,39,50],[40,1,40,11],[40,13,40,20],[40,22,40,29],[40,31,40,50],[41,1,41,11],[41,13,41,20],[41,22,41,29],[41,31,41,50],[44,1,44,11],[44,13,44,20],[44,22,44,29],[44,31,44,50],[45,1,45,11],[45,13,45,20],[45,22,45,29],[45,31,45,50],[42,1,42,11],[42,13,42,20],[42,22,42,29],[42,31,42,50],[43,1,43,11],[43,13,43,20],[43,22,43,29],[43,31,43,50],[48,1,48,11],[48,13,48,20],[48,22,48,29],[48,31,48,50],[49,1,49,11],[49,13,49,20],[49,22,49,29],[49,31,49,50],[46,1,46,11],[46,13,46,20],[46,22,46,29],[46,31,46,50],[47,1,47,11],[47,13,47,20],[47,22,47,29],[47,31,47,50],[50,1,50,11],[50,13,50,20],[50,22,50,29],[50,31,50,50],[52,1,52,50],[53,1,53,11],[53,13,53,20],[53,22,53,29],[53,31,53,50],[55,1,55,50],[56,1,56,11],[56,13,56,20],[56,22,56,29],[56,31,56,50],[57,1,57,11],[57,13,57,20],[57,22,57,29],[57,31,57,50],[62,1,62,11],[62,13,62,20],[62,22,62,29],[62,31,62,50],[63,1,63,11],[63,13,63,20],[63,22,63,29],[63,31,63,50],[58,1,58,11],[58,13,58,20],[58,22,58,29],[58,31,58,50],[60,1,60,50],[61,1,61,11],[61,13,61,20],[61,22,61,29],[61,31,61,50],[65,1,65,50],[66,1,66,11],[66,13,66,20],[66,22,66,29],[66,31,66,50],[67,1,67,11],[67,13,67,20],[67,22,67,29],[67,31,67,50],[68,1,68,11],[68,13,68,20],[68,22,68,29],[68,31,68,50],[70,1,70,50],[71,1,71,5],[71,7,71,11],[71,13,71,20],[71,22,71,29],[71,31,71,50],[72,1,72,5],[72,7,72,11],[72,13,72,20],[72,22,72,29],[72,31,72,50],[73,1,73,5],[73,7,73,11],[73,13,73,20],[73,22,73,29],[73,31,73,50],[74,1,74,5],[74,7,74,11],[74,13,74,20],[74,22,74,29],[74,31,74,50],[75,1,75,5],[75,7,75,11],[75,13,75,20],[75,22,75,29],[75,31,75,50],[76,1,76,5],[76,7,76,11],[76,13,76,20],[76,22,76,29],[76,31,76,50],[77,1,77,5],[77,7,77,11],[77,13,77,20],[77,22,77,29],[77,31,77,50],[78,1,78,5],[78,7,78,11],[78,13,78,20],[78,22,78,29],[78,31,78,50],[79,1,79,5],[79,7,79,11],[79,13,79,20],[79,22,79,29],[79,31,79,50],[80,1,80,5],[80,7,80,11],[80,13,80,20],[80,22,80,29],[80,31,80,50],[81,1,81,5],[81,7,81,11],[81,13,81,20],[81,22,81,29],[81,31,81,50],[84,1,84,5],[84,7,84,11],[84,13,84,20],[84,22,84,29],[84,31,84,50],[82,1,82,5],[82,7,82,11],[82,13,82,20],[82,22,82,29],[82,31,82,50],[83,1,83,5],[83,7,83,11],[83,13,83,20],[83,22,83,29],[83,31,83,50]]}
[]
[null,"Standort",null,null,null,"Wertachbrücke",{"$nulls":7},"Legende:"]
[null,"Planjahr",null,null,null,2018,{"$nulls":8},"Simulationseingabe"]
[]
[null,"Kennzahlenplanung auf Jahresbasis (pro WMO)"]
[null,"Bezeichnung Parameter",{"$nulls":11},"IST-Wert Vorjahr gesamt",{"$nulls":8},"Plan-Werte aktuelles Jahr",{"$nulls":8},"Rechenweg/Bemerkung"]
[null,"Berechnung  anwesende Std. pro Jahr (betriebsübergriefend)"]
[null,"Anzahl Kalendertage",{"$nulls":11},365,{"$nulls":8},365]
[null,"./. Anzahl Wochenendtage",{"$nulls":11},104,{"$nulls":8},104]
[null,"./. Anzahl Feiertage ",{"$nulls":11},11,{"$nulls":8},11,{"$nulls":8},"Die auf einen Wochentag (außer Samstag) fallen"]
[null,"= Anzahl Arbeitstage brutto",{"$nulls":11},{"$f":"N8-N9-N10","v":250},{"$nulls":8},{"$f":"W8-W9-W10","v":250},{"$nulls":8},"Anzahl Kalendertage - Wochenendtage - Feiertage"]
[null,"./. Krankheitstage",{"$nulls":11},7,{"$nulls":8},7]
[null,"./. Schulungstage",{"$nulls":11},4,{"$nulls":8},4]
[null,"./. Urlaubstage",{"$nulls":11},25,{"$nulls":8},25]
[null,"= Anzahl Arbeitstage netto",{"$nulls":11},{"$f":"N11-N12-N13-N14","v":214},{"$nulls":8},{"$f":"W11-W12-W13-W14","v":214},{"$nulls":8},"Arbeitstage brutto - Krankheitstage - Schulungstage - Urlaubstage (Berufsschultage werden später berücksichtigt)"]
[null,"* Arbeitszeit pro Tag in h",{"$nulls":11},8.4,{"$nulls":8},8.4]
[null,"= Anwesende Stunden pro Jahr pro WMO /AZG",{"$nulls":11},{"$f":"N15*N16","v":1797.6000000000001},{"$nulls":8},{"$f":"W15*W16","v":1797.6000000000001},{"$nulls":8},"Arbeitstage netto * Arbeitszeit pro Tag in h (Berufsschulstunden werden später berücksichtigt)"]
[]
[null,"Berechnung Leistungskennzahlen pro Jahr (betriebsindividuell)"]
[{"$nulls":13},"Anzahl",null,"LG",null,"AUSL",null,"PR",null,null,"Anzahl",null,"LG",null,"AUSL",null,"PR"]
[null,"WMOM gewichtet mit Prod.fakt.NAV",{"$nulls":13},{"$f":"T21/R21","v":1.1282051282051284},null,0.97499999999999998,null,1.1000000000000001,null,null,6,null,{"$f":"AC21/AA21","v":1.1282051282051284},null,0.97499999999999998,null,1.1000000000000001,null,null,"LG = Leistungsgrad / AUSL = Auslastung / PR = Produktivität"]
[null,"WMOE gewichtet mit Prod.fakt.NAV",{"$nulls":13},{"$f":"T22/R22","v":1.0256410256410258},null,0.97499999999999998,null,1,null,null,1,null,{"$f":"AC22/AA22","v":1.0256410256410258},null,0.97499999999999998,null,1,null,null,"LG = Leistungsgrad / AUSL = Auslastung / PR = Produktivität"]
[null,"WMOK gewichtet mit Prod.fakt.NAV",{"$nulls":13},1.2307692307692308,null,0.97499999999999998,null,1.2,null,null,0,null,1.2307692307692308,null,0.97499999999999998,null,1.2,null,null,"LG = Leistungsgrad / AUSL = Auslastung / PR = Produktivität"]
[null,"AZG1 gewichtet mit Prod.fakt.NAV",{"$nulls":13},0,null,0.97499999999999998,null,0,null,null,2,null,0,null,0.97499999999999998,null,0,null,null,"LG = Leistungsgrad / AUSL = Auslastung / PR = Produktivität"]
[null,"AZG2 gewichtet mit Prod.fakt.NAV",{"$nulls":13},0.20512820512820515,null,0.97499999999999998,null,0.2,null,null,3,null,0.20512820512820515,null,0.97499999999999998,null,0.2,null,null,"LG = Leistungsgrad / AUSL = Auslastung / PR = Produktivität"]
[null,"AZG3 gewichtet mit Prod.fakt.NAV",{"$nulls":13},0.4102564102564103,null,0.97499999999999998,null,0.4,null,null,2,null,0.4102564102564103,null,0.97499999999999998,null,0.4,null,null,"LG = Leistungsgrad / AUSL = Auslastung / PR = Produktivität"]
[null,"AZG4 gewichtet mit Prod.fakt.NAV",{"$nulls":13},0.4102564102564103,null,0.97499999999999998,null,0.4,null,null,1,null,0.4102564102564103,null,0.97499999999999998,null,0.4,null,null,"LG = Leistungsgrad / AUSL = Auslastung / PR = Produktivität"]
[]
[null,"Berechnung verkaufbare AW pro Jahr WMO"]
[null,"= Anwesende Stunden pro Jahr pro WMO",{"$nulls":11},{"$f":"N17","v":1797.6000000000001},{"$nulls":8},{"$f":"W17","v":1797.6000000000001},{"$nulls":8},"Übertrag aus Zeile 14"]
[null,"* Leistungsgrad gewichtetes Mittel alle WMO",{"$nulls":11},{"$f":"(N21*P21+N22*P22+N23*P23)/N37","v":{"$error":"#DIV/0!"}},{"$nulls":8},{"$f":"(W21*Y21+W22*Y22+W23*Y23)/W37","v":1.1135531135531136},{"$nulls":8},"Gewichtetetes Mittel aus Zeile 19-21 [(Anzahl * LG + Anzahl * LG…)/Anzhal WMO]"]
[null,"* Auslastung (100% anw. Stunden - 2,5 % Wvariabel)",{"$nulls":11},{"$f":"(N21*R21+N22*R22+N23*R23)/N37","v":{"$error":"#DIV/0!"}},{"$nulls":8},{"$f":"(W21*AA21+W22*AA22+W23*AA23)/W37","v":0.97499999999999987},{"$nulls":8},"Gewichtetetes Mittel aus Zeile 19-21 [(Anzahl * AUSL + Anzahl * AUSL…)/Anzhal WMO]"]
[null,"Produktivität (LG * AUSL) gew. Mittel alle WMO",{"$nulls":11},{"$f":"N31*N32","v":{"$error":"#DIV/0!"}},{"$nulls":8},{"$f":"W31*W32","v":1.0857142857142856},{"$nulls":8},"Die PR wird hier nur aus Plausibilitätsgründen ausgewiesen und nicht als Rechenfaktor angewendet"]
[null,"= verkaufbare Std. gewicht. Mittel ein WMO Jahresw.",{"$nulls":11},{"$f":"N30*N31*N32","v":{"$error":"#DIV/0!"}},{"$nulls":8},{"$f":"W30*W31*W32","v":1951.6799999999998},{"$nulls":8},"Anw. Stunden * Leistungsgrad * Auslastung"]
[null,"* Umrechnungsfaktor AW",{"$nulls":11},12,{"$nulls":8},12]
[null,"= verkaufbare AW gewicht. Mittel ein WMO Jahresw.",{"$nulls":11},{"$f":"N34*N35","v":{"$error":"#DIV/0!"}},{"$nulls":8},{"$f":"W34*W35","v":23420.159999999996},{"$nulls":8},"verkaufbare prod. Std. * Umrechnungsfaktor AW"]
[null,"* Anzahl WMO gesamt gewichtet mit Prod.fakt.NAV",{"$nulls":11},{"$f":"SUM(N21:O23)","v":0},{"$nulls":8},{"$f":"SUM(W21:X23)","v":7},{"$nulls":8},"Summe aller WMO (Zeile 19-21)"]
[null,"= verkaufbare AW gesamt alle WMO Jahreswert",{"$nulls":11},{"$f":"N36*N37","v":{"$error":"#DIV/0!"}},{"$nulls":8},{"$f":"W36*W37","v":163941.11999999997},{"$nulls":8},"verkaufbare prod. AW * Anzahl WMO"]
[]
[null,"Berechnung verkaufbare AW pro Jahr AZG"]
[null,"= Anwesende Std. pro Jahr pro AZG (mit Berufsschulzeit)",{"$nulls":11},{"$f":"N17","v":1797.6000000000001},{"$nulls":8},{"$f":"W17","v":1797.6000000000001},{"$nulls":8},"Übertrag aus Zeile 14"]
[null,"./. Std. Berufsschulzeit und Lehrgänge pro Jahr",{"$nulls":20},480,{"$nulls":8},"Mittelwert über alle Lehrjahre [(52 Wochen - 12 Wochen Ferien) *1,5 Tage * 8 Std.) = 480 Std."]
[null,"= Anwesende Stunden pro Jahr (ohne Berufsschulzeit)",{"$nulls":11},{"$f":"N41-N42","v":1797.6000000000001},{"$nulls":8},{"$f":"W41-W42","v":1317.6000000000001},{"$nulls":8},"Anwesende Std. - Std. Berufsschulzeit"]
[null,"* Leistungsgrad gewichtetes Mittel alle AZG",{"$nulls":11},{"$f":"(N24*P24+N25*P25+N26*P26+N27*P27)/N50","v":{"$error":"#DIV/0!"}},{"$nulls":8},{"$f":"(W24*Y24+W25*Y25+W26*Y26+W27*Y27)/W50","v":0.23076923076923081},{"$nulls":8},"Gewichtetetes Mittel aus Zeile 22-25 [(Anzahl * LG + Anzahl * LG…)/Anzhal AZG]"]
[null,"* Auslastung (100% anw. Stunden - 2,5 % Wvariabel)",{"$nulls":11},{"$f":"(N24*R24+N25*R25+N26*R26+N27*R27)/N50","v":{"$error":"#DIV/0!"}},{"$nulls":8},{"$f":"(W24*AA24+W25*AA25+W26*AA26+W27*AA27)/W50","v":0.97499999999999998},{"$nulls":8},"Gewichtetetes Mittel aus Zeile 22-25 [(Anzahl * AUSL + Anzahl * AUSL…)/Anzhal AZG]"]
[null,"Produktivität (Leistungsgrad * Auslastung)",{"$nulls":11},{"$f":"N44*N45","v":{"$error":"#DIV/0!"}},{"$nulls":8},{"$f":"W44*W45","v":0.22500000000000003},{"$nulls":8},"Die PR wird hier nur aus Plausibilitätsgründen ausgewiesen und nicht als Rechenfaktor angewendet."]
[null,"= verkaufbare Std. ein AZG Jahreswert",{"$nulls":11},{"$f":"N43*N44*N45","v":{"$error":"#DIV/0!"}},{"$nulls":8},{"$f":"W43*W44*W45","v":296.46000000000004},{"$nulls":8},"Anw. Stunden * Leistungsgrad * Auslastung"]
[null,"* Umrechnungsfaktor AW",{"$nulls":11},12,{"$nulls":8},12]
[null,"= verkaufbare AW ein AZG Jahreswert",{"$nulls":11},{"$f":"N47*N48","v":{"$error":"#DIV/0!"}},{"$nulls":8},{"$f":"W47*W48","v":3557.5200000000004},{"$nulls":8},"verkaufbare prod. Std. * Umrechnungsfaktor AW"]
[null,"* Anzahl AZG gesamt gewichtet mit Prod.fakt.NAV",{"$nulls":11},{"$f":"SUM(N24:O27)","v":0},{"$nulls":8},{"$f":"SUM(W24:X27)","v":8},{"$nulls":8},"Summe aller AZG (Zeile 22-25)"]
[null,"= verkaufbare AW gesamt alle AZG Jahreswert",{"$nulls":11},{"$f":"N49*N50","v":{"$error":"#DIV/0!"}},{"$nulls":8},{"$f":"W49*W50","v":28460.160000000003},{"$nulls":8},"verkaufbare prod. AW * Anzahl AZG"]
[]
[null,"Berechnung verkaufbare AW pro Jahr gesamt (WMO und AZG)"]
[null,"= verkaufbare prod. AW WMO und AZG Jahreswert",{"$nulls":11},{"$f":"N51+N38","v":{"$error":"#DIV/0!"}},{"$nulls":8},{"$f":"W51+W38","v":192401.27999999997},{"$nulls":8},"Summe aller WMO und AZG (Zeile 19-25)"]
[]
[null,"Berechnung Umsatz Lohn pro Jahr WMO"]
[null,"= verkaufbare AW gesamt alle WMO Jahreswert",{"$nulls":11},{"$f":"N38","v":{"$error":"#DIV/0!"}},{"$nulls":8},{"$f":"W38","v":163941.11999999997},{"$nulls":8},"Übertrag aus Zeile 36"]
[null,"* Ø tatsächlich erzielbarer AW-Preis",{"$nulls":11},0,{"$nulls":8},9,{"$nulls":8},"AW-Preis Mechanik extern netto - 1,90€"]
[null,"= Umsatz Lohn Jahreswert WMO",{"$nulls":11},{"$f":"N57*N58","v":{"$error":"#DIV/0!"}},{"$nulls":8},{"$f":"W57*W58","v":1475470.0799999996},{"$nulls":8},"verkaufbare prod. AW gesamt WMO * Ø tatsächlich erzielbarer AW-Preis"]
[]
[null,"Berechnung Umsatz Lohn pro Jahr AZG"]
[null,"= verkaufbare AW gesamt alle AZG Jahreswert",{"$nulls":11},{"$f":"N51","v":{"$error":"#DIV/0!"}},{"$nulls":8},{"$f":"W51","v":28460.160000000003},{"$nulls":8},"Übertrag aus Zeile 49"]
[null,"* Ø tatsächlich erzielbarer AW-Preis",{"$nulls":11},{"$f":"N58","v":0},{"$nulls":8},{"$f":"W58","v":9},{"$nulls":8},"AW-Preis Mechanik extern netto - 1,90€ (entspricht Wert aus Zeile 56)"]
[null,"= Umsatz Lohn Jahreswert AZG",{"$nulls":11},{"$f":"N62*N63","v":{"$error":"#DIV/0!"}},{"$nulls":8},{"$f":"W62*W63","v":256141.44000000003},{"$nulls":8},"verkaufbare prod. AW gesamt AZG * Ø tatsächlich erzielbarer AW-Preis"]
[]
[null,"Berechnung Umsatz Lohn pro Jahr gesamt (WMO + AZG)"]
[null,"= verkaufbare AW gesamt WMO + AZG Jahreswert",{"$nulls":11},{"$f":"N62+N57","v":{"$error":"#DIV/0!"}},{"$nulls":8},{"$f":"W62+W57","v":192401.27999999997},{"$nulls":8},"Summe aus Zeile 57+62"]
[null,"* Ø tatsächlich erzielbarer AW-Preis",{"$nulls":11},{"$f":"N58","v":0},{"$nulls":8},{"$f":"W58","v":9},{"$nulls":8},"AW-Preis Mechanik extern netto - 1,90€ (entspricht Wert aus Zeile 56)"]
[null,"= Umsatz Lohn Jahreswert gesamt (WMO + AZG)",{"$nulls":11},{"$f":"N67*N68","v":{"$error":"#DIV/0!"}},{"$nulls":8},{"$f":"W67*W68","v":1731611.5199999998},{"$nulls":8},"verkaufbare prod. AW gesamt WMO + AZG * Ø tatsächlich erzielbarer AW-Preis"]
[]
[null,"Umsatz Lohn auf Basis Monatswerte nach Saisonfaktor"]
[null,"Monat",{"$nulls":5},"Saisonfaktor",{"$nulls":5},"Umatz Lohn",{"$nulls":8},"Umatz Lohn",{"$nulls":8},"Rechenweg/Bemerkung"]
[null,"Jan - Dez.",{"$nulls":5},{"$f":"SUM(H74:L85)","v":0.99999999999999978},{"$nulls":5},{"$f":"N69","v":{"$error":"#DIV/0!"}},{"$nulls":8},{"$f":"W69","v":1731611.5199999998},{"$nulls":8},"Übertrag aus Zeile 56. Saisonfaktor = Summe aller Einzelwerte zur Plausibbilität"]
[null,"Januar",{"$nulls":5},7.4999999999999997E-2,{"$nulls":5},{"$f":"$N$73*H74","v":{"$error":"#DIV/0!"}},{"$nulls":8},{"$f":"$W$73*H74","v":129870.86399999997},{"$nulls":8},"Umsatz Service Jahreswert * Saisonfaktor"]
[null,"Februar",{"$nulls":5},7.4999999999999997E-2,{"$nulls":5},{"$f":"$N$73*H75","v":{"$error":"#DIV/0!"}},{"$nulls":8},{"$f":"$W$73*H75","v":129870.86399999997},{"$nulls":8},"Umsatz Service Jahreswert * Saisonfaktor"]
[null,"März",{"$nulls":5},8.6999999999999994E-2,{"$nulls":5},{"$error":"#DIV/0!"},{"$nulls":8},150650.20223999998,{"$nulls":8},"Umsatz Service Jahreswert * Saisonfaktor"]
[null,"April",{"$nulls":5},8.8999999999999996E-2,{"$nulls":5},{"$error":"#DIV/0!"},{"$nulls":8},154113.42527999997,{"$nulls":8},"Umsatz Service Jahreswert * Saisonfaktor"]
[null,"Mai",{"$nulls":5},8.5999999999999993E-2,{"$nulls":5},{"$error":"#DIV/0!"},{"$nulls":8},148918.59071999998,{"$nulls":8},"Umsatz Service Jahreswert * Saisonfaktor"]
[null,"Juni",{"$nulls":5},8.4000000000000005E-2,{"$nulls":5},{"$error":"#DIV/0!"},{"$nulls":8},145455.36768,{"$nulls":8},"Umsatz Service Jahreswert * Saisonfaktor"]
[null,"Juli",{"$nulls":5},8.4000000000000005E-2,{"$nulls":5},{"$error":"#DIV/0!"},{"$nulls":8},145455.36768,{"$nulls":8},"Umsatz Service Jahreswert * Saisonfaktor"]
[null,"August",{"$nulls":5},8.1000000000000003E-2,{"$nulls":5},{"$error":"#DIV/0!"},{"$nulls":8},140260.53311999998,{"$nulls":8},"Umsatz Service Jahreswert * Saisonfaktor"]
[null,"September",{"$nulls":5},8.3000000000000004E-2,{"$nulls":5},{"$error":"#DIV/0!"},{"$nulls":8},143723.75615999999,{"$nulls":8},"Umsatz Service Jahreswert * Saisonfaktor"]
[null,"Oktober",{"$nulls":5},0.08,{"$nulls":5},{"$error":"#DIV/0!"},{"$nulls":8},138528.92159999997,{"$nulls":8},"Umsatz Service Jahreswert * Saisonfaktor"]
[null,"November",{"$nulls":5},8.7999999999999995E-2,{"$nulls":5},{"$error":"#DIV/0!"},{"$nulls":8},152381.81375999996,{"$nulls":8},"Umsatz Service Jahreswert * Saisonfaktor"]
[null,"Dezember",{"$nulls":5},8.7999999999999995E-2,{"$nulls":5},{"$error":"#DIV/0!"},{"$nulls":8},152381.81375999996,{"$nulls":8},"Umsatz Service Jahreswert * Saisonfaktor"]

{"sheet":"SCB_Planung_WTB","index":14,"n_rows":25,"n_cols":8,"rows_kept":25,"cut":false,"hidden":false,"merged":[[5,1,5,7],[6,6,6,7],[23,1,23,7]]}
[]
[null,{"$f":"WMO_Planung_WTB!B2","v":"Standort"},{"$f":"WMO_Planung_WTB!F2","v":"Wertachbrücke"},null,"Legende:"]
[null,{"$f":"WMO_Planung_WTB!B3","v":"Planjahr"},{"$f":"WMO_Planung_WTB!F3","v":2018},null,null,"Simulationseingabe"]
[{"$nulls":5},"Supervariable (wird durch die Simulationseingabe verändert)"]
[]
[null,"Kennzahlenplanung auf Jahresbasis gesamt (WMO+AZG)"]
[null,"Bezeichnung","\nVorwärtkalkulation\nSimulation 1","\nVorwärtkalkulation\nSimulation 2","\nVorwärtkalkulation\nSimulation 3",null,"Rückwärtskalkulation\nbezogen auf Planung gesamt\n (WMO +AZG)"]
[null,"Anzahl Kalendertage",365,365,365,null,365]
[null,"./. Anzahl Wochenendtage",104,104,104,null,104]
[null,"./. Anzahl Feiertage ",11,11,11,null,11]
[null,"= Anzahl Arbeitstage brutto",{"$f":"C8-C9-C10","v":250},{"$f":"D8-D9-D10","v":250},{"$f":"E8-E9-E10","v":250},null,{"$f":"G8-G9-G10","v":250}]
[null,"./. Krankheitstage",7,7,7,null,7]
[null,"./. Schulungstage",4,4,4,null,4]
[null,"./. Urlaubstage",25,25,25,null,25]
[null,"= Anzahl Arbeitstage netto",{"$f":"C11-C12-C13-C14","v":214},{"$f":"D11-D12-D13-D14","v":214},{"$f":"E11-E12-E13-E14","v":214},null,{"$f":"G11-G12-G13-G14","v":214}]
[null,"* Durchgänge pro Tag",10,11,10,null,10,{"$f":"WMO_Planung_WTB!W54/(SCB_Planung_WTB!H17*SCB_Planung_WTB!G15*SCB_Planung_WTB!G21)","v":12.487102803738315}]
[null,"* AW pro Durchgang",24,24,24,null,{"$f":"WMO_Planung_WTB!W54/(SCB_Planung_WTB!G16*SCB_Planung_WTB!G15*G21)","v":29.969046728971957},24]
[null,"* Ø tatsächlich erzielbarer AW-Preis",9,10.5,9.5,null,{"$f":"WMO_Planung_WTB!W58","v":9},{"$f":"G18","v":9}]
[null,"= Umsatz Lohn Jahreswert pro SCB",{"$f":"C15*C16*C17*C18","v":462240},{"$f":"D15*D16*D17*D18","v":593208},{"$f":"E15*E16*E17*E18","v":487920},null,{"$f":"G22/G21","v":577203.84},{"$f":"H22/H21","v":577203.84}]
[]
[null,"* Anzahl SCB",3,3,3,null,3,3]
[null,"= Umsatz Lohn gesamt",{"$f":"C19*C21","v":1386720},{"$f":"D19*D21","v":1779624},1463760,null,{"$f":"WMO_Planung_WTB!W69","v":1731611.5199999998},{"$f":"G22","v":1731611.5199999998}]
[]
[null,"Plausibilitätsrechnung"]
[null,"Lohnumsatz pro Durchgang",{"$f":"C19/(C16*C15)","v":216},{"$f":"D19/(D16*D15)","v":252},228,null,269.72142056074767,{"$f":"H19/(H16*G15)","v":216.00000000000003}]

{"sheet":"WMO_Plan_dynamisch","index":15,"n_rows":8,"n_cols":17,"rows_kept":8,"cut":false,"hidden":false,"merged":[]}
["Hauptbetrieb","Standort","produktiv/unproduktiv","Monteurgruppe","Datum","Plan_dyn_1","Plan_dyn_2","Plan_dyn_3","Plan_dyn_4","Plan_dyn_5","Plan_dyn_6","Plan_dyn_7","Plan_dyn_8","Plan_dyn_9","Plan_dyn_10","Plan_dyn_11","Plan_dyn_12"]
[1,10,"prod. Personal","WMOM",2018,{"$f":"WMO_Planung_MM!$W$74","v":265085.78400000004},{"$f":"WMO_Planung_MM!$W$75","v":265085.78400000004},{"$f":"WMO_Planung_MM!$W$76","v":307499.50944000005},{"$f":"WMO_Planung_MM!$W$77","v":314568.46368000004},{"$f":"WMO_Planung_MM!$W$78","v":303965.03232},{"$f":"WMO_Planung_MM!$W$79","v":296896.07808000006},{"$f":"WMO_Planung_MM!$W$80","v":296896.07808000006},{"$f":"WMO_Planung_MM!$W$81","v":286292.64672000008},{"$f":"WMO_Planung_MM!$W$82","v":293361.60096000007},{"$f":"WMO_Planung_MM!$W$83","v":282758.16960000008},{"$f":"WMO_Planung_MM!$W$84","v":311033.98656000005},{"$f":"WMO_Planung_MM!$W$85","v":311033.98656000005}]
[1,40,"prod. Personal","WMOM",2018,{"$f":"WMO_Planung_Ulm!$W$74","v":381852.14400000015},{"$f":"WMO_Planung_Ulm!$W$75","v":381852.14400000015},{"$f":"WMO_Planung_Ulm!$W$76","v":442948.48704000015},{"$f":"WMO_Planung_Ulm!$W$77","v":453131.21088000014},{"$f":"WMO_Planung_Ulm!$W$78","v":437857.1251200001},{"$f":"WMO_Planung_Ulm!$W$79","v":427674.40128000017},{"$f":"WMO_Planung_Ulm!$W$80","v":427674.40128000017},{"$f":"WMO_Planung_Ulm!$W$81","v":412400.31552000018},{"$f":"WMO_Planung_Ulm!$W$82","v":422583.03936000017},{"$f":"WMO_Planung_Ulm!$W$83","v":407308.95360000012},{"$f":"WMO_Planung_Ulm!$W$84","v":448039.84896000015},{"$f":"WMO_Planung_Ulm!$W$85","v":448039.84896000015}]
[1,30,"prod. Personal","WMOM",2018,{"$f":"WMO_Planung_KRU!$W$74","v":55131.840000000018},{"$f":"WMO_Planung_KRU!$W$75","v":55131.840000000018},{"$f":"WMO_Planung_KRU!$W$76","v":63952.93440000002},{"$f":"WMO_Planung_KRU!$W$77","v":65423.116800000025},{"$f":"WMO_Planung_KRU!$W$78","v":63217.843200000018},{"$f":"WMO_Planung_KRU!$W$79","v":61747.660800000027},{"$f":"WMO_Planung_KRU!$W$80","v":61747.660800000027},{"$f":"WMO_Planung_KRU!$W$81","v":59542.387200000026},{"$f":"WMO_Planung_KRU!$W$82","v":61012.569600000032},{"$f":"WMO_Planung_KRU!$W$83","v":58807.296000000024},{"$f":"WMO_Planung_KRU!$W$84","v":64688.025600000023},{"$f":"WMO_Planung_KRU!$W$85","v":64688.025600000023}]
[1,50,"prod. Personal","WMOM",2018,{"$f":"WMO_Planung_LL!$W$74","v":258384.81599999999},{"$f":"WMO_Planung_LL!$W$75","v":258384.81599999999},{"$f":"WMO_Planung_LL!$W$76","v":299726.38655999996},{"$f":"WMO_Planung_LL!$W$77","v":306616.64831999998},{"$f":"WMO_Planung_LL!$W$78","v":296281.25567999994},{"$f":"WMO_Planung_LL!$W$79","v":289390.99392000004},{"$f":"WMO_Planung_LL!$W$80","v":289390.99392000004},{"$f":"WMO_Planung_LL!$W$81","v":279055.60128},{"$f":"WMO_Planung_LL!$W$82","v":285945.86304000003},{"$f":"WMO_Planung_LL!$W$83","v":275610.47039999999},{"$f":"WMO_Planung_LL!$W$84","v":303171.51743999997},{"$f":"WMO_Planung_LL!$W$85","v":303171.51743999997}]
[2,60,"prod. Personal","WMOM",2018,{"$f":"WMO_Planung_GÖG!$W$74","v":247712.25599999999},{"$f":"WMO_Planung_GÖG!$W$75","v":247712.25599999999},{"$f":"WMO_Planung_GÖG!$W$76","v":287346.21695999999},{"$f":"WMO_Planung_GÖG!$W$77","v":293951.87712000002},{"$f":"WMO_Planung_GÖG!$W$78","v":284043.38688000001},{"$f":"WMO_Planung_GÖG!$W$79","v":277437.72672000004},{"$f":"WMO_Planung_GÖG!$W$80","v":277437.72672000004},{"$f":"WMO_Planung_GÖG!$W$81","v":267529.23648000002},{"$f":"WMO_Planung_GÖG!$W$82","v":274134.89663999999},{"$f":"WMO_Planung_GÖG!$W$83","v":264226.40640000004},{"$f":"WMO_Planung_GÖG!$W$84","v":290649.04703999998},{"$f":"WMO_Planung_GÖG!$W$85","v":290649.04703999998}]
[2,70,"prod. Personal","WMOM",2018,{"$f":"WMO_Planung_LEH!$W$74","v":175786.20000000004},{"$f":"WMO_Planung_LEH!$W$75","v":175786.20000000004},{"$f":"WMO_Planung_LEH!$W$76","v":203911.99200000003},{"$f":"WMO_Planung_LEH!$W$77","v":208599.62400000004},{"$f":"WMO_Planung_LEH!$W$78","v":201568.17600000004},{"$f":"WMO_Planung_LEH!$W$79","v":196880.54400000005},{"$f":"WMO_Planung_LEH!$W$80","v":196880.54400000005},{"$f":"WMO_Planung_LEH!$W$81","v":189849.09600000005},{"$f":"WMO_Planung_LEH!$W$82","v":194536.72800000006},{"$f":"WMO_Planung_LEH!$W$83","v":187505.28000000003},{"$f":"WMO_Planung_LEH!$W$84","v":206255.80800000002},{"$f":"WMO_Planung_LEH!$W$85","v":206255.80800000002}]
[2,80,"prod. Personal","WMOM",2018,{"$f":"WMO_Planung_WTB!$W$74","v":129870.86399999997},{"$f":"WMO_Planung_WTB!$W$75","v":129870.86399999997},{"$f":"WMO_Planung_WTB!$W$76","v":150650.20223999998},{"$f":"WMO_Planung_WTB!$W$77","v":154113.42527999997},{"$f":"WMO_Planung_WTB!$W$78","v":148918.59071999998},{"$f":"WMO_Planung_WTB!$W$79","v":145455.36768},{"$f":"WMO_Planung_WTB!$W$80","v":145455.36768},{"$f":"WMO_Planung_WTB!$W$81","v":140260.53311999998},{"$f":"WMO_Planung_WTB!$W$82","v":143723.75615999999},{"$f":"WMO_Planung_WTB!$W$83","v":138528.92159999997},{"$f":"WMO_Planung_WTB!$W$84","v":152381.81375999996},{"$f":"WMO_Planung_WTB!$W$85","v":152381.81375999996}]

{"sheet":"Saisonalisierung","index":16,"n_rows":59,"n_cols":13,"rows_kept":59,"cut":false,"hidden":false,"merged":[]}
["Jan","Feb","Mrz","Apr","Mai","Jun","Jul","Aug","Sep","Okt","Nov","Dez","Gesamt"]
[7.5499999999999998E-2,7.6999999999999999E-2,8.900000000000001E-2,8.4000000000000005E-2,8.0500000000000002E-2,8.3499999999999991E-2,8.5500000000000007E-2,8.4000000000000005E-2,8.5000000000000006E-2,8.2500000000000004E-2,8.5000000000000006E-2,8.8499999999999995E-2,{"$f":"SUM(A2:L2)","v":1}]
[7.5499999999999998E-2,7.6999999999999999E-2,8.900000000000001E-2,8.4000000000000005E-2,8.0500000000000002E-2,8.3499999999999991E-2,8.5500000000000007E-2,8.4000000000000005E-2,8.5000000000000006E-2,8.2500000000000004E-2,8.5000000000000006E-2,8.8499999999999995E-2,{"$f":"SUM(A3:L3)","v":1}]
[7.5499999999999998E-2,7.6999999999999999E-2,8.900000000000001E-2,8.4000000000000005E-2,8.0500000000000002E-2,8.3499999999999991E-2,8.5500000000000007E-2,8.4000000000000005E-2,8.5000000000000006E-2,8.2500000000000004E-2,8.5000000000000006E-2,8.8499999999999995E-2,1]
[7.5499999999999998E-2,7.6999999999999999E-2,8.900000000000001E-2,8.4000000000000005E-2,8.0500000000000002E-2,8.3499999999999991E-2,8.5500000000000007E-2,8.4000000000000005E-2,8.5000000000000006E-2,8.2500000000000004E-2,8.5000000000000006E-2,8.8499999999999995E-2,1]
[7.5499999999999998E-2,7.6999999999999999E-2,8.900000000000001E-2,8.4000000000000005E-2,8.0500000000000002E-2,8.3499999999999991E-2,8.5500000000000007E-2,8.4000000000000005E-2,8.5000000000000006E-2,8.2500000000000004E-2,8.5000000000000006E-2,8.8499999999999995E-2,1]
[7.5499999999999998E-2,7.6999999999999999E-2,8.900000000000001E-2,8.4000000000000005E-2,8.0500000000000002E-2,8.3499999999999991E-2,8.5500000000000007E-2,8.4000000000000005E-2,8.5000000000000006E-2,8.2500000000000004E-2,8.5000000000000006E-2,8.8499999999999995E-2,1]
[7.5499999999999998E-2,7.6999999999999999E-2,8.900000000000001E-2,8.4000000000000005E-2,8.0500000000000002E-2,8.3499999999999991E-2,8.5500000000000007E-2,8.4000000000000005E-2,8.5000000000000006E-2,8.2500000000000004E-2,8.5000000000000006E-2,8.8499999999999995E-2,1]
[7.5499999999999998E-2,7.6999999999999999E-2,8.900000000000001E-2,8.4000000000000005E-2,8.0500000000000002E-2,8.3499999999999991E-2,8.5500000000000007E-2,8.4000000000000005E-2,8.5000000000000006E-2,8.2500000000000004E-2,8.5000000000000006E-2,8.8499999999999995E-2,1]
[7.5499999999999998E-2,7.6999999999999999E-2,8.900000000000001E-2,8.4000000000000005E-2,8.0500000000000002E-2,8.3499999999999991E-2,8.5500000000000007E-2,8.4000000000000005E-2,8.5000000000000006E-2,8.2500000000000004E-2,8.5000000000000006E-2,8.8499999999999995E-2,1]
[7.5499999999999998E-2,7.6999999999999999E-2,8.900000000000001E-2,8.4000000000000005E-2,8.0500000000000002E-2,8.3499999999999991E-2,8.5500000000000007E-2,8.4000000000000005E-2,8.5000000000000006E-2,8.2500000000000004E-2,8.5000000000000006E-2,8.8499999999999995E-2,1]
[7.5499999999999998E-2,7.6999999999999999E-2,8.900000000000001E-2,8.4000000000000005E-2,8.0500000000000002E-2,8.3499999999999991E-2,8.5500000000000007E-2,8.4000000000000005E-2,8.5000000000000006E-2,8.2500000000000004E-2,8.5000000000000006E-2,8.8499999999999995E-2,1]
[7.5499999999999998E-2,7.6999999999999999E-2,8.900000000000001E-2,8.4000000000000005E-2,8.0500000000000002E-2,8.3499999999999991E-2,8.5500000000000007E-2,8.4000000000000005E-2,8.5000000000000006E-2,8.2500000000000004E-2,8.5000000000000006E-2,8.8499999999999995E-2,1]
[7.5499999999999998E-2,7.6999999999999999E-2,8.900000000000001E-2,8.4000000000000005E-2,8.0500000000000002E-2,8.3499999999999991E-2,8.5500000000000007E-2,8.4000000000000005E-2,8.5000000000000006E-2,8.2500000000000004E-2,8.5000000000000006E-2,8.8499999999999995E-2,1]
[7.5499999999999998E-2,7.6999999999999999E-2,8.900000000000001E-2,8.4000000000000005E-2,8.0500000000000002E-2,8.3499999999999991E-2,8.5500000000000007E-2,8.4000000000000005E-2,8.5000000000000006E-2,8.2500000000000004E-2,8.5000000000000006E-2,8.8499999999999995E-2,1]
[7.5499999999999998E-2,7.6999999999999999E-2,8.900000000000001E-2,8.4000000000000005E-2,8.0500000000000002E-2,8.3499999999999991E-2,8.5500000000000007E-2,8.4000000000000005E-2,8.5000000000000006E-2,8.2500000000000004E-2,8.5000000000000006E-2,8.8499999999999995E-2,1]
[7.5499999999999998E-2,7.6999999999999999E-2,8.900000000000001E-2,8.4000000000000005E-2,8.0500000000000002E-2,8.3499999999999991E-2,8.5500000000000007E-2,8.4000000000000005E-2,8.5000000000000006E-2,8.2500000000000004E-2,8.5000000000000006E-2,8.8499999999999995E-2,1]
[7.5499999999999998E-2,7.6999999999999999E-2,8.900000000000001E-2,8.4000000000000005E-2,8.0500000000000002E-2,8.3499999999999991E-2,8.5500000000000007E-2,8.4000000000000005E-2,8.5000000000000006E-2,8.2500000000000004E-2,8.5000000000000006E-2,8.8499999999999995E-2,1]
[7.5499999999999998E-2,7.6999999999999999E-2,8.900000000000001E-2,8.4000000000000005E-2,8.0500000000000002E-2,8.3499999999999991E-2,8.5500000000000007E-2,8.4000000000000005E-2,8.5000000000000006E-2,8.2500000000000004E-2,8.5000000000000006E-2,8.8499999999999995E-2,1]
[7.5499999999999998E-2,7.6999999999999999E-2,8.900000000000001E-2,8.4000000000000005E-2,8.0500000000000002E-2,8.3499999999999991E-2,8.5500000000000007E-2,8.4000000000000005E-2,8.5000000000000006E-2,8.2500000000000004E-2,8.5000000000000006E-2,8.8499999999999995E-2,1]
[7.5499999999999998E-2,7.6999999999999999E-2,8.900000000000001E-2,8.4000000000000005E-2,8.0500000000000002E-2,8.3499999999999991E-2,8.5500000000000007E-2,8.4000000000000005E-2,8.5000000000000006E-2,8.2500000000000004E-2,8.5000000000000006E-2,8.8499999999999995E-2,1]
[7.5499999999999998E-2,7.6999999999999999E-2,8.900000000000001E-2,8.4000000000000005E-2,8.0500000000000002E-2,8.3499999999999991E-2,8.5500000000000007E-2,8.4000000000000005E-2,8.5000000000000006E-2,8.2500000000000004E-2,8.5000000000000006E-2,8.8499999999999995E-2,1]
[7.5499999999999998E-2,7.6999999999999999E-2,8.900000000000001E-2,8.4000000000000005E-2,8.0500000000000002E-2,8.3499999999999991E-2,8.5500000000000007E-2,8.4000000000000005E-2,8.5000000000000006E-2,8.2500000000000004E-2,8.5000000000000006E-2,8.8499999999999995E-2,1]
[7.5499999999999998E-2,7.6999999999999999E-2,8.900000000000001E-2,8.4000000000000005E-2,8.0500000000000002E-2,8.3499999999999991E-2,8.5500000000000007E-2,8.4000000000000005E-2,8.5000000000000006E-2,8.2500000000000004E-2,8.5000000000000006E-2,8.8499999999999995E-2,1]
[7.5499999999999998E-2,7.6999999999999999E-2,8.900000000000001E-2,8.4000000000000005E-2,8.0500000000000002E-2,8.3499999999999991E-2,8.5500000000000007E-2,8.4000000000000005E-2,8.5000000000000006E-2,8.2500000000000004E-2,8.5000000000000006E-2,8.8499999999999995E-2,1]
[7.5499999999999998E-2,7.6999999999999999E-2,8.900000000000001E-2,8.4000000000000005E-2,8.0500000000000002E-2,8.3499999999999991E-2,8.5500000000000007E-2,8.4000000000000005E-2,8.5000000000000006E-2,8.2500000000000004E-2,8.5000000000000006E-2,8.8499999999999995E-2,1]
[7.5499999999999998E-2,7.6999999999999999E-2,8.900000000000001E-2,8.4000000000000005E-2,8.0500000000000002E-2,8.3499999999999991E-2,8.5500000000000007E-2,8.4000000000000005E-2,8.5000000000000006E-2,8.2500000000000004E-2,8.5000000000000006E-2,8.8499999999999995E-2,1]
[7.5499999999999998E-2,7.6999999999999999E-2,8.900000000000001E-2,8.4000000000000005E-2,8.0500000000000002E-2,8.3499999999999991E-2,8.5500000000000007E-2,8.4000000000000005E-2,8.5000000000000006E-2,8.2500000000000004E-2,8.5000000000000006E-2,8.8499999999999995E-2,1]
[7.5499999999999998E-2,7.6999999999999999E-2,8.900000000000001E-2,8.4000000000000005E-2,8.0500000000000002E-2,8.3499999999999991E-2,8.5500000000000007E-2,8.4000000000000005E-2,8.5000000000000006E-2,8.2500000000000004E-2,8.5000000000000006E-2,8.8499999999999995E-2,1]
[7.5499999999999998E-2,7.6999999999999999E-2,8.900000000000001E-2,8.4000000000000005E-2,8.0500000000000002E-2,8.3499999999999991E-2,8.5500000000000007E-2,8.4000000000000005E-2,8.5000000000000006E-2,8.2500000000000004E-2,8.5000000000000006E-2,8.8499999999999995E-2,1]
[7.5499999999999998E-2,7.6999999999999999E-2,8.900000000000001E-2,8.4000000000000005E-2,8.0500000000000002E-2,8.3499999999999991E-2,8.5500000000000007E-2,8.4000000000000005E-2,8.5000000000000006E-2,8.2500000000000004E-2,8.5000000000000006E-2,8.8499999999999995E-2,1]
[7.5499999999999998E-2,7.6999999999999999E-2,8.900000000000001E-2,8.4000000000000005E-2,8.0500000000000002E-2,8.3499999999999991E-2,8.5500000000000007E-2,8.4000000000000005E-2,8.5000000000000006E-2,8.2500000000000004E-2,8.5000000000000006E-2,8.8499999999999995E-2,1]
[7.5499999999999998E-2,7.6999999999999999E-2,8.900000000000001E-2,8.4000000000000005E-2,8.0500000000000002E-2,8.3499999999999991E-2,8.5500000000000007E-2,8.4000000000000005E-2,8.5000000000000006E-2,8.2500000000000004E-2,8.5000000000000006E-2,8.8499999999999995E-2,1]
[7.5499999999999998E-2,7.6999999999999999E-2,8.900000000000001E-2,8.4000000000000005E-2,8.0500000000000002E-2,8.3499999999999991E-2,8.5500000000000007E-2,8.4000000000000005E-2,8.5000000000000006E-2,8.2500000000000004E-2,8.5000000000000006E-2,8.8499999999999995E-2,1]
[7.5499999999999998E-2,7.6999999999999999E-2,8.900000000000001E-2,8.4000000000000005E-2,8.0500000000000002E-2,8.3499999999999991E-2,8.5500000000000007E-2,8.4000000000000005E-2,8.5000000000000006E-2,8.2500000000000004E-2,8.5000000000000006E-2,8.8499999999999995E-2,1]
[7.5499999999999998E-2,7.6999999999999999E-2,8.900000000000001E-2,8.4000000000000005E-2,8.0500000000000002E-2,8.3499999999999991E-2,8.5500000000000007E-2,8.4000000000000005E-2,8.5000000000000006E-2,8.2500000000000004E-2,8.5000000000000006E-2,8.8499999999999995E-2,1]
[7.5499999999999998E-2,7.6999999999999999E-2,8.900000000000001E-2,8.4000000000000005E-2,8.0500000000000002E-2,8.3499999999999991E-2,8.5500000000000007E-2,8.4000000000000005E-2,8.5000000000000006E-2,8.2500000000000004E-2,8.5000000000000006E-2,8.8499999999999995E-2,1]
[7.5499999999999998E-2,7.6999999999999999E-2,8.900000000000001E-2,8.4000000000000005E-2,8.0500000000000002E-2,8.3499999999999991E-2,8.5500000000000007E-2,8.4000000000000005E-2,8.5000000000000006E-2,8.2500000000000004E-2,8.5000000000000006E-2,8.8499999999999995E-2,1]
[7.5499999999999998E-2,7.6999999999999999E-2,8.900000000000001E-2,8.4000000000000005E-2,8.0500000000000002E-2,8.3499999999999991E-2,8.5500000000000007E-2,8.4000000000000005E-2,8.5000000000000006E-2,8.2500000000000004E-2,8.5000000000000006E-2,8.8499999999999995E-2,1]
[7.5499999999999998E-2,7.6999999999999999E-2,8.900000000000001E-2,8.4000000000000005E-2,8.0500000000000002E-2,8.3499999999999991E-2,8.5500000000000007E-2,8.4000000000000005E-2,8.5000000000000006E-2,8.2500000000000004E-2,8.5000000000000006E-2,8.8499999999999995E-2,1]
[7.5499999999999998E-2,7.6999999999999999E-2,8.900000000000001E-2,8.4000000000000005E-2,8.0500000000000002E-2,8.3499999999999991E-2,8.5500000000000007E-2,8.4000000000000005E-2,8.5000000000000006E-2,8.2500000000000004E-2,8.5000000000000006E-2,8.8499999999999995E-2,1]
[7.5499999999999998E-2,7.6999999999999999E-2,8.900000000000001E-2,8.4000000000000005E-2,8.0500000000000002E-2,8.3499999999999991E-2,8.5500000000000007E-2,8.4000000000000005E-2,8.5000000000000006E-2,8.2500000000000004E-2,8.5000000000000006E-2,8.8499999999999995E-2,1]
[7.5499999999999998E-2,7.6999999999999999E-2,8.900000000000001E-2,8.4000000000000005E-2,8.0500000000000002E-2,8.3499999999999991E-2,8.5500000000000007E-2,8.4000000000000005E-2,8.5000000000000006E-2,8.2500000000000004E-2,8.5000000000000006E-2,8.8499999999999995E-2,1]
[7.5499999999999998E-2,7.6999999999999999E-2,8.900000000000001E-2,8.4000000000000005E-2,8.0500000000000002E-2,8.3499999999999991E-2,8.5500000000000007E-2,8.4000000000000005E-2,8.5000000000000006E-2,8.2500000000000004E-2,8.5000000000000006E-2,8.8499999999999995E-2,1]
[7.5499999999999998E-2,7.6999999999999999E-2,8.900000000000001E-2,8.4000000000000005E-2,8.0500000000000002E-2,8.3499999999999991E-2,8.5500000000000007E-2,8.4000000000000005E-2,8.5000000000000006E-2,8.2500000000000004E-2,8.5000000000000006E-2,8.8499999999999995E-2,1]
[7.5499999999999998E-2,7.6999999999999999E-2,8.900000000000001E-2,8.4000000000000005E-2,8.0500000000000002E-2,8.3499999999999991E-2,8.5500000000000007E-2,8.4000000000000005E-2,8.5000000000000006E-2,8.2500000000000004E-2,8.5000000000000006E-2,8.8499999999999995E-2,1]
[7.5499999999999998E-2,7.6999999999999999E-2,8.900000000000001E-2,8.4000000000000005E-2,8.0500000000000002E-2,8.3499999999999991E-2,8.5500000000000007E-2,8.4000000000000005E-2,8.5000000000000006E-2,8.2500000000000004E-2,8.5000000000000006E-2,8.8499999999999995E-2,1]
[7.5499999999999998E-2,7.6999999999999999E-2,8.900000000000001E-2,8.4000000000000005E-2,8.0500000000000002E-2,8.3499999999999991E-2,8.5500000000000007E-2,8.4000000000000005E-2,8.5000000000000006E-2,8.2500000000000004E-2,8.5000000000000006E-2,8.8499999999999995E-2,1]
[7.5499999999999998E-2,7.6999999999999999E-2,8.900000000000001E-2,8.4000000000000005E-2,8.0500000000000002E-2,8.3499999999999991E-2,8.5500000000000007E-2,8.4000000000000005E-2,8.5000000000000006E-2,8.2500000000000004E-2,8.5000000000000006E-2,8.8499999999999995E-2,1]
[7.5499999999999998E-2,7.6999999999999999E-2,8.900000000000001E-2,8.4000000000000005E-2,8.0500000000000002E-2,8.3499999999999991E-2,8.5500000000000007E-2,8.4000000000000005E-2,8.5000000000000006E-2,8.2500000000000004E-2,8.5000000000000006E-2,8.8499999999999995E-2,1]
[7.5499999999999998E-2,7.6999999999999999E-2,8.900000000000001E-2,8.4000000000000005E-2,8.0500000000000002E-2,8.3499999999999991E-2,8.5500000000000007E-2,8.4000000000000005E-2,8.5000000000000006E-2,8.2500000000000004E-2,8.5000000000000006E-2,8.8499999999999995E-2,1]
[7.5499999999999998E-2,7.6999999999999999E-2,8.900000000000001E-2,8.4000000000000005E-2,8.0500000000000002E-2,8.3499999999999991E-2,8.5500000000000007E-2,8.4000000000000005E-2,8.5000000000000006E-2,8.2500000000000004E-2,8.5000000000000006E-2,8.8499999999999995E-2,1]
[7.5499999999999998E-2,7.6999999999999999E-2,8.900000000000001E-2,8.4000000000000005E-2,8.0500000000000002E-2,8.3499999999999991E-2,8.5500000000000007E-2,8.4000000000000005E-2,8.5000000000000006E-2,8.2500000000000004E-2,8.5000000000000006E-2,8.8499999999999995E-2,1]
[7.5499999999999998E-2,7.6999999999999999E-2,8.900000000000001E-2,8.4000000000000005E-2,8.0500000000000002E-2,8.3499999999999991E-2,8.5500000000000007E-2,8.4000000000000005E-2,8.5000000000000006E-2,8.2500000000000004E-2,8.5000000000000006E-2,8.8499999999999995E-2,1]
[7.5499999999999998E-2,7.6999999999999999E-2,8.900000000000001E-2,8.4000000000000005E-2,8.0500000000000002E-2,8.3499999999999991E-2,8.5500000000000007E-2,8.4000000000000005E-2,8.5000000000000006E-2,8.2500000000000004E-2,8.5000000000000006E-2,8.8499999999999995E-2,1]
[7.5499999999999998E-2,7.6999999999999999E-2,8.900000000000001E-2,8.4000000000000005E-2,8.0500000000000002E-2,8.3499999999999991E-2,8.5500000000000007E-2,8.4000000000000005E-2,8.5000000000000006E-2,8.2500000000000004E-2,8.5000000000000006E-2,8.8499999999999995E-2,1]
[7.5499999999999998E-2,7.6999999999999999E-2,8.900000000000001E-2,8.4000000000000005E-2,8.0500000000000002E-2,8.3499999999999991E-2,8.5500000000000007E-2,8.4000000000000005E-2,8.5000000000000006E-2,8.2500000000000004E-2,8.5000000000000006E-2,8.8499999999999995E-2,1]
[7.5499999999999998E-2,7.6999999999999999E-2,8.900000000000001E-2,8.4000000000000005E-2,8.0500000000000002E-2,8.3499999999999991E-2,8.5500000000000007E-2,8.4000000000000005E-2,8.5000000000000006E-2,8.2500000000000004E-2,8.5000000000000006E-2,8.8499999999999995E-2,1]
[7.5499999999999998E-2,7.6999999999999999E-2,8.900000000000001E-2,8.4000000000000005E-2,8.0500000000000002E-2,8.3499999999999991E-2,8.5500000000000007E-2,8.4000000000000005E-2,8.5000000000000006E-2,8.2500000000000004E-2,8.5000000000000006E-2,8.8499999999999995E-2,1]

{"sheet":"Basisdaten","index":17,"n_rows":59,"n_cols":21,"rows_kept":59,"cut":false,"hidden":false,"merged":[]}
[{"$nulls":5},"Jahr","Jahr","Jahr",null,null,"Jahr",null,"Jahr",null,null,null,"Jahr",null,"Jahr"]
["Serviceberater","Standort","Abteilung","extern/        intern","Zeitraum ab Monat","Lohn-umsatz","Teile-umsatz","Lohn und Teile","LU pro DG","TU pro DG","DG","Fakt. AW/DG","Fakt. AW","DG/Tag","AW-Satz","SB am FZG mit KD","SB am FZG mit KD","SB am FZG ohne KD","SB am FZG ohne KD",null,"Invoice Date"]
[{"$nulls":15},"%","absolut","%","absolut"]
["Erich Harzenetter - SCBK",10,"Karosserie","extern Kar.",1,{"$f":"SCB_Planung_MM!$D$19","v":593208},{"$f":"SCB_Planung_MM!$D$15*N4*J4","v":694430},{"$f":"F4+G4","v":1287638},{"$f":"F4/K4","v":252},295,{"$f":"SCB_Planung_MM!$D$15*N4","v":2354},{"$f":"SCB_Planung_MM!$D$17","v":24},{"$f":"K4*L4","v":56496},{"$f":"SCB_Planung_MM!$D$16","v":11},{"$f":"SCB_Planung_MM!$D$18","v":10.5},0.5,{"$f":"K4*P4","v":1177},0.2,{"$f":"K4*R4","v":470.8},null,2022]
["Johannes Grieser - SCBI",10,"Mechanik","intern Mech.",1,{"$f":"SCB_Planung_MM!$D$19","v":593208},{"$f":"SCB_Planung_MM!$D$15*N5*J5","v":694430},1287638,252,295,{"$f":"SCB_Planung_MM!$D$15*N5","v":2354},{"$f":"SCB_Planung_MM!$D$17","v":24},56496,{"$f":"SCB_Planung_MM!$D$16","v":11},{"$f":"SCB_Planung_MM!$D$18","v":10.5},0.5,{"$f":"K5*P5","v":1177},0.1,{"$f":"K5*R5","v":235.4},null,2022]
["Mike Weber",10,"Mechanik","extern Mech.",1,{"$f":"SCB_Planung_MM!$D$19","v":593208},{"$f":"SCB_Planung_MM!$D$15*N6*J6","v":694430},1287638,252,295,{"$f":"SCB_Planung_MM!$D$15*N6","v":2354},{"$f":"SCB_Planung_MM!$D$17","v":24},56496,{"$f":"SCB_Planung_MM!$D$16","v":11},{"$f":"SCB_Planung_MM!$D$18","v":10.5},0.4,{"$f":"K6*P6","v":941.6},0.1,{"$f":"K6*R6","v":235.4},null,2022]
["Rudolf Maier",10,"Mechanik","extern Mech.",1,{"$f":"SCB_Planung_MM!$D$19","v":593208},{"$f":"SCB_Planung_MM!$D$15*N7*J7","v":694430},1287638,252,295,{"$f":"SCB_Planung_MM!$D$15*N7","v":2354},{"$f":"SCB_Planung_MM!$D$17","v":24},56496,{"$f":"SCB_Planung_MM!$D$16","v":11},{"$f":"SCB_Planung_MM!$D$18","v":10.5},0.5,{"$f":"K7*P7","v":1177},0.2,{"$f":"K7*R7","v":470.8},null,2022]
["Hermann Haller_",10,"Mechanik","extern Mech.","x",{"$f":"SCB_Planung_MM!$D$19","v":593208},{"$f":"SCB_Planung_MM!$D$15*N8*J8","v":694430},1287638,252,295,{"$f":"SCB_Planung_MM!$D$15*N8","v":2354},{"$f":"SCB_Planung_MM!$D$17","v":24},56496,{"$f":"SCB_Planung_MM!$D$16","v":11},{"$f":"SCB_Planung_MM!$D$18","v":10.5},0.5,1177,0.1,235.4,null,2022]
["Christopher Kirmayer",10,"Mechanik","extern Mech.",1,{"$f":"SCB_Planung_MM!$D$19","v":593208},{"$f":"SCB_Planung_MM!$D$15*N9*J9","v":694430},1287638,252,295,{"$f":"SCB_Planung_MM!$D$15*N9","v":2354},{"$f":"SCB_Planung_MM!$D$17","v":24},56496,{"$f":"SCB_Planung_MM!$D$16","v":11},{"$f":"SCB_Planung_MM!$D$18","v":10.5},0.5,1177,0.1,235.4,null,2022]
["Jörg Reifenrath",10,"Mechanik","extern Mech.",1,{"$f":"SCB_Planung_MM!$D$19","v":593208},{"$f":"SCB_Planung_MM!$D$15*N10*J10","v":694430},1287638,252,295,{"$f":"SCB_Planung_MM!$D$15*N10","v":2354},{"$f":"SCB_Planung_MM!$D$17","v":24},56496,{"$f":"SCB_Planung_MM!$D$16","v":11},{"$f":"SCB_Planung_MM!$D$18","v":10.5},0.5,1177,0.1,235.4,null,2022]
["Günter Küblbeck - SCBI_",10,"Mechanik","extern Mech.","x",{"$f":"SCB_Planung_MM!$D$19","v":593208},{"$f":"SCB_Planung_MM!$D$15*N11*J11","v":694430},1287638,252,295,{"$f":"SCB_Planung_MM!$D$15*N11","v":2354},{"$f":"SCB_Planung_MM!$D$17","v":24},56496,{"$f":"SCB_Planung_MM!$D$16","v":11},{"$f":"SCB_Planung_MM!$D$18","v":10.5},0.5,{"$f":"K11*P11","v":1177},0.1,{"$f":"K11*R11","v":235.4},null,2022]
["Patrick Kresser",10,"Mechanik","extern Mech.",1,{"$f":"SCB_Planung_MM!$D$19","v":593208},{"$f":"SCB_Planung_MM!$D$15*N12*J12","v":694430},1287638,252,295,{"$f":"SCB_Planung_MM!$D$15*N12","v":2354},{"$f":"SCB_Planung_MM!$D$17","v":24},56496,{"$f":"SCB_Planung_MM!$D$16","v":11},{"$f":"SCB_Planung_MM!$D$18","v":10.5},0.5,{"$f":"K12*P12","v":1177},0.1,{"$f":"K12*R12","v":235.4},null,2022]
["Ralf Ruchti",30,"Mechanik","extern Mech.",1,{"$f":"SCB_Planung_KRU!$D$19*T13","v":415245.6},{"$f":"SCB_Planung_KRU!$D$15*N13*J13","v":486101},901346.6,252,295,{"$f":"SCB_Planung_KRU!$D$15*N13","v":1647.8},{"$f":"SCB_Planung_KRU!$D$17","v":24},39547.199999999997,{"$f":"SCB_Planung_KRU!$D$16*T13","v":7.6999999999999993},{"$f":"SCB_Planung_KRU!$D$18","v":10.5},0.5,823.9,0.2,329.56,0.7,2022]
["Matthias Mirga",30,"Mechanik","extern Mech.",1,{"$f":"SCB_Planung_KRU!$D$19","v":593208},{"$f":"SCB_Planung_KRU!$D$15*N14*J14","v":694430},1287638,252,295,{"$f":"SCB_Planung_KRU!$D$15*N14","v":2354},{"$f":"SCB_Planung_KRU!$D$17","v":24},56496,{"$f":"SCB_Planung_KRU!$D$16","v":11},{"$f":"SCB_Planung_KRU!$D$18","v":10.5},0.5,1177,0.2,470.8,null,2022]
["Wolfgang Heckelmiller - SCBK",40,"Mechanik","extern Mech.",1,{"$f":"SCB_Planung_Ulm!$D$19","v":593208},{"$f":"SCB_Planung_Ulm!$D$15*N15*J15","v":694430},1287638,252,295,{"$f":"SCB_Planung_Ulm!$D$15*N15","v":2354},{"$f":"SCB_Planung_Ulm!$D$17","v":24},56496,{"$f":"SCB_Planung_Ulm!$D$16","v":11},{"$f":"SCB_Planung_Ulm!$D$18","v":10.5},0.6,1412.3999999999999,0.2,470.8,null,2022]
["Daniel Klingenstein",40,"Mechanik","extern Mech.",1,{"$f":"SCB_Planung_Ulm!$D$19","v":593208},{"$f":"SCB_Planung_Ulm!$D$15*N16*J16","v":694430},1287638,252,295,{"$f":"SCB_Planung_Ulm!$D$15*N16","v":2354},{"$f":"SCB_Planung_Ulm!$D$17","v":24},56496,{"$f":"SCB_Planung_Ulm!$D$16","v":11},{"$f":"SCB_Planung_Ulm!$D$18","v":10.5},0.6,{"$f":"K16*P16","v":1412.3999999999999},0.2,{"$f":"K16*R16","v":470.8},null,2022]
["Alnes Zenic",40,"Mechanik","extern Mech.",1,{"$f":"SCB_Planung_Ulm!$D$19","v":593208},{"$f":"SCB_Planung_Ulm!$D$15*N17*J17","v":694430},1287638,252,295,{"$f":"SCB_Planung_Ulm!$D$15*N17","v":2354},{"$f":"SCB_Planung_Ulm!$D$17","v":24},56496,{"$f":"SCB_Planung_Ulm!$D$16","v":11},{"$f":"SCB_Planung_Ulm!$D$18","v":10.5},0.6,1412.3999999999999,0.2,470.8,null,2022]
["Mehmet Dikmen",40,"Mechanik","extern Mech.",1,{"$f":"SCB_Planung_Ulm!$D$19","v":593208},{"$f":"SCB_Planung_Ulm!$D$15*N18*J18","v":694430},1287638,252,295,{"$f":"SCB_Planung_Ulm!$D$15*N18","v":2354},{"$f":"SCB_Planung_Ulm!$D$17","v":24},56496,{"$f":"SCB_Planung_Ulm!$D$16","v":11},{"$f":"SCB_Planung_Ulm!$D$18","v":10.5},0.6,1412.3999999999999,0.2,470.8,null,2022]
["Gerrit Heine",40,"Mechanik","extern Mech.",1,{"$f":"SCB_Planung_Ulm!$D$19","v":593208},{"$f":"SCB_Planung_Ulm!$D$15*N19*J19","v":694430},1287638,252,295,{"$f":"SCB_Planung_Ulm!$D$15*N19","v":2354},{"$f":"SCB_Planung_Ulm!$D$17","v":24},56496,{"$f":"SCB_Planung_Ulm!$D$16","v":11},{"$f":"SCB_Planung_Ulm!$D$18","v":10.5},0.6,1412.3999999999999,0.2,470.8,null,2022]
["Lars Krausen",40,"Mechanik","extern Mech.",1,{"$f":"SCB_Planung_Ulm!$D$19","v":593208},{"$f":"SCB_Planung_Ulm!$D$15*N20*J20","v":694430},1287638,252,295,{"$f":"SCB_Planung_Ulm!$D$15*N20","v":2354},{"$f":"SCB_Planung_Ulm!$D$17","v":24},56496,{"$f":"SCB_Planung_Ulm!$D$16","v":11},{"$f":"SCB_Planung_Ulm!$D$18","v":10.5},0.6,1412.3999999999999,0.2,470.8,null,2022]
["Hubert Figura - SCBI",40,"Mechanik","extern Mech.",1,{"$f":"SCB_Planung_Ulm!$D$19","v":593208},{"$f":"SCB_Planung_Ulm!$D$15*N21*J21","v":694430},1287638,252,295,{"$f":"SCB_Planung_Ulm!$D$15*N21","v":2354},{"$f":"SCB_Planung_Ulm!$D$17","v":24},56496,{"$f":"SCB_Planung_Ulm!$D$16","v":11},{"$f":"SCB_Planung_Ulm!$D$18","v":10.5},0.6,1412.3999999999999,0.2,470.8,null,2022]
["Jan-Oliver Knaus",40,"Mechanik","extern Mech.",1,{"$f":"SCB_Planung_Ulm!$D$19","v":593208},{"$f":"SCB_Planung_Ulm!$D$15*N22*J22","v":694430},1287638,252,295,{"$f":"SCB_Planung_Ulm!$D$15*N22","v":2354},{"$f":"SCB_Planung_Ulm!$D$17","v":24},56496,{"$f":"SCB_Planung_Ulm!$D$16","v":11},{"$f":"SCB_Planung_Ulm!$D$18","v":10.5},0.6,1412.3999999999999,0.2,470.8,null,2022]
["Hakan Celik_ULM",40,"Mechanik","extern Mech.","x",{"$f":"SCB_Planung_Ulm!$D$19","v":593208},{"$f":"SCB_Planung_Ulm!$D$15*N23*J23","v":694430},1287638,252,295,{"$f":"SCB_Planung_Ulm!$D$15*N23","v":2354},{"$f":"SCB_Planung_Ulm!$D$17","v":24},56496,{"$f":"SCB_Planung_Ulm!$D$16","v":11},{"$f":"SCB_Planung_Ulm!$D$18","v":10.5},0.6,1412.3999999999999,0.2,470.8,null,2022]
["Andreas Walter",40,"Mechanik","extern Mech.",1,{"$f":"SCB_Planung_Ulm!$D$19","v":593208},{"$f":"SCB_Planung_Ulm!$D$15*N24*J24","v":694430},1287638,252,295,{"$f":"SCB_Planung_Ulm!$D$15*N24","v":2354},{"$f":"SCB_Planung_Ulm!$D$17","v":24},56496,{"$f":"SCB_Planung_Ulm!$D$16","v":11},{"$f":"SCB_Planung_Ulm!$D$18","v":10.5},0.6,1412.3999999999999,0.2,470.8,null,2022]
["Fatih Cetiner",40,"Mechanik","extern Mech.",1,{"$f":"SCB_Planung_Ulm!$D$19","v":593208},{"$f":"SCB_Planung_Ulm!$D$15*N25*J25","v":694430},1287638,252,295,{"$f":"SCB_Planung_Ulm!$D$15*N25","v":2354},{"$f":"SCB_Planung_Ulm!$D$17","v":24},56496,{"$f":"SCB_Planung_Ulm!$D$16","v":11},{"$f":"SCB_Planung_Ulm!$D$18","v":10.5},0.6,1412.3999999999999,0.2,470.8,null,2022]
["Carlheinz Beylacher",50,"Mechanik","extern Mech.",1,{"$f":"SCB_Planung_LL!$D$19","v":593208},{"$f":"SCB_Planung_LL!$D$15*N26*J26","v":694430},1287638,252,295,{"$f":"SCB_Planung_LL!$D$15*N26","v":2354},{"$f":"SCB_Planung_LL!$D$17","v":24},56496,{"$f":"SCB_Planung_LL!$D$16","v":11},{"$f":"SCB_Planung_LL!$D$18","v":10.5},0.5,1177,0.2,470.8,null,2022]
["Christoph Ziegler",50,"Mechanik","extern Mech.",1,{"$f":"SCB_Planung_LL!$D$19","v":593208},{"$f":"SCB_Planung_LL!$D$15*N27*J27","v":694430},1287638,252,295,{"$f":"SCB_Planung_LL!$D$15*N27","v":2354},{"$f":"SCB_Planung_LL!$D$17","v":24},56496,{"$f":"SCB_Planung_LL!$D$16","v":11},{"$f":"SCB_Planung_LL!$D$18","v":10.5},0.5,{"$f":"K27*P27","v":1177},0.2,{"$f":"K27*R27","v":470.8},null,2022]
["Steffen Schiller",50,"Mechanik","extern Mech.",1,{"$f":"SCB_Planung_LL!$D$19","v":593208},{"$f":"SCB_Planung_LL!$D$15*N28*J28","v":694430},1287638,252,295,{"$f":"SCB_Planung_LL!$D$15*N28","v":2354},{"$f":"SCB_Planung_LL!$D$17","v":24},56496,{"$f":"SCB_Planung_LL!$D$16","v":11},{"$f":"SCB_Planung_LL!$D$18","v":10.5},0.5,1177,0.2,470.8,null,2022]
["André Pfeffer - SCBI",50,"Mechanik","extern Mech.",1,{"$f":"SCB_Planung_LL!$D$19","v":593208},{"$f":"SCB_Planung_LL!$D$15*N29*J29","v":694430},1287638,252,295,{"$f":"SCB_Planung_LL!$D$15*N29","v":2354},{"$f":"SCB_Planung_LL!$D$17","v":24},56496,{"$f":"SCB_Planung_LL!$D$16","v":11},{"$f":"SCB_Planung_LL!$D$18","v":10.5},0.5,1177,0.2,470.8,null,2022]
["Christian Wiedemann",50,"Mechanik","extern Mech.",1,{"$f":"SCB_Planung_LL!$D$19","v":593208},{"$f":"SCB_Planung_LL!$D$15*N30*J30","v":694430},1287638,252,295,{"$f":"SCB_Planung_LL!$D$15*N30","v":2354},{"$f":"SCB_Planung_LL!$D$17","v":24},56496,{"$f":"SCB_Planung_LL!$D$16","v":11},{"$f":"SCB_Planung_LL!$D$18","v":10.5},0.5,1177,0.2,470.8,null,2022]
["Daniel Aschmann_",50,"Mechanik","extern Mech.","x",{"$f":"SCB_Planung_LL!$D$19","v":593208},{"$f":"SCB_Planung_LL!$D$15*N31*J31","v":694430},1287638,252,295,{"$f":"SCB_Planung_LL!$D$15*N31","v":2354},{"$f":"SCB_Planung_LL!$D$17","v":24},56496,{"$f":"SCB_Planung_LL!$D$16","v":11},{"$f":"SCB_Planung_LL!$D$18","v":10.5},0.5,1177,0.2,470.8,null,2022]
["Dirk Heditzsch",60,"Mechanik","extern Mech.",4,{"$f":"SCB_Planung_GÖG!$D$19","v":593208},{"$f":"SCB_Planung_GÖG!$D$15*N32*J32","v":694430},1287638,252,295,{"$f":"SCB_Planung_GÖG!$D$15*N32","v":2354},{"$f":"SCB_Planung_GÖG!$D$17","v":24},56496,{"$f":"SCB_Planung_GÖG!$D$16","v":11},{"$f":"SCB_Planung_GÖG!$D$18","v":10.5},0.6,1412.3999999999999,0.2,470.8,null,2022]
["Marco Hanigk",60,"Mechanik","extern Mech.",1,{"$f":"SCB_Planung_GÖG!$D$19","v":593208},{"$f":"SCB_Planung_GÖG!$D$15*N33*J33","v":694430},{"$f":"F33+G33","v":1287638},{"$f":"F33/K33","v":252},295,{"$f":"SCB_Planung_GÖG!$D$15*N33","v":2354},{"$f":"SCB_Planung_GÖG!$D$17","v":24},{"$f":"K33*L33","v":56496},{"$f":"SCB_Planung_GÖG!$D$16","v":11},{"$f":"SCB_Planung_GÖG!$D$18","v":10.5},0.6,{"$f":"K33*P33","v":1412.3999999999999},0.2,{"$f":"K33*R33","v":470.8},null,2022]
["Marcel Lankes",60,"Mechanik","extern Mech.",4,{"$f":"SCB_Planung_GÖG!$D$19","v":593208},{"$f":"SCB_Planung_GÖG!$D$15*N34*J34","v":694430},1287638,252,295,{"$f":"SCB_Planung_GÖG!$D$15*N34","v":2354},{"$f":"SCB_Planung_GÖG!$D$17","v":24},56496,{"$f":"SCB_Planung_GÖG!$D$16","v":11},{"$f":"SCB_Planung_GÖG!$D$18","v":10.5},0.6,1412.3999999999999,0.2,470.8,null,2022]
["Roland Klier",60,"Mechanik","extern Mech.",1,{"$f":"SCB_Planung_GÖG!$D$19","v":593208},{"$f":"SCB_Planung_GÖG!$D$15*N35*J35","v":694430},1287638,252,295,{"$f":"SCB_Planung_GÖG!$D$15*N35","v":2354},{"$f":"SCB_Planung_GÖG!$D$17","v":24},56496,{"$f":"SCB_Planung_GÖG!$D$16","v":11},{"$f":"SCB_Planung_GÖG!$D$18","v":10.5},0.6,1412.3999999999999,0.2,470.8,null,2022]
["Mert Güngör",60,"Mechanik","extern Mech.",6,{"$f":"SCB_Planung_GÖG!$D$19","v":593208},{"$f":"SCB_Planung_GÖG!$D$15*N36*J36","v":694430},1287638,252,295,{"$f":"SCB_Planung_GÖG!$D$15*N36","v":2354},{"$f":"SCB_Planung_GÖG!$D$17","v":24},56496,{"$f":"SCB_Planung_GÖG!$D$16","v":11},{"$f":"SCB_Planung_GÖG!$D$18","v":10.5},0.6,1412.3999999999999,0.2,470.8,null,2022]
["Matthias Hagg",60,"Mechanik","extern Mech.",1,{"$f":"SCB_Planung_GÖG!$D$19","v":593208},{"$f":"SCB_Planung_GÖG!$D$15*N37*J37","v":694430},1287638,252,295,{"$f":"SCB_Planung_GÖG!$D$15*N37","v":2354},{"$f":"SCB_Planung_GÖG!$D$17","v":24},56496,{"$f":"SCB_Planung_GÖG!$D$16","v":11},{"$f":"SCB_Planung_GÖG!$D$18","v":10.5},0.6,1412.3999999999999,0.2,470.8,null,2022]
["Walter Schlosser",60,"Mechanik","extern Mech.",1,{"$f":"SCB_Planung_GÖG!$D$19","v":593208},{"$f":"SCB_Planung_GÖG!$D$15*N38*J38","v":694430},1287638,252,295,{"$f":"SCB_Planung_GÖG!$D$15*N38","v":2354},{"$f":"SCB_Planung_GÖG!$D$17","v":24},56496,{"$f":"SCB_Planung_GÖG!$D$16","v":11},{"$f":"SCB_Planung_GÖG!$D$18","v":10.5},0.6,1412.3999999999999,0.2,470.8,null,2022]
["Udo Spindler",60,"Mechanik","extern Mech.",1,{"$f":"SCB_Planung_GÖG!$D$19","v":593208},{"$f":"SCB_Planung_GÖG!$D$15*N39*J39","v":694430},1287638,252,295,{"$f":"SCB_Planung_GÖG!$D$15*N39","v":2354},{"$f":"SCB_Planung_GÖG!$D$17","v":24},56496,{"$f":"SCB_Planung_GÖG!$D$16","v":11},{"$f":"SCB_Planung_GÖG!$D$18","v":10.5},0.6,1412.3999999999999,0.2,470.8,null,2022]
["Marcel Vogler",60,"Mechanik","extern Mech.",1,{"$f":"SCB_Planung_GÖG!$D$19","v":593208},{"$f":"SCB_Planung_GÖG!$D$15*N40*J40","v":694430},1287638,252,295,{"$f":"SCB_Planung_GÖG!$D$15*N40","v":2354},{"$f":"SCB_Planung_GÖG!$D$17","v":24},56496,{"$f":"SCB_Planung_GÖG!$D$16","v":11},{"$f":"SCB_Planung_GÖG!$D$18","v":10.5},0.6,1412.3999999999999,0.2,470.8,null,2022]
["Raphael Marksteiner",60,"Mechanik","extern Mech.",4,{"$f":"SCB_Planung_GÖG!$D$19","v":593208},{"$f":"SCB_Planung_GÖG!$D$15*N41*J41","v":694430},1287638,252,295,{"$f":"SCB_Planung_GÖG!$D$15*N41","v":2354},{"$f":"SCB_Planung_GÖG!$D$17","v":24},56496,{"$f":"SCB_Planung_GÖG!$D$16","v":11},{"$f":"SCB_Planung_GÖG!$D$18","v":10.5},0.6,1412.3999999999999,0.2,470.8,null,2022]
["Markus Appeljun - SCBI",60,"Mechanik","extern Mech.",2,{"$f":"SCB_Planung_LEH!$D$19","v":593208},{"$f":"SCB_Planung_LEH!$D$15*N42*J42","v":694430},1287638,252,295,{"$f":"SCB_Planung_LEH!$D$15*N42","v":2354},{"$f":"SCB_Planung_LEH!$D$17","v":24},56496,{"$f":"SCB_Planung_LEH!$D$16","v":11},{"$f":"SCB_Planung_LEH!$D$18","v":10.5},0.6,1412.3999999999999,0.2,470.8,null,2022]
["Andreas Göllner",60,"Mechanik","extern Mech.",1,{"$f":"SCB_Planung_LEH!$D$19","v":593208},{"$f":"SCB_Planung_LEH!$D$15*N43*J43","v":694430},{"$f":"F43+G43","v":1287638},{"$f":"F43/K43","v":252},295,{"$f":"SCB_Planung_LEH!$D$15*N43","v":2354},{"$f":"SCB_Planung_LEH!$D$17","v":24},{"$f":"K43*L43","v":56496},{"$f":"SCB_Planung_LEH!$D$16","v":11},{"$f":"SCB_Planung_LEH!$D$18","v":10.5},0.6,{"$f":"K43*P43","v":1412.3999999999999},0.2,{"$f":"K43*R43","v":470.8},null,2022]
["Marcus Stangl",60,"Mechanik","extern Mech.",1,{"$f":"SCB_Planung_LEH!$D$19","v":593208},{"$f":"SCB_Planung_LEH!$D$15*N44*J44","v":694430},1287638,252,295,{"$f":"SCB_Planung_LEH!$D$15*N44","v":2354},{"$f":"SCB_Planung_LEH!$D$17","v":24},56496,{"$f":"SCB_Planung_LEH!$D$16","v":11},{"$f":"SCB_Planung_LEH!$D$18","v":10.5},0.6,1412.3999999999999,0.2,470.8,null,2022]
["Christoph Rottenkolber",60,"Mechanik","extern Mech.",4,{"$f":"SCB_Planung_WTB!$D$19","v":593208},{"$f":"SCB_Planung_WTB!$D$15*N45*J45","v":694430},1287638,252,295,{"$f":"SCB_Planung_WTB!$D$15*N45","v":2354},{"$f":"SCB_Planung_WTB!$D$17","v":24},56496,{"$f":"SCB_Planung_WTB!$D$16","v":11},{"$f":"SCB_Planung_WTB!$D$18","v":10.5},0.6,1412.3999999999999,0.2,470.8,null,2022]
["Michael Cattide - SCBI",60,"Mechanik","extern Mech.",1,{"$f":"SCB_Planung_WTB!$D$19","v":593208},{"$f":"SCB_Planung_WTB!$D$15*N46*J46","v":694430},{"$f":"F46+G46","v":1287638},{"$f":"F46/K46","v":252},295,{"$f":"SCB_Planung_WTB!$D$15*N46","v":2354},{"$f":"SCB_Planung_WTB!$D$17","v":24},{"$f":"K46*L46","v":56496},{"$f":"SCB_Planung_WTB!$D$16","v":11},{"$f":"SCB_Planung_WTB!$D$18","v":10.5},0.6,{"$f":"K46*P46","v":1412.3999999999999},0.2,{"$f":"K46*R46","v":470.8},null,2022]
["Dennis Grohmann",60,"Mechanik","extern Mech.","x",{"$f":"SCB_Planung_WTB!$D$19","v":593208},{"$f":"SCB_Planung_WTB!$D$15*N47*J47","v":694430},1287638,252,295,{"$f":"SCB_Planung_WTB!$D$15*N47","v":2354},{"$f":"SCB_Planung_WTB!$D$17","v":24},56496,{"$f":"SCB_Planung_WTB!$D$16","v":11},{"$f":"SCB_Planung_WTB!$D$18","v":10.5},0.6,1412.3999999999999,0.2,470.8,null,2022]
["Simone Groß - SCBZ",60,"Mechanik","extern Mech.",1,{"$f":"SCB_Planung_WTB!$D$19","v":593208},{"$f":"SCB_Planung_WTB!$D$15*N48*J48","v":694430},1287638,252,295,{"$f":"SCB_Planung_WTB!$D$15*N48","v":2354},{"$f":"SCB_Planung_WTB!$D$17","v":24},56496,{"$f":"SCB_Planung_WTB!$D$16","v":11},{"$f":"SCB_Planung_WTB!$D$18","v":10.5},0.6,1412.3999999999999,0.2,470.8,null,2022]
["Jens Haller",55,"Mechanik","extern Mech.",1,{"$f":"SCB_Planung_WTB!$D$19","v":593208},{"$f":"SCB_Planung_WTB!$D$15*N49*J49","v":694430},1287638,252,295,{"$f":"SCB_Planung_WTB!$D$15*N49","v":2354},{"$f":"SCB_Planung_WTB!$D$17","v":24},56496,{"$f":"SCB_Planung_WTB!$D$16","v":11},{"$f":"SCB_Planung_WTB!$D$18","v":10.5},0.6,1412.3999999999999,0.2,470.8,null,2022]
["Ioannis Tsesmelis_",55,"Mechanik","extern Mech.","x",{"$f":"SCB_Planung_WTB!$D$19","v":593208},{"$f":"SCB_Planung_WTB!$D$15*N50*J50","v":694430},{"$f":"F50+G50","v":1287638},{"$f":"F50/K50","v":252},295,{"$f":"SCB_Planung_WTB!$D$15*N50","v":2354},{"$f":"SCB_Planung_WTB!$D$17","v":24},{"$f":"K50*L50","v":56496},{"$f":"SCB_Planung_WTB!$D$16","v":11},{"$f":"SCB_Planung_WTB!$D$18","v":10.5},0.6,{"$f":"K50*P50","v":1412.3999999999999},0.2,{"$f":"K50*R50","v":470.8},null,2022]
["Matthias Mirga_GZ",55,"Mechanik","extern Mech.",1,{"$f":"SCB_Planung_WTB!$D$19","v":593208},{"$f":"SCB_Planung_WTB!$D$15*N51*J51","v":694430},1287638,252,295,{"$f":"SCB_Planung_WTB!$D$15*N51","v":2354},{"$f":"SCB_Planung_WTB!$D$17","v":24},56496,{"$f":"SCB_Planung_WTB!$D$16","v":11},{"$f":"SCB_Planung_WTB!$D$18","v":10.5},0.6,1412.3999999999999,0.2,470.8,null,2022]
["Hakan Celik",60,"Mechanik","extern Mech.",1,{"$f":"SCB_Planung_GÖG!$D$19","v":593208},{"$f":"SCB_Planung_GÖG!$D$15*N52*J52","v":694430},1287638,252,295,{"$f":"SCB_Planung_GÖG!$D$15*N52","v":2354},{"$f":"SCB_Planung_GÖG!$D$17","v":24},56496,{"$f":"SCB_Planung_GÖG!$D$16","v":11},{"$f":"SCB_Planung_GÖG!$D$18","v":10.5},0.6,1412.3999999999999,0.2,470.8,null,2022]
["Tom Sprongl",40,"Mechanik","extern Mech.",1,{"$f":"SCB_Planung_Ulm!$D$19","v":593208},{"$f":"SCB_Planung_Ulm!$D$15*N53*J53","v":694430},1287638,252,295,{"$f":"SCB_Planung_Ulm!$D$15*N53","v":2354},{"$f":"SCB_Planung_Ulm!$D$17","v":24},56496,{"$f":"SCB_Planung_Ulm!$D$16","v":11},{"$f":"SCB_Planung_Ulm!$D$18","v":10.5},0.6,1412.3999999999999,0.2,470.8,null,2022]
["SB 5"]
["SB 6"]
["SB 7"]
["SB 8"]
["SB 9"]
["SB 10"]

{"sheet":"Arbeitstage","index":18,"n_rows":2,"n_cols":13,"rows_kept":2,"cut":false,"hidden":false,"merged":[]}
["Jan","Feb","Mrz","Apr","Mai","Jun","Jul","Aug","Sep","Okt","Nov","Dez","Jahr"]
[20,20,23,19,21,20,21,22,22,20,21,21,2022]

{"sheet":"Verarb_Ums_Lohn","index":19,"n_rows":57,"n_cols":16,"rows_kept":57,"cut":false,"hidden":false,"merged":[]}
["Hauptbetrieb","Standort","Serviceberater","Invoice Date","Ums_Lohn_Plan_1","Ums_Lohn_Plan_2","Ums_Lohn_Plan_3","Ums_Lohn_Plan_4","Ums_Lohn_Plan_5","Ums_Lohn_Plan_6","Ums_Lohn_Plan_7","Ums_Lohn_Plan_8","Ums_Lohn_Plan_9","Ums_Lohn_Plan_10","Ums_Lohn_Plan_11","Ums_Lohn_Plan_12"]
[1,{"$f":"Basisdaten!B4","v":10},{"$f":"Basisdaten!A4","v":"Erich Harzenetter - SCBK"},{"$f":"Basisdaten!U4","v":2022},{"$f":"IF(Basisdaten!$E$4=1,Basisdaten!$F$4*Saisonalisierung!A2,0)","v":44787.203999999998},{"$f":"IF(Basisdaten!$E$4<=2,Basisdaten!$F$4*Saisonalisierung!B2,0)","v":45677.015999999996},{"$f":"IF(Basisdaten!$E$4<=3,Basisdaten!$F$4*Saisonalisierung!C2,0)","v":52795.512000000002},{"$f":"IF(Basisdaten!$E$4<=4,Basisdaten!$F$4*Saisonalisierung!D2,0)","v":49829.472000000002},{"$f":"IF(Basisdaten!$E$4<=5,Basisdaten!$F$4*Saisonalisierung!E2,0)","v":47753.243999999999},{"$f":"IF(Basisdaten!$E$4<=6,Basisdaten!$F$4*Saisonalisierung!F2,0)","v":49532.867999999995},{"$f":"IF(Basisdaten!$E$4<=7,Basisdaten!$F$4*Saisonalisierung!G2,0)","v":50719.284000000007},{"$f":"IF(Basisdaten!$E$4<=8,Basisdaten!$F$4*Saisonalisierung!H2,0)","v":49829.472000000002},{"$f":"IF(Basisdaten!$E$4<=9,Basisdaten!$F$4*Saisonalisierung!I2,0)","v":50422.68},{"$f":"IF(Basisdaten!$E$4<=10,Basisdaten!$F$4*Saisonalisierung!J2,0)","v":48939.66},{"$f":"IF(Basisdaten!$E$4<=11,Basisdaten!$F$4*Saisonalisierung!K2,0)","v":50422.68},{"$f":"IF(Basisdaten!$E$4<=12,Basisdaten!$F$4*Saisonalisierung!L2,0)","v":52498.907999999996}]
[1,{"$f":"Basisdaten!B5","v":10},{"$f":"Basisdaten!A5","v":"Johannes Grieser - SCBI"},{"$f":"Basisdaten!U5","v":2022},{"$f":"IF(Basisdaten!$E$5=1,Basisdaten!$F$5*Saisonalisierung!A3,0)","v":44787.203999999998},{"$f":"IF(Basisdaten!$E$5<=2,Basisdaten!$F$5*Saisonalisierung!B3,0)","v":45677.015999999996},{"$f":"IF(Basisdaten!$E$5<=3,Basisdaten!$F$5*Saisonalisierung!C3,0)","v":52795.512000000002},{"$f":"IF(Basisdaten!$E$5<=4,Basisdaten!$F$5*Saisonalisierung!D3,0)","v":49829.472000000002},{"$f":"IF(Basisdaten!$E$5<=5,Basisdaten!$F$5*Saisonalisierung!E3,0)","v":47753.243999999999},{"$f":"IF(Basisdaten!$E$5<=6,Basisdaten!$F$5*Saisonalisierung!F3,0)","v":49532.867999999995},{"$f":"IF(Basisdaten!$E$5<=7,Basisdaten!$F$5*Saisonalisierung!G3,0)","v":50719.284000000007},{"$f":"IF(Basisdaten!$E$5<=8,Basisdaten!$F$5*Saisonalisierung!H3,0)","v":49829.472000000002},{"$f":"IF(Basisdaten!$E$5<=9,Basisdaten!$F$5*Saisonalisierung!I3,0)","v":50422.68},{"$f":"IF(Basisdaten!$E$5<=10,Basisdaten!$F$5*Saisonalisierung!J3,0)","v":48939.66},{"$f":"IF(Basisdaten!$E$5<=11,Basisdaten!$F$5*Saisonalisierung!K3,0)","v":50422.68},{"$f":"IF(Basisdaten!$E$5<=12,Basisdaten!$F$5*Saisonalisierung!L3,0)","v":52498.907999999996}]
[1,{"$f":"Basisdaten!B6","v":10},{"$f":"Basisdaten!A6","v":"Mike Weber"},{"$f":"Basisdaten!U6","v":2022},{"$f":"IF(Basisdaten!$E$6=1,Basisdaten!$F$6*Saisonalisierung!A4,0)","v":44787.203999999998},{"$f":"IF(Basisdaten!$E$6<=2,Basisdaten!$F$6*Saisonalisierung!B4,0)","v":45677.015999999996},{"$f":"IF(Basisdaten!$E$6<=3,Basisdaten!$F$6*Saisonalisierung!C4,0)","v":52795.512000000002},{"$f":"IF(Basisdaten!$E$6<=4,Basisdaten!$F$6*Saisonalisierung!D4,0)","v":49829.472000000002},{"$f":"IF(Basisdaten!$E$6<=5,Basisdaten!$F$6*Saisonalisierung!E4,0)","v":47753.243999999999},{"$f":"IF(Basisdaten!$E$6<=6,Basisdaten!$F$6*Saisonalisierung!F4,0)","v":49532.867999999995},{"$f":"IF(Basisdaten!$E$6<=7,Basisdaten!$F$6*Saisonalisierung!G4,0)","v":50719.284000000007},{"$f":"IF(Basisdaten!$E$6<=8,Basisdaten!$F$6*Saisonalisierung!H4,0)","v":49829.472000000002},{"$f":"IF(Basisdaten!$E$6<=9,Basisdaten!$F$6*Saisonalisierung!I4,0)","v":50422.68},{"$f":"IF(Basisdaten!$E$6<=10,Basisdaten!$F$6*Saisonalisierung!J4,0)","v":48939.66},{"$f":"IF(Basisdaten!$E$6<=11,Basisdaten!$F$6*Saisonalisierung!K4,0)","v":50422.68},{"$f":"IF(Basisdaten!$E$6<=12,Basisdaten!$F$6*Saisonalisierung!L4,0)","v":52498.907999999996}]
[1,{"$f":"Basisdaten!B7","v":10},{"$f":"Basisdaten!A7","v":"Rudolf Maier"},{"$f":"Basisdaten!U7","v":2022},{"$f":"IF(Basisdaten!$E$7=1,Basisdaten!$F$7*Saisonalisierung!A5,0)","v":44787.203999999998},{"$f":"IF(Basisdaten!$E$7<=2,Basisdaten!$F$7*Saisonalisierung!B5,0)","v":45677.015999999996},{"$f":"IF(Basisdaten!$E$7<=3,Basisdaten!$F$7*Saisonalisierung!C5,0)","v":52795.512000000002},{"$f":"IF(Basisdaten!$E$7<=4,Basisdaten!$F$7*Saisonalisierung!D5,0)","v":49829.472000000002},{"$f":"IF(Basisdaten!$E$7<=5,Basisdaten!$F$7*Saisonalisierung!E5,0)","v":47753.243999999999},{"$f":"IF(Basisdaten!$E$7<=6,Basisdaten!$F$7*Saisonalisierung!F5,0)","v":49532.867999999995},{"$f":"IF(Basisdaten!$E$7<=7,Basisdaten!$F$7*Saisonalisierung!G5,0)","v":50719.284000000007},{"$f":"IF(Basisdaten!$E$7<=8,Basisdaten!$F$7*Saisonalisierung!H5,0)","v":49829.472000000002},{"$f":"IF(Basisdaten!$E$7<=9,Basisdaten!$F$7*Saisonalisierung!I5,0)","v":50422.68},{"$f":"IF(Basisdaten!$E$7<=10,Basisdaten!$F$7*Saisonalisierung!J5,0)","v":48939.66},{"$f":"IF(Basisdaten!$E$7<=11,Basisdaten!$F$7*Saisonalisierung!K5,0)","v":50422.68},{"$f":"IF(Basisdaten!$E$7<=12,Basisdaten!$F$7*Saisonalisierung!L5,0)","v":52498.907999999996}]
[1,{"$f":"Basisdaten!B8","v":10},{"$f":"Basisdaten!A8","v":"Hermann Haller_"},{"$f":"Basisdaten!U8","v":2022},{"$f":"IF(Basisdaten!$E$8=1,Basisdaten!$F$8*Saisonalisierung!A6,0)","v":0},{"$f":"IF(Basisdaten!$E$8<=2,Basisdaten!$F$8*Saisonalisierung!B6,0)","v":0},{"$f":"IF(Basisdaten!$E$8<=3,Basisdaten!$F$8*Saisonalisierung!C6,0)","v":0},{"$f":"IF(Basisdaten!$E$8<=4,Basisdaten!$F$8*Saisonalisierung!D6,0)","v":0},{"$f":"IF(Basisdaten!$E$8<=5,Basisdaten!$F$8*Saisonalisierung!E6,0)","v":0},{"$f":"IF(Basisdaten!$E$8<=6,Basisdaten!$F$8*Saisonalisierung!F6,0)","v":0},{"$f":"IF(Basisdaten!$E$8<=7,Basisdaten!$F$8*Saisonalisierung!G6,0)","v":0},{"$f":"IF(Basisdaten!$E$8<=8,Basisdaten!$F$8*Saisonalisierung!H6,0)","v":0},{"$f":"IF(Basisdaten!$E$8<=9,Basisdaten!$F$8*Saisonalisierung!I6,0)","v":0},{"$f":"IF(Basisdaten!$E$8<=10,Basisdaten!$F$8*Saisonalisierung!J6,0)","v":0},{"$f":"IF(Basisdaten!$E$8<=11,Basisdaten!$F$8*Saisonalisierung!K6,0)","v":0},{"$f":"IF(Basisdaten!$E$8<=12,Basisdaten!$F$8*Saisonalisierung!L6,0)","v":0}]
[1,{"$f":"Basisdaten!B9","v":10},{"$f":"Basisdaten!A9","v":"Christopher Kirmayer"},{"$f":"Basisdaten!U9","v":2022},{"$f":"IF(Basisdaten!$E$9=1,Basisdaten!$F$9*Saisonalisierung!A7,0)","v":44787.203999999998},{"$f":"IF(Basisdaten!$E$9<=2,Basisdaten!$F$9*Saisonalisierung!B7,0)","v":45677.015999999996},{"$f":"IF(Basisdaten!$E$9<=3,Basisdaten!$F$9*Saisonalisierung!C7,0)","v":52795.512000000002},{"$f":"IF(Basisdaten!$E$9<=4,Basisdaten!$F$9*Saisonalisierung!D7,0)","v":49829.472000000002},{"$f":"IF(Basisdaten!$E$9<=5,Basisdaten!$F$9*Saisonalisierung!E7,0)","v":47753.243999999999},{"$f":"IF(Basisdaten!$E$9<=6,Basisdaten!$F$9*Saisonalisierung!F7,0)","v":49532.867999999995},{"$f":"IF(Basisdaten!$E$9<=7,Basisdaten!$F$9*Saisonalisierung!G7,0)","v":50719.284000000007},{"$f":"IF(Basisdaten!$E$9<=8,Basisdaten!$F$9*Saisonalisierung!H7,0)","v":49829.472000000002},{"$f":"IF(Basisdaten!$E$9<=9,Basisdaten!$F$9*Saisonalisierung!I7,0)","v":50422.68},{"$f":"IF(Basisdaten!$E$9<=10,Basisdaten!$F$9*Saisonalisierung!J7,0)","v":48939.66},{"$f":"IF(Basisdaten!$E$9<=11,Basisdaten!$F$9*Saisonalisierung!K7,0)","v":50422.68},{"$f":"IF(Basisdaten!$E$9<=12,Basisdaten!$F$9*Saisonalisierung!L7,0)","v":52498.907999999996}]
[1,{"$f":"Basisdaten!B10","v":10},{"$f":"Basisdaten!A10","v":"Jörg Reifenrath"},{"$f":"Basisdaten!U10","v":2022},{"$f":"IF(Basisdaten!$E$10=1,Basisdaten!$F$10*Saisonalisierung!A8,0)","v":44787.203999999998},{"$f":"IF(Basisdaten!$E$10<=2,Basisdaten!$F$10*Saisonalisierung!B8,0)","v":45677.015999999996},{"$f":"IF(Basisdaten!$E$10<=3,Basisdaten!$F$10*Saisonalisierung!C8,0)","v":52795.512000000002},{"$f":"IF(Basisdaten!$E$10<=4,Basisdaten!$F$10*Saisonalisierung!D8,0)","v":49829.472000000002},{"$f":"IF(Basisdaten!$E$10<=5,Basisdaten!$F$10*Saisonalisierung!E8,0)","v":47753.243999999999},{"$f":"IF(Basisdaten!$E$10<=6,Basisdaten!$F$10*Saisonalisierung!F8,0)","v":49532.867999999995},{"$f":"IF(Basisdaten!$E$10<=7,Basisdaten!$F$10*Saisonalisierung!G8,0)","v":50719.284000000007},{"$f":"IF(Basisdaten!$E$10<=8,Basisdaten!$F$10*Saisonalisierung!H8,0)","v":49829.472000000002},{"$f":"IF(Basisdaten!$E$10<=9,Basisdaten!$F$10*Saisonalisierung!I8,0)","v":50422.68},{"$f":"IF(Basisdaten!$E$10<=10,Basisdaten!$F$10*Saisonalisierung!J8,0)","v":48939.66},{"$f":"IF(Basisdaten!$E$10<=11,Basisdaten!$F$10*Saisonalisierung!K8,0)","v":50422.68},{"$f":"IF(Basisdaten!$E$10<=12,Basisdaten!$F$10*Saisonalisierung!L8,0)","v":52498.907999999996}]
[1,{"$f":"Basisdaten!B11","v":10},{"$f":"Basisdaten!A11","v":"Günter Küblbeck - SCBI_"},{"$f":"Basisdaten!U11","v":2022},{"$f":"IF(Basisdaten!$E$11=1,Basisdaten!$F$11*Saisonalisierung!A9,0)","v":0},{"$f":"IF(Basisdaten!$E$11<=2,Basisdaten!$F$11*Saisonalisierung!B9,0)","v":0},{"$f":"IF(Basisdaten!$E$11<=3,Basisdaten!$F$11*Saisonalisierung!C9,0)","v":0},{"$f":"IF(Basisdaten!$E$11<=4,Basisdaten!$F$11*Saisonalisierung!D9,0)","v":0},{"$f":"IF(Basisdaten!$E$11<=5,Basisdaten!$F$11*Saisonalisierung!E9,0)","v":0},{"$f":"IF(Basisdaten!$E$11<=6,Basisdaten!$F$11*Saisonalisierung!F9,0)","v":0},{"$f":"IF(Basisdaten!$E$11<=7,Basisdaten!$F$11*Saisonalisierung!G9,0)","v":0},{"$f":"IF(Basisdaten!$E$11<=8,Basisdaten!$F$11*Saisonalisierung!H9,0)","v":0},{"$f":"IF(Basisdaten!$E$11<=9,Basisdaten!$F$11*Saisonalisierung!I9,0)","v":0},{"$f":"IF(Basisdaten!$E$11<=10,Basisdaten!$F$11*Saisonalisierung!J9,0)","v":0},{"$f":"IF(Basisdaten!$E$11<=11,Basisdaten!$F$11*Saisonalisierung!K9,0)","v":0},{"$f":"IF(Basisdaten!$E$11<=12,Basisdaten!$F$11*Saisonalisierung!L9,0)","v":0}]
[1,{"$f":"Basisdaten!B12","v":10},{"$f":"Basisdaten!A12","v":"Patrick Kresser"},{"$f":"Basisdaten!U12","v":2022},{"$f":"IF(Basisdaten!$E$12=1,Basisdaten!$F$12*Saisonalisierung!A10,0)","v":44787.203999999998},{"$f":"IF(Basisdaten!$E$12<=2,Basisdaten!$F$12*Saisonalisierung!B10,0)","v":45677.015999999996},{"$f":"IF(Basisdaten!$E$12<=3,Basisdaten!$F$12*Saisonalisierung!C10,0)","v":52795.512000000002},{"$f":"IF(Basisdaten!$E$12<=4,Basisdaten!$F$12*Saisonalisierung!D10,0)","v":49829.472000000002},{"$f":"IF(Basisdaten!$E$12<=5,Basisdaten!$F$12*Saisonalisierung!E10,0)","v":47753.243999999999},{"$f":"IF(Basisdaten!$E$12<=6,Basisdaten!$F$12*Saisonalisierung!F10,0)","v":49532.867999999995},{"$f":"IF(Basisdaten!$E$12<=7,Basisdaten!$F$12*Saisonalisierung!G10,0)","v":50719.284000000007},{"$f":"IF(Basisdaten!$E$12<=8,Basisdaten!$F$12*Saisonalisierung!H10,0)","v":49829.472000000002},{"$f":"IF(Basisdaten!$E$12<=9,Basisdaten!$F$12*Saisonalisierung!I10,0)","v":50422.68},{"$f":"IF(Basisdaten!$E$12<=10,Basisdaten!$F$12*Saisonalisierung!J10,0)","v":48939.66},{"$f":"IF(Basisdaten!$E$12<=11,Basisdaten!$F$12*Saisonalisierung!K10,0)","v":50422.68},{"$f":"IF(Basisdaten!$E$12<=12,Basisdaten!$F$12*Saisonalisierung!L10,0)","v":52498.907999999996}]
[1,{"$f":"Basisdaten!B13","v":30},{"$f":"Basisdaten!A13","v":"Ralf Ruchti"},{"$f":"Basisdaten!U13","v":2022},{"$f":"IF(Basisdaten!$E$13=1,Basisdaten!$F$13*Saisonalisierung!A11,0)","v":31351.042799999996},{"$f":"IF(Basisdaten!$E$13<=2,Basisdaten!$F$13*Saisonalisierung!B11,0)","v":31973.911199999999},{"$f":"IF(Basisdaten!$E$13<=3,Basisdaten!$F$13*Saisonalisierung!C11,0)","v":36956.858400000005},{"$f":"IF(Basisdaten!$E$13<=4,Basisdaten!$F$13*Saisonalisierung!D11,0)","v":34880.630400000002},{"$f":"IF(Basisdaten!$E$13<=5,Basisdaten!$F$13*Saisonalisierung!E11,0)","v":33427.270799999998},{"$f":"IF(Basisdaten!$E$13<=6,Basisdaten!$F$13*Saisonalisierung!F11,0)","v":34673.007599999997},{"$f":"IF(Basisdaten!$E$13<=7,Basisdaten!$F$13*Saisonalisierung!G11,0)","v":35503.498800000001},{"$f":"IF(Basisdaten!$E$13<=8,Basisdaten!$F$13*Saisonalisierung!H11,0)","v":34880.630400000002},{"$f":"IF(Basisdaten!$E$13<=9,Basisdaten!$F$13*Saisonalisierung!I11,0)","v":35295.876000000004},{"$f":"IF(Basisdaten!$E$13<=10,Basisdaten!$F$13*Saisonalisierung!J11,0)","v":34257.762000000002},{"$f":"IF(Basisdaten!$E$13<=11,Basisdaten!$F$13*Saisonalisierung!K11,0)","v":35295.876000000004},{"$f":"IF(Basisdaten!$E$13<=12,Basisdaten!$F$13*Saisonalisierung!L11,0)","v":36749.235599999993}]
[1,{"$f":"Basisdaten!B14","v":30},{"$f":"Basisdaten!A14","v":"Matthias Mirga"},{"$f":"Basisdaten!U14","v":2022},{"$f":"IF(Basisdaten!$E$14=1,Basisdaten!$F$14*Saisonalisierung!A12,0)","v":44787.203999999998},{"$f":"IF(Basisdaten!$E$14<=2,Basisdaten!$F$14*Saisonalisierung!B12,0)","v":45677.015999999996},{"$f":"IF(Basisdaten!$E$14<=3,Basisdaten!$F$14*Saisonalisierung!C12,0)","v":52795.512000000002},{"$f":"IF(Basisdaten!$E$14<=4,Basisdaten!$F$14*Saisonalisierung!D12,0)","v":49829.472000000002},{"$f":"IF(Basisdaten!$E$14<=5,Basisdaten!$F$14*Saisonalisierung!E12,0)","v":47753.243999999999},{"$f":"IF(Basisdaten!$E$14<=6,Basisdaten!$F$14*Saisonalisierung!F12,0)","v":49532.867999999995},{"$f":"IF(Basisdaten!$E$14<=7,Basisdaten!$F$14*Saisonalisierung!G12,0)","v":50719.284000000007},{"$f":"IF(Basisdaten!$E$14<=8,Basisdaten!$F$14*Saisonalisierung!H12,0)","v":49829.472000000002},{"$f":"IF(Basisdaten!$E$14<=9,Basisdaten!$F$14*Saisonalisierung!I12,0)","v":50422.68},{"$f":"IF(Basisdaten!$E$14<=10,Basisdaten!$F$14*Saisonalisierung!J12,0)","v":48939.66},{"$f":"IF(Basisdaten!$E$14<=11,Basisdaten!$F$14*Saisonalisierung!K12,0)","v":50422.68},{"$f":"IF(Basisdaten!$E$14<=12,Basisdaten!$F$14*Saisonalisierung!L12,0)","v":52498.907999999996}]
[1,{"$f":"Basisdaten!B15","v":40},{"$f":"Basisdaten!A15","v":"Wolfgang Heckelmiller - SCBK"},{"$f":"Basisdaten!U15","v":2022},{"$f":"IF(Basisdaten!$E$15=1,Basisdaten!$F$15*Saisonalisierung!A13,0)","v":44787.203999999998},{"$f":"IF(Basisdaten!$E$15<=2,Basisdaten!$F$15*Saisonalisierung!B13,0)","v":45677.015999999996},{"$f":"IF(Basisdaten!$E$15<=3,Basisdaten!$F$15*Saisonalisierung!C13,0)","v":52795.512000000002},{"$f":"IF(Basisdaten!$E$15<=4,Basisdaten!$F$15*Saisonalisierung!D13,0)","v":49829.472000000002},{"$f":"IF(Basisdaten!$E$15<=5,Basisdaten!$F$15*Saisonalisierung!E13,0)","v":47753.243999999999},{"$f":"IF(Basisdaten!$E$15<=6,Basisdaten!$F$15*Saisonalisierung!F13,0)","v":49532.867999999995},{"$f":"IF(Basisdaten!$E$15<=7,Basisdaten!$F$15*Saisonalisierung!G13,0)","v":50719.284000000007},{"$f":"IF(Basisdaten!$E$15<=8,Basisdaten!$F$15*Saisonalisierung!H13,0)","v":49829.472000000002},{"$f":"IF(Basisdaten!$E$15<=9,Basisdaten!$F$15*Saisonalisierung!I13,0)","v":50422.68},{"$f":"IF(Basisdaten!$E$15<=10,Basisdaten!$F$15*Saisonalisierung!J13,0)","v":48939.66},{"$f":"IF(Basisdaten!$E$15<=11,Basisdaten!$F$15*Saisonalisierung!K13,0)","v":50422.68},{"$f":"IF(Basisdaten!$E$15<=12,Basisdaten!$F$15*Saisonalisierung!L13,0)","v":52498.907999999996}]
[1,{"$f":"Basisdaten!B16","v":40},{"$f":"Basisdaten!A16","v":"Daniel Klingenstein"},{"$f":"Basisdaten!U16","v":2022},{"$f":"IF(Basisdaten!$E$16=1,Basisdaten!$F$16*Saisonalisierung!A14,0)","v":44787.203999999998},{"$f":"IF(Basisdaten!$E$16<=2,Basisdaten!$F$16*Saisonalisierung!B14,0)","v":45677.015999999996},{"$f":"IF(Basisdaten!$E$16<=3,Basisdaten!$F$16*Saisonalisierung!C14,0)","v":52795.512000000002},{"$f":"IF(Basisdaten!$E$16<=4,Basisdaten!$F$16*Saisonalisierung!D14,0)","v":49829.472000000002},{"$f":"IF(Basisdaten!$E$16<=5,Basisdaten!$F$16*Saisonalisierung!E14,0)","v":47753.243999999999},{"$f":"IF(Basisdaten!$E$16<=6,Basisdaten!$F$16*Saisonalisierung!F14,0)","v":49532.867999999995},{"$f":"IF(Basisdaten!$E$16<=7,Basisdaten!$F$16*Saisonalisierung!G14,0)","v":50719.284000000007},{"$f":"IF(Basisdaten!$E$16<=8,Basisdaten!$F$16*Saisonalisierung!H14,0)","v":49829.472000000002},{"$f":"IF(Basisdaten!$E$16<=9,Basisdaten!$F$16*Saisonalisierung!I14,0)","v":50422.68},{"$f":"IF(Basisdaten!$E$16<=10,Basisdaten!$F$16*Saisonalisierung!J14,0)","v":48939.66},{"$f":"IF(Basisdaten!$E$16<=11,Basisdaten!$F$16*Saisonalisierung!K14,0)","v":50422.68},{"$f":"IF(Basisdaten!$E$16<=12,Basisdaten!$F$16*Saisonalisierung!L14,0)","v":52498.907999999996}]
[1,{"$f":"Basisdaten!B17","v":40},{"$f":"Basisdaten!A17","v":"Alnes Zenic"},{"$f":"Basisdaten!U17","v":2022},{"$f":"IF(Basisdaten!$E$17=1,Basisdaten!$F$17*Saisonalisierung!A15,0)","v":44787.203999999998},{"$f":"IF(Basisdaten!$E$17<=2,Basisdaten!$F$17*Saisonalisierung!B15,0)","v":45677.015999999996},{"$f":"IF(Basisdaten!$E$17<=3,Basisdaten!$F$17*Saisonalisierung!C15,0)","v":52795.512000000002},{"$f":"IF(Basisdaten!$E$17<=4,Basisdaten!$F$17*Saisonalisierung!D15,0)","v":49829.472000000002},{"$f":"IF(Basisdaten!$E$17<=5,Basisdaten!$F$17*Saisonalisierung!E15,0)","v":47753.243999999999},{"$f":"IF(Basisdaten!$E$17<=6,Basisdaten!$F$17*Saisonalisierung!F15,0)","v":49532.867999999995},{"$f":"IF(Basisdaten!$E$17<=7,Basisdaten!$F$17*Saisonalisierung!G15,0)","v":50719.284000000007},{"$f":"IF(Basisdaten!$E$17<=8,Basisdaten!$F$17*Saisonalisierung!H15,0)","v":49829.472000000002},{"$f":"IF(Basisdaten!$E$17<=9,Basisdaten!$F$17*Saisonalisierung!I15,0)","v":50422.68},{"$f":"IF(Basisdaten!$E$17<=10,Basisdaten!$F$17*Saisonalisierung!J15,0)","v":48939.66},{"$f":"IF(Basisdaten!$E$17<=11,Basisdaten!$F$17*Saisonalisierung!K15,0)","v":50422.68},{"$f":"IF(Basisdaten!$E$17<=12,Basisdaten!$F$17*Saisonalisierung!L15,0)","v":52498.907999999996}]
[1,{"$f":"Basisdaten!B18","v":40},{"$f":"Basisdaten!A18","v":"Mehmet Dikmen"},{"$f":"Basisdaten!U18","v":2022},{"$f":"IF(Basisdaten!$E$18=1,Basisdaten!$F$18*Saisonalisierung!A16,0)","v":44787.203999999998},{"$f":"IF(Basisdaten!$E$18<=2,Basisdaten!$F$18*Saisonalisierung!B16,0)","v":45677.015999999996},{"$f":"IF(Basisdaten!$E$18<=3,Basisdaten!$F$18*Saisonalisierung!C16,0)","v":52795.512000000002},{"$f":"IF(Basisdaten!$E$18<=4,Basisdaten!$F$18*Saisonalisierung!D16,0)","v":49829.472000000002},{"$f":"IF(Basisdaten!$E$18<=5,Basisdaten!$F$18*Saisonalisierung!E16,0)","v":47753.243999999999},{"$f":"IF(Basisdaten!$E$18<=6,Basisdaten!$F$18*Saisonalisierung!F16,0)","v":49532.867999999995},{"$f":"IF(Basisdaten!$E$18<=7,Basisdaten!$F$18*Saisonalisierung!G16,0)","v":50719.284000000007},{"$f":"IF(Basisdaten!$E$18<=8,Basisdaten!$F$18*Saisonalisierung!H16,0)","v":49829.472000000002},{"$f":"IF(Basisdaten!$E$18<=9,Basisdaten!$F$18*Saisonalisierung!I16,0)","v":50422.68},{"$f":"IF(Basisdaten!$E$18<=10,Basisdaten!$F$18*Saisonalisierung!J16,0)","v":48939.66},{"$f":"IF(Basisdaten!$E$18<=11,Basisdaten!$F$18*Saisonalisierung!K16,0)","v":50422.68},{"$f":"IF(Basisdaten!$E$18<=12,Basisdaten!$F$18*Saisonalisierung!L16,0)","v":52498.907999999996}]
[1,{"$f":"Basisdaten!B19","v":40},{"$f":"Basisdaten!A19","v":"Gerrit Heine"},{"$f":"Basisdaten!U19","v":2022},{"$f":"IF(Basisdaten!$E$19=1,Basisdaten!$F$19*Saisonalisierung!A17,0)","v":44787.203999999998},{"$f":"IF(Basisdaten!$E$19<=2,Basisdaten!$F$19*Saisonalisierung!B17,0)","v":45677.015999999996},{"$f":"IF(Basisdaten!$E$19<=3,Basisdaten!$F$19*Saisonalisierung!C17,0)","v":52795.512000000002},{"$f":"IF(Basisdaten!$E$19<=4,Basisdaten!$F$19*Saisonalisierung!D17,0)","v":49829.472000000002},{"$f":"IF(Basisdaten!$E$19<=5,Basisdaten!$F$19*Saisonalisierung!E17,0)","v":47753.243999999999},{"$f":"IF(Basisdaten!$E$19<=6,Basisdaten!$F$19*Saisonalisierung!F17,0)","v":49532.867999999995},{"$f":"IF(Basisdaten!$E$19<=7,Basisdaten!$F$19*Saisonalisierung!G17,0)","v":50719.284000000007},{"$f":"IF(Basisdaten!$E$19<=8,Basisdaten!$F$19*Saisonalisierung!H17,0)","v":49829.472000000002},{"$f":"IF(Basisdaten!$E$19<=9,Basisdaten!$F$19*Saisonalisierung!I17,0)","v":50422.68},{"$f":"IF(Basisdaten!$E$19<=10,Basisdaten!$F$19*Saisonalisierung!J17,0)","v":48939.66},{"$f":"IF(Basisdaten!$E$19<=11,Basisdaten!$F$19*Saisonalisierung!K17,0)","v":50422.68},{"$f":"IF(Basisdaten!$E$19<=12,Basisdaten!$F$19*Saisonalisierung!L17,0)","v":52498.907999999996}]
[1,{"$f":"Basisdaten!B20","v":40},{"$f":"Basisdaten!A20","v":"Lars Krausen"},{"$f":"Basisdaten!U20","v":2022},{"$f":"IF(Basisdaten!$E$20=1,Basisdaten!$F$20*Saisonalisierung!A18,0)","v":44787.203999999998},{"$f":"IF(Basisdaten!$E$20<=2,Basisdaten!$F$20*Saisonalisierung!B18,0)","v":45677.015999999996},{"$f":"IF(Basisdaten!$E$20<=3,Basisdaten!$F$20*Saisonalisierung!C18,0)","v":52795.512000000002},{"$f":"IF(Basisdaten!$E$20<=4,Basisdaten!$F$20*Saisonalisierung!D18,0)","v":49829.472000000002},{"$f":"IF(Basisdaten!$E$20<=5,Basisdaten!$F$20*Saisonalisierung!E18,0)","v":47753.243999999999},{"$f":"IF(Basisdaten!$E$20<=6,Basisdaten!$F$20*Saisonalisierung!F18,0)","v":49532.867999999995},{"$f":"IF(Basisdaten!$E$20<=7,Basisdaten!$F$20*Saisonalisierung!G18,0)","v":50719.284000000007},{"$f":"IF(Basisdaten!$E$20<=8,Basisdaten!$F$20*Saisonalisierung!H18,0)","v":49829.472000000002},{"$f":"IF(Basisdaten!$E$20<=9,Basisdaten!$F$20*Saisonalisierung!I18,0)","v":50422.68},{"$f":"IF(Basisdaten!$E$20<=10,Basisdaten!$F$20*Saisonalisierung!J18,0)","v":48939.66},{"$f":"IF(Basisdaten!$E$20<=11,Basisdaten!$F$20*Saisonalisierung!K18,0)","v":50422.68},{"$f":"IF(Basisdaten!$E$20<=12,Basisdaten!$F$20*Saisonalisierung!L18,0)","v":52498.907999999996}]
[1,{"$f":"Basisdaten!B21","v":40},{"$f":"Basisdaten!A21","v":"Hubert Figura - SCBI"},{"$f":"Basisdaten!U21","v":2022},{"$f":"IF(Basisdaten!$E$21=1,Basisdaten!$F$21*Saisonalisierung!A19,0)","v":44787.203999999998},{"$f":"IF(Basisdaten!$E$21<=2,Basisdaten!$F$21*Saisonalisierung!B19,0)","v":45677.015999999996},{"$f":"IF(Basisdaten!$E$21<=3,Basisdaten!$F$21*Saisonalisierung!C19,0)","v":52795.512000000002},{"$f":"IF(Basisdaten!$E$21<=4,Basisdaten!$F$21*Saisonalisierung!D19,0)","v":49829.472000000002},{"$f":"IF(Basisdaten!$E$21<=5,Basisdaten!$F$21*Saisonalisierung!E19,0)","v":47753.243999999999},{"$f":"IF(Basisdaten!$E$21<=6,Basisdaten!$F$21*Saisonalisierung!F19,0)","v":49532.867999999995},{"$f":"IF(Basisdaten!$E$21<=7,Basisdaten!$F$21*Saisonalisierung!G19,0)","v":50719.284000000007},{"$f":"IF(Basisdaten!$E$21<=8,Basisdaten!$F$21*Saisonalisierung!H19,0)","v":49829.472000000002},{"$f":"IF(Basisdaten!$E$21<=9,Basisdaten!$F$21*Saisonalisierung!I19,0)","v":50422.68},{"$f":"IF(Basisdaten!$E$21<=10,Basisdaten!$F$21*Saisonalisierung!J19,0)","v":48939.66},{"$f":"IF(Basisdaten!$E$21<=11,Basisdaten!$F$21*Saisonalisierung!K19,0)","v":50422.68},{"$f":"IF(Basisdaten!$E$21<=12,Basisdaten!$F$21*Saisonalisierung!L19,0)","v":52498.907999999996}]
[1,{"$f":"Basisdaten!B22","v":40},{"$f":"Basisdaten!A22","v":"Jan-Oliver Knaus"},{"$f":"Basisdaten!U22","v":2022},{"$f":"IF(Basisdaten!$E$22=1,Basisdaten!$F$22*Saisonalisierung!A20,0)","v":44787.203999999998},{"$f":"IF(Basisdaten!$E$22<=2,Basisdaten!$F$22*Saisonalisierung!B20,0)","v":45677.015999999996},{"$f":"IF(Basisdaten!$E$22<=3,Basisdaten!$F$22*Saisonalisierung!C20,0)","v":52795.512000000002},{"$f":"IF(Basisdaten!$E$22<=4,Basisdaten!$F$22*Saisonalisierung!D20,0)","v":49829.472000000002},{"$f":"IF(Basisdaten!$E$22<=5,Basisdaten!$F$22*Saisonalisierung!E20,0)","v":47753.243999999999},{"$f":"IF(Basisdaten!$E$22<=6,Basisdaten!$F$22*Saisonalisierung!F20,0)","v":49532.867999999995},{"$f":"IF(Basisdaten!$E$22<=7,Basisdaten!$F$22*Saisonalisierung!G20,0)","v":50719.284000000007},{"$f":"IF(Basisdaten!$E$22<=8,Basisdaten!$F$22*Saisonalisierung!H20,0)","v":49829.472000000002},{"$f":"IF(Basisdaten!$E$22<=9,Basisdaten!$F$22*Saisonalisierung!I20,0)","v":50422.68},{"$f":"IF(Basisdaten!$E$22<=10,Basisdaten!$F$22*Saisonalisierung!J20,0)","v":48939.66},{"$f":"IF(Basisdaten!$E$22<=11,Basisdaten!$F$22*Saisonalisierung!K20,0)","v":50422.68},{"$f":"IF(Basisdaten!$E$22<=12,Basisdaten!$F$22*Saisonalisierung!L20,0)","v":52498.907999999996}]
[1,{"$f":"Basisdaten!B23","v":40},{"$f":"Basisdaten!A23","v":"Hakan Celik_ULM"},{"$f":"Basisdaten!U23","v":2022},{"$f":"IF(Basisdaten!$E$23=1,Basisdaten!$F$23*Saisonalisierung!A21,0)","v":0},{"$f":"IF(Basisdaten!$E$23<=2,Basisdaten!$F$23*Saisonalisierung!B21,0)","v":0},{"$f":"IF(Basisdaten!$E$23<=3,Basisdaten!$F$23*Saisonalisierung!C21,0)","v":0},{"$f":"IF(Basisdaten!$E$23<=4,Basisdaten!$F$23*Saisonalisierung!D21,0)","v":0},{"$f":"IF(Basisdaten!$E$23<=5,Basisdaten!$F$23*Saisonalisierung!E21,0)","v":0},{"$f":"IF(Basisdaten!$E$23<=6,Basisdaten!$F$23*Saisonalisierung!F21,0)","v":0},{"$f":"IF(Basisdaten!$E$23<=7,Basisdaten!$F$23*Saisonalisierung!G21,0)","v":0},{"$f":"IF(Basisdaten!$E$23<=8,Basisdaten!$F$23*Saisonalisierung!H21,0)","v":0},{"$f":"IF(Basisdaten!$E$23<=9,Basisdaten!$F$23*Saisonalisierung!I21,0)","v":0},{"$f":"IF(Basisdaten!$E$23<=10,Basisdaten!$F$23*Saisonalisierung!J21,0)","v":0},{"$f":"IF(Basisdaten!$E$23<=11,Basisdaten!$F$23*Saisonalisierung!K21,0)","v":0},{"$f":"IF(Basisdaten!$E$23<=12,Basisdaten!$F$23*Saisonalisierung!L21,0)","v":0}]
[1,{"$f":"Basisdaten!B24","v":40},{"$f":"Basisdaten!A24","v":"Andreas Walter"},{"$f":"Basisdaten!U24","v":2022},{"$f":"IF(Basisdaten!$E$24=1,Basisdaten!$F$24*Saisonalisierung!A22,0)","v":44787.203999999998},{"$f":"IF(Basisdaten!$E$24<=2,Basisdaten!$F$24*Saisonalisierung!B22,0)","v":45677.015999999996},{"$f":"IF(Basisdaten!$E$24<=3,Basisdaten!$F$24*Saisonalisierung!C22,0)","v":52795.512000000002},{"$f":"IF(Basisdaten!$E$24<=4,Basisdaten!$F$24*Saisonalisierung!D22,0)","v":49829.472000000002},{"$f":"IF(Basisdaten!$E$24<=5,Basisdaten!$F$24*Saisonalisierung!E22,0)","v":47753.243999999999},{"$f":"IF(Basisdaten!$E$24<=6,Basisdaten!$F$24*Saisonalisierung!F22,0)","v":49532.867999999995},{"$f":"IF(Basisdaten!$E$24<=7,Basisdaten!$F$24*Saisonalisierung!G22,0)","v":50719.284000000007},{"$f":"IF(Basisdaten!$E$24<=8,Basisdaten!$F$24*Saisonalisierung!H22,0)","v":49829.472000000002},{"$f":"IF(Basisdaten!$E$24<=9,Basisdaten!$F$24*Saisonalisierung!I22,0)","v":50422.68},{"$f":"IF(Basisdaten!$E$24<=10,Basisdaten!$F$24*Saisonalisierung!J22,0)","v":48939.66},{"$f":"IF(Basisdaten!$E$24<=11,Basisdaten!$F$24*Saisonalisierung!K22,0)","v":50422.68},{"$f":"IF(Basisdaten!$E$24<=12,Basisdaten!$F$24*Saisonalisierung!L22,0)","v":52498.907999999996}]
[1,{"$f":"Basisdaten!B25","v":40},{"$f":"Basisdaten!A25","v":"Fatih Cetiner"},{"$f":"Basisdaten!U25","v":2022},{"$f":"IF(Basisdaten!$E$25=1,Basisdaten!$F$25*Saisonalisierung!A23,0)","v":44787.203999999998},{"$f":"IF(Basisdaten!$E$25<=2,Basisdaten!$F$25*Saisonalisierung!B23,0)","v":45677.015999999996},{"$f":"IF(Basisdaten!$E$25<=3,Basisdaten!$F$25*Saisonalisierung!C23,0)","v":52795.512000000002},{"$f":"IF(Basisdaten!$E$25<=4,Basisdaten!$F$25*Saisonalisierung!D23,0)","v":49829.472000000002},{"$f":"IF(Basisdaten!$E$25<=5,Basisdaten!$F$25*Saisonalisierung!E23,0)","v":47753.243999999999},{"$f":"IF(Basisdaten!$E$25<=6,Basisdaten!$F$25*Saisonalisierung!F23,0)","v":49532.867999999995},{"$f":"IF(Basisdaten!$E$25<=7,Basisdaten!$F$25*Saisonalisierung!G23,0)","v":50719.284000000007},{"$f":"IF(Basisdaten!$E$25<=8,Basisdaten!$F$25*Saisonalisierung!H23,0)","v":49829.472000000002},{"$f":"IF(Basisdaten!$E$25<=9,Basisdaten!$F$25*Saisonalisierung!I23,0)","v":50422.68},{"$f":"IF(Basisdaten!$E$25<=10,Basisdaten!$F$25*Saisonalisierung!J23,0)","v":48939.66},{"$f":"IF(Basisdaten!$E$25<=11,Basisdaten!$F$25*Saisonalisierung!K23,0)","v":50422.68},{"$f":"IF(Basisdaten!$E$25<=12,Basisdaten!$F$25*Saisonalisierung!L23,0)","v":52498.907999999996}]
[1,{"$f":"Basisdaten!B26","v":50},{"$f":"Basisdaten!A26","v":"Carlheinz Beylacher"},{"$f":"Basisdaten!U26","v":2022},{"$f":"IF(Basisdaten!$E$26=1,Basisdaten!$F$26*Saisonalisierung!A24,0)","v":44787.203999999998},{"$f":"IF(Basisdaten!$E$26<=2,Basisdaten!$F$26*Saisonalisierung!B24,0)","v":45677.015999999996},{"$f":"IF(Basisdaten!$E$26<=3,Basisdaten!$F$26*Saisonalisierung!C24,0)","v":52795.512000000002},{"$f":"IF(Basisdaten!$E$26<=4,Basisdaten!$F$26*Saisonalisierung!D24,0)","v":49829.472000000002},{"$f":"IF(Basisdaten!$E$26<=5,Basisdaten!$F$26*Saisonalisierung!E24,0)","v":47753.243999999999},{"$f":"IF(Basisdaten!$E$26<=6,Basisdaten!$F$26*Saisonalisierung!F24,0)","v":49532.867999999995},{"$f":"IF(Basisdaten!$E$26<=7,Basisdaten!$F$26*Saisonalisierung!G24,0)","v":50719.284000000007},{"$f":"IF(Basisdaten!$E$26<=8,Basisdaten!$F$26*Saisonalisierung!H24,0)","v":49829.472000000002},{"$f":"IF(Basisdaten!$E$26<=9,Basisdaten!$F$26*Saisonalisierung!I24,0)","v":50422.68},{"$f":"IF(Basisdaten!$E$26<=10,Basisdaten!$F$26*Saisonalisierung!J24,0)","v":48939.66},{"$f":"IF(Basisdaten!$E$26<=11,Basisdaten!$F$26*Saisonalisierung!K24,0)","v":50422.68},{"$f":"IF(Basisdaten!$E$26<=12,Basisdaten!$F$26*Saisonalisierung!L24,0)","v":52498.907999999996}]
[1,{"$f":"Basisdaten!B27","v":50},{"$f":"Basisdaten!A27","v":"Christoph Ziegler"},{"$f":"Basisdaten!U27","v":2022},{"$f":"IF(Basisdaten!$E$27=1,Basisdaten!$F$27*Saisonalisierung!A25,0)","v":44787.203999999998},{"$f":"IF(Basisdaten!$E$27<=2,Basisdaten!$F$27*Saisonalisierung!B25,0)","v":45677.015999999996},{"$f":"IF(Basisdaten!$E$27<=3,Basisdaten!$F$27*Saisonalisierung!C25,0)","v":52795.512000000002},{"$f":"IF(Basisdaten!$E$27<=4,Basisdaten!$F$27*Saisonalisierung!D25,0)","v":49829.472000000002},{"$f":"IF(Basisdaten!$E$27<=5,Basisdaten!$F$27*Saisonalisierung!E25,0)","v":47753.243999999999},{"$f":"IF(Basisdaten!$E$27<=6,Basisdaten!$F$27*Saisonalisierung!F25,0)","v":49532.867999999995},{"$f":"IF(Basisdaten!$E$27<=7,Basisdaten!$F$27*Saisonalisierung!G25,0)","v":50719.284000000007},{"$f":"IF(Basisdaten!$E$27<=8,Basisdaten!$F$27*Saisonalisierung!H25,0)","v":49829.472000000002},{"$f":"IF(Basisdaten!$E$27<=9,Basisdaten!$F$27*Saisonalisierung!I25,0)","v":50422.68},{"$f":"IF(Basisdaten!$E$27<=10,Basisdaten!$F$27*Saisonalisierung!J25,0)","v":48939.66},{"$f":"IF(Basisdaten!$E$27<=11,Basisdaten!$F$27*Saisonalisierung!K25,0)","v":50422.68},{"$f":"IF(Basisdaten!$E$27<=12,Basisdaten!$F$27*Saisonalisierung!L25,0)","v":52498.907999999996}]
[1,{"$f":"Basisdaten!B28","v":50},{"$f":"Basisdaten!A28","v":"Steffen Schiller"},{"$f":"Basisdaten!U28","v":2022},{"$f":"IF(Basisdaten!$E$28=1,Basisdaten!$F$28*Saisonalisierung!A26,0)","v":44787.203999999998},{"$f":"IF(Basisdaten!$E$28<=2,Basisdaten!$F$28*Saisonalisierung!B26,0)","v":45677.015999999996},{"$f":"IF(Basisdaten!$E$28<=3,Basisdaten!$F$28*Saisonalisierung!C26,0)","v":52795.512000000002},{"$f":"IF(Basisdaten!$E$28<=4,Basisdaten!$F$28*Saisonalisierung!D26,0)","v":49829.472000000002},{"$f":"IF(Basisdaten!$E$28<=5,Basisdaten!$F$28*Saisonalisierung!E26,0)","v":47753.243999999999},{"$f":"IF(Basisdaten!$E$28<=6,Basisdaten!$F$28*Saisonalisierung!F26,0)","v":49532.867999999995},{"$f":"IF(Basisdaten!$E$28<=7,Basisdaten!$F$28*Saisonalisierung!G26,0)","v":50719.284000000007},{"$f":"IF(Basisdaten!$E$28<=8,Basisdaten!$F$28*Saisonalisierung!H26,0)","v":49829.472000000002},{"$f":"IF(Basisdaten!$E$28<=9,Basisdaten!$F$28*Saisonalisierung!I26,0)","v":50422.68},{"$f":"IF(Basisdaten!$E$28<=10,Basisdaten!$F$28*Saisonalisierung!J26,0)","v":48939.66},{"$f":"IF(Basisdaten!$E$28<=11,Basisdaten!$F$28*Saisonalisierung!K26,0)","v":50422.68},{"$f":"IF(Basisdaten!$E$28<=12,Basisdaten!$F$28*Saisonalisierung!L26,0)","v":52498.907999999996}]
[1,{"$f":"Basisdaten!B29","v":50},{"$f":"Basisdaten!A29","v":"André Pfeffer - SCBI"},{"$f":"Basisdaten!U29","v":2022},{"$f":"IF(Basisdaten!$E$29=1,Basisdaten!$F$29*Saisonalisierung!A27,0)","v":44787.203999999998},{"$f":"IF(Basisdaten!$E$29<=2,Basisdaten!$F$29*Saisonalisierung!B27,0)","v":45677.015999999996},{"$f":"IF(Basisdaten!$E$29<=3,Basisdaten!$F$29*Saisonalisierung!C27,0)","v":52795.512000000002},{"$f":"IF(Basisdaten!$E$29<=4,Basisdaten!$F$29*Saisonalisierung!D27,0)","v":49829.472000000002},{"$f":"IF(Basisdaten!$E$29<=5,Basisdaten!$F$29*Saisonalisierung!E27,0)","v":47753.243999999999},{"$f":"IF(Basisdaten!$E$29<=6,Basisdaten!$F$29*Saisonalisierung!F27,0)","v":49532.867999999995},{"$f":"IF(Basisdaten!$E$29<=7,Basisdaten!$F$29*Saisonalisierung!G27,0)","v":50719.284000000007},{"$f":"IF(Basisdaten!$E$29<=8,Basisdaten!$F$29*Saisonalisierung!H27,0)","v":49829.472000000002},{"$f":"IF(Basisdaten!$E$29<=9,Basisdaten!$F$29*Saisonalisierung!I27,0)","v":50422.68},{"$f":"IF(Basisdaten!$E$29<=10,Basisdaten!$F$29*Saisonalisierung!J27,0)","v":48939.66},{"$f":"IF(Basisdaten!$E$29<=11,Basisdaten!$F$29*Saisonalisierung!K27,0)","v":50422.68},{"$f":"IF(Basisdaten!$E$29<=12,Basisdaten!$F$29*Saisonalisierung!L27,0)","v":52498.907999999996}]
[1,{"$f":"Basisdaten!B30","v":50},{"$f":"Basisdaten!A30","v":"Christian Wiedemann"},{"$f":"Basisdaten!U30","v":2022},{"$f":"IF(Basisdaten!$E$30=1,Basisdaten!$F$30*Saisonalisierung!A28,0)","v":44787.203999999998},{"$f":"IF(Basisdaten!$E$30<=2,Basisdaten!$F$30*Saisonalisierung!B28,0)","v":45677.015999999996},{"$f":"IF(Basisdaten!$E$30<=3,Basisdaten!$F$30*Saisonalisierung!C28,0)","v":52795.512000000002},{"$f":"IF(Basisdaten!$E$30<=4,Basisdaten!$F$30*Saisonalisierung!D28,0)","v":49829.472000000002},{"$f":"IF(Basisdaten!$E$30<=5,Basisdaten!$F$30*Saisonalisierung!E28,0)","v":47753.243999999999},{"$f":"IF(Basisdaten!$E$30<=6,Basisdaten!$F$30*Saisonalisierung!F28,0)","v":49532.867999999995},{"$f":"IF(Basisdaten!$E$30<=7,Basisdaten!$F$30*Saisonalisierung!G28,0)","v":50719.284000000007},{"$f":"IF(Basisdaten!$E$30<=8,Basisdaten!$F$30*Saisonalisierung!H28,0)","v":49829.472000000002},{"$f":"IF(Basisdaten!$E$30<=9,Basisdaten!$F$30*Saisonalisierung!I28,0)","v":50422.68},{"$f":"IF(Basisdaten!$E$30<=10,Basisdaten!$F$30*Saisonalisierung!J28,0)","v":48939.66},{"$f":"IF(Basisdaten!$E$30<=11,Basisdaten!$F$30*Saisonalisierung!K28,0)","v":50422.68},{"$f":"IF(Basisdaten!$E$30<=12,Basisdaten!$F$30*Saisonalisierung!L28,0)","v":52498.907999999996}]
[1,{"$f":"Basisdaten!B31","v":50},{"$f":"Basisdaten!A31","v":"Daniel Aschmann_"},{"$f":"Basisdaten!U31","v":2022},{"$f":"IF(Basisdaten!$E$31=1,Basisdaten!$F$31*Saisonalisierung!A29,0)","v":0},{"$f":"IF(Basisdaten!$E$31<=2,Basisdaten!$F$31*Saisonalisierung!B29,0)","v":0},{"$f":"IF(Basisdaten!$E$31<=3,Basisdaten!$F$31*Saisonalisierung!C29,0)","v":0},{"$f":"IF(Basisdaten!$E$31<=4,Basisdaten!$F$31*Saisonalisierung!D29,0)","v":0},{"$f":"IF(Basisdaten!$E$31<=5,Basisdaten!$F$31*Saisonalisierung!E29,0)","v":0},{"$f":"IF(Basisdaten!$E$31<=6,Basisdaten!$F$31*Saisonalisierung!F29,0)","v":0},{"$f":"IF(Basisdaten!$E$31<=7,Basisdaten!$F$31*Saisonalisierung!G29,0)","v":0},{"$f":"IF(Basisdaten!$E$31<=8,Basisdaten!$F$31*Saisonalisierung!H29,0)","v":0},{"$f":"IF(Basisdaten!$E$31<=9,Basisdaten!$F$31*Saisonalisierung!I29,0)","v":0},{"$f":"IF(Basisdaten!$E$31<=10,Basisdaten!$F$31*Saisonalisierung!J29,0)","v":0},{"$f":"IF(Basisdaten!$E$31<=11,Basisdaten!$F$31*Saisonalisierung!K29,0)","v":0},{"$f":"IF(Basisdaten!$E$31<=12,Basisdaten!$F$31*Saisonalisierung!L29,0)","v":0}]
[2,{"$f":"Basisdaten!B32","v":60},{"$f":"Basisdaten!A32","v":"Dirk Heditzsch"},{"$f":"Basisdaten!U32","v":2022},{"$f":"IF(Basisdaten!$E$32=1,Basisdaten!$F$32*Saisonalisierung!A30,0)","v":0},{"$f":"IF(Basisdaten!$E$32<=2,Basisdaten!$F$32*Saisonalisierung!B30,0)","v":0},{"$f":"IF(Basisdaten!$E$32<=3,Basisdaten!$F$32*Saisonalisierung!C30,0)","v":0},{"$f":"IF(Basisdaten!$E$32<=4,Basisdaten!$F$32*Saisonalisierung!D30,0)","v":49829.472000000002},{"$f":"IF(Basisdaten!$E$32<=5,Basisdaten!$F$32*Saisonalisierung!E30,0)","v":47753.243999999999},{"$f":"IF(Basisdaten!$E$32<=6,Basisdaten!$F$32*Saisonalisierung!F30,0)","v":49532.867999999995},{"$f":"IF(Basisdaten!$E$32<=7,Basisdaten!$F$32*Saisonalisierung!G30,0)","v":50719.284000000007},{"$f":"IF(Basisdaten!$E$32<=8,Basisdaten!$F$32*Saisonalisierung!H30,0)","v":49829.472000000002},{"$f":"IF(Basisdaten!$E$32<=9,Basisdaten!$F$32*Saisonalisierung!I30,0)","v":50422.68},{"$f":"IF(Basisdaten!$E$32<=10,Basisdaten!$F$32*Saisonalisierung!J30,0)","v":48939.66},{"$f":"IF(Basisdaten!$E$32<=11,Basisdaten!$F$32*Saisonalisierung!K30,0)","v":50422.68},{"$f":"IF(Basisdaten!$E$32<=12,Basisdaten!$F$32*Saisonalisierung!L30,0)","v":52498.907999999996}]
[2,{"$f":"Basisdaten!B33","v":60},{"$f":"Basisdaten!A33","v":"Marco Hanigk"},{"$f":"Basisdaten!U33","v":2022},{"$f":"IF(Basisdaten!$E$33=1,Basisdaten!$F$33*Saisonalisierung!A31,0)","v":44787.203999999998},{"$f":"IF(Basisdaten!$E$33<=2,Basisdaten!$F$33*Saisonalisierung!B31,0)","v":45677.015999999996},{"$f":"IF(Basisdaten!$E$33<=3,Basisdaten!$F$33*Saisonalisierung!C31,0)","v":52795.512000000002},{"$f":"IF(Basisdaten!$E$33<=4,Basisdaten!$F$33*Saisonalisierung!D31,0)","v":49829.472000000002},{"$f":"IF(Basisdaten!$E$33<=5,Basisdaten!$F$33*Saisonalisierung!E31,0)","v":47753.243999999999},{"$f":"IF(Basisdaten!$E$33<=6,Basisdaten!$F$33*Saisonalisierung!F31,0)","v":49532.867999999995},{"$f":"IF(Basisdaten!$E$33<=7,Basisdaten!$F$33*Saisonalisierung!G31,0)","v":50719.284000000007},{"$f":"IF(Basisdaten!$E$33<=8,Basisdaten!$F$33*Saisonalisierung!H31,0)","v":49829.472000000002},{"$f":"IF(Basisdaten!$E$33<=9,Basisdaten!$F$33*Saisonalisierung!I31,0)","v":50422.68},{"$f":"IF(Basisdaten!$E$33<=10,Basisdaten!$F$33*Saisonalisierung!J31,0)","v":48939.66},{"$f":"IF(Basisdaten!$E$33<=11,Basisdaten!$F$33*Saisonalisierung!K31,0)","v":50422.68},{"$f":"IF(Basisdaten!$E$33<=12,Basisdaten!$F$33*Saisonalisierung!L31,0)","v":52498.907999999996}]
[2,{"$f":"Basisdaten!B34","v":60},{"$f":"Basisdaten!A34","v":"Marcel Lankes"},{"$f":"Basisdaten!U34","v":2022},{"$f":"IF(Basisdaten!$E$34=1,Basisdaten!$F$34*Saisonalisierung!A32,0)","v":0},{"$f":"IF(Basisdaten!$E$34<=2,Basisdaten!$F$34*Saisonalisierung!B32,0)","v":0},{"$f":"IF(Basisdaten!$E$34<=3,Basisdaten!$F$34*Saisonalisierung!C32,0)","v":0},{"$f":"IF(Basisdaten!$E$34<=4,Basisdaten!$F$34*Saisonalisierung!D32,0)","v":49829.472000000002},{"$f":"IF(Basisdaten!$E$34<=5,Basisdaten!$F$34*Saisonalisierung!E32,0)","v":47753.243999999999},{"$f":"IF(Basisdaten!$E$34<=6,Basisdaten!$F$34*Saisonalisierung!F32,0)","v":49532.867999999995},{"$f":"IF(Basisdaten!$E$34<=7,Basisdaten!$F$34*Saisonalisierung!G32,0)","v":50719.284000000007},{"$f":"IF(Basisdaten!$E$34<=8,Basisdaten!$F$34*Saisonalisierung!H32,0)","v":49829.472000000002},{"$f":"IF(Basisdaten!$E$34<=9,Basisdaten!$F$34*Saisonalisierung!I32,0)","v":50422.68},{"$f":"IF(Basisdaten!$E$34<=10,Basisdaten!$F$34*Saisonalisierung!J32,0)","v":48939.66},{"$f":"IF(Basisdaten!$E$34<=11,Basisdaten!$F$34*Saisonalisierung!K32,0)","v":50422.68},{"$f":"IF(Basisdaten!$E$34<=12,Basisdaten!$F$34*Saisonalisierung!L32,0)","v":52498.907999999996}]
[2,{"$f":"Basisdaten!B35","v":60},{"$f":"Basisdaten!A35","v":"Roland Klier"},{"$f":"Basisdaten!U35","v":2022},{"$f":"IF(Basisdaten!$E$35=1,Basisdaten!$F$35*Saisonalisierung!A33,0)","v":44787.203999999998},{"$f":"IF(Basisdaten!$E$35<=2,Basisdaten!$F$35*Saisonalisierung!B33,0)","v":45677.015999999996},{"$f":"IF(Basisdaten!$E$35<=3,Basisdaten!$F$35*Saisonalisierung!C33,0)","v":52795.512000000002},{"$f":"IF(Basisdaten!$E$35<=4,Basisdaten!$F$35*Saisonalisierung!D33,0)","v":49829.472000000002},{"$f":"IF(Basisdaten!$E$35<=5,Basisdaten!$F$35*Saisonalisierung!E33,0)","v":47753.243999999999},{"$f":"IF(Basisdaten!$E$35<=6,Basisdaten!$F$35*Saisonalisierung!F33,0)","v":49532.867999999995},{"$f":"IF(Basisdaten!$E$35<=7,Basisdaten!$F$35*Saisonalisierung!G33,0)","v":50719.284000000007},{"$f":"IF(Basisdaten!$E$35<=8,Basisdaten!$F$35*Saisonalisierung!H33,0)","v":49829.472000000002},{"$f":"IF(Basisdaten!$E$35<=9,Basisdaten!$F$35*Saisonalisierung!I33,0)","v":50422.68},{"$f":"IF(Basisdaten!$E$35<=10,Basisdaten!$F$35*Saisonalisierung!J33,0)","v":48939.66},{"$f":"IF(Basisdaten!$E$35<=11,Basisdaten!$F$35*Saisonalisierung!K33,0)","v":50422.68},{"$f":"IF(Basisdaten!$E$35<=12,Basisdaten!$F$35*Saisonalisierung!L33,0)","v":52498.907999999996}]
[2,{"$f":"Basisdaten!B36","v":60},{"$f":"Basisdaten!A36","v":"Mert Güngör"},{"$f":"Basisdaten!U36","v":2022},{"$f":"IF(Basisdaten!$E$36=1,Basisdaten!$F$36*Saisonalisierung!A34,0)","v":0},{"$f":"IF(Basisdaten!$E$36<=2,Basisdaten!$F$36*Saisonalisierung!B34,0)","v":0},{"$f":"IF(Basisdaten!$E$36<=3,Basisdaten!$F$36*Saisonalisierung!C34,0)","v":0},{"$f":"IF(Basisdaten!$E$36<=4,Basisdaten!$F$36*Saisonalisierung!D34,0)","v":0},{"$f":"IF(Basisdaten!$E$36<=5,Basisdaten!$F$36*Saisonalisierung!E34,0)","v":0},{"$f":"IF(Basisdaten!$E$36<=6,Basisdaten!$F$36*Saisonalisierung!F34,0)","v":49532.867999999995},{"$f":"IF(Basisdaten!$E$36<=7,Basisdaten!$F$36*Saisonalisierung!G34,0)","v":50719.284000000007},{"$f":"IF(Basisdaten!$E$36<=8,Basisdaten!$F$36*Saisonalisierung!H34,0)","v":49829.472000000002},{"$f":"IF(Basisdaten!$E$36<=9,Basisdaten!$F$36*Saisonalisierung!I34,0)","v":50422.68},{"$f":"IF(Basisdaten!$E$36<=10,Basisdaten!$F$36*Saisonalisierung!J34,0)","v":48939.66},{"$f":"IF(Basisdaten!$E$36<=11,Basisdaten!$F$36*Saisonalisierung!K34,0)","v":50422.68},{"$f":"IF(Basisdaten!$E$36<=12,Basisdaten!$F$36*Saisonalisierung!L34,0)","v":52498.907999999996}]
[2,{"$f":"Basisdaten!B37","v":60},{"$f":"Basisdaten!A37","v":"Matthias Hagg"},{"$f":"Basisdaten!U37","v":2022},{"$f":"IF(Basisdaten!$E$37=1,Basisdaten!$F$37*Saisonalisierung!A35,0)","v":44787.203999999998},{"$f":"IF(Basisdaten!$E$37<=2,Basisdaten!$F$37*Saisonalisierung!B35,0)","v":45677.015999999996},{"$f":"IF(Basisdaten!$E$37<=3,Basisdaten!$F$37*Saisonalisierung!C35,0)","v":52795.512000000002},{"$f":"IF(Basisdaten!$E$37<=4,Basisdaten!$F$37*Saisonalisierung!D35,0)","v":49829.472000000002},{"$f":"IF(Basisdaten!$E$37<=5,Basisdaten!$F$37*Saisonalisierung!E35,0)","v":47753.243999999999},{"$f":"IF(Basisdaten!$E$37<=6,Basisdaten!$F$37*Saisonalisierung!F35,0)","v":49532.867999999995},{"$f":"IF(Basisdaten!$E$37<=7,Basisdaten!$F$37*Saisonalisierung!G35,0)","v":50719.284000000007},{"$f":"IF(Basisdaten!$E$37<=8,Basisdaten!$F$37*Saisonalisierung!H35,0)","v":49829.472000000002},{"$f":"IF(Basisdaten!$E$37<=9,Basisdaten!$F$37*Saisonalisierung!I35,0)","v":50422.68},{"$f":"IF(Basisdaten!$E$37<=10,Basisdaten!$F$37*Saisonalisierung!J35,0)","v":48939.66},{"$f":"IF(Basisdaten!$E$37<=11,Basisdaten!$F$37*Saisonalisierung!K35,0)","v":50422.68},{"$f":"IF(Basisdaten!$E$37<=12,Basisdaten!$F$37*Saisonalisierung!L35,0)","v":52498.907999999996}]
[2,{"$f":"Basisdaten!B38","v":60},{"$f":"Basisdaten!A38","v":"Walter Schlosser"},{"$f":"Basisdaten!U38","v":2022},{"$f":"IF(Basisdaten!$E$38=1,Basisdaten!$F$38*Saisonalisierung!A36,0)","v":44787.203999999998},{"$f":"IF(Basisdaten!$E$38<=2,Basisdaten!$F$38*Saisonalisierung!B36,0)","v":45677.015999999996},{"$f":"IF(Basisdaten!$E$38<=3,Basisdaten!$F$38*Saisonalisierung!C36,0)","v":52795.512000000002},{"$f":"IF(Basisdaten!$E$38<=4,Basisdaten!$F$38*Saisonalisierung!D36,0)","v":49829.472000000002},{"$f":"IF(Basisdaten!$E$38<=5,Basisdaten!$F$38*Saisonalisierung!E36,0)","v":47753.243999999999},{"$f":"IF(Basisdaten!$E$38<=6,Basisdaten!$F$38*Saisonalisierung!F36,0)","v":49532.867999999995},{"$f":"IF(Basisdaten!$E$38<=7,Basisdaten!$F$38*Saisonalisierung!G36,0)","v":50719.284000000007},{"$f":"IF(Basisdaten!$E$38<=8,Basisdaten!$F$38*Saisonalisierung!H36,0)","v":49829.472000000002},{"$f":"IF(Basisdaten!$E$38<=9,Basisdaten!$F$38*Saisonalisierung!I36,0)","v":50422.68},{"$f":"IF(Basisdaten!$E$38<=10,Basisdaten!$F$38*Saisonalisierung!J36,0)","v":48939.66},{"$f":"IF(Basisdaten!$E$38<=11,Basisdaten!$F$38*Saisonalisierung!K36,0)","v":50422.68},{"$f":"IF(Basisdaten!$E$38<=12,Basisdaten!$F$38*Saisonalisierung!L36,0)","v":52498.907999999996}]
[2,{"$f":"Basisdaten!B39","v":60},{"$f":"Basisdaten!A39","v":"Udo Spindler"},{"$f":"Basisdaten!U39","v":2022},{"$f":"IF(Basisdaten!$E$39=1,Basisdaten!$F$39*Saisonalisierung!A37,0)","v":44787.203999999998},{"$f":"IF(Basisdaten!$E$39<=2,Basisdaten!$F$39*Saisonalisierung!B37,0)","v":45677.015999999996},{"$f":"IF(Basisdaten!$E$39<=3,Basisdaten!$F$39*Saisonalisierung!C37,0)","v":52795.512000000002},{"$f":"IF(Basisdaten!$E$39<=4,Basisdaten!$F$39*Saisonalisierung!D37,0)","v":49829.472000000002},{"$f":"IF(Basisdaten!$E$39<=5,Basisdaten!$F$39*Saisonalisierung!E37,0)","v":47753.243999999999},{"$f":"IF(Basisdaten!$E$39<=6,Basisdaten!$F$39*Saisonalisierung!F37,0)","v":49532.867999999995},{"$f":"IF(Basisdaten!$E$39<=7,Basisdaten!$F$39*Saisonalisierung!G37,0)","v":50719.284000000007},{"$f":"IF(Basisdaten!$E$39<=8,Basisdaten!$F$39*Saisonalisierung!H37,0)","v":49829.472000000002},{"$f":"IF(Basisdaten!$E$39<=9,Basisdaten!$F$39*Saisonalisierung!I37,0)","v":50422.68},{"$f":"IF(Basisdaten!$E$39<=10,Basisdaten!$F$39*Saisonalisierung!J37,0)","v":48939.66},{"$f":"IF(Basisdaten!$E$39<=11,Basisdaten!$F$39*Saisonalisierung!K37,0)","v":50422.68},{"$f":"IF(Basisdaten!$E$39<=12,Basisdaten!$F$39*Saisonalisierung!L37,0)","v":52498.907999999996}]
[2,{"$f":"Basisdaten!B40","v":60},{"$f":"Basisdaten!A40","v":"Marcel Vogler"},{"$f":"Basisdaten!U40","v":2022},{"$f":"IF(Basisdaten!$E$40=1,Basisdaten!$F$40*Saisonalisierung!A38,0)","v":44787.203999999998},{"$f":"IF(Basisdaten!$E$40<=2,Basisdaten!$F$40*Saisonalisierung!B38,0)","v":45677.015999999996},{"$f":"IF(Basisdaten!$E$40<=3,Basisdaten!$F$40*Saisonalisierung!C38,0)","v":52795.512000000002},{"$f":"IF(Basisdaten!$E$40<=4,Basisdaten!$F$40*Saisonalisierung!D38,0)","v":49829.472000000002},{"$f":"IF(Basisdaten!$E$40<=5,Basisdaten!$F$40*Saisonalisierung!E38,0)","v":47753.243999999999},{"$f":"IF(Basisdaten!$E$40<=6,Basisdaten!$F$40*Saisonalisierung!F38,0)","v":49532.867999999995},{"$f":"IF(Basisdaten!$E$40<=7,Basisdaten!$F$40*Saisonalisierung!G38,0)","v":50719.284000000007},{"$f":"IF(Basisdaten!$E$40<=8,Basisdaten!$F$40*Saisonalisierung!H38,0)","v":49829.472000000002},{"$f":"IF(Basisdaten!$E$40<=9,Basisdaten!$F$40*Saisonalisierung!I38,0)","v":50422.68},{"$f":"IF(Basisdaten!$E$40<=10,Basisdaten!$F$40*Saisonalisierung!J38,0)","v":48939.66},{"$f":"IF(Basisdaten!$E$40<=11,Basisdaten!$F$40*Saisonalisierung!K38,0)","v":50422.68},{"$f":"IF(Basisdaten!$E$40<=12,Basisdaten!$F$40*Saisonalisierung!L38,0)","v":52498.907999999996}]
[2,{"$f":"Basisdaten!B41","v":60},{"$f":"Basisdaten!A41","v":"Raphael Marksteiner"},{"$f":"Basisdaten!U41","v":2022},{"$f":"IF(Basisdaten!$E$41=1,Basisdaten!$F$41*Saisonalisierung!A39,0)","v":0},{"$f":"IF(Basisdaten!$E$41<=2,Basisdaten!$F$41*Saisonalisierung!B39,0)","v":0},{"$f":"IF(Basisdaten!$E$41<=3,Basisdaten!$F$41*Saisonalisierung!C39,0)","v":0},{"$f":"IF(Basisdaten!$E$41<=4,Basisdaten!$F$41*Saisonalisierung!D39,0)","v":49829.472000000002},{"$f":"IF(Basisdaten!$E$41<=5,Basisdaten!$F$41*Saisonalisierung!E39,0)","v":47753.243999999999},{"$f":"IF(Basisdaten!$E$41<=6,Basisdaten!$F$41*Saisonalisierung!F39,0)","v":49532.867999999995},{"$f":"IF(Basisdaten!$E$41<=7,Basisdaten!$F$41*Saisonalisierung!G39,0)","v":50719.284000000007},{"$f":"IF(Basisdaten!$E$41<=8,Basisdaten!$F$41*Saisonalisierung!H39,0)","v":49829.472000000002},{"$f":"IF(Basisdaten!$E$41<=9,Basisdaten!$F$41*Saisonalisierung!I39,0)","v":50422.68},{"$f":"IF(Basisdaten!$E$41<=10,Basisdaten!$F$41*Saisonalisierung!J39,0)","v":48939.66},{"$f":"IF(Basisdaten!$E$41<=11,Basisdaten!$F$41*Saisonalisierung!K39,0)","v":50422.68},{"$f":"IF(Basisdaten!$E$41<=12,Basisdaten!$F$41*Saisonalisierung!L39,0)","v":52498.907999999996}]
[2,{"$f":"Basisdaten!B42","v":60},{"$f":"Basisdaten!A42","v":"Markus Appeljun - SCBI"},{"$f":"Basisdaten!U42","v":2022},{"$f":"IF(Basisdaten!$E$42=1,Basisdaten!$F$42*Saisonalisierung!A40,0)","v":0},{"$f":"IF(Basisdaten!$E$42<=2,Basisdaten!$F$42*Saisonalisierung!B40,0)","v":45677.015999999996},{"$f":"IF(Basisdaten!$E$42<=3,Basisdaten!$F$42*Saisonalisierung!C40,0)","v":52795.512000000002},{"$f":"IF(Basisdaten!$E$42<=4,Basisdaten!$F$42*Saisonalisierung!D40,0)","v":49829.472000000002},{"$f":"IF(Basisdaten!$E$42<=5,Basisdaten!$F$42*Saisonalisierung!E40,0)","v":47753.243999999999},{"$f":"IF(Basisdaten!$E$42<=6,Basisdaten!$F$42*Saisonalisierung!F40,0)","v":49532.867999999995},{"$f":"IF(Basisdaten!$E$42<=7,Basisdaten!$F$42*Saisonalisierung!G40,0)","v":50719.284000000007},{"$f":"IF(Basisdaten!$E$42<=8,Basisdaten!$F$42*Saisonalisierung!H40,0)","v":49829.472000000002},{"$f":"IF(Basisdaten!$E$42<=9,Basisdaten!$F$42*Saisonalisierung!I40,0)","v":50422.68},{"$f":"IF(Basisdaten!$E$42<=10,Basisdaten!$F$42*Saisonalisierung!J40,0)","v":48939.66},{"$f":"IF(Basisdaten!$E$42<=11,Basisdaten!$F$42*Saisonalisierung!K40,0)","v":50422.68},{"$f":"IF(Basisdaten!$E$42<=12,Basisdaten!$F$42*Saisonalisierung!L40,0)","v":52498.907999999996}]
[2,{"$f":"Basisdaten!B43","v":60},{"$f":"Basisdaten!A43","v":"Andreas Göllner"},{"$f":"Basisdaten!U43","v":2022},{"$f":"IF(Basisdaten!$E$43=1,Basisdaten!$F$43*Saisonalisierung!A41,0)","v":44787.203999999998},{"$f":"IF(Basisdaten!$E$43<=2,Basisdaten!$F$43*Saisonalisierung!B41,0)","v":45677.015999999996},{"$f":"IF(Basisdaten!$E$43<=3,Basisdaten!$F$43*Saisonalisierung!C41,0)","v":52795.512000000002},{"$f":"IF(Basisdaten!$E$43<=4,Basisdaten!$F$43*Saisonalisierung!D41,0)","v":49829.472000000002},{"$f":"IF(Basisdaten!$E$43<=5,Basisdaten!$F$43*Saisonalisierung!E41,0)","v":47753.243999999999},{"$f":"IF(Basisdaten!$E$43<=6,Basisdaten!$F$43*Saisonalisierung!F41,0)","v":49532.867999999995},{"$f":"IF(Basisdaten!$E$43<=7,Basisdaten!$F$43*Saisonalisierung!G41,0)","v":50719.284000000007},{"$f":"IF(Basisdaten!$E$43<=8,Basisdaten!$F$43*Saisonalisierung!H41,0)","v":49829.472000000002},{"$f":"IF(Basisdaten!$E$43<=9,Basisdaten!$F$43*Saisonalisierung!I41,0)","v":50422.68},{"$f":"IF(Basisdaten!$E$43<=10,Basisdaten!$F$43*Saisonalisierung!J41,0)","v":48939.66},{"$f":"IF(Basisdaten!$E$43<=11,Basisdaten!$F$43*Saisonalisierung!K41,0)","v":50422.68},{"$f":"IF(Basisdaten!$E$43<=12,Basisdaten!$F$43*Saisonalisierung!L41,0)","v":52498.907999999996}]
[2,{"$f":"Basisdaten!B44","v":60},{"$f":"Basisdaten!A44","v":"Marcus Stangl"},{"$f":"Basisdaten!U44","v":2022},{"$f":"IF(Basisdaten!$E$44=1,Basisdaten!$F$44*Saisonalisierung!A42,0)","v":44787.203999999998},{"$f":"IF(Basisdaten!$E$44<=2,Basisdaten!$F$44*Saisonalisierung!B42,0)","v":45677.015999999996},{"$f":"IF(Basisdaten!$E$44<=3,Basisdaten!$F$44*Saisonalisierung!C42,0)","v":52795.512000000002},{"$f":"IF(Basisdaten!$E$44<=4,Basisdaten!$F$44*Saisonalisierung!D42,0)","v":49829.472000000002},{"$f":"IF(Basisdaten!$E$44<=5,Basisdaten!$F$44*Saisonalisierung!E42,0)","v":47753.243999999999},{"$f":"IF(Basisdaten!$E$44<=6,Basisdaten!$F$44*Saisonalisierung!F42,0)","v":49532.867999999995},{"$f":"IF(Basisdaten!$E$44<=7,Basisdaten!$F$44*Saisonalisierung!G42,0)","v":50719.284000000007},{"$f":"IF(Basisdaten!$E$44<=8,Basisdaten!$F$44*Saisonalisierung!H42,0)","v":49829.472000000002},{"$f":"IF(Basisdaten!$E$44<=9,Basisdaten!$F$44*Saisonalisierung!I42,0)","v":50422.68},{"$f":"IF(Basisdaten!$E$44<=10,Basisdaten!$F$44*Saisonalisierung!J42,0)","v":48939.66},{"$f":"IF(Basisdaten!$E$44<=11,Basisdaten!$F$44*Saisonalisierung!K42,0)","v":50422.68},{"$f":"IF(Basisdaten!$E$44<=12,Basisdaten!$F$44*Saisonalisierung!L42,0)","v":52498.907999999996}]
[2,{"$f":"Basisdaten!B45","v":60},{"$f":"Basisdaten!A45","v":"Christoph Rottenkolber"},{"$f":"Basisdaten!U45","v":2022},{"$f":"IF(Basisdaten!$E$45=1,Basisdaten!$F$45*Saisonalisierung!A43,0)","v":0},{"$f":"IF(Basisdaten!$E$45<=2,Basisdaten!$F$45*Saisonalisierung!B43,0)","v":0},{"$f":"IF(Basisdaten!$E$45<=3,Basisdaten!$F$45*Saisonalisierung!C43,0)","v":0},{"$f":"IF(Basisdaten!$E$45<=4,Basisdaten!$F$45*Saisonalisierung!D43,0)","v":49829.472000000002},{"$f":"IF(Basisdaten!$E$45<=5,Basisdaten!$F$45*Saisonalisierung!E43,0)","v":47753.243999999999},{"$f":"IF(Basisdaten!$E$45<=6,Basisdaten!$F$45*Saisonalisierung!F43,0)","v":49532.867999999995},{"$f":"IF(Basisdaten!$E$45<=7,Basisdaten!$F$45*Saisonalisierung!G43,0)","v":50719.284000000007},{"$f":"IF(Basisdaten!$E$45<=8,Basisdaten!$F$45*Saisonalisierung!H43,0)","v":49829.472000000002},{"$f":"IF(Basisdaten!$E$45<=9,Basisdaten!$F$45*Saisonalisierung!I43,0)","v":50422.68},{"$f":"IF(Basisdaten!$E$45<=10,Basisdaten!$F$45*Saisonalisierung!J43,0)","v":48939.66},{"$f":"IF(Basisdaten!$E$45<=11,Basisdaten!$F$45*Saisonalisierung!K43,0)","v":50422.68},{"$f":"IF(Basisdaten!$E$45<=12,Basisdaten!$F$45*Saisonalisierung!L43,0)","v":52498.907999999996}]
[2,{"$f":"Basisdaten!B46","v":60},{"$f":"Basisdaten!A46","v":"Michael Cattide - SCBI"},{"$f":"Basisdaten!U46","v":2022},{"$f":"IF(Basisdaten!$E$46=1,Basisdaten!$F$46*Saisonalisierung!A44,0)","v":44787.203999999998},{"$f":"IF(Basisdaten!$E$46<=2,Basisdaten!$F$46*Saisonalisierung!B44,0)","v":45677.015999999996},{"$f":"IF(Basisdaten!$E$46<=3,Basisdaten!$F$46*Saisonalisierung!C44,0)","v":52795.512000000002},{"$f":"IF(Basisdaten!$E$46<=4,Basisdaten!$F$46*Saisonalisierung!D44,0)","v":49829.472000000002},{"$f":"IF(Basisdaten!$E$46<=5,Basisdaten!$F$46*Saisonalisierung!E44,0)","v":47753.243999999999},{"$f":"IF(Basisdaten!$E$46<=6,Basisdaten!$F$46*Saisonalisierung!F44,0)","v":49532.867999999995},{"$f":"IF(Basisdaten!$E$46<=7,Basisdaten!$F$46*Saisonalisierung!G44,0)","v":50719.284000000007},{"$f":"IF(Basisdaten!$E$46<=8,Basisdaten!$F$46*Saisonalisierung!H44,0)","v":49829.472000000002},{"$f":"IF(Basisdaten!$E$46<=9,Basisdaten!$F$46*Saisonalisierung!I44,0)","v":50422.68},{"$f":"IF(Basisdaten!$E$46<=10,Basisdaten!$F$46*Saisonalisierung!J44,0)","v":48939.66},{"$f":"IF(Basisdaten!$E$46<=11,Basisdaten!$F$46*Saisonalisierung!K44,0)","v":50422.68},{"$f":"IF(Basisdaten!$E$46<=12,Basisdaten!$F$46*Saisonalisierung!L44,0)","v":52498.907999999996}]
[2,{"$f":"Basisdaten!B47","v":60},{"$f":"Basisdaten!A47","v":"Dennis Grohmann"},{"$f":"Basisdaten!U47","v":2022},{"$f":"IF(Basisdaten!$E$47=1,Basisdaten!$F$47*Saisonalisierung!A45,0)","v":0},{"$f":"IF(Basisdaten!$E$47<=2,Basisdaten!$F$47*Saisonalisierung!B45,0)","v":0},{"$f":"IF(Basisdaten!$E$47<=3,Basisdaten!$F$47*Saisonalisierung!C45,0)","v":0},{"$f":"IF(Basisdaten!$E$47<=4,Basisdaten!$F$47*Saisonalisierung!D45,0)","v":0},{"$f":"IF(Basisdaten!$E$47<=5,Basisdaten!$F$47*Saisonalisierung!E45,0)","v":0},{"$f":"IF(Basisdaten!$E$47<=6,Basisdaten!$F$47*Saisonalisierung!F45,0)","v":0},{"$f":"IF(Basisdaten!$E$47<=7,Basisdaten!$F$47*Saisonalisierung!G45,0)","v":0},{"$f":"IF(Basisdaten!$E$47<=8,Basisdaten!$F$47*Saisonalisierung!H45,0)","v":0},{"$f":"IF(Basisdaten!$E$47<=9,Basisdaten!$F$47*Saisonalisierung!I45,0)","v":0},{"$f":"IF(Basisdaten!$E$47<=10,Basisdaten!$F$47*Saisonalisierung!J45,0)","v":0},{"$f":"IF(Basisdaten!$E$47<=11,Basisdaten!$F$47*Saisonalisierung!K45,0)","v":0},{"$f":"IF(Basisdaten!$E$47<=12,Basisdaten!$F$47*Saisonalisierung!L45,0)","v":0}]
[2,{"$f":"Basisdaten!B48","v":60},{"$f":"Basisdaten!A48","v":"Simone Groß - SCBZ"},{"$f":"Basisdaten!U48","v":2022},{"$f":"IF(Basisdaten!$E$48=1,Basisdaten!$F$48*Saisonalisierung!A46,0)","v":44787.203999999998},{"$f":"IF(Basisdaten!$E$48<=2,Basisdaten!$F$48*Saisonalisierung!B46,0)","v":45677.015999999996},{"$f":"IF(Basisdaten!$E$48<=3,Basisdaten!$F$48*Saisonalisierung!C46,0)","v":52795.512000000002},{"$f":"IF(Basisdaten!$E$48<=4,Basisdaten!$F$48*Saisonalisierung!D46,0)","v":49829.472000000002},{"$f":"IF(Basisdaten!$E$48<=5,Basisdaten!$F$48*Saisonalisierung!E46,0)","v":47753.243999999999},{"$f":"IF(Basisdaten!$E$48<=6,Basisdaten!$F$48*Saisonalisierung!F46,0)","v":49532.867999999995},{"$f":"IF(Basisdaten!$E$48<=7,Basisdaten!$F$48*Saisonalisierung!G46,0)","v":50719.284000000007},{"$f":"IF(Basisdaten!$E$48<=8,Basisdaten!$F$48*Saisonalisierung!H46,0)","v":49829.472000000002},{"$f":"IF(Basisdaten!$E$48<=9,Basisdaten!$F$48*Saisonalisierung!I46,0)","v":50422.68},{"$f":"IF(Basisdaten!$E$48<=10,Basisdaten!$F$48*Saisonalisierung!J46,0)","v":48939.66},{"$f":"IF(Basisdaten!$E$48<=11,Basisdaten!$F$48*Saisonalisierung!K46,0)","v":50422.68},{"$f":"IF(Basisdaten!$E$48<=12,Basisdaten!$F$48*Saisonalisierung!L46,0)","v":52498.907999999996}]
[1,{"$f":"Basisdaten!B49","v":55},{"$f":"Basisdaten!A49","v":"Jens Haller"},{"$f":"Basisdaten!U49","v":2022},{"$f":"IF(Basisdaten!$E$49=1,Basisdaten!$F$49*Saisonalisierung!A47,0)","v":44787.203999999998},{"$f":"IF(Basisdaten!$E$49<=2,Basisdaten!$F$49*Saisonalisierung!B47,0)","v":45677.015999999996},{"$f":"IF(Basisdaten!$E$49<=3,Basisdaten!$F$49*Saisonalisierung!C47,0)","v":52795.512000000002},{"$f":"IF(Basisdaten!$E$49<=4,Basisdaten!$F$49*Saisonalisierung!D47,0)","v":49829.472000000002},{"$f":"IF(Basisdaten!$E$49<=5,Basisdaten!$F$49*Saisonalisierung!E47,0)","v":47753.243999999999},{"$f":"IF(Basisdaten!$E$49<=6,Basisdaten!$F$49*Saisonalisierung!F47,0)","v":49532.867999999995},{"$f":"IF(Basisdaten!$E$49<=7,Basisdaten!$F$49*Saisonalisierung!G47,0)","v":50719.284000000007},{"$f":"IF(Basisdaten!$E$49<=8,Basisdaten!$F$49*Saisonalisierung!H47,0)","v":49829.472000000002},{"$f":"IF(Basisdaten!$E$49<=9,Basisdaten!$F$49*Saisonalisierung!I47,0)","v":50422.68},{"$f":"IF(Basisdaten!$E$49<=10,Basisdaten!$F$49*Saisonalisierung!J47,0)","v":48939.66},{"$f":"IF(Basisdaten!$E$49<=11,Basisdaten!$F$49*Saisonalisierung!K47,0)","v":50422.68},{"$f":"IF(Basisdaten!$E$49<=12,Basisdaten!$F$49*Saisonalisierung!L47,0)","v":52498.907999999996}]
[1,{"$f":"Basisdaten!B50","v":55},{"$f":"Basisdaten!A50","v":"Ioannis Tsesmelis_"},{"$f":"Basisdaten!U50","v":2022},{"$f":"IF(Basisdaten!$E$50=1,Basisdaten!$F$50*Saisonalisierung!A48,0)","v":0},{"$f":"IF(Basisdaten!$E$50<=2,Basisdaten!$F$50*Saisonalisierung!B48,0)","v":0},{"$f":"IF(Basisdaten!$E$50<=3,Basisdaten!$F$50*Saisonalisierung!C48,0)","v":0},{"$f":"IF(Basisdaten!$E$50<=4,Basisdaten!$F$50*Saisonalisierung!D48,0)","v":0},{"$f":"IF(Basisdaten!$E$50<=5,Basisdaten!$F$50*Saisonalisierung!E48,0)","v":0},{"$f":"IF(Basisdaten!$E$50<=6,Basisdaten!$F$50*Saisonalisierung!F48,0)","v":0},{"$f":"IF(Basisdaten!$E$50<=7,Basisdaten!$F$50*Saisonalisierung!G48,0)","v":0},{"$f":"IF(Basisdaten!$E$50<=8,Basisdaten!$F$50*Saisonalisierung!H48,0)","v":0},{"$f":"IF(Basisdaten!$E$50<=9,Basisdaten!$F$50*Saisonalisierung!I48,0)","v":0},{"$f":"IF(Basisdaten!$E$50<=10,Basisdaten!$F$50*Saisonalisierung!J48,0)","v":0},{"$f":"IF(Basisdaten!$E$50<=11,Basisdaten!$F$50*Saisonalisierung!K48,0)","v":0},{"$f":"IF(Basisdaten!$E$50<=12,Basisdaten!$F$50*Saisonalisierung!L48,0)","v":0}]
[1,{"$f":"Basisdaten!B51","v":55},{"$f":"Basisdaten!A51","v":"Matthias Mirga_GZ"},{"$f":"Basisdaten!U51","v":2022},{"$f":"IF(Basisdaten!$E$51=1,Basisdaten!$F$51*Saisonalisierung!A49,0)","v":44787.203999999998},{"$f":"IF(Basisdaten!$E$51<=2,Basisdaten!$F$51*Saisonalisierung!B49,0)","v":45677.015999999996},{"$f":"IF(Basisdaten!$E$51<=3,Basisdaten!$F$51*Saisonalisierung!C49,0)","v":52795.512000000002},{"$f":"IF(Basisdaten!$E$51<=4,Basisdaten!$F$51*Saisonalisierung!D49,0)","v":49829.472000000002},{"$f":"IF(Basisdaten!$E$51<=5,Basisdaten!$F$51*Saisonalisierung!E49,0)","v":47753.243999999999},{"$f":"IF(Basisdaten!$E$51<=6,Basisdaten!$F$51*Saisonalisierung!F49,0)","v":49532.867999999995},{"$f":"IF(Basisdaten!$E$51<=7,Basisdaten!$F$51*Saisonalisierung!G49,0)","v":50719.284000000007},{"$f":"IF(Basisdaten!$E$51<=8,Basisdaten!$F$51*Saisonalisierung!H49,0)","v":49829.472000000002},{"$f":"IF(Basisdaten!$E$51<=9,Basisdaten!$F$51*Saisonalisierung!I49,0)","v":50422.68},{"$f":"IF(Basisdaten!$E$51<=10,Basisdaten!$F$51*Saisonalisierung!J49,0)","v":48939.66},{"$f":"IF(Basisdaten!$E$51<=11,Basisdaten!$F$51*Saisonalisierung!K49,0)","v":50422.68},{"$f":"IF(Basisdaten!$E$51<=12,Basisdaten!$F$51*Saisonalisierung!L49,0)","v":52498.907999999996}]
[2,{"$f":"Basisdaten!B52","v":60},{"$f":"Basisdaten!A52","v":"Hakan Celik"},{"$f":"Basisdaten!U52","v":2022},{"$f":"IF(Basisdaten!$E$52=1,Basisdaten!$F$52*Saisonalisierung!A50,0)","v":44787.203999999998},{"$f":"IF(Basisdaten!$E$52<=2,Basisdaten!$F$52*Saisonalisierung!B50,0)","v":45677.015999999996},{"$f":"IF(Basisdaten!$E$52<=3,Basisdaten!$F$52*Saisonalisierung!C50,0)","v":52795.512000000002},{"$f":"IF(Basisdaten!$E$52<=4,Basisdaten!$F$52*Saisonalisierung!D50,0)","v":49829.472000000002},{"$f":"IF(Basisdaten!$E$52<=5,Basisdaten!$F$52*Saisonalisierung!E50,0)","v":47753.243999999999},{"$f":"IF(Basisdaten!$E$52<=6,Basisdaten!$F$52*Saisonalisierung!F50,0)","v":49532.867999999995},{"$f":"IF(Basisdaten!$E$52<=7,Basisdaten!$F$52*Saisonalisierung!G50,0)","v":50719.284000000007},{"$f":"IF(Basisdaten!$E$52<=8,Basisdaten!$F$52*Saisonalisierung!H50,0)","v":49829.472000000002},{"$f":"IF(Basisdaten!$E$52<=9,Basisdaten!$F$52*Saisonalisierung!I50,0)","v":50422.68},{"$f":"IF(Basisdaten!$E$52<=10,Basisdaten!$F$52*Saisonalisierung!J50,0)","v":48939.66},{"$f":"IF(Basisdaten!$E$52<=11,Basisdaten!$F$52*Saisonalisierung!K50,0)","v":50422.68},{"$f":"IF(Basisdaten!$E$52<=12,Basisdaten!$F$52*Saisonalisierung!L50,0)","v":52498.907999999996}]
[1,{"$f":"Basisdaten!B53","v":40},{"$f":"Basisdaten!A53","v":"Tom Sprongl"},{"$f":"Basisdaten!U53","v":2022},{"$f":"IF(Basisdaten!$E$53=1,Basisdaten!$F$53*Saisonalisierung!A51,0)","v":44787.203999999998},{"$f":"IF(Basisdaten!$E$53<=2,Basisdaten!$F$53*Saisonalisierung!B51,0)","v":45677.015999999996},{"$f":"IF(Basisdaten!$E$53<=3,Basisdaten!$F$53*Saisonalisierung!C51,0)","v":52795.512000000002},{"$f":"IF(Basisdaten!$E$53<=4,Basisdaten!$F$53*Saisonalisierung!D51,0)","v":49829.472000000002},{"$f":"IF(Basisdaten!$E$53<=5,Basisdaten!$F$53*Saisonalisierung!E51,0)","v":47753.243999999999},{"$f":"IF(Basisdaten!$E$53<=6,Basisdaten!$F$53*Saisonalisierung!F51,0)","v":49532.867999999995},{"$f":"IF(Basisdaten!$E$53<=7,Basisdaten!$F$53*Saisonalisierung!G51,0)","v":50719.284000000007},{"$f":"IF(Basisdaten!$E$53<=8,Basisdaten!$F$53*Saisonalisierung!H51,0)","v":49829.472000000002},{"$f":"IF(Basisdaten!$E$53<=9,Basisdaten!$F$53*Saisonalisierung!I51,0)","v":50422.68},{"$f":"IF(Basisdaten!$E$53<=10,Basisdaten!$F$53*Saisonalisierung!J51,0)","v":48939.66},{"$f":"IF(Basisdaten!$E$53<=11,Basisdaten!$F$53*Saisonalisierung!K51,0)","v":50422.68},{"$f":"IF(Basisdaten!$E$53<=12,Basisdaten!$F$53*Saisonalisierung!L51,0)","v":52498.907999999996}]
[null,{"$f":"Basisdaten!B54","v":0},{"$f":"Basisdaten!A54","v":"SB 5"},{"$f":"Basisdaten!U54","v":0},{"$f":"IF(Basisdaten!$E$54=1,Basisdaten!$F$54*Saisonalisierung!A52,0)","v":0},{"$f":"IF(Basisdaten!$E$54<=2,Basisdaten!$F$54*Saisonalisierung!B52,0)","v":0},{"$f":"IF(Basisdaten!$E$54<=3,Basisdaten!$F$54*Saisonalisierung!C52,0)","v":0},{"$f":"IF(Basisdaten!$E$54<=4,Basisdaten!$F$54*Saisonalisierung!D52,0)","v":0},{"$f":"IF(Basisdaten!$E$54<=5,Basisdaten!$F$54*Saisonalisierung!E52,0)","v":0},{"$f":"IF(Basisdaten!$E$54<=6,Basisdaten!$F$54*Saisonalisierung!F52,0)","v":0},{"$f":"IF(Basisdaten!$E$54<=7,Basisdaten!$F$54*Saisonalisierung!G52,0)","v":0},{"$f":"IF(Basisdaten!$E$54<=8,Basisdaten!$F$54*Saisonalisierung!H52,0)","v":0},{"$f":"IF(Basisdaten!$E$54<=9,Basisdaten!$F$54*Saisonalisierung!I52,0)","v":0},{"$f":"IF(Basisdaten!$E$54<=10,Basisdaten!$F$54*Saisonalisierung!J52,0)","v":0},{"$f":"IF(Basisdaten!$E$54<=11,Basisdaten!$F$54*Saisonalisierung!K52,0)","v":0},{"$f":"IF(Basisdaten!$E$54<=12,Basisdaten!$F$54*Saisonalisierung!L52,0)","v":0}]
[null,{"$f":"Basisdaten!B55","v":0},{"$f":"Basisdaten!A55","v":"SB 6"},{"$f":"Basisdaten!U55","v":0},{"$f":"IF(Basisdaten!$E$55=1,Basisdaten!$F$55*Saisonalisierung!A53,0)","v":0},{"$f":"IF(Basisdaten!$E$55<=2,Basisdaten!$F$55*Saisonalisierung!B53,0)","v":0},{"$f":"IF(Basisdaten!$E$55<=3,Basisdaten!$F$55*Saisonalisierung!C53,0)","v":0},{"$f":"IF(Basisdaten!$E$55<=4,Basisdaten!$F$55*Saisonalisierung!D53,0)","v":0},{"$f":"IF(Basisdaten!$E$55<=5,Basisdaten!$F$55*Saisonalisierung!E53,0)","v":0},{"$f":"IF(Basisdaten!$E$55<=6,Basisdaten!$F$55*Saisonalisierung!F53,0)","v":0},{"$f":"IF(Basisdaten!$E$55<=7,Basisdaten!$F$55*Saisonalisierung!G53,0)","v":0},{"$f":"IF(Basisdaten!$E$55<=8,Basisdaten!$F$55*Saisonalisierung!H53,0)","v":0},{"$f":"IF(Basisdaten!$E$55<=9,Basisdaten!$F$55*Saisonalisierung!I53,0)","v":0},{"$f":"IF(Basisdaten!$E$55<=10,Basisdaten!$F$55*Saisonalisierung!J53,0)","v":0},{"$f":"IF(Basisdaten!$E$55<=11,Basisdaten!$F$55*Saisonalisierung!K53,0)","v":0},{"$f":"IF(Basisdaten!$E$55<=12,Basisdaten!$F$55*Saisonalisierung!L53,0)","v":0}]
[null,{"$f":"Basisdaten!B56","v":0},{"$f":"Basisdaten!A56","v":"SB 7"},{"$f":"Basisdaten!U56","v":0},{"$f":"IF(Basisdaten!$E$56=1,Basisdaten!$F$56*Saisonalisierung!A54,0)","v":0},{"$f":"IF(Basisdaten!$E$56<=2,Basisdaten!$F$56*Saisonalisierung!B54,0)","v":0},{"$f":"IF(Basisdaten!$E$56<=3,Basisdaten!$F$56*Saisonalisierung!C54,0)","v":0},{"$f":"IF(Basisdaten!$E$56<=4,Basisdaten!$F$56*Saisonalisierung!D54,0)","v":0},{"$f":"IF(Basisdaten!$E$56<=5,Basisdaten!$F$56*Saisonalisierung!E54,0)","v":0},{"$f":"IF(Basisdaten!$E$56<=6,Basisdaten!$F$56*Saisonalisierung!F54,0)","v":0},{"$f":"IF(Basisdaten!$E$56<=7,Basisdaten!$F$56*Saisonalisierung!G54,0)","v":0},{"$f":"IF(Basisdaten!$E$56<=8,Basisdaten!$F$56*Saisonalisierung!H54,0)","v":0},{"$f":"IF(Basisdaten!$E$56<=9,Basisdaten!$F$56*Saisonalisierung!I54,0)","v":0},{"$f":"IF(Basisdaten!$E$56<=10,Basisdaten!$F$56*Saisonalisierung!J54,0)","v":0},{"$f":"IF(Basisdaten!$E$56<=11,Basisdaten!$F$56*Saisonalisierung!K54,0)","v":0},{"$f":"IF(Basisdaten!$E$56<=12,Basisdaten!$F$56*Saisonalisierung!L54,0)","v":0}]
[null,{"$f":"Basisdaten!B57","v":0},{"$f":"Basisdaten!A57","v":"SB 8"},{"$f":"Basisdaten!U57","v":0},{"$f":"IF(Basisdaten!$E$57=1,Basisdaten!$F$57*Saisonalisierung!A55,0)","v":0},{"$f":"IF(Basisdaten!$E$57<=2,Basisdaten!$F$57*Saisonalisierung!B55,0)","v":0},{"$f":"IF(Basisdaten!$E$57<=3,Basisdaten!$F$57*Saisonalisierung!C55,0)","v":0},{"$f":"IF(Basisdaten!$E$57<=4,Basisdaten!$F$57*Saisonalisierung!D55,0)","v":0},{"$f":"IF(Basisdaten!$E$57<=5,Basisdaten!$F$57*Saisonalisierung!E55,0)","v":0},{"$f":"IF(Basisdaten!$E$57<=6,Basisdaten!$F$57*Saisonalisierung!F55,0)","v":0},{"$f":"IF(Basisdaten!$E$57<=7,Basisdaten!$F$57*Saisonalisierung!G55,0)","v":0},{"$f":"IF(Basisdaten!$E$57<=8,Basisdaten!$F$57*Saisonalisierung!H55,0)","v":0},{"$f":"IF(Basisdaten!$E$57<=9,Basisdaten!$F$57*Saisonalisierung!I55,0)","v":0},{"$f":"IF(Basisdaten!$E$57<=10,Basisdaten!$F$57*Saisonalisierung!J55,0)","v":0},{"$f":"IF(Basisdaten!$E$57<=11,Basisdaten!$F$57*Saisonalisierung!K55,0)","v":0},{"$f":"IF(Basisdaten!$E$57<=12,Basisdaten!$F$57*Saisonalisierung!L55,0)","v":0}]
[null,{"$f":"Basisdaten!B58","v":0},{"$f":"Basisdaten!A58","v":"SB 9"},{"$f":"Basisdaten!U58","v":0},{"$f":"IF(Basisdaten!$E$58=1,Basisdaten!$F$58*Saisonalisierung!A56,0)","v":0},{"$f":"IF(Basisdaten!$E$58<=2,Basisdaten!$F$58*Saisonalisierung!B56,0)","v":0},{"$f":"IF(Basisdaten!$E$58<=3,Basisdaten!$F$58*Saisonalisierung!C56,0)","v":0},{"$f":"IF(Basisdaten!$E$58<=4,Basisdaten!$F$58*Saisonalisierung!D56,0)","v":0},{"$f":"IF(Basisdaten!$E$58<=5,Basisdaten!$F$58*Saisonalisierung!E56,0)","v":0},{"$f":"IF(Basisdaten!$E$58<=6,Basisdaten!$F$58*Saisonalisierung!F56,0)","v":0},{"$f":"IF(Basisdaten!$E$58<=7,Basisdaten!$F$58*Saisonalisierung!G56,0)","v":0},{"$f":"IF(Basisdaten!$E$58<=8,Basisdaten!$F$58*Saisonalisierung!H56,0)","v":0},{"$f":"IF(Basisdaten!$E$58<=9,Basisdaten!$F$58*Saisonalisierung!I56,0)","v":0},{"$f":"IF(Basisdaten!$E$58<=10,Basisdaten!$F$58*Saisonalisierung!J56,0)","v":0},{"$f":"IF(Basisdaten!$E$58<=11,Basisdaten!$F$58*Saisonalisierung!K56,0)","v":0},{"$f":"IF(Basisdaten!$E$58<=12,Basisdaten!$F$58*Saisonalisierung!L56,0)","v":0}]
[null,{"$f":"Basisdaten!B59","v":0},{"$f":"Basisdaten!A59","v":"SB 10"},{"$f":"Basisdaten!U59","v":0},{"$f":"IF(Basisdaten!$E$59=1,Basisdaten!$F$59*Saisonalisierung!A57,0)","v":0},{"$f":"IF(Basisdaten!$E$59<=2,Basisdaten!$F$59*Saisonalisierung!B57,0)","v":0},{"$f":"IF(Basisdaten!$E$59<=3,Basisdaten!$F$59*Saisonalisierung!C57,0)","v":0},{"$f":"IF(Basisdaten!$E$59<=4,Basisdaten!$F$59*Saisonalisierung!D57,0)","v":0},{"$f":"IF(Basisdaten!$E$59<=5,Basisdaten!$F$59*Saisonalisierung!E57,0)","v":0},{"$f":"IF(Basisdaten!$E$59<=6,Basisdaten!$F$59*Saisonalisierung!F57,0)","v":0},{"$f":"IF(Basisdaten!$E$59<=7,Basisdaten!$F$59*Saisonalisierung!G57,0)","v":0},{"$f":"IF(Basisdaten!$E$59<=8,Basisdaten!$F$59*Saisonalisierung!H57,0)","v":0},{"$f":"IF(Basisdaten!$E$59<=9,Basisdaten!$F$59*Saisonalisierung!I57,0)","v":0},{"$f":"IF(Basisdaten!$E$59<=10,Basisdaten!$F$59*Saisonalisierung!J57,0)","v":0},{"$f":"IF(Basisdaten!$E$59<=11,Basisdaten!$F$59*Saisonalisierung!K57,0)","v":0},{"$f":"IF(Basisdaten!$E$59<=12,Basisdaten!$F$59*Saisonalisierung!L57,0)","v":0}]

{"sheet":"Verarb_Ums_Teile","index":20,"n_rows":57,"n_cols":16,"rows_kept":57,"cut":false,"hidden":false,"merged":[]}
["Hauptbetrieb","Standort","Serviceberater","Invoice Date","Ums_Teile_Plan_1","Ums_Teile_Plan_2","Ums_Teile_Plan_3","Ums_Teile_Plan_4","Ums_Teile_Plan_5","Ums_Teile_Plan_6","Ums_Teile_Plan_7","Ums_Teile_Plan_8","Ums_Teile_Plan_9","Ums_Teile_Plan_10","Ums_Teile_Plan_11","Ums_Teile_Plan_12"]
[1,{"$f":"Basisdaten!B4","v":10},{"$f":"Basisdaten!A4","v":"Erich Harzenetter - SCBK"},{"$f":"Basisdaten!U4","v":2022},{"$f":"IF(Basisdaten!$E$4=1,Basisdaten!$G$4*Saisonalisierung!A2,0)","v":52429.464999999997},{"$f":"IF(Basisdaten!$E$4<=2,Basisdaten!$G$4*Saisonalisierung!B2,0)","v":53471.11},{"$f":"IF(Basisdaten!$E$4<=3,Basisdaten!$G$4*Saisonalisierung!C2,0)","v":61804.270000000004},{"$f":"IF(Basisdaten!$E$4<=4,Basisdaten!$G$4*Saisonalisierung!D2,0)","v":58332.12},{"$f":"IF(Basisdaten!$E$4<=5,Basisdaten!$G$4*Saisonalisierung!E2,0)","v":55901.614999999998},{"$f":"IF(Basisdaten!$E$4<=6,Basisdaten!$G$4*Saisonalisierung!F2,0)","v":57984.904999999992},{"$f":"IF(Basisdaten!$E$4<=7,Basisdaten!$G$4*Saisonalisierung!G2,0)","v":59373.765000000007},{"$f":"IF(Basisdaten!$E$4<=8,Basisdaten!$G$4*Saisonalisierung!H2,0)","v":58332.12},{"$f":"IF(Basisdaten!$E$4<=9,Basisdaten!$G$4*Saisonalisierung!I2,0)","v":59026.55},{"$f":"IF(Basisdaten!$E$4<=10,Basisdaten!$G$4*Saisonalisierung!J2,0)","v":57290.475000000006},{"$f":"IF(Basisdaten!$E$4<=11,Basisdaten!$G$4*Saisonalisierung!K2,0)","v":59026.55},{"$f":"IF(Basisdaten!$E$4<=12,Basisdaten!$G$4*Saisonalisierung!L2,0)","v":61457.055}]
[1,{"$f":"Basisdaten!B5","v":10},{"$f":"Basisdaten!A5","v":"Johannes Grieser - SCBI"},{"$f":"Basisdaten!U5","v":2022},{"$f":"IF(Basisdaten!$E$5=1,Basisdaten!$G$5*Saisonalisierung!A3,0)","v":52429.464999999997},{"$f":"IF(Basisdaten!$E$5<=2,Basisdaten!$G$5*Saisonalisierung!B3,0)","v":53471.11},{"$f":"IF(Basisdaten!$E$5<=3,Basisdaten!$G$5*Saisonalisierung!C3,0)","v":61804.270000000004},{"$f":"IF(Basisdaten!$E$5<=4,Basisdaten!$G$5*Saisonalisierung!D3,0)","v":58332.12},{"$f":"IF(Basisdaten!$E$5<=5,Basisdaten!$G$5*Saisonalisierung!E3,0)","v":55901.614999999998},{"$f":"IF(Basisdaten!$E$5<=6,Basisdaten!$G$5*Saisonalisierung!F3,0)","v":57984.904999999992},{"$f":"IF(Basisdaten!$E$5<=7,Basisdaten!$G$5*Saisonalisierung!G3,0)","v":59373.765000000007},{"$f":"IF(Basisdaten!$E$5<=8,Basisdaten!$G$5*Saisonalisierung!H3,0)","v":58332.12},{"$f":"IF(Basisdaten!$E$5<=9,Basisdaten!$G$5*Saisonalisierung!I3,0)","v":59026.55},{"$f":"IF(Basisdaten!$E$5<=10,Basisdaten!$G$5*Saisonalisierung!J3,0)","v":57290.475000000006},{"$f":"IF(Basisdaten!$E$5<=11,Basisdaten!$G$5*Saisonalisierung!K3,0)","v":59026.55},{"$f":"IF(Basisdaten!$E$5<=12,Basisdaten!$G$5*Saisonalisierung!L3,0)","v":61457.055}]
[1,{"$f":"Basisdaten!B6","v":10},{"$f":"Basisdaten!A6","v":"Mike Weber"},{"$f":"Basisdaten!U6","v":2022},{"$f":"IF(Basisdaten!$E$6=1,Basisdaten!$G$6*Saisonalisierung!A4,0)","v":52429.464999999997},{"$f":"IF(Basisdaten!$E$6<=2,Basisdaten!$G$6*Saisonalisierung!B4,0)","v":53471.11},{"$f":"IF(Basisdaten!$E$6<=3,Basisdaten!$G$6*Saisonalisierung!C4,0)","v":61804.270000000004},{"$f":"IF(Basisdaten!$E$6<=4,Basisdaten!$G$6*Saisonalisierung!D4,0)","v":58332.12},{"$f":"IF(Basisdaten!$E$6<=5,Basisdaten!$G$6*Saisonalisierung!E4,0)","v":55901.614999999998},{"$f":"IF(Basisdaten!$E$6<=6,Basisdaten!$G$6*Saisonalisierung!F4,0)","v":57984.904999999992},{"$f":"IF(Basisdaten!$E$6<=7,Basisdaten!$G$6*Saisonalisierung!G4,0)","v":59373.765000000007},{"$f":"IF(Basisdaten!$E$6<=8,Basisdaten!$G$6*Saisonalisierung!H4,0)","v":58332.12},{"$f":"IF(Basisdaten!$E$6<=9,Basisdaten!$G$6*Saisonalisierung!I4,0)","v":59026.55},{"$f":"IF(Basisdaten!$E$6<=10,Basisdaten!$G$6*Saisonalisierung!J4,0)","v":57290.475000000006},{"$f":"IF(Basisdaten!$E$6<=11,Basisdaten!$G$6*Saisonalisierung!K4,0)","v":59026.55},{"$f":"IF(Basisdaten!$E$6<=12,Basisdaten!$G$6*Saisonalisierung!L4,0)","v":61457.055}]
[1,{"$f":"Basisdaten!B7","v":10},{"$f":"Basisdaten!A7","v":"Rudolf Maier"},{"$f":"Basisdaten!U7","v":2022},{"$f":"IF(Basisdaten!$E$7=1,Basisdaten!$G$7*Saisonalisierung!A5,0)","v":52429.464999999997},{"$f":"IF(Basisdaten!$E$7<=2,Basisdaten!$G$7*Saisonalisierung!B5,0)","v":53471.11},{"$f":"IF(Basisdaten!$E$7<=3,Basisdaten!$G$7*Saisonalisierung!C5,0)","v":61804.270000000004},{"$f":"IF(Basisdaten!$E$7<=4,Basisdaten!$G$7*Saisonalisierung!D5,0)","v":58332.12},{"$f":"IF(Basisdaten!$E$7<=5,Basisdaten!$G$7*Saisonalisierung!E5,0)","v":55901.614999999998},{"$f":"IF(Basisdaten!$E$7<=6,Basisdaten!$G$7*Saisonalisierung!F5,0)","v":57984.904999999992},{"$f":"IF(Basisdaten!$E$7<=7,Basisdaten!$G$7*Saisonalisierung!G5,0)","v":59373.765000000007},{"$f":"IF(Basisdaten!$E$7<=8,Basisdaten!$G$7*Saisonalisierung!H5,0)","v":58332.12},{"$f":"IF(Basisdaten!$E$7<=9,Basisdaten!$G$7*Saisonalisierung!I5,0)","v":59026.55},{"$f":"IF(Basisdaten!$E$7<=10,Basisdaten!$G$7*Saisonalisierung!J5,0)","v":57290.475000000006},{"$f":"IF(Basisdaten!$E$7<=11,Basisdaten!$G$7*Saisonalisierung!K5,0)","v":59026.55},{"$f":"IF(Basisdaten!$E$7<=12,Basisdaten!$G$7*Saisonalisierung!L5,0)","v":61457.055}]
[1,{"$f":"Basisdaten!B8","v":10},{"$f":"Basisdaten!A8","v":"Hermann Haller_"},{"$f":"Basisdaten!U8","v":2022},{"$f":"IF(Basisdaten!$E$8=1,Basisdaten!$G$8*Saisonalisierung!A6,0)","v":0},{"$f":"IF(Basisdaten!$E$8<=2,Basisdaten!$G$8*Saisonalisierung!B6,0)","v":0},{"$f":"IF(Basisdaten!$E$8<=3,Basisdaten!$G$8*Saisonalisierung!C6,0)","v":0},{"$f":"IF(Basisdaten!$E$8<=4,Basisdaten!$G$8*Saisonalisierung!D6,0)","v":0},{"$f":"IF(Basisdaten!$E$8<=5,Basisdaten!$G$8*Saisonalisierung!E6,0)","v":0},{"$f":"IF(Basisdaten!$E$8<=6,Basisdaten!$G$8*Saisonalisierung!F6,0)","v":0},{"$f":"IF(Basisdaten!$E$8<=7,Basisdaten!$G$8*Saisonalisierung!G6,0)","v":0},{"$f":"IF(Basisdaten!$E$8<=8,Basisdaten!$G$8*Saisonalisierung!H6,0)","v":0},{"$f":"IF(Basisdaten!$E$8<=9,Basisdaten!$G$8*Saisonalisierung!I6,0)","v":0},{"$f":"IF(Basisdaten!$E$8<=10,Basisdaten!$G$8*Saisonalisierung!J6,0)","v":0},{"$f":"IF(Basisdaten!$E$8<=11,Basisdaten!$G$8*Saisonalisierung!K6,0)","v":0},{"$f":"IF(Basisdaten!$E$8<=12,Basisdaten!$G$8*Saisonalisierung!L6,0)","v":0}]
[1,{"$f":"Basisdaten!B9","v":10},{"$f":"Basisdaten!A9","v":"Christopher Kirmayer"},{"$f":"Basisdaten!U9","v":2022},{"$f":"IF(Basisdaten!$E$9=1,Basisdaten!$G$9*Saisonalisierung!A7,0)","v":52429.464999999997},{"$f":"IF(Basisdaten!$E$9<=2,Basisdaten!$G$9*Saisonalisierung!B7,0)","v":53471.11},{"$f":"IF(Basisdaten!$E$9<=3,Basisdaten!$G$9*Saisonalisierung!C7,0)","v":61804.270000000004},{"$f":"IF(Basisdaten!$E$9<=4,Basisdaten!$G$9*Saisonalisierung!D7,0)","v":58332.12},{"$f":"IF(Basisdaten!$E$9<=5,Basisdaten!$G$9*Saisonalisierung!E7,0)","v":55901.614999999998},{"$f":"IF(Basisdaten!$E$9<=6,Basisdaten!$G$9*Saisonalisierung!F7,0)","v":57984.904999999992},{"$f":"IF(Basisdaten!$E$9<=7,Basisdaten!$G$9*Saisonalisierung!G7,0)","v":59373.765000000007},{"$f":"IF(Basisdaten!$E$9<=8,Basisdaten!$G$9*Saisonalisierung!H7,0)","v":58332.12},{"$f":"IF(Basisdaten!$E$9<=9,Basisdaten!$G$9*Saisonalisierung!I7,0)","v":59026.55},{"$f":"IF(Basisdaten!$E$9<=10,Basisdaten!$G$9*Saisonalisierung!J7,0)","v":57290.475000000006},{"$f":"IF(Basisdaten!$E$9<=11,Basisdaten!$G$9*Saisonalisierung!K7,0)","v":59026.55},{"$f":"IF(Basisdaten!$E$9<=12,Basisdaten!$G$9*Saisonalisierung!L7,0)","v":61457.055}]
[1,{"$f":"Basisdaten!B10","v":10},{"$f":"Basisdaten!A10","v":"Jörg Reifenrath"},{"$f":"Basisdaten!U10","v":2022},{"$f":"IF(Basisdaten!$E$10=1,Basisdaten!$G$10*Saisonalisierung!A8,0)","v":52429.464999999997},{"$f":"IF(Basisdaten!$E$10<=2,Basisdaten!$G$10*Saisonalisierung!B8,0)","v":53471.11},{"$f":"IF(Basisdaten!$E$10<=3,Basisdaten!$G$10*Saisonalisierung!C8,0)","v":61804.270000000004},{"$f":"IF(Basisdaten!$E$10<=4,Basisdaten!$G$10*Saisonalisierung!D8,0)","v":58332.12},{"$f":"IF(Basisdaten!$E$10<=5,Basisdaten!$G$10*Saisonalisierung!E8,0)","v":55901.614999999998},{"$f":"IF(Basisdaten!$E$10<=6,Basisdaten!$G$10*Saisonalisierung!F8,0)","v":57984.904999999992},{"$f":"IF(Basisdaten!$E$10<=7,Basisdaten!$G$10*Saisonalisierung!G8,0)","v":59373.765000000007},{"$f":"IF(Basisdaten!$E$10<=8,Basisdaten!$G$10*Saisonalisierung!H8,0)","v":58332.12},{"$f":"IF(Basisdaten!$E$10<=9,Basisdaten!$G$10*Saisonalisierung!I8,0)","v":59026.55},{"$f":"IF(Basisdaten!$E$10<=10,Basisdaten!$G$10*Saisonalisierung!J8,0)","v":57290.475000000006},{"$f":"IF(Basisdaten!$E$10<=11,Basisdaten!$G$10*Saisonalisierung!K8,0)","v":59026.55},{"$f":"IF(Basisdaten!$E$10<=12,Basisdaten!$G$10*Saisonalisierung!L8,0)","v":61457.055}]
[1,{"$f":"Basisdaten!B11","v":10},{"$f":"Basisdaten!A11","v":"Günter Küblbeck - SCBI_"},{"$f":"Basisdaten!U11","v":2022},{"$f":"IF(Basisdaten!$E$11=1,Basisdaten!$G$11*Saisonalisierung!A9,0)","v":0},{"$f":"IF(Basisdaten!$E$11<=2,Basisdaten!$G$11*Saisonalisierung!B9,0)","v":0},{"$f":"IF(Basisdaten!$E$11<=3,Basisdaten!$G$11*Saisonalisierung!C9,0)","v":0},{"$f":"IF(Basisdaten!$E$11<=4,Basisdaten!$G$11*Saisonalisierung!D9,0)","v":0},{"$f":"IF(Basisdaten!$E$11<=5,Basisdaten!$G$11*Saisonalisierung!E9,0)","v":0},{"$f":"IF(Basisdaten!$E$11<=6,Basisdaten!$G$11*Saisonalisierung!F9,0)","v":0},{"$f":"IF(Basisdaten!$E$11<=7,Basisdaten!$G$11*Saisonalisierung!G9,0)","v":0},{"$f":"IF(Basisdaten!$E$11<=8,Basisdaten!$G$11*Saisonalisierung!H9,0)","v":0},{"$f":"IF(Basisdaten!$E$11<=9,Basisdaten!$G$11*Saisonalisierung!I9,0)","v":0},{"$f":"IF(Basisdaten!$E$11<=10,Basisdaten!$G$11*Saisonalisierung!J9,0)","v":0},{"$f":"IF(Basisdaten!$E$11<=11,Basisdaten!$G$11*Saisonalisierung!K9,0)","v":0},{"$f":"IF(Basisdaten!$E$11<=12,Basisdaten!$G$11*Saisonalisierung!L9,0)","v":0}]
[1,{"$f":"Basisdaten!B12","v":10},{"$f":"Basisdaten!A12","v":"Patrick Kresser"},{"$f":"Basisdaten!U12","v":2022},{"$f":"IF(Basisdaten!$E$12=1,Basisdaten!$G$12*Saisonalisierung!A10,0)","v":52429.464999999997},{"$f":"IF(Basisdaten!$E$12<=2,Basisdaten!$G$12*Saisonalisierung!B10,0)","v":53471.11},{"$f":"IF(Basisdaten!$E$12<=3,Basisdaten!$G$12*Saisonalisierung!C10,0)","v":61804.270000000004},{"$f":"IF(Basisdaten!$E$12<=4,Basisdaten!$G$12*Saisonalisierung!D10,0)","v":58332.12},{"$f":"IF(Basisdaten!$E$12<=5,Basisdaten!$G$12*Saisonalisierung!E10,0)","v":55901.614999999998},{"$f":"IF(Basisdaten!$E$12<=6,Basisdaten!$G$12*Saisonalisierung!F10,0)","v":57984.904999999992},{"$f":"IF(Basisdaten!$E$12<=7,Basisdaten!$G$12*Saisonalisierung!G10,0)","v":59373.765000000007},{"$f":"IF(Basisdaten!$E$12<=8,Basisdaten!$G$12*Saisonalisierung!H10,0)","v":58332.12},{"$f":"IF(Basisdaten!$E$12<=9,Basisdaten!$G$12*Saisonalisierung!I10,0)","v":59026.55},{"$f":"IF(Basisdaten!$E$12<=10,Basisdaten!$G$12*Saisonalisierung!J10,0)","v":57290.475000000006},{"$f":"IF(Basisdaten!$E$12<=11,Basisdaten!$G$12*Saisonalisierung!K10,0)","v":59026.55},{"$f":"IF(Basisdaten!$E$12<=12,Basisdaten!$G$12*Saisonalisierung!L10,0)","v":61457.055}]
[1,{"$f":"Basisdaten!B13","v":30},{"$f":"Basisdaten!A13","v":"Ralf Ruchti"},{"$f":"Basisdaten!U13","v":2022},{"$f":"IF(Basisdaten!$E$13=1,Basisdaten!$G$13*Saisonalisierung!A11,0)","v":36700.625500000002},{"$f":"IF(Basisdaten!$E$13<=2,Basisdaten!$G$13*Saisonalisierung!B11,0)","v":37429.777000000002},{"$f":"IF(Basisdaten!$E$13<=3,Basisdaten!$G$13*Saisonalisierung!C11,0)","v":43262.989000000001},{"$f":"IF(Basisdaten!$E$13<=4,Basisdaten!$G$13*Saisonalisierung!D11,0)","v":40832.484000000004},{"$f":"IF(Basisdaten!$E$13<=5,Basisdaten!$G$13*Saisonalisierung!E11,0)","v":39131.130499999999},{"$f":"IF(Basisdaten!$E$13<=6,Basisdaten!$G$13*Saisonalisierung!F11,0)","v":40589.433499999999},{"$f":"IF(Basisdaten!$E$13<=7,Basisdaten!$G$13*Saisonalisierung!G11,0)","v":41561.635500000004},{"$f":"IF(Basisdaten!$E$13<=8,Basisdaten!$G$13*Saisonalisierung!H11,0)","v":40832.484000000004},{"$f":"IF(Basisdaten!$E$13<=9,Basisdaten!$G$13*Saisonalisierung!I11,0)","v":41318.585000000006},{"$f":"IF(Basisdaten!$E$13<=10,Basisdaten!$G$13*Saisonalisierung!J11,0)","v":40103.332500000004},{"$f":"IF(Basisdaten!$E$13<=11,Basisdaten!$G$13*Saisonalisierung!K11,0)","v":41318.585000000006},{"$f":"IF(Basisdaten!$E$13<=12,Basisdaten!$G$13*Saisonalisierung!L11,0)","v":43019.938499999997}]
[1,{"$f":"Basisdaten!B14","v":30},{"$f":"Basisdaten!A14","v":"Matthias Mirga"},{"$f":"Basisdaten!U14","v":2022},{"$f":"IF(Basisdaten!$E$14=1,Basisdaten!$G$14*Saisonalisierung!A12,0)","v":52429.464999999997},{"$f":"IF(Basisdaten!$E$14<=2,Basisdaten!$G$14*Saisonalisierung!B12,0)","v":53471.11},{"$f":"IF(Basisdaten!$E$14<=3,Basisdaten!$G$14*Saisonalisierung!C12,0)","v":61804.270000000004},{"$f":"IF(Basisdaten!$E$14<=4,Basisdaten!$G$14*Saisonalisierung!D12,0)","v":58332.12},{"$f":"IF(Basisdaten!$E$14<=5,Basisdaten!$G$14*Saisonalisierung!E12,0)","v":55901.614999999998},{"$f":"IF(Basisdaten!$E$14<=6,Basisdaten!$G$14*Saisonalisierung!F12,0)","v":57984.904999999992},{"$f":"IF(Basisdaten!$E$14<=7,Basisdaten!$G$14*Saisonalisierung!G12,0)","v":59373.765000000007},{"$f":"IF(Basisdaten!$E$14<=8,Basisdaten!$G$14*Saisonalisierung!H12,0)","v":58332.12},{"$f":"IF(Basisdaten!$E$14<=9,Basisdaten!$G$14*Saisonalisierung!I12,0)","v":59026.55},{"$f":"IF(Basisdaten!$E$14<=10,Basisdaten!$G$14*Saisonalisierung!J12,0)","v":57290.475000000006},{"$f":"IF(Basisdaten!$E$14<=11,Basisdaten!$G$14*Saisonalisierung!K12,0)","v":59026.55},{"$f":"IF(Basisdaten!$E$14<=12,Basisdaten!$G$14*Saisonalisierung!L12,0)","v":61457.055}]
[1,{"$f":"Basisdaten!B15","v":40},{"$f":"Basisdaten!A15","v":"Wolfgang Heckelmiller - SCBK"},{"$f":"Basisdaten!U15","v":2022},{"$f":"IF(Basisdaten!$E$15=1,Basisdaten!$G$15*Saisonalisierung!A13,0)","v":52429.464999999997},{"$f":"IF(Basisdaten!$E$15<=2,Basisdaten!$G$15*Saisonalisierung!B13,0)","v":53471.11},{"$f":"IF(Basisdaten!$E$15<=3,Basisdaten!$G$15*Saisonalisierung!C13,0)","v":61804.270000000004},{"$f":"IF(Basisdaten!$E$15<=4,Basisdaten!$G$15*Saisonalisierung!D13,0)","v":58332.12},{"$f":"IF(Basisdaten!$E$15<=5,Basisdaten!$G$15*Saisonalisierung!E13,0)","v":55901.614999999998},{"$f":"IF(Basisdaten!$E$15<=6,Basisdaten!$G$15*Saisonalisierung!F13,0)","v":57984.904999999992},{"$f":"IF(Basisdaten!$E$15<=7,Basisdaten!$G$15*Saisonalisierung!G13,0)","v":59373.765000000007},{"$f":"IF(Basisdaten!$E$15<=8,Basisdaten!$G$15*Saisonalisierung!H13,0)","v":58332.12},{"$f":"IF(Basisdaten!$E$15<=9,Basisdaten!$G$15*Saisonalisierung!I13,0)","v":59026.55},{"$f":"IF(Basisdaten!$E$15<=10,Basisdaten!$G$15*Saisonalisierung!J13,0)","v":57290.475000000006},{"$f":"IF(Basisdaten!$E$15<=11,Basisdaten!$G$15*Saisonalisierung!K13,0)","v":59026.55},{"$f":"IF(Basisdaten!$E$15<=12,Basisdaten!$G$15*Saisonalisierung!L13,0)","v":61457.055}]
[1,{"$f":"Basisdaten!B16","v":40},{"$f":"Basisdaten!A16","v":"Daniel Klingenstein"},{"$f":"Basisdaten!U16","v":2022},{"$f":"IF(Basisdaten!$E$16=1,Basisdaten!$G$16*Saisonalisierung!A14,0)","v":52429.464999999997},{"$f":"IF(Basisdaten!$E$16<=2,Basisdaten!$G$16*Saisonalisierung!B14,0)","v":53471.11},{"$f":"IF(Basisdaten!$E$16<=3,Basisdaten!$G$16*Saisonalisierung!C14,0)","v":61804.270000000004},{"$f":"IF(Basisdaten!$E$16<=4,Basisdaten!$G$16*Saisonalisierung!D14,0)","v":58332.12},{"$f":"IF(Basisdaten!$E$16<=5,Basisdaten!$G$16*Saisonalisierung!E14,0)","v":55901.614999999998},{"$f":"IF(Basisdaten!$E$16<=6,Basisdaten!$G$16*Saisonalisierung!F14,0)","v":57984.904999999992},{"$f":"IF(Basisdaten!$E$16<=7,Basisdaten!$G$16*Saisonalisierung!G14,0)","v":59373.765000000007},{"$f":"IF(Basisdaten!$E$16<=8,Basisdaten!$G$16*Saisonalisierung!H14,0)","v":58332.12},{"$f":"IF(Basisdaten!$E$16<=9,Basisdaten!$G$16*Saisonalisierung!I14,0)","v":59026.55},{"$f":"IF(Basisdaten!$E$16<=10,Basisdaten!$G$16*Saisonalisierung!J14,0)","v":57290.475000000006},{"$f":"IF(Basisdaten!$E$16<=11,Basisdaten!$G$16*Saisonalisierung!K14,0)","v":59026.55},{"$f":"IF(Basisdaten!$E$16<=12,Basisdaten!$G$16*Saisonalisierung!L14,0)","v":61457.055}]
[1,{"$f":"Basisdaten!B17","v":40},{"$f":"Basisdaten!A17","v":"Alnes Zenic"},{"$f":"Basisdaten!U17","v":2022},{"$f":"IF(Basisdaten!$E$17=1,Basisdaten!$G$17*Saisonalisierung!A15,0)","v":52429.464999999997},{"$f":"IF(Basisdaten!$E$17<=2,Basisdaten!$G$17*Saisonalisierung!B15,0)","v":53471.11},{"$f":"IF(Basisdaten!$E$17<=3,Basisdaten!$G$17*Saisonalisierung!C15,0)","v":61804.270000000004},{"$f":"IF(Basisdaten!$E$17<=4,Basisdaten!$G$17*Saisonalisierung!D15,0)","v":58332.12},{"$f":"IF(Basisdaten!$E$17<=5,Basisdaten!$G$17*Saisonalisierung!E15,0)","v":55901.614999999998},{"$f":"IF(Basisdaten!$E$17<=6,Basisdaten!$G$17*Saisonalisierung!F15,0)","v":57984.904999999992},{"$f":"IF(Basisdaten!$E$17<=7,Basisdaten!$G$17*Saisonalisierung!G15,0)","v":59373.765000000007},{"$f":"IF(Basisdaten!$E$17<=8,Basisdaten!$G$17*Saisonalisierung!H15,0)","v":58332.12},{"$f":"IF(Basisdaten!$E$17<=9,Basisdaten!$G$17*Saisonalisierung!I15,0)","v":59026.55},{"$f":"IF(Basisdaten!$E$17<=10,Basisdaten!$G$17*Saisonalisierung!J15,0)","v":57290.475000000006},{"$f":"IF(Basisdaten!$E$17<=11,Basisdaten!$G$17*Saisonalisierung!K15,0)","v":59026.55},{"$f":"IF(Basisdaten!$E$17<=12,Basisdaten!$G$17*Saisonalisierung!L15,0)","v":61457.055}]
[1,{"$f":"Basisdaten!B18","v":40},{"$f":"Basisdaten!A18","v":"Mehmet Dikmen"},{"$f":"Basisdaten!U18","v":2022},{"$f":"IF(Basisdaten!$E$18=1,Basisdaten!$G$18*Saisonalisierung!A16,0)","v":52429.464999999997},{"$f":"IF(Basisdaten!$E$18<=2,Basisdaten!$G$18*Saisonalisierung!B16,0)","v":53471.11},{"$f":"IF(Basisdaten!$E$18<=3,Basisdaten!$G$18*Saisonalisierung!C16,0)","v":61804.270000000004},{"$f":"IF(Basisdaten!$E$18<=4,Basisdaten!$G$18*Saisonalisierung!D16,0)","v":58332.12},{"$f":"IF(Basisdaten!$E$18<=5,Basisdaten!$G$18*Saisonalisierung!E16,0)","v":55901.614999999998},{"$f":"IF(Basisdaten!$E$18<=6,Basisdaten!$G$18*Saisonalisierung!F16,0)","v":57984.904999999992},{"$f":"IF(Basisdaten!$E$18<=7,Basisdaten!$G$18*Saisonalisierung!G16,0)","v":59373.765000000007},{"$f":"IF(Basisdaten!$E$18<=8,Basisdaten!$G$18*Saisonalisierung!H16,0)","v":58332.12},{"$f":"IF(Basisdaten!$E$18<=9,Basisdaten!$G$18*Saisonalisierung!I16,0)","v":59026.55},{"$f":"IF(Basisdaten!$E$18<=10,Basisdaten!$G$18*Saisonalisierung!J16,0)","v":57290.475000000006},{"$f":"IF(Basisdaten!$E$18<=11,Basisdaten!$G$18*Saisonalisierung!K16,0)","v":59026.55},{"$f":"IF(Basisdaten!$E$18<=12,Basisdaten!$G$18*Saisonalisierung!L16,0)","v":61457.055}]
[1,{"$f":"Basisdaten!B19","v":40},{"$f":"Basisdaten!A19","v":"Gerrit Heine"},{"$f":"Basisdaten!U19","v":2022},{"$f":"IF(Basisdaten!$E$19=1,Basisdaten!$G$19*Saisonalisierung!A17,0)","v":52429.464999999997},{"$f":"IF(Basisdaten!$E$19<=2,Basisdaten!$G$19*Saisonalisierung!B17,0)","v":53471.11},{"$f":"IF(Basisdaten!$E$19<=3,Basisdaten!$G$19*Saisonalisierung!C17,0)","v":61804.270000000004},{"$f":"IF(Basisdaten!$E$19<=4,Basisdaten!$G$19*Saisonalisierung!D17,0)","v":58332.12},{"$f":"IF(Basisdaten!$E$19<=5,Basisdaten!$G$19*Saisonalisierung!E17,0)","v":55901.614999999998},{"$f":"IF(Basisdaten!$E$19<=6,Basisdaten!$G$19*Saisonalisierung!F17,0)","v":57984.904999999992},{"$f":"IF(Basisdaten!$E$19<=7,Basisdaten!$G$19*Saisonalisierung!G17,0)","v":59373.765000000007},{"$f":"IF(Basisdaten!$E$19<=8,Basisdaten!$G$19*Saisonalisierung!H17,0)","v":58332.12},{"$f":"IF(Basisdaten!$E$19<=9,Basisdaten!$G$19*Saisonalisierung!I17,0)","v":59026.55},{"$f":"IF(Basisdaten!$E$19<=10,Basisdaten!$G$19*Saisonalisierung!J17,0)","v":57290.475000000006},{"$f":"IF(Basisdaten!$E$19<=11,Basisdaten!$G$19*Saisonalisierung!K17,0)","v":59026.55},{"$f":"IF(Basisdaten!$E$19<=12,Basisdaten!$G$19*Saisonalisierung!L17,0)","v":61457.055}]
[1,{"$f":"Basisdaten!B20","v":40},{"$f":"Basisdaten!A20","v":"Lars Krausen"},{"$f":"Basisdaten!U20","v":2022},{"$f":"IF(Basisdaten!$E$20=1,Basisdaten!$G$20*Saisonalisierung!A18,0)","v":52429.464999999997},{"$f":"IF(Basisdaten!$E$20<=2,Basisdaten!$G$20*Saisonalisierung!B18,0)","v":53471.11},{"$f":"IF(Basisdaten!$E$20<=3,Basisdaten!$G$20*Saisonalisierung!C18,0)","v":61804.270000000004},{"$f":"IF(Basisdaten!$E$20<=4,Basisdaten!$G$20*Saisonalisierung!D18,0)","v":58332.12},{"$f":"IF(Basisdaten!$E$20<=5,Basisdaten!$G$20*Saisonalisierung!E18,0)","v":55901.614999999998},{"$f":"IF(Basisdaten!$E$20<=6,Basisdaten!$G$20*Saisonalisierung!F18,0)","v":57984.904999999992},{"$f":"IF(Basisdaten!$E$20<=7,Basisdaten!$G$20*Saisonalisierung!G18,0)","v":59373.765000000007},{"$f":"IF(Basisdaten!$E$20<=8,Basisdaten!$G$20*Saisonalisierung!H18,0)","v":58332.12},{"$f":"IF(Basisdaten!$E$20<=9,Basisdaten!$G$20*Saisonalisierung!I18,0)","v":59026.55},{"$f":"IF(Basisdaten!$E$20<=10,Basisdaten!$G$20*Saisonalisierung!J18,0)","v":57290.475000000006},{"$f":"IF(Basisdaten!$E$20<=11,Basisdaten!$G$20*Saisonalisierung!K18,0)","v":59026.55},{"$f":"IF(Basisdaten!$E$20<=12,Basisdaten!$G$20*Saisonalisierung!L18,0)","v":61457.055}]
[1,{"$f":"Basisdaten!B21","v":40},{"$f":"Basisdaten!A21","v":"Hubert Figura - SCBI"},{"$f":"Basisdaten!U21","v":2022},{"$f":"IF(Basisdaten!$E$21=1,Basisdaten!$G$21*Saisonalisierung!A19,0)","v":52429.464999999997},{"$f":"IF(Basisdaten!$E$21<=2,Basisdaten!$G$21*Saisonalisierung!B19,0)","v":53471.11},{"$f":"IF(Basisdaten!$E$21<=3,Basisdaten!$G$21*Saisonalisierung!C19,0)","v":61804.270000000004},{"$f":"IF(Basisdaten!$E$21<=4,Basisdaten!$G$21*Saisonalisierung!D19,0)","v":58332.12},{"$f":"IF(Basisdaten!$E$21<=5,Basisdaten!$G$21*Saisonalisierung!E19,0)","v":55901.614999999998},{"$f":"IF(Basisdaten!$E$21<=6,Basisdaten!$G$21*Saisonalisierung!F19,0)","v":57984.904999999992},{"$f":"IF(Basisdaten!$E$21<=7,Basisdaten!$G$21*Saisonalisierung!G19,0)","v":59373.765000000007},{"$f":"IF(Basisdaten!$E$21<=8,Basisdaten!$G$21*Saisonalisierung!H19,0)","v":58332.12},{"$f":"IF(Basisdaten!$E$21<=9,Basisdaten!$G$21*Saisonalisierung!I19,0)","v":59026.55},{"$f":"IF(Basisdaten!$E$21<=10,Basisdaten!$G$21*Saisonalisierung!J19,0)","v":57290.475000000006},{"$f":"IF(Basisdaten!$E$21<=11,Basisdaten!$G$21*Saisonalisierung!K19,0)","v":59026.55},{"$f":"IF(Basisdaten!$E$21<=12,Basisdaten!$G$21*Saisonalisierung!L19,0)","v":61457.055}]
[1,{"$f":"Basisdaten!B22","v":40},{"$f":"Basisdaten!A22","v":"Jan-Oliver Knaus"},{"$f":"Basisdaten!U22","v":2022},{"$f":"IF(Basisdaten!$E$22=1,Basisdaten!$G$22*Saisonalisierung!A20,0)","v":52429.464999999997},{"$f":"IF(Basisdaten!$E$22<=2,Basisdaten!$G$22*Saisonalisierung!B20,0)","v":53471.11},{"$f":"IF(Basisdaten!$E$22<=3,Basisdaten!$G$22*Saisonalisierung!C20,0)","v":61804.270000000004},{"$f":"IF(Basisdaten!$E$22<=4,Basisdaten!$G$22*Saisonalisierung!D20,0)","v":58332.12},{"$f":"IF(Basisdaten!$E$22<=5,Basisdaten!$G$22*Saisonalisierung!E20,0)","v":55901.614999999998},{"$f":"IF(Basisdaten!$E$22<=6,Basisdaten!$G$22*Saisonalisierung!F20,0)","v":57984.904999999992},{"$f":"IF(Basisdaten!$E$22<=7,Basisdaten!$G$22*Saisonalisierung!G20,0)","v":59373.765000000007},{"$f":"IF(Basisdaten!$E$22<=8,Basisdaten!$G$22*Saisonalisierung!H20,0)","v":58332.12},{"$f":"IF(Basisdaten!$E$22<=9,Basisdaten!$G$22*Saisonalisierung!I20,0)","v":59026.55},{"$f":"IF(Basisdaten!$E$22<=10,Basisdaten!$G$22*Saisonalisierung!J20,0)","v":57290.475000000006},{"$f":"IF(Basisdaten!$E$22<=11,Basisdaten!$G$22*Saisonalisierung!K20,0)","v":59026.55},{"$f":"IF(Basisdaten!$E$22<=12,Basisdaten!$G$22*Saisonalisierung!L20,0)","v":61457.055}]
[1,{"$f":"Basisdaten!B23","v":40},{"$f":"Basisdaten!A23","v":"Hakan Celik_ULM"},{"$f":"Basisdaten!U23","v":2022},{"$f":"IF(Basisdaten!$E$23=1,Basisdaten!$G$23*Saisonalisierung!A21,0)","v":0},{"$f":"IF(Basisdaten!$E$23<=2,Basisdaten!$G$23*Saisonalisierung!B21,0)","v":0},{"$f":"IF(Basisdaten!$E$23<=3,Basisdaten!$G$23*Saisonalisierung!C21,0)","v":0},{"$f":"IF(Basisdaten!$E$23<=4,Basisdaten!$G$23*Saisonalisierung!D21,0)","v":0},{"$f":"IF(Basisdaten!$E$23<=5,Basisdaten!$G$23*Saisonalisierung!E21,0)","v":0},{"$f":"IF(Basisdaten!$E$23<=6,Basisdaten!$G$23*Saisonalisierung!F21,0)","v":0},{"$f":"IF(Basisdaten!$E$23<=7,Basisdaten!$G$23*Saisonalisierung!G21,0)","v":0},{"$f":"IF(Basisdaten!$E$23<=8,Basisdaten!$G$23*Saisonalisierung!H21,0)","v":0},{"$f":"IF(Basisdaten!$E$23<=9,Basisdaten!$G$23*Saisonalisierung!I21,0)","v":0},{"$f":"IF(Basisdaten!$E$23<=10,Basisdaten!$G$23*Saisonalisierung!J21,0)","v":0},{"$f":"IF(Basisdaten!$E$23<=11,Basisdaten!$G$23*Saisonalisierung!K21,0)","v":0},{"$f":"IF(Basisdaten!$E$23<=12,Basisdaten!$G$23*Saisonalisierung!L21,0)","v":0}]
[1,{"$f":"Basisdaten!B24","v":40},{"$f":"Basisdaten!A24","v":"Andreas Walter"},{"$f":"Basisdaten!U24","v":2022},{"$f":"IF(Basisdaten!$E$24=1,Basisdaten!$G$24*Saisonalisierung!A22,0)","v":52429.464999999997},{"$f":"IF(Basisdaten!$E$24<=2,Basisdaten!$G$24*Saisonalisierung!B22,0)","v":53471.11},{"$f":"IF(Basisdaten!$E$24<=3,Basisdaten!$G$24*Saisonalisierung!C22,0)","v":61804.270000000004},{"$f":"IF(Basisdaten!$E$24<=4,Basisdaten!$G$24*Saisonalisierung!D22,0)","v":58332.12},{"$f":"IF(Basisdaten!$E$24<=5,Basisdaten!$G$24*Saisonalisierung!E22,0)","v":55901.614999999998},{"$f":"IF(Basisdaten!$E$24<=6,Basisdaten!$G$24*Saisonalisierung!F22,0)","v":57984.904999999992},{"$f":"IF(Basisdaten!$E$24<=7,Basisdaten!$G$24*Saisonalisierung!G22,0)","v":59373.765000000007},{"$f":"IF(Basisdaten!$E$24<=8,Basisdaten!$G$24*Saisonalisierung!H22,0)","v":58332.12},{"$f":"IF(Basisdaten!$E$24<=9,Basisdaten!$G$24*Saisonalisierung!I22,0)","v":59026.55},{"$f":"IF(Basisdaten!$E$24<=10,Basisdaten!$G$24*Saisonalisierung!J22,0)","v":57290.475000000006},{"$f":"IF(Basisdaten!$E$24<=11,Basisdaten!$G$24*Saisonalisierung!K22,0)","v":59026.55},{"$f":"IF(Basisdaten!$E$24<=12,Basisdaten!$G$24*Saisonalisierung!L22,0)","v":61457.055}]
[1,{"$f":"Basisdaten!B25","v":40},{"$f":"Basisdaten!A25","v":"Fatih Cetiner"},{"$f":"Basisdaten!U25","v":2022},{"$f":"IF(Basisdaten!$E$25=1,Basisdaten!$G$25*Saisonalisierung!A23,0)","v":52429.464999999997},{"$f":"IF(Basisdaten!$E$25<=2,Basisdaten!$G$25*Saisonalisierung!B23,0)","v":53471.11},{"$f":"IF(Basisdaten!$E$25<=3,Basisdaten!$G$25*Saisonalisierung!C23,0)","v":61804.270000000004},{"$f":"IF(Basisdaten!$E$25<=4,Basisdaten!$G$25*Saisonalisierung!D23,0)","v":58332.12},{"$f":"IF(Basisdaten!$E$25<=5,Basisdaten!$G$25*Saisonalisierung!E23,0)","v":55901.614999999998},{"$f":"IF(Basisdaten!$E$25<=6,Basisdaten!$G$25*Saisonalisierung!F23,0)","v":57984.904999999992},{"$f":"IF(Basisdaten!$E$25<=7,Basisdaten!$G$25*Saisonalisierung!G23,0)","v":59373.765000000007},{"$f":"IF(Basisdaten!$E$25<=8,Basisdaten!$G$25*Saisonalisierung!H23,0)","v":58332.12},{"$f":"IF(Basisdaten!$E$25<=9,Basisdaten!$G$25*Saisonalisierung!I23,0)","v":59026.55},{"$f":"IF(Basisdaten!$E$25<=10,Basisdaten!$G$25*Saisonalisierung!J23,0)","v":57290.475000000006},{"$f":"IF(Basisdaten!$E$25<=11,Basisdaten!$G$25*Saisonalisierung!K23,0)","v":59026.55},{"$f":"IF(Basisdaten!$E$25<=12,Basisdaten!$G$25*Saisonalisierung!L23,0)","v":61457.055}]
[1,{"$f":"Basisdaten!B26","v":50},{"$f":"Basisdaten!A26","v":"Carlheinz Beylacher"},{"$f":"Basisdaten!U26","v":2022},{"$f":"IF(Basisdaten!$E$26=1,Basisdaten!$G$26*Saisonalisierung!A24,0)","v":52429.464999999997},{"$f":"IF(Basisdaten!$E$26<=2,Basisdaten!$G$26*Saisonalisierung!B24,0)","v":53471.11},{"$f":"IF(Basisdaten!$E$26<=3,Basisdaten!$G$26*Saisonalisierung!C24,0)","v":61804.270000000004},{"$f":"IF(Basisdaten!$E$26<=4,Basisdaten!$G$26*Saisonalisierung!D24,0)","v":58332.12},{"$f":"IF(Basisdaten!$E$26<=5,Basisdaten!$G$26*Saisonalisierung!E24,0)","v":55901.614999999998},{"$f":"IF(Basisdaten!$E$26<=6,Basisdaten!$G$26*Saisonalisierung!F24,0)","v":57984.904999999992},{"$f":"IF(Basisdaten!$E$26<=7,Basisdaten!$G$26*Saisonalisierung!G24,0)","v":59373.765000000007},{"$f":"IF(Basisdaten!$E$26<=8,Basisdaten!$G$26*Saisonalisierung!H24,0)","v":58332.12},{"$f":"IF(Basisdaten!$E$26<=9,Basisdaten!$G$26*Saisonalisierung!I24,0)","v":59026.55},{"$f":"IF(Basisdaten!$E$26<=10,Basisdaten!$G$26*Saisonalisierung!J24,0)","v":57290.475000000006},{"$f":"IF(Basisdaten!$E$26<=11,Basisdaten!$G$26*Saisonalisierung!K24,0)","v":59026.55},{"$f":"IF(Basisdaten!$E$26<=12,Basisdaten!$G$26*Saisonalisierung!L24,0)","v":61457.055}]
[1,{"$f":"Basisdaten!B27","v":50},{"$f":"Basisdaten!A27","v":"Christoph Ziegler"},{"$f":"Basisdaten!U27","v":2022},{"$f":"IF(Basisdaten!$E$27=1,Basisdaten!$G$27*Saisonalisierung!A25,0)","v":52429.464999999997},{"$f":"IF(Basisdaten!$E$27<=2,Basisdaten!$G$27*Saisonalisierung!B25,0)","v":53471.11},{"$f":"IF(Basisdaten!$E$27<=3,Basisdaten!$G$27*Saisonalisierung!C25,0)","v":61804.270000000004},{"$f":"IF(Basisdaten!$E$27<=4,Basisdaten!$G$27*Saisonalisierung!D25,0)","v":58332.12},{"$f":"IF(Basisdaten!$E$27<=5,Basisdaten!$G$27*Saisonalisierung!E25,0)","v":55901.614999999998},{"$f":"IF(Basisdaten!$E$27<=6,Basisdaten!$G$27*Saisonalisierung!F25,0)","v":57984.904999999992},{"$f":"IF(Basisdaten!$E$27<=7,Basisdaten!$G$27*Saisonalisierung!G25,0)","v":59373.765000000007},{"$f":"IF(Basisdaten!$E$27<=8,Basisdaten!$G$27*Saisonalisierung!H25,0)","v":58332.12},{"$f":"IF(Basisdaten!$E$27<=9,Basisdaten!$G$27*Saisonalisierung!I25,0)","v":59026.55},{"$f":"IF(Basisdaten!$E$27<=10,Basisdaten!$G$27*Saisonalisierung!J25,0)","v":57290.475000000006},{"$f":"IF(Basisdaten!$E$27<=11,Basisdaten!$G$27*Saisonalisierung!K25,0)","v":59026.55},{"$f":"IF(Basisdaten!$E$27<=12,Basisdaten!$G$27*Saisonalisierung!L25,0)","v":61457.055}]
[1,{"$f":"Basisdaten!B28","v":50},{"$f":"Basisdaten!A28","v":"Steffen Schiller"},{"$f":"Basisdaten!U28","v":2022},{"$f":"IF(Basisdaten!$E$28=1,Basisdaten!$G$28*Saisonalisierung!A26,0)","v":52429.464999999997},{"$f":"IF(Basisdaten!$E$28<=2,Basisdaten!$G$28*Saisonalisierung!B26,0)","v":53471.11},{"$f":"IF(Basisdaten!$E$28<=3,Basisdaten!$G$28*Saisonalisierung!C26,0)","v":61804.270000000004},{"$f":"IF(Basisdaten!$E$28<=4,Basisdaten!$G$28*Saisonalisierung!D26,0)","v":58332.12},{"$f":"IF(Basisdaten!$E$28<=5,Basisdaten!$G$28*Saisonalisierung!E26,0)","v":55901.614999999998},{"$f":"IF(Basisdaten!$E$28<=6,Basisdaten!$G$28*Saisonalisierung!F26,0)","v":57984.904999999992},{"$f":"IF(Basisdaten!$E$28<=7,Basisdaten!$G$28*Saisonalisierung!G26,0)","v":59373.765000000007},{"$f":"IF(Basisdaten!$E$28<=8,Basisdaten!$G$28*Saisonalisierung!H26,0)","v":58332.12},{"$f":"IF(Basisdaten!$E$28<=9,Basisdaten!$G$28*Saisonalisierung!I26,0)","v":59026.55},{"$f":"IF(Basisdaten!$E$28<=10,Basisdaten!$G$28*Saisonalisierung!J26,0)","v":57290.475000000006},{"$f":"IF(Basisdaten!$E$28<=11,Basisdaten!$G$28*Saisonalisierung!K26,0)","v":59026.55},{"$f":"IF(Basisdaten!$E$28<=12,Basisdaten!$G$28*Saisonalisierung!L26,0)","v":61457.055}]
[1,{"$f":"Basisdaten!B29","v":50},{"$f":"Basisdaten!A29","v":"André Pfeffer - SCBI"},{"$f":"Basisdaten!U29","v":2022},{"$f":"IF(Basisdaten!$E$29=1,Basisdaten!$G$29*Saisonalisierung!A27,0)","v":52429.464999999997},{"$f":"IF(Basisdaten!$E$29<=2,Basisdaten!$G$29*Saisonalisierung!B27,0)","v":53471.11},{"$f":"IF(Basisdaten!$E$29<=3,Basisdaten!$G$29*Saisonalisierung!C27,0)","v":61804.270000000004},{"$f":"IF(Basisdaten!$E$29<=4,Basisdaten!$G$29*Saisonalisierung!D27,0)","v":58332.12},{"$f":"IF(Basisdaten!$E$29<=5,Basisdaten!$G$29*Saisonalisierung!E27,0)","v":55901.614999999998},{"$f":"IF(Basisdaten!$E$29<=6,Basisdaten!$G$29*Saisonalisierung!F27,0)","v":57984.904999999992},{"$f":"IF(Basisdaten!$E$29<=7,Basisdaten!$G$29*Saisonalisierung!G27,0)","v":59373.765000000007},{"$f":"IF(Basisdaten!$E$29<=8,Basisdaten!$G$29*Saisonalisierung!H27,0)","v":58332.12},{"$f":"IF(Basisdaten!$E$29<=9,Basisdaten!$G$29*Saisonalisierung!I27,0)","v":59026.55},{"$f":"IF(Basisdaten!$E$29<=10,Basisdaten!$G$29*Saisonalisierung!J27,0)","v":57290.475000000006},{"$f":"IF(Basisdaten!$E$29<=11,Basisdaten!$G$29*Saisonalisierung!K27,0)","v":59026.55},{"$f":"IF(Basisdaten!$E$29<=12,Basisdaten!$G$29*Saisonalisierung!L27,0)","v":61457.055}]
[1,{"$f":"Basisdaten!B30","v":50},{"$f":"Basisdaten!A30","v":"Christian Wiedemann"},{"$f":"Basisdaten!U30","v":2022},{"$f":"IF(Basisdaten!$E$30=1,Basisdaten!$G$30*Saisonalisierung!A28,0)","v":52429.464999999997},{"$f":"IF(Basisdaten!$E$30<=2,Basisdaten!$G$30*Saisonalisierung!B28,0)","v":53471.11},{"$f":"IF(Basisdaten!$E$30<=3,Basisdaten!$G$30*Saisonalisierung!C28,0)","v":61804.270000000004},{"$f":"IF(Basisdaten!$E$30<=4,Basisdaten!$G$30*Saisonalisierung!D28,0)","v":58332.12},{"$f":"IF(Basisdaten!$E$30<=5,Basisdaten!$G$30*Saisonalisierung!E28,0)","v":55901.614999999998},{"$f":"IF(Basisdaten!$E$30<=6,Basisdaten!$G$30*Saisonalisierung!F28,0)","v":57984.904999999992},{"$f":"IF(Basisdaten!$E$30<=7,Basisdaten!$G$30*Saisonalisierung!G28,0)","v":59373.765000000007},{"$f":"IF(Basisdaten!$E$30<=8,Basisdaten!$G$30*Saisonalisierung!H28,0)","v":58332.12},{"$f":"IF(Basisdaten!$E$30<=9,Basisdaten!$G$30*Saisonalisierung!I28,0)","v":59026.55},{"$f":"IF(Basisdaten!$E$30<=10,Basisdaten!$G$30*Saisonalisierung!J28,0)","v":57290.475000000006},{"$f":"IF(Basisdaten!$E$30<=11,Basisdaten!$G$30*Saisonalisierung!K28,0)","v":59026.55},{"$f":"IF(Basisdaten!$E$30<=12,Basisdaten!$G$30*Saisonalisierung!L28,0)","v":61457.055}]
[1,{"$f":"Basisdaten!B31","v":50},{"$f":"Basisdaten!A31","v":"Daniel Aschmann_"},{"$f":"Basisdaten!U31","v":2022},{"$f":"IF(Basisdaten!$E$31=1,Basisdaten!$G$31*Saisonalisierung!A29,0)","v":0},{"$f":"IF(Basisdaten!$E$31<=2,Basisdaten!$G$31*Saisonalisierung!B29,0)","v":0},{"$f":"IF(Basisdaten!$E$31<=3,Basisdaten!$G$31*Saisonalisierung!C29,0)","v":0},{"$f":"IF(Basisdaten!$E$31<=4,Basisdaten!$G$31*Saisonalisierung!D29,0)","v":0},{"$f":"IF(Basisdaten!$E$31<=5,Basisdaten!$G$31*Saisonalisierung!E29,0)","v":0},{"$f":"IF(Basisdaten!$E$31<=6,Basisdaten!$G$31*Saisonalisierung!F29,0)","v":0},{"$f":"IF(Basisdaten!$E$31<=7,Basisdaten!$G$31*Saisonalisierung!G29,0)","v":0},{"$f":"IF(Basisdaten!$E$31<=8,Basisdaten!$G$31*Saisonalisierung!H29,0)","v":0},{"$f":"IF(Basisdaten!$E$31<=9,Basisdaten!$G$31*Saisonalisierung!I29,0)","v":0},{"$f":"IF(Basisdaten!$E$31<=10,Basisdaten!$G$31*Saisonalisierung!J29,0)","v":0},{"$f":"IF(Basisdaten!$E$31<=11,Basisdaten!$G$31*Saisonalisierung!K29,0)","v":0},{"$f":"IF(Basisdaten!$E$31<=12,Basisdaten!$G$31*Saisonalisierung!L29,0)","v":0}]
[2,{"$f":"Basisdaten!B32","v":60},{"$f":"Basisdaten!A32","v":"Dirk Heditzsch"},{"$f":"Basisdaten!U32","v":2022},{"$f":"IF(Basisdaten!$E$32=1,Basisdaten!$G$32*Saisonalisierung!A30,0)","v":0},{"$f":"IF(Basisdaten!$E$32<=2,Basisdaten!$G$32*Saisonalisierung!B30,0)","v":0},{"$f":"IF(Basisdaten!$E$32<=3,Basisdaten!$G$32*Saisonalisierung!C30,0)","v":0},{"$f":"IF(Basisdaten!$E$32<=4,Basisdaten!$G$32*Saisonalisierung!D30,0)","v":58332.12},{"$f":"IF(Basisdaten!$E$32<=5,Basisdaten!$G$32*Saisonalisierung!E30,0)","v":55901.614999999998},{"$f":"IF(Basisdaten!$E$32<=6,Basisdaten!$G$32*Saisonalisierung!F30,0)","v":57984.904999999992},{"$f":"IF(Basisdaten!$E$32<=7,Basisdaten!$G$32*Saisonalisierung!G30,0)","v":59373.765000000007},{"$f":"IF(Basisdaten!$E$32<=8,Basisdaten!$G$32*Saisonalisierung!H30,0)","v":58332.12},{"$f":"IF(Basisdaten!$E$32<=9,Basisdaten!$G$32*Saisonalisierung!I30,0)","v":59026.55},{"$f":"IF(Basisdaten!$E$32<=10,Basisdaten!$G$32*Saisonalisierung!J30,0)","v":57290.475000000006},{"$f":"IF(Basisdaten!$E$32<=11,Basisdaten!$G$32*Saisonalisierung!K30,0)","v":59026.55},{"$f":"IF(Basisdaten!$E$32<=12,Basisdaten!$G$32*Saisonalisierung!L30,0)","v":61457.055}]
[2,{"$f":"Basisdaten!B33","v":60},{"$f":"Basisdaten!A33","v":"Marco Hanigk"},{"$f":"Basisdaten!U33","v":2022},{"$f":"IF(Basisdaten!$E$33=1,Basisdaten!$G$33*Saisonalisierung!A31,0)","v":52429.464999999997},{"$f":"IF(Basisdaten!$E$33<=2,Basisdaten!$G$33*Saisonalisierung!B31,0)","v":53471.11},{"$f":"IF(Basisdaten!$E$33<=3,Basisdaten!$G$33*Saisonalisierung!C31,0)","v":61804.270000000004},{"$f":"IF(Basisdaten!$E$33<=4,Basisdaten!$G$33*Saisonalisierung!D31,0)","v":58332.12},{"$f":"IF(Basisdaten!$E$33<=5,Basisdaten!$G$33*Saisonalisierung!E31,0)","v":55901.614999999998},{"$f":"IF(Basisdaten!$E$33<=6,Basisdaten!$G$33*Saisonalisierung!F31,0)","v":57984.904999999992},{"$f":"IF(Basisdaten!$E$33<=7,Basisdaten!$G$33*Saisonalisierung!G31,0)","v":59373.765000000007},{"$f":"IF(Basisdaten!$E$33<=8,Basisdaten!$G$33*Saisonalisierung!H31,0)","v":58332.12},{"$f":"IF(Basisdaten!$E$33<=9,Basisdaten!$G$33*Saisonalisierung!I31,0)","v":59026.55},{"$f":"IF(Basisdaten!$E$33<=10,Basisdaten!$G$33*Saisonalisierung!J31,0)","v":57290.475000000006},{"$f":"IF(Basisdaten!$E$33<=11,Basisdaten!$G$33*Saisonalisierung!K31,0)","v":59026.55},{"$f":"IF(Basisdaten!$E$33<=12,Basisdaten!$G$33*Saisonalisierung!L31,0)","v":61457.055}]
[2,{"$f":"Basisdaten!B34","v":60},{"$f":"Basisdaten!A34","v":"Marcel Lankes"},{"$f":"Basisdaten!U34","v":2022},{"$f":"IF(Basisdaten!$E$34=1,Basisdaten!$G$34*Saisonalisierung!A32,0)","v":0},{"$f":"IF(Basisdaten!$E$34<=2,Basisdaten!$G$34*Saisonalisierung!B32,0)","v":0},{"$f":"IF(Basisdaten!$E$34<=3,Basisdaten!$G$34*Saisonalisierung!C32,0)","v":0},{"$f":"IF(Basisdaten!$E$34<=4,Basisdaten!$G$34*Saisonalisierung!D32,0)","v":58332.12},{"$f":"IF(Basisdaten!$E$34<=5,Basisdaten!$G$34*Saisonalisierung!E32,0)","v":55901.614999999998},{"$f":"IF(Basisdaten!$E$34<=6,Basisdaten!$G$34*Saisonalisierung!F32,0)","v":57984.904999999992},{"$f":"IF(Basisdaten!$E$34<=7,Basisdaten!$G$34*Saisonalisierung!G32,0)","v":59373.765000000007},{"$f":"IF(Basisdaten!$E$34<=8,Basisdaten!$G$34*Saisonalisierung!H32,0)","v":58332.12},{"$f":"IF(Basisdaten!$E$34<=9,Basisdaten!$G$34*Saisonalisierung!I32,0)","v":59026.55},{"$f":"IF(Basisdaten!$E$34<=10,Basisdaten!$G$34*Saisonalisierung!J32,0)","v":57290.475000000006},{"$f":"IF(Basisdaten!$E$34<=11,Basisdaten!$G$34*Saisonalisierung!K32,0)","v":59026.55},{"$f":"IF(Basisdaten!$E$34<=12,Basisdaten!$G$34*Saisonalisierung!L32,0)","v":61457.055}]
[2,{"$f":"Basisdaten!B35","v":60},{"$f":"Basisdaten!A35","v":"Roland Klier"},{"$f":"Basisdaten!U35","v":2022},{"$f":"IF(Basisdaten!$E$35=1,Basisdaten!$G$35*Saisonalisierung!A33,0)","v":52429.464999999997},{"$f":"IF(Basisdaten!$E$35<=2,Basisdaten!$G$35*Saisonalisierung!B33,0)","v":53471.11},{"$f":"IF(Basisdaten!$E$35<=3,Basisdaten!$G$35*Saisonalisierung!C33,0)","v":61804.270000000004},{"$f":"IF(Basisdaten!$E$35<=4,Basisdaten!$G$35*Saisonalisierung!D33,0)","v":58332.12},{"$f":"IF(Basisdaten!$E$35<=5,Basisdaten!$G$35*Saisonalisierung!E33,0)","v":55901.614999999998},{"$f":"IF(Basisdaten!$E$35<=6,Basisdaten!$G$35*Saisonalisierung!F33,0)","v":57984.904999999992},{"$f":"IF(Basisdaten!$E$35<=7,Basisdaten!$G$35*Saisonalisierung!G33,0)","v":59373.765000000007},{"$f":"IF(Basisdaten!$E$35<=8,Basisdaten!$G$35*Saisonalisierung!H33,0)","v":58332.12},{"$f":"IF(Basisdaten!$E$35<=9,Basisdaten!$G$35*Saisonalisierung!I33,0)","v":59026.55},{"$f":"IF(Basisdaten!$E$35<=10,Basisdaten!$G$35*Saisonalisierung!J33,0)","v":57290.475000000006},{"$f":"IF(Basisdaten!$E$35<=11,Basisdaten!$G$35*Saisonalisierung!K33,0)","v":59026.55},{"$f":"IF(Basisdaten!$E$35<=12,Basisdaten!$G$35*Saisonalisierung!L33,0)","v":61457.055}]
[2,{"$f":"Basisdaten!B36","v":60},{"$f":"Basisdaten!A36","v":"Mert Güngör"},{"$f":"Basisdaten!U36","v":2022},{"$f":"IF(Basisdaten!$E$36=1,Basisdaten!$G$36*Saisonalisierung!A34,0)","v":0},{"$f":"IF(Basisdaten!$E$36<=2,Basisdaten!$G$36*Saisonalisierung!B34,0)","v":0},{"$f":"IF(Basisdaten!$E$36<=3,Basisdaten!$G$36*Saisonalisierung!C34,0)","v":0},{"$f":"IF(Basisdaten!$E$36<=4,Basisdaten!$G$36*Saisonalisierung!D34,0)","v":0},{"$f":"IF(Basisdaten!$E$36<=5,Basisdaten!$G$36*Saisonalisierung!E34,0)","v":0},{"$f":"IF(Basisdaten!$E$36<=6,Basisdaten!$G$36*Saisonalisierung!F34,0)","v":57984.904999999992},{"$f":"IF(Basisdaten!$E$36<=7,Basisdaten!$G$36*Saisonalisierung!G34,0)","v":59373.765000000007},{"$f":"IF(Basisdaten!$E$36<=8,Basisdaten!$G$36*Saisonalisierung!H34,0)","v":58332.12},{"$f":"IF(Basisdaten!$E$36<=9,Basisdaten!$G$36*Saisonalisierung!I34,0)","v":59026.55},{"$f":"IF(Basisdaten!$E$36<=10,Basisdaten!$G$36*Saisonalisierung!J34,0)","v":57290.475000000006},{"$f":"IF(Basisdaten!$E$36<=11,Basisdaten!$G$36*Saisonalisierung!K34,0)","v":59026.55},{"$f":"IF(Basisdaten!$E$36<=12,Basisdaten!$G$36*Saisonalisierung!L34,0)","v":61457.055}]
[2,{"$f":"Basisdaten!B37","v":60},{"$f":"Basisdaten!A37","v":"Matthias Hagg"},{"$f":"Basisdaten!U37","v":2022},{"$f":"IF(Basisdaten!$E$37=1,Basisdaten!$G$37*Saisonalisierung!A35,0)","v":52429.464999999997},{"$f":"IF(Basisdaten!$E$37<=2,Basisdaten!$G$37*Saisonalisierung!B35,0)","v":53471.11},{"$f":"IF(Basisdaten!$E$37<=3,Basisdaten!$G$37*Saisonalisierung!C35,0)","v":61804.270000000004},{"$f":"IF(Basisdaten!$E$37<=4,Basisdaten!$G$37*Saisonalisierung!D35,0)","v":58332.12},{"$f":"IF(Basisdaten!$E$37<=5,Basisdaten!$G$37*Saisonalisierung!E35,0)","v":55901.614999999998},{"$f":"IF(Basisdaten!$E$37<=6,Basisdaten!$G$37*Saisonalisierung!F35,0)","v":57984.904999999992},{"$f":"IF(Basisdaten!$E$37<=7,Basisdaten!$G$37*Saisonalisierung!G35,0)","v":59373.765000000007},{"$f":"IF(Basisdaten!$E$37<=8,Basisdaten!$G$37*Saisonalisierung!H35,0)","v":58332.12},{"$f":"IF(Basisdaten!$E$37<=9,Basisdaten!$G$37*Saisonalisierung!I35,0)","v":59026.55},{"$f":"IF(Basisdaten!$E$37<=10,Basisdaten!$G$37*Saisonalisierung!J35,0)","v":57290.475000000006},{"$f":"IF(Basisdaten!$E$37<=11,Basisdaten!$G$37*Saisonalisierung!K35,0)","v":59026.55},{"$f":"IF(Basisdaten!$E$37<=12,Basisdaten!$G$37*Saisonalisierung!L35,0)","v":61457.055}]
[2,{"$f":"Basisdaten!B38","v":60},{"$f":"Basisdaten!A38","v":"Walter Schlosser"},{"$f":"Basisdaten!U38","v":2022},{"$f":"IF(Basisdaten!$E$38=1,Basisdaten!$G$38*Saisonalisierung!A36,0)","v":52429.464999999997},{"$f":"IF(Basisdaten!$E$38<=2,Basisdaten!$G$38*Saisonalisierung!B36,0)","v":53471.11},{"$f":"IF(Basisdaten!$E$38<=3,Basisdaten!$G$38*Saisonalisierung!C36,0)","v":61804.270000000004},{"$f":"IF(Basisdaten!$E$38<=4,Basisdaten!$G$38*Saisonalisierung!D36,0)","v":58332.12},{"$f":"IF(Basisdaten!$E$38<=5,Basisdaten!$G$38*Saisonalisierung!E36,0)","v":55901.614999999998},{"$f":"IF(Basisdaten!$E$38<=6,Basisdaten!$G$38*Saisonalisierung!F36,0)","v":57984.904999999992},{"$f":"IF(Basisdaten!$E$38<=7,Basisdaten!$G$38*Saisonalisierung!G36,0)","v":59373.765000000007},{"$f":"IF(Basisdaten!$E$38<=8,Basisdaten!$G$38*Saisonalisierung!H36,0)","v":58332.12},{"$f":"IF(Basisdaten!$E$38<=9,Basisdaten!$G$38*Saisonalisierung!I36,0)","v":59026.55},{"$f":"IF(Basisdaten!$E$38<=10,Basisdaten!$G$38*Saisonalisierung!J36,0)","v":57290.475000000006},{"$f":"IF(Basisdaten!$E$38<=11,Basisdaten!$G$38*Saisonalisierung!K36,0)","v":59026.55},{"$f":"IF(Basisdaten!$E$38<=12,Basisdaten!$G$38*Saisonalisierung!L36,0)","v":61457.055}]
[2,{"$f":"Basisdaten!B39","v":60},{"$f":"Basisdaten!A39","v":"Udo Spindler"},{"$f":"Basisdaten!U39","v":2022},{"$f":"IF(Basisdaten!$E$39=1,Basisdaten!$G$39*Saisonalisierung!A37,0)","v":52429.464999999997},{"$f":"IF(Basisdaten!$E$39<=2,Basisdaten!$G$39*Saisonalisierung!B37,0)","v":53471.11},{"$f":"IF(Basisdaten!$E$39<=3,Basisdaten!$G$39*Saisonalisierung!C37,0)","v":61804.270000000004},{"$f":"IF(Basisdaten!$E$39<=4,Basisdaten!$G$39*Saisonalisierung!D37,0)","v":58332.12},{"$f":"IF(Basisdaten!$E$39<=5,Basisdaten!$G$39*Saisonalisierung!E37,0)","v":55901.614999999998},{"$f":"IF(Basisdaten!$E$39<=6,Basisdaten!$G$39*Saisonalisierung!F37,0)","v":57984.904999999992},{"$f":"IF(Basisdaten!$E$39<=7,Basisdaten!$G$39*Saisonalisierung!G37,0)","v":59373.765000000007},{"$f":"IF(Basisdaten!$E$39<=8,Basisdaten!$G$39*Saisonalisierung!H37,0)","v":58332.12},{"$f":"IF(Basisdaten!$E$39<=9,Basisdaten!$G$39*Saisonalisierung!I37,0)","v":59026.55},{"$f":"IF(Basisdaten!$E$39<=10,Basisdaten!$G$39*Saisonalisierung!J37,0)","v":57290.475000000006},{"$f":"IF(Basisdaten!$E$39<=11,Basisdaten!$G$39*Saisonalisierung!K37,0)","v":59026.55},{"$f":"IF(Basisdaten!$E$39<=12,Basisdaten!$G$39*Saisonalisierung!L37,0)","v":61457.055}]
[2,{"$f":"Basisdaten!B40","v":60},{"$f":"Basisdaten!A40","v":"Marcel Vogler"},{"$f":"Basisdaten!U40","v":2022},{"$f":"IF(Basisdaten!$E$40=1,Basisdaten!$G$40*Saisonalisierung!A38,0)","v":52429.464999999997},{"$f":"IF(Basisdaten!$E$40<=2,Basisdaten!$G$40*Saisonalisierung!B38,0)","v":53471.11},{"$f":"IF(Basisdaten!$E$40<=3,Basisdaten!$G$40*Saisonalisierung!C38,0)","v":61804.270000000004},{"$f":"IF(Basisdaten!$E$40<=4,Basisdaten!$G$40*Saisonalisierung!D38,0)","v":58332.12},{"$f":"IF(Basisdaten!$E$40<=5,Basisdaten!$G$40*Saisonalisierung!E38,0)","v":55901.614999999998},{"$f":"IF(Basisdaten!$E$40<=6,Basisdaten!$G$40*Saisonalisierung!F38,0)","v":57984.904999999992},{"$f":"IF(Basisdaten!$E$40<=7,Basisdaten!$G$40*Saisonalisierung!G38,0)","v":59373.765000000007},{"$f":"IF(Basisdaten!$E$40<=8,Basisdaten!$G$40*Saisonalisierung!H38,0)","v":58332.12},{"$f":"IF(Basisdaten!$E$40<=9,Basisdaten!$G$40*Saisonalisierung!I38,0)","v":59026.55},{"$f":"IF(Basisdaten!$E$40<=10,Basisdaten!$G$40*Saisonalisierung!J38,0)","v":57290.475000000006},{"$f":"IF(Basisdaten!$E$40<=11,Basisdaten!$G$40*Saisonalisierung!K38,0)","v":59026.55},{"$f":"IF(Basisdaten!$E$40<=12,Basisdaten!$G$40*Saisonalisierung!L38,0)","v":61457.055}]
[2,{"$f":"Basisdaten!B41","v":60},{"$f":"Basisdaten!A41","v":"Raphael Marksteiner"},{"$f":"Basisdaten!U41","v":2022},{"$f":"IF(Basisdaten!$E$41=1,Basisdaten!$G$41*Saisonalisierung!A39,0)","v":0},{"$f":"IF(Basisdaten!$E$41<=2,Basisdaten!$G$41*Saisonalisierung!B39,0)","v":0},{"$f":"IF(Basisdaten!$E$41<=3,Basisdaten!$G$41*Saisonalisierung!C39,0)","v":0},{"$f":"IF(Basisdaten!$E$41<=4,Basisdaten!$G$41*Saisonalisierung!D39,0)","v":58332.12},{"$f":"IF(Basisdaten!$E$41<=5,Basisdaten!$G$41*Saisonalisierung!E39,0)","v":55901.614999999998},{"$f":"IF(Basisdaten!$E$41<=6,Basisdaten!$G$41*Saisonalisierung!F39,0)","v":57984.904999999992},{"$f":"IF(Basisdaten!$E$41<=7,Basisdaten!$G$41*Saisonalisierung!G39,0)","v":59373.765000000007},{"$f":"IF(Basisdaten!$E$41<=8,Basisdaten!$G$41*Saisonalisierung!H39,0)","v":58332.12},{"$f":"IF(Basisdaten!$E$41<=9,Basisdaten!$G$41*Saisonalisierung!I39,0)","v":59026.55},{"$f":"IF(Basisdaten!$E$41<=10,Basisdaten!$G$41*Saisonalisierung!J39,0)","v":57290.475000000006},{"$f":"IF(Basisdaten!$E$41<=11,Basisdaten!$G$41*Saisonalisierung!K39,0)","v":59026.55},{"$f":"IF(Basisdaten!$E$41<=12,Basisdaten!$G$41*Saisonalisierung!L39,0)","v":61457.055}]
[2,{"$f":"Basisdaten!B42","v":60},{"$f":"Basisdaten!A42","v":"Markus Appeljun - SCBI"},{"$f":"Basisdaten!U42","v":2022},{"$f":"IF(Basisdaten!$E$42=1,Basisdaten!$G$42*Saisonalisierung!A40,0)","v":0},{"$f":"IF(Basisdaten!$E$42<=2,Basisdaten!$G$42*Saisonalisierung!B40,0)","v":53471.11},{"$f":"IF(Basisdaten!$E$42<=3,Basisdaten!$G$42*Saisonalisierung!C40,0)","v":61804.270000000004},{"$f":"IF(Basisdaten!$E$42<=4,Basisdaten!$G$42*Saisonalisierung!D40,0)","v":58332.12},{"$f":"IF(Basisdaten!$E$42<=5,Basisdaten!$G$42*Saisonalisierung!E40,0)","v":55901.614999999998},{"$f":"IF(Basisdaten!$E$42<=6,Basisdaten!$G$42*Saisonalisierung!F40,0)","v":57984.904999999992},{"$f":"IF(Basisdaten!$E$42<=7,Basisdaten!$G$42*Saisonalisierung!G40,0)","v":59373.765000000007},{"$f":"IF(Basisdaten!$E$42<=8,Basisdaten!$G$42*Saisonalisierung!H40,0)","v":58332.12},{"$f":"IF(Basisdaten!$E$42<=9,Basisdaten!$G$42*Saisonalisierung!I40,0)","v":59026.55},{"$f":"IF(Basisdaten!$E$42<=10,Basisdaten!$G$42*Saisonalisierung!J40,0)","v":57290.475000000006},{"$f":"IF(Basisdaten!$E$42<=11,Basisdaten!$G$42*Saisonalisierung!K40,0)","v":59026.55},{"$f":"IF(Basisdaten!$E$42<=12,Basisdaten!$G$42*Saisonalisierung!L40,0)","v":61457.055}]
[2,{"$f":"Basisdaten!B43","v":60},{"$f":"Basisdaten!A43","v":"Andreas Göllner"},{"$f":"Basisdaten!U43","v":2022},{"$f":"IF(Basisdaten!$E$43=1,Basisdaten!$G$43*Saisonalisierung!A41,0)","v":52429.464999999997},{"$f":"IF(Basisdaten!$E$43<=2,Basisdaten!$G$43*Saisonalisierung!B41,0)","v":53471.11},{"$f":"IF(Basisdaten!$E$43<=3,Basisdaten!$G$43*Saisonalisierung!C41,0)","v":61804.270000000004},{"$f":"IF(Basisdaten!$E$43<=4,Basisdaten!$G$43*Saisonalisierung!D41,0)","v":58332.12},{"$f":"IF(Basisdaten!$E$43<=5,Basisdaten!$G$43*Saisonalisierung!E41,0)","v":55901.614999999998},{"$f":"IF(Basisdaten!$E$43<=6,Basisdaten!$G$43*Saisonalisierung!F41,0)","v":57984.904999999992},{"$f":"IF(Basisdaten!$E$43<=7,Basisdaten!$G$43*Saisonalisierung!G41,0)","v":59373.765000000007},{"$f":"IF(Basisdaten!$E$43<=8,Basisdaten!$G$43*Saisonalisierung!H41,0)","v":58332.12},{"$f":"IF(Basisdaten!$E$43<=9,Basisdaten!$G$43*Saisonalisierung!I41,0)","v":59026.55},{"$f":"IF(Basisdaten!$E$43<=10,Basisdaten!$G$43*Saisonalisierung!J41,0)","v":57290.475000000006},{"$f":"IF(Basisdaten!$E$43<=11,Basisdaten!$G$43*Saisonalisierung!K41,0)","v":59026.55},{"$f":"IF(Basisdaten!$E$43<=12,Basisdaten!$G$43*Saisonalisierung!L41,0)","v":61457.055}]
[2,{"$f":"Basisdaten!B44","v":60},{"$f":"Basisdaten!A44","v":"Marcus Stangl"},{"$f":"Basisdaten!U44","v":2022},{"$f":"IF(Basisdaten!$E$44=1,Basisdaten!$G$44*Saisonalisierung!A42,0)","v":52429.464999999997},{"$f":"IF(Basisdaten!$E$44<=2,Basisdaten!$G$44*Saisonalisierung!B42,0)","v":53471.11},{"$f":"IF(Basisdaten!$E$44<=3,Basisdaten!$G$44*Saisonalisierung!C42,0)","v":61804.270000000004},{"$f":"IF(Basisdaten!$E$44<=4,Basisdaten!$G$44*Saisonalisierung!D42,0)","v":58332.12},{"$f":"IF(Basisdaten!$E$44<=5,Basisdaten!$G$44*Saisonalisierung!E42,0)","v":55901.614999999998},{"$f":"IF(Basisdaten!$E$44<=6,Basisdaten!$G$44*Saisonalisierung!F42,0)","v":57984.904999999992},{"$f":"IF(Basisdaten!$E$44<=7,Basisdaten!$G$44*Saisonalisierung!G42,0)","v":59373.765000000007},{"$f":"IF(Basisdaten!$E$44<=8,Basisdaten!$G$44*Saisonalisierung!H42,0)","v":58332.12},{"$f":"IF(Basisdaten!$E$44<=9,Basisdaten!$G$44*Saisonalisierung!I42,0)","v":59026.55},{"$f":"IF(Basisdaten!$E$44<=10,Basisdaten!$G$44*Saisonalisierung!J42,0)","v":57290.475000000006},{"$f":"IF(Basisdaten!$E$44<=11,Basisdaten!$G$44*Saisonalisierung!K42,0)","v":59026.55},{"$f":"IF(Basisdaten!$E$44<=12,Basisdaten!$G$44*Saisonalisierung!L42,0)","v":61457.055}]
[2,{"$f":"Basisdaten!B45","v":60},{"$f":"Basisdaten!A45","v":"Christoph Rottenkolber"},{"$f":"Basisdaten!U45","v":2022},{"$f":"IF(Basisdaten!$E$45=1,Basisdaten!$G$45*Saisonalisierung!A43,0)","v":0},{"$f":"IF(Basisdaten!$E$45<=2,Basisdaten!$G$45*Saisonalisierung!B43,0)","v":0},{"$f":"IF(Basisdaten!$E$45<=3,Basisdaten!$G$45*Saisonalisierung!C43,0)","v":0},{"$f":"IF(Basisdaten!$E$45<=4,Basisdaten!$G$45*Saisonalisierung!D43,0)","v":58332.12},{"$f":"IF(Basisdaten!$E$45<=5,Basisdaten!$G$45*Saisonalisierung!E43,0)","v":55901.614999999998},{"$f":"IF(Basisdaten!$E$45<=6,Basisdaten!$G$45*Saisonalisierung!F43,0)","v":57984.904999999992},{"$f":"IF(Basisdaten!$E$45<=7,Basisdaten!$G$45*Saisonalisierung!G43,0)","v":59373.765000000007},{"$f":"IF(Basisdaten!$E$45<=8,Basisdaten!$G$45*Saisonalisierung!H43,0)","v":58332.12},{"$f":"IF(Basisdaten!$E$45<=9,Basisdaten!$G$45*Saisonalisierung!I43,0)","v":59026.55},{"$f":"IF(Basisdaten!$E$45<=10,Basisdaten!$G$45*Saisonalisierung!J43,0)","v":57290.475000000006},{"$f":"IF(Basisdaten!$E$45<=11,Basisdaten!$G$45*Saisonalisierung!K43,0)","v":59026.55},{"$f":"IF(Basisdaten!$E$45<=12,Basisdaten!$G$45*Saisonalisierung!L43,0)","v":61457.055}]
[2,{"$f":"Basisdaten!B46","v":60},{"$f":"Basisdaten!A46","v":"Michael Cattide - SCBI"},{"$f":"Basisdaten!U46","v":2022},{"$f":"IF(Basisdaten!$E$46=1,Basisdaten!$G$46*Saisonalisierung!A44,0)","v":52429.464999999997},{"$f":"IF(Basisdaten!$E$46<=2,Basisdaten!$G$46*Saisonalisierung!B44,0)","v":53471.11},{"$f":"IF(Basisdaten!$E$46<=3,Basisdaten!$G$46*Saisonalisierung!C44,0)","v":61804.270000000004},{"$f":"IF(Basisdaten!$E$46<=4,Basisdaten!$G$46*Saisonalisierung!D44,0)","v":58332.12},{"$f":"IF(Basisdaten!$E$46<=5,Basisdaten!$G$46*Saisonalisierung!E44,0)","v":55901.614999999998},{"$f":"IF(Basisdaten!$E$46<=6,Basisdaten!$G$46*Saisonalisierung!F44,0)","v":57984.904999999992},{"$f":"IF(Basisdaten!$E$46<=7,Basisdaten!$G$46*Saisonalisierung!G44,0)","v":59373.765000000007},{"$f":"IF(Basisdaten!$E$46<=8,Basisdaten!$G$46*Saisonalisierung!H44,0)","v":58332.12},{"$f":"IF(Basisdaten!$E$46<=9,Basisdaten!$G$46*Saisonalisierung!I44,0)","v":59026.55},{"$f":"IF(Basisdaten!$E$46<=10,Basisdaten!$G$46*Saisonalisierung!J44,0)","v":57290.475000000006},{"$f":"IF(Basisdaten!$E$46<=11,Basisdaten!$G$46*Saisonalisierung!K44,0)","v":59026.55},{"$f":"IF(Basisdaten!$E$46<=12,Basisdaten!$G$46*Saisonalisierung!L44,0)","v":61457.055}]
[2,{"$f":"Basisdaten!B47","v":60},{"$f":"Basisdaten!A47","v":"Dennis Grohmann"},{"$f":"Basisdaten!U47","v":2022},{"$f":"IF(Basisdaten!$E$47=1,Basisdaten!$G$47*Saisonalisierung!A45,0)","v":0},{"$f":"IF(Basisdaten!$E$47<=2,Basisdaten!$G$47*Saisonalisierung!B45,0)","v":0},{"$f":"IF(Basisdaten!$E$47<=3,Basisdaten!$G$47*Saisonalisierung!C45,0)","v":0},{"$f":"IF(Basisdaten!$E$47<=4,Basisdaten!$G$47*Saisonalisierung!D45,0)","v":0},{"$f":"IF(Basisdaten!$E$47<=5,Basisdaten!$G$47*Saisonalisierung!E45,0)","v":0},{"$f":"IF(Basisdaten!$E$47<=6,Basisdaten!$G$47*Saisonalisierung!F45,0)","v":0},{"$f":"IF(Basisdaten!$E$47<=7,Basisdaten!$G$47*Saisonalisierung!G45,0)","v":0},{"$f":"IF(Basisdaten!$E$47<=8,Basisdaten!$G$47*Saisonalisierung!H45,0)","v":0},{"$f":"IF(Basisdaten!$E$47<=9,Basisdaten!$G$47*Saisonalisierung!I45,0)","v":0},{"$f":"IF(Basisdaten!$E$47<=10,Basisdaten!$G$47*Saisonalisierung!J45,0)","v":0},{"$f":"IF(Basisdaten!$E$47<=11,Basisdaten!$G$47*Saisonalisierung!K45,0)","v":0},{"$f":"IF(Basisdaten!$E$47<=12,Basisdaten!$G$47*Saisonalisierung!L45,0)","v":0}]
[2,{"$f":"Basisdaten!B48","v":60},{"$f":"Basisdaten!A48","v":"Simone Groß - SCBZ"},{"$f":"Basisdaten!U48","v":2022},{"$f":"IF(Basisdaten!$E$48=1,Basisdaten!$G$48*Saisonalisierung!A46,0)","v":52429.464999999997},{"$f":"IF(Basisdaten!$E$48<=2,Basisdaten!$G$48*Saisonalisierung!B46,0)","v":53471.11},{"$f":"IF(Basisdaten!$E$48<=3,Basisdaten!$G$48*Saisonalisierung!C46,0)","v":61804.270000000004},{"$f":"IF(Basisdaten!$E$48<=4,Basisdaten!$G$48*Saisonalisierung!D46,0)","v":58332.12},{"$f":"IF(Basisdaten!$E$48<=5,Basisdaten!$G$48*Saisonalisierung!E46,0)","v":55901.614999999998},{"$f":"IF(Basisdaten!$E$48<=6,Basisdaten!$G$48*Saisonalisierung!F46,0)","v":57984.904999999992},{"$f":"IF(Basisdaten!$E$48<=7,Basisdaten!$G$48*Saisonalisierung!G46,0)","v":59373.765000000007},{"$f":"IF(Basisdaten!$E$48<=8,Basisdaten!$G$48*Saisonalisierung!H46,0)","v":58332.12},{"$f":"IF(Basisdaten!$E$48<=9,Basisdaten!$G$48*Saisonalisierung!I46,0)","v":59026.55},{"$f":"IF(Basisdaten!$E$48<=10,Basisdaten!$G$48*Saisonalisierung!J46,0)","v":57290.475000000006},{"$f":"IF(Basisdaten!$E$48<=11,Basisdaten!$G$48*Saisonalisierung!K46,0)","v":59026.55},{"$f":"IF(Basisdaten!$E$48<=12,Basisdaten!$G$48*Saisonalisierung!L46,0)","v":61457.055}]
[1,{"$f":"Basisdaten!B49","v":55},{"$f":"Basisdaten!A49","v":"Jens Haller"},{"$f":"Basisdaten!U49","v":2022},{"$f":"IF(Basisdaten!$E$49=1,Basisdaten!$G$49*Saisonalisierung!A47,0)","v":52429.464999999997},{"$f":"IF(Basisdaten!$E$49<=2,Basisdaten!$G$49*Saisonalisierung!B47,0)","v":53471.11},{"$f":"IF(Basisdaten!$E$49<=3,Basisdaten!$G$49*Saisonalisierung!C47,0)","v":61804.270000000004},{"$f":"IF(Basisdaten!$E$49<=4,Basisdaten!$G$49*Saisonalisierung!D47,0)","v":58332.12},{"$f":"IF(Basisdaten!$E$49<=5,Basisdaten!$G$49*Saisonalisierung!E47,0)","v":55901.614999999998},{"$f":"IF(Basisdaten!$E$49<=6,Basisdaten!$G$49*Saisonalisierung!F47,0)","v":57984.904999999992},{"$f":"IF(Basisdaten!$E$49<=7,Basisdaten!$G$49*Saisonalisierung!G47,0)","v":59373.765000000007},{"$f":"IF(Basisdaten!$E$49<=8,Basisdaten!$G$49*Saisonalisierung!H47,0)","v":58332.12},{"$f":"IF(Basisdaten!$E$49<=9,Basisdaten!$G$49*Saisonalisierung!I47,0)","v":59026.55},{"$f":"IF(Basisdaten!$E$49<=10,Basisdaten!$G$49*Saisonalisierung!J47,0)","v":57290.475000000006},{"$f":"IF(Basisdaten!$E$49<=11,Basisdaten!$G$49*Saisonalisierung!K47,0)","v":59026.55},{"$f":"IF(Basisdaten!$E$49<=12,Basisdaten!$G$49*Saisonalisierung!L47,0)","v":61457.055}]
[1,{"$f":"Basisdaten!B50","v":55},{"$f":"Basisdaten!A50","v":"Ioannis Tsesmelis_"},{"$f":"Basisdaten!U50","v":2022},{"$f":"IF(Basisdaten!$E$50=1,Basisdaten!$G$50*Saisonalisierung!A48,0)","v":0},{"$f":"IF(Basisdaten!$E$50<=2,Basisdaten!$G$50*Saisonalisierung!B48,0)","v":0},{"$f":"IF(Basisdaten!$E$50<=3,Basisdaten!$G$50*Saisonalisierung!C48,0)","v":0},{"$f":"IF(Basisdaten!$E$50<=4,Basisdaten!$G$50*Saisonalisierung!D48,0)","v":0},{"$f":"IF(Basisdaten!$E$50<=5,Basisdaten!$G$50*Saisonalisierung!E48,0)","v":0},{"$f":"IF(Basisdaten!$E$50<=6,Basisdaten!$G$50*Saisonalisierung!F48,0)","v":0},{"$f":"IF(Basisdaten!$E$50<=7,Basisdaten!$G$50*Saisonalisierung!G48,0)","v":0},{"$f":"IF(Basisdaten!$E$50<=8,Basisdaten!$G$50*Saisonalisierung!H48,0)","v":0},{"$f":"IF(Basisdaten!$E$50<=9,Basisdaten!$G$50*Saisonalisierung!I48,0)","v":0},{"$f":"IF(Basisdaten!$E$50<=10,Basisdaten!$G$50*Saisonalisierung!J48,0)","v":0},{"$f":"IF(Basisdaten!$E$50<=11,Basisdaten!$G$50*Saisonalisierung!K48,0)","v":0},{"$f":"IF(Basisdaten!$E$50<=12,Basisdaten!$G$50*Saisonalisierung!L48,0)","v":0}]
[1,{"$f":"Basisdaten!B51","v":55},{"$f":"Basisdaten!A51","v":"Matthias Mirga_GZ"},{"$f":"Basisdaten!U51","v":2022},{"$f":"IF(Basisdaten!$E$51=1,Basisdaten!$G$51*Saisonalisierung!A49,0)","v":52429.464999999997},{"$f":"IF(Basisdaten!$E$51<=2,Basisdaten!$G$51*Saisonalisierung!B49,0)","v":53471.11},{"$f":"IF(Basisdaten!$E$51<=3,Basisdaten!$G$51*Saisonalisierung!C49,0)","v":61804.270000000004},{"$f":"IF(Basisdaten!$E$51<=4,Basisdaten!$G$51*Saisonalisierung!D49,0)","v":58332.12},{"$f":"IF(Basisdaten!$E$51<=5,Basisdaten!$G$51*Saisonalisierung!E49,0)","v":55901.614999999998},{"$f":"IF(Basisdaten!$E$51<=6,Basisdaten!$G$51*Saisonalisierung!F49,0)","v":57984.904999999992},{"$f":"IF(Basisdaten!$E$51<=7,Basisdaten!$G$51*Saisonalisierung!G49,0)","v":59373.765000000007},{"$f":"IF(Basisdaten!$E$51<=8,Basisdaten!$G$51*Saisonalisierung!H49,0)","v":58332.12},{"$f":"IF(Basisdaten!$E$51<=9,Basisdaten!$G$51*Saisonalisierung!I49,0)","v":59026.55},{"$f":"IF(Basisdaten!$E$51<=10,Basisdaten!$G$51*Saisonalisierung!J49,0)","v":57290.475000000006},{"$f":"IF(Basisdaten!$E$51<=11,Basisdaten!$G$51*Saisonalisierung!K49,0)","v":59026.55},{"$f":"IF(Basisdaten!$E$51<=12,Basisdaten!$G$51*Saisonalisierung!L49,0)","v":61457.055}]
[2,{"$f":"Basisdaten!B52","v":60},{"$f":"Basisdaten!A52","v":"Hakan Celik"},{"$f":"Basisdaten!U52","v":2022},{"$f":"IF(Basisdaten!$E$52=1,Basisdaten!$G$52*Saisonalisierung!A50,0)","v":52429.464999999997},{"$f":"IF(Basisdaten!$E$52<=2,Basisdaten!$G$52*Saisonalisierung!B50,0)","v":53471.11},{"$f":"IF(Basisdaten!$E$52<=3,Basisdaten!$G$52*Saisonalisierung!C50,0)","v":61804.270000000004},{"$f":"IF(Basisdaten!$E$52<=4,Basisdaten!$G$52*Saisonalisierung!D50,0)","v":58332.12},{"$f":"IF(Basisdaten!$E$52<=5,Basisdaten!$G$52*Saisonalisierung!E50,0)","v":55901.614999999998},{"$f":"IF(Basisdaten!$E$52<=6,Basisdaten!$G$52*Saisonalisierung!F50,0)","v":57984.904999999992},{"$f":"IF(Basisdaten!$E$52<=7,Basisdaten!$G$52*Saisonalisierung!G50,0)","v":59373.765000000007},{"$f":"IF(Basisdaten!$E$52<=8,Basisdaten!$G$52*Saisonalisierung!H50,0)","v":58332.12},{"$f":"IF(Basisdaten!$E$52<=9,Basisdaten!$G$52*Saisonalisierung!I50,0)","v":59026.55},{"$f":"IF(Basisdaten!$E$52<=10,Basisdaten!$G$52*Saisonalisierung!J50,0)","v":57290.475000000006},{"$f":"IF(Basisdaten!$E$52<=11,Basisdaten!$G$52*Saisonalisierung!K50,0)","v":59026.55},{"$f":"IF(Basisdaten!$E$52<=12,Basisdaten!$G$52*Saisonalisierung!L50,0)","v":61457.055}]
[1,{"$f":"Basisdaten!B53","v":40},{"$f":"Basisdaten!A53","v":"Tom Sprongl"},{"$f":"Basisdaten!U53","v":2022},{"$f":"IF(Basisdaten!$E$53=1,Basisdaten!$G$53*Saisonalisierung!A51,0)","v":52429.464999999997},{"$f":"IF(Basisdaten!$E$53<=2,Basisdaten!$G$53*Saisonalisierung!B51,0)","v":53471.11},{"$f":"IF(Basisdaten!$E$53<=3,Basisdaten!$G$53*Saisonalisierung!C51,0)","v":61804.270000000004},{"$f":"IF(Basisdaten!$E$53<=4,Basisdaten!$G$53*Saisonalisierung!D51,0)","v":58332.12},{"$f":"IF(Basisdaten!$E$53<=5,Basisdaten!$G$53*Saisonalisierung!E51,0)","v":55901.614999999998},{"$f":"IF(Basisdaten!$E$53<=6,Basisdaten!$G$53*Saisonalisierung!F51,0)","v":57984.904999999992},{"$f":"IF(Basisdaten!$E$53<=7,Basisdaten!$G$53*Saisonalisierung!G51,0)","v":59373.765000000007},{"$f":"IF(Basisdaten!$E$53<=8,Basisdaten!$G$53*Saisonalisierung!H51,0)","v":58332.12},{"$f":"IF(Basisdaten!$E$53<=9,Basisdaten!$G$53*Saisonalisierung!I51,0)","v":59026.55},{"$f":"IF(Basisdaten!$E$53<=10,Basisdaten!$G$53*Saisonalisierung!J51,0)","v":57290.475000000006},{"$f":"IF(Basisdaten!$E$53<=11,Basisdaten!$G$53*Saisonalisierung!K51,0)","v":59026.55},{"$f":"IF(Basisdaten!$E$53<=12,Basisdaten!$G$53*Saisonalisierung!L51,0)","v":61457.055}]
[null,{"$f":"Basisdaten!B54","v":0},{"$f":"Basisdaten!A54","v":"SB 5"},{"$f":"Basisdaten!U54","v":0},{"$f":"IF(Basisdaten!$E$54=1,Basisdaten!$G$54*Saisonalisierung!A52,0)","v":0},{"$f":"IF(Basisdaten!$E$54<=2,Basisdaten!$G$54*Saisonalisierung!B52,0)","v":0},{"$f":"IF(Basisdaten!$E$54<=3,Basisdaten!$G$54*Saisonalisierung!C52,0)","v":0},{"$f":"IF(Basisdaten!$E$54<=4,Basisdaten!$G$54*Saisonalisierung!D52,0)","v":0},{"$f":"IF(Basisdaten!$E$54<=5,Basisdaten!$G$54*Saisonalisierung!E52,0)","v":0},{"$f":"IF(Basisdaten!$E$54<=6,Basisdaten!$G$54*Saisonalisierung!F52,0)","v":0},{"$f":"IF(Basisdaten!$E$54<=7,Basisdaten!$G$54*Saisonalisierung!G52,0)","v":0},{"$f":"IF(Basisdaten!$E$54<=8,Basisdaten!$G$54*Saisonalisierung!H52,0)","v":0},{"$f":"IF(Basisdaten!$E$54<=9,Basisdaten!$G$54*Saisonalisierung!I52,0)","v":0},{"$f":"IF(Basisdaten!$E$54<=10,Basisdaten!$G$54*Saisonalisierung!J52,0)","v":0},{"$f":"IF(Basisdaten!$E$54<=11,Basisdaten!$G$54*Saisonalisierung!K52,0)","v":0},{"$f":"IF(Basisdaten!$E$54<=12,Basisdaten!$G$54*Saisonalisierung!L52,0)","v":0}]
[null,{"$f":"Basisdaten!B55","v":0},{"$f":"Basisdaten!A55","v":"SB 6"},{"$f":"Basisdaten!U55","v":0},{"$f":"IF(Basisdaten!$E$55=1,Basisdaten!$G$55*Saisonalisierung!A53,0)","v":0},{"$f":"IF(Basisdaten!$E$55<=2,Basisdaten!$G$55*Saisonalisierung!B53,0)","v":0},{"$f":"IF(Basisdaten!$E$55<=3,Basisdaten!$G$55*Saisonalisierung!C53,0)","v":0},{"$f":"IF(Basisdaten!$E$55<=4,Basisdaten!$G$55*Saisonalisierung!D53,0)","v":0},{"$f":"IF(Basisdaten!$E$55<=5,Basisdaten!$G$55*Saisonalisierung!E53,0)","v":0},{"$f":"IF(Basisdaten!$E$55<=6,Basisdaten!$G$55*Saisonalisierung!F53,0)","v":0},{"$f":"IF(Basisdaten!$E$55<=7,Basisdaten!$G$55*Saisonalisierung!G53,0)","v":0},{"$f":"IF(Basisdaten!$E$55<=8,Basisdaten!$G$55*Saisonalisierung!H53,0)","v":0},{"$f":"IF(Basisdaten!$E$55<=9,Basisdaten!$G$55*Saisonalisierung!I53,0)","v":0},{"$f":"IF(Basisdaten!$E$55<=10,Basisdaten!$G$55*Saisonalisierung!J53,0)","v":0},{"$f":"IF(Basisdaten!$E$55<=11,Basisdaten!$G$55*Saisonalisierung!K53,0)","v":0},{"$f":"IF(Basisdaten!$E$55<=12,Basisdaten!$G$55*Saisonalisierung!L53,0)","v":0}]
[null,{"$f":"Basisdaten!B56","v":0},{"$f":"Basisdaten!A56","v":"SB 7"},{"$f":"Basisdaten!U56","v":0},{"$f":"IF(Basisdaten!$E$56=1,Basisdaten!$G$56*Saisonalisierung!A54,0)","v":0},{"$f":"IF(Basisdaten!$E$56<=2,Basisdaten!$G$56*Saisonalisierung!B54,0)","v":0},{"$f":"IF(Basisdaten!$E$56<=3,Basisdaten!$G$56*Saisonalisierung!C54,0)","v":0},{"$f":"IF(Basisdaten!$E$56<=4,Basisdaten!$G$56*Saisonalisierung!D54,0)","v":0},{"$f":"IF(Basisdaten!$E$56<=5,Basisdaten!$G$56*Saisonalisierung!E54,0)","v":0},{"$f":"IF(Basisdaten!$E$56<=6,Basisdaten!$G$56*Saisonalisierung!F54,0)","v":0},{"$f":"IF(Basisdaten!$E$56<=7,Basisdaten!$G$56*Saisonalisierung!G54,0)","v":0},{"$f":"IF(Basisdaten!$E$56<=8,Basisdaten!$G$56*Saisonalisierung!H54,0)","v":0},{"$f":"IF(Basisdaten!$E$56<=9,Basisdaten!$G$56*Saisonalisierung!I54,0)","v":0},{"$f":"IF(Basisdaten!$E$56<=10,Basisdaten!$G$56*Saisonalisierung!J54,0)","v":0},{"$f":"IF(Basisdaten!$E$56<=11,Basisdaten!$G$56*Saisonalisierung!K54,0)","v":0},{"$f":"IF(Basisdaten!$E$56<=12,Basisdaten!$G$56*Saisonalisierung!L54,0)","v":0}]
[null,{"$f":"Basisdaten!B57","v":0},{"$f":"Basisdaten!A57","v":"SB 8"},{"$f":"Basisdaten!U57","v":0},{"$f":"IF(Basisdaten!$E$57=1,Basisdaten!$G$57*Saisonalisierung!A55,0)","v":0},{"$f":"IF(Basisdaten!$E$57<=2,Basisdaten!$G$57*Saisonalisierung!B55,0)","v":0},{"$f":"IF(Basisdaten!$E$57<=3,Basisdaten!$G$57*Saisonalisierung!C55,0)","v":0},{"$f":"IF(Basisdaten!$E$57<=4,Basisdaten!$G$57*Saisonalisierung!D55,0)","v":0},{"$f":"IF(Basisdaten!$E$57<=5,Basisdaten!$G$57*Saisonalisierung!E55,0)","v":0},{"$f":"IF(Basisdaten!$E$57<=6,Basisdaten!$G$57*Saisonalisierung!F55,0)","v":0},{"$f":"IF(Basisdaten!$E$57<=7,Basisdaten!$G$57*Saisonalisierung!G55,0)","v":0},{"$f":"IF(Basisdaten!$E$57<=8,Basisdaten!$G$57*Saisonalisierung!H55,0)","v":0},{"$f":"IF(Basisdaten!$E$57<=9,Basisdaten!$G$57*Saisonalisierung!I55,0)","v":0},{"$f":"IF(Basisdaten!$E$57<=10,Basisdaten!$G$57*Saisonalisierung!J55,0)","v":0},{"$f":"IF(Basisdaten!$E$57<=11,Basisdaten!$G$57*Saisonalisierung!K55,0)","v":0},{"$f":"IF(Basisdaten!$E$57<=12,Basisdaten!$G$57*Saisonalisierung!L55,0)","v":0}]
[null,{"$f":"Basisdaten!B58","v":0},{"$f":"Basisdaten!A58","v":"SB 9"},{"$f":"Basisdaten!U58","v":0},{"$f":"IF(Basisdaten!$E$58=1,Basisdaten!$G$58*Saisonalisierung!A56,0)","v":0},{"$f":"IF(Basisdaten!$E$58<=2,Basisdaten!$G$58*Saisonalisierung!B56,0)","v":0},{"$f":"IF(Basisdaten!$E$58<=3,Basisdaten!$G$58*Saisonalisierung!C56,0)","v":0},{"$f":"IF(Basisdaten!$E$58<=4,Basisdaten!$G$58*Saisonalisierung!D56,0)","v":0},{"$f":"IF(Basisdaten!$E$58<=5,Basisdaten!$G$58*Saisonalisierung!E56,0)","v":0},{"$f":"IF(Basisdaten!$E$58<=6,Basisdaten!$G$58*Saisonalisierung!F56,0)","v":0},{"$f":"IF(Basisdaten!$E$58<=7,Basisdaten!$G$58*Saisonalisierung!G56,0)","v":0},{"$f":"IF(Basisdaten!$E$58<=8,Basisdaten!$G$58*Saisonalisierung!H56,0)","v":0},{"$f":"IF(Basisdaten!$E$58<=9,Basisdaten!$G$58*Saisonalisierung!I56,0)","v":0},{"$f":"IF(Basisdaten!$E$58<=10,Basisdaten!$G$58*Saisonalisierung!J56,0)","v":0},{"$f":"IF(Basisdaten!$E$58<=11,Basisdaten!$G$58*Saisonalisierung!K56,0)","v":0},{"$f":"IF(Basisdaten!$E$58<=12,Basisdaten!$G$58*Saisonalisierung!L56,0)","v":0}]
[null,{"$f":"Basisdaten!B59","v":0},{"$f":"Basisdaten!A59","v":"SB 10"},{"$f":"Basisdaten!U59","v":0},{"$f":"IF(Basisdaten!$E$59=1,Basisdaten!$G$59*Saisonalisierung!A57,0)","v":0},{"$f":"IF(Basisdaten!$E$59<=2,Basisdaten!$G$59*Saisonalisierung!B57,0)","v":0},{"$f":"IF(Basisdaten!$E$59<=3,Basisdaten!$G$59*Saisonalisierung!C57,0)","v":0},{"$f":"IF(Basisdaten!$E$59<=4,Basisdaten!$G$59*Saisonalisierung!D57,0)","v":0},{"$f":"IF(Basisdaten!$E$59<=5,Basisdaten!$G$59*Saisonalisierung!E57,0)","v":0},{"$f":"IF(Basisdaten!$E$59<=6,Basisdaten!$G$59*Saisonalisierung!F57,0)","v":0},{"$f":"IF(Basisdaten!$E$59<=7,Basisdaten!$G$59*Saisonalisierung!G57,0)","v":0},{"$f":"IF(Basisdaten!$E$59<=8,Basisdaten!$G$59*Saisonalisierung!H57,0)","v":0},{"$f":"IF(Basisdaten!$E$59<=9,Basisdaten!$G$59*Saisonalisierung!I57,0)","v":0},{"$f":"IF(Basisdaten!$E$59<=10,Basisdaten!$G$59*Saisonalisierung!J57,0)","v":0},{"$f":"IF(Basisdaten!$E$59<=11,Basisdaten!$G$59*Saisonalisierung!K57,0)","v":0},{"$f":"IF(Basisdaten!$E$59<=12,Basisdaten!$G$59*Saisonalisierung!L57,0)","v":0}]

{"sheet":"Verarb_DG","index":21,"n_rows":57,"n_cols":16,"rows_kept":57,"cut":false,"hidden":false,"merged":[]}
["Hauptbetrieb","Standort","Serviceberater","Invoice Date","DG_Plan_1","DG_Plan_2","DG_Plan_3","DG_Plan_4","DG_Plan_5","DG_Plan_6","DG_Plan_7","DG_Plan_8","DG_Plan_9","DG_Plan_10","DG_Plan_11","DG_Plan_12"]
[1,{"$f":"Basisdaten!B4","v":10},{"$f":"Basisdaten!A4","v":"Erich Harzenetter - SCBK"},{"$f":"Basisdaten!U4","v":2022},{"$f":"IF(Basisdaten!$E$4=1,Basisdaten!$K$4*Saisonalisierung!A2,0)","v":177.727},{"$f":"IF(Basisdaten!$E$4<=2,Basisdaten!$K$4*Saisonalisierung!B2,0)","v":181.25800000000001},{"$f":"IF(Basisdaten!$E$4<=3,Basisdaten!$K$4*Saisonalisierung!C2,0)","v":209.50600000000003},{"$f":"IF(Basisdaten!$E$4<=4,Basisdaten!$K$4*Saisonalisierung!D2,0)","v":197.73600000000002},{"$f":"IF(Basisdaten!$E$4<=5,Basisdaten!$K$4*Saisonalisierung!E2,0)","v":189.49700000000001},{"$f":"IF(Basisdaten!$E$4<=6,Basisdaten!$K$4*Saisonalisierung!F2,0)","v":196.55899999999997},{"$f":"IF(Basisdaten!$E$4<=7,Basisdaten!$K$4*Saisonalisierung!G2,0)","v":201.26700000000002},{"$f":"IF(Basisdaten!$E$4<=8,Basisdaten!$K$4*Saisonalisierung!H2,0)","v":197.73600000000002},{"$f":"IF(Basisdaten!$E$4<=9,Basisdaten!$K$4*Saisonalisierung!I2,0)","v":200.09},{"$f":"IF(Basisdaten!$E$4<=10,Basisdaten!$K$4*Saisonalisierung!J2,0)","v":194.20500000000001},{"$f":"IF(Basisdaten!$E$4<=11,Basisdaten!$K$4*Saisonalisierung!K2,0)","v":200.09},{"$f":"IF(Basisdaten!$E$4<=12,Basisdaten!$K$4*Saisonalisierung!L2,0)","v":208.32899999999998}]
[1,{"$f":"Basisdaten!B5","v":10},{"$f":"Basisdaten!A5","v":"Johannes Grieser - SCBI"},{"$f":"Basisdaten!U5","v":2022},{"$f":"IF(Basisdaten!$E$5=1,Basisdaten!$K$5*Saisonalisierung!A3,0)","v":177.727},{"$f":"IF(Basisdaten!$E$5<=2,Basisdaten!$K$5*Saisonalisierung!B3,0)","v":181.25800000000001},{"$f":"IF(Basisdaten!$E$5<=3,Basisdaten!$K$5*Saisonalisierung!C3,0)","v":209.50600000000003},{"$f":"IF(Basisdaten!$E$5<=4,Basisdaten!$K$5*Saisonalisierung!D3,0)","v":197.73600000000002},{"$f":"IF(Basisdaten!$E$5<=5,Basisdaten!$K$5*Saisonalisierung!E3,0)","v":189.49700000000001},{"$f":"IF(Basisdaten!$E$5<=6,Basisdaten!$K$5*Saisonalisierung!F3,0)","v":196.55899999999997},{"$f":"IF(Basisdaten!$E$5<=7,Basisdaten!$K$5*Saisonalisierung!G3,0)","v":201.26700000000002},{"$f":"IF(Basisdaten!$E$5<=8,Basisdaten!$K$5*Saisonalisierung!H3,0)","v":197.73600000000002},{"$f":"IF(Basisdaten!$E$5<=9,Basisdaten!$K$5*Saisonalisierung!I3,0)","v":200.09},{"$f":"IF(Basisdaten!$E$5<=10,Basisdaten!$K$5*Saisonalisierung!J3,0)","v":194.20500000000001},{"$f":"IF(Basisdaten!$E$5<=11,Basisdaten!$K$5*Saisonalisierung!K3,0)","v":200.09},{"$f":"IF(Basisdaten!$E$5<=12,Basisdaten!$K$5*Saisonalisierung!L3,0)","v":208.32899999999998}]
[1,{"$f":"Basisdaten!B6","v":10},{"$f":"Basisdaten!A6","v":"Mike Weber"},{"$f":"Basisdaten!U6","v":2022},{"$f":"IF(Basisdaten!$E$6=1,Basisdaten!$K$6*Saisonalisierung!A4,0)","v":177.727},{"$f":"IF(Basisdaten!$E$6<=2,Basisdaten!$K$6*Saisonalisierung!B4,0)","v":181.25800000000001},{"$f":"IF(Basisdaten!$E$6<=3,Basisdaten!$K$6*Saisonalisierung!C4,0)","v":209.50600000000003},{"$f":"IF(Basisdaten!$E$6<=4,Basisdaten!$K$6*Saisonalisierung!D4,0)","v":197.73600000000002},{"$f":"IF(Basisdaten!$E$6<=5,Basisdaten!$K$6*Saisonalisierung!E4,0)","v":189.49700000000001},{"$f":"IF(Basisdaten!$E$6<=6,Basisdaten!$K$6*Saisonalisierung!F4,0)","v":196.55899999999997},{"$f":"IF(Basisdaten!$E$6<=7,Basisdaten!$K$6*Saisonalisierung!G4,0)","v":201.26700000000002},{"$f":"IF(Basisdaten!$E$6<=8,Basisdaten!$K$6*Saisonalisierung!H4,0)","v":197.73600000000002},{"$f":"IF(Basisdaten!$E$6<=9,Basisdaten!$K$6*Saisonalisierung!I4,0)","v":200.09},{"$f":"IF(Basisdaten!$E$6<=10,Basisdaten!$K$6*Saisonalisierung!J4,0)","v":194.20500000000001},{"$f":"IF(Basisdaten!$E$6<=11,Basisdaten!$K$6*Saisonalisierung!K4,0)","v":200.09},{"$f":"IF(Basisdaten!$E$6<=12,Basisdaten!$K$6*Saisonalisierung!L4,0)","v":208.32899999999998}]
[1,{"$f":"Basisdaten!B7","v":10},{"$f":"Basisdaten!A7","v":"Rudolf Maier"},{"$f":"Basisdaten!U7","v":2022},{"$f":"IF(Basisdaten!$E$7=1,Basisdaten!$K$7*Saisonalisierung!A5,0)","v":177.727},{"$f":"IF(Basisdaten!$E$7<=2,Basisdaten!$K$7*Saisonalisierung!B5,0)","v":181.25800000000001},{"$f":"IF(Basisdaten!$E$7<=3,Basisdaten!$K$7*Saisonalisierung!C5,0)","v":209.50600000000003},{"$f":"IF(Basisdaten!$E$7<=4,Basisdaten!$K$7*Saisonalisierung!D5,0)","v":197.73600000000002},{"$f":"IF(Basisdaten!$E$7<=5,Basisdaten!$K$7*Saisonalisierung!E5,0)","v":189.49700000000001},{"$f":"IF(Basisdaten!$E$7<=6,Basisdaten!$K$7*Saisonalisierung!F5,0)","v":196.55899999999997},{"$f":"IF(Basisdaten!$E$7<=7,Basisdaten!$K$7*Saisonalisierung!G5,0)","v":201.26700000000002},{"$f":"IF(Basisdaten!$E$7<=8,Basisdaten!$K$7*Saisonalisierung!H5,0)","v":197.73600000000002},{"$f":"IF(Basisdaten!$E$7<=9,Basisdaten!$K$7*Saisonalisierung!I5,0)","v":200.09},{"$f":"IF(Basisdaten!$E$7<=10,Basisdaten!$K$7*Saisonalisierung!J5,0)","v":194.20500000000001},{"$f":"IF(Basisdaten!$E$7<=11,Basisdaten!$K$7*Saisonalisierung!K5,0)","v":200.09},{"$f":"IF(Basisdaten!$E$7<=12,Basisdaten!$K$7*Saisonalisierung!L5,0)","v":208.32899999999998}]
[1,{"$f":"Basisdaten!B8","v":10},{"$f":"Basisdaten!A8","v":"Hermann Haller_"},{"$f":"Basisdaten!U8","v":2022},{"$f":"IF(Basisdaten!$E$8=1,Basisdaten!$K$8*Saisonalisierung!A6,0)","v":0},{"$f":"IF(Basisdaten!$E$8<=2,Basisdaten!$K$8*Saisonalisierung!B6,0)","v":0},{"$f":"IF(Basisdaten!$E$8<=3,Basisdaten!$K$8*Saisonalisierung!C6,0)","v":0},{"$f":"IF(Basisdaten!$E$8<=4,Basisdaten!$K$8*Saisonalisierung!D6,0)","v":0},{"$f":"IF(Basisdaten!$E$8<=5,Basisdaten!$K$8*Saisonalisierung!E6,0)","v":0},{"$f":"IF(Basisdaten!$E$8<=6,Basisdaten!$K$8*Saisonalisierung!F6,0)","v":0},{"$f":"IF(Basisdaten!$E$8<=7,Basisdaten!$K$8*Saisonalisierung!G6,0)","v":0},{"$f":"IF(Basisdaten!$E$8<=8,Basisdaten!$K$8*Saisonalisierung!H6,0)","v":0},{"$f":"IF(Basisdaten!$E$8<=9,Basisdaten!$K$8*Saisonalisierung!I6,0)","v":0},{"$f":"IF(Basisdaten!$E$8<=10,Basisdaten!$K$8*Saisonalisierung!J6,0)","v":0},{"$f":"IF(Basisdaten!$E$8<=11,Basisdaten!$K$8*Saisonalisierung!K6,0)","v":0},{"$f":"IF(Basisdaten!$E$8<=12,Basisdaten!$K$8*Saisonalisierung!L6,0)","v":0}]
[1,{"$f":"Basisdaten!B9","v":10},{"$f":"Basisdaten!A9","v":"Christopher Kirmayer"},{"$f":"Basisdaten!U9","v":2022},{"$f":"IF(Basisdaten!$E$9=1,Basisdaten!$K$9*Saisonalisierung!A7,0)","v":177.727},{"$f":"IF(Basisdaten!$E$9<=2,Basisdaten!$K$9*Saisonalisierung!B7,0)","v":181.25800000000001},{"$f":"IF(Basisdaten!$E$9<=3,Basisdaten!$K$9*Saisonalisierung!C7,0)","v":209.50600000000003},{"$f":"IF(Basisdaten!$E$9<=4,Basisdaten!$K$9*Saisonalisierung!D7,0)","v":197.73600000000002},{"$f":"IF(Basisdaten!$E$9<=5,Basisdaten!$K$9*Saisonalisierung!E7,0)","v":189.49700000000001},{"$f":"IF(Basisdaten!$E$9<=6,Basisdaten!$K$9*Saisonalisierung!F7,0)","v":196.55899999999997},{"$f":"IF(Basisdaten!$E$9<=7,Basisdaten!$K$9*Saisonalisierung!G7,0)","v":201.26700000000002},{"$f":"IF(Basisdaten!$E$9<=8,Basisdaten!$K$9*Saisonalisierung!H7,0)","v":197.73600000000002},{"$f":"IF(Basisdaten!$E$9<=9,Basisdaten!$K$9*Saisonalisierung!I7,0)","v":200.09},{"$f":"IF(Basisdaten!$E$9<=10,Basisdaten!$K$9*Saisonalisierung!J7,0)","v":194.20500000000001},{"$f":"IF(Basisdaten!$E$9<=11,Basisdaten!$K$9*Saisonalisierung!K7,0)","v":200.09},{"$f":"IF(Basisdaten!$E$9<=12,Basisdaten!$K$9*Saisonalisierung!L7,0)","v":208.32899999999998}]
[1,{"$f":"Basisdaten!B10","v":10},{"$f":"Basisdaten!A10","v":"Jörg Reifenrath"},{"$f":"Basisdaten!U10","v":2022},{"$f":"IF(Basisdaten!$E$10=1,Basisdaten!$K$10*Saisonalisierung!A8,0)","v":177.727},{"$f":"IF(Basisdaten!$E$10<=2,Basisdaten!$K$10*Saisonalisierung!B8,0)","v":181.25800000000001},{"$f":"IF(Basisdaten!$E$10<=3,Basisdaten!$K$10*Saisonalisierung!C8,0)","v":209.50600000000003},{"$f":"IF(Basisdaten!$E$10<=4,Basisdaten!$K$10*Saisonalisierung!D8,0)","v":197.73600000000002},{"$f":"IF(Basisdaten!$E$10<=5,Basisdaten!$K$10*Saisonalisierung!E8,0)","v":189.49700000000001},{"$f":"IF(Basisdaten!$E$10<=6,Basisdaten!$K$10*Saisonalisierung!F8,0)","v":196.55899999999997},{"$f":"IF(Basisdaten!$E$10<=7,Basisdaten!$K$10*Saisonalisierung!G8,0)","v":201.26700000000002},{"$f":"IF(Basisdaten!$E$10<=8,Basisdaten!$K$10*Saisonalisierung!H8,0)","v":197.73600000000002},{"$f":"IF(Basisdaten!$E$10<=9,Basisdaten!$K$10*Saisonalisierung!I8,0)","v":200.09},{"$f":"IF(Basisdaten!$E$10<=10,Basisdaten!$K$10*Saisonalisierung!J8,0)","v":194.20500000000001},{"$f":"IF(Basisdaten!$E$10<=11,Basisdaten!$K$10*Saisonalisierung!K8,0)","v":200.09},{"$f":"IF(Basisdaten!$E$10<=12,Basisdaten!$K$10*Saisonalisierung!L8,0)","v":208.32899999999998}]
[1,{"$f":"Basisdaten!B11","v":10},{"$f":"Basisdaten!A11","v":"Günter Küblbeck - SCBI_"},{"$f":"Basisdaten!U11","v":2022},{"$f":"IF(Basisdaten!$E$11=1,Basisdaten!$K$11*Saisonalisierung!A9,0)","v":0},{"$f":"IF(Basisdaten!$E$11<=2,Basisdaten!$K$11*Saisonalisierung!B9,0)","v":0},{"$f":"IF(Basisdaten!$E$11<=3,Basisdaten!$K$11*Saisonalisierung!C9,0)","v":0},{"$f":"IF(Basisdaten!$E$11<=4,Basisdaten!$K$11*Saisonalisierung!D9,0)","v":0},{"$f":"IF(Basisdaten!$E$11<=5,Basisdaten!$K$11*Saisonalisierung!E9,0)","v":0},{"$f":"IF(Basisdaten!$E$11<=6,Basisdaten!$K$11*Saisonalisierung!F9,0)","v":0},{"$f":"IF(Basisdaten!$E$11<=7,Basisdaten!$K$11*Saisonalisierung!G9,0)","v":0},{"$f":"IF(Basisdaten!$E$11<=8,Basisdaten!$K$11*Saisonalisierung!H9,0)","v":0},{"$f":"IF(Basisdaten!$E$11<=9,Basisdaten!$K$11*Saisonalisierung!I9,0)","v":0},{"$f":"IF(Basisdaten!$E$11<=10,Basisdaten!$K$11*Saisonalisierung!J9,0)","v":0},{"$f":"IF(Basisdaten!$E$11<=11,Basisdaten!$K$11*Saisonalisierung!K9,0)","v":0},{"$f":"IF(Basisdaten!$E$11<=12,Basisdaten!$K$11*Saisonalisierung!L9,0)","v":0}]
[1,{"$f":"Basisdaten!B12","v":10},{"$f":"Basisdaten!A12","v":"Patrick Kresser"},{"$f":"Basisdaten!U12","v":2022},{"$f":"IF(Basisdaten!$E$12=1,Basisdaten!$K$12*Saisonalisierung!A10,0)","v":177.727},{"$f":"IF(Basisdaten!$E$12<=2,Basisdaten!$K$12*Saisonalisierung!B10,0)","v":181.25800000000001},{"$f":"IF(Basisdaten!$E$12<=3,Basisdaten!$K$12*Saisonalisierung!C10,0)","v":209.50600000000003},{"$f":"IF(Basisdaten!$E$12<=4,Basisdaten!$K$12*Saisonalisierung!D10,0)","v":197.73600000000002},{"$f":"IF(Basisdaten!$E$12<=5,Basisdaten!$K$12*Saisonalisierung!E10,0)","v":189.49700000000001},{"$f":"IF(Basisdaten!$E$12<=6,Basisdaten!$K$12*Saisonalisierung!F10,0)","v":196.55899999999997},{"$f":"IF(Basisdaten!$E$12<=7,Basisdaten!$K$12*Saisonalisierung!G10,0)","v":201.26700000000002},{"$f":"IF(Basisdaten!$E$12<=8,Basisdaten!$K$12*Saisonalisierung!H10,0)","v":197.73600000000002},{"$f":"IF(Basisdaten!$E$12<=9,Basisdaten!$K$12*Saisonalisierung!I10,0)","v":200.09},{"$f":"IF(Basisdaten!$E$12<=10,Basisdaten!$K$12*Saisonalisierung!J10,0)","v":194.20500000000001},{"$f":"IF(Basisdaten!$E$12<=11,Basisdaten!$K$12*Saisonalisierung!K10,0)","v":200.09},{"$f":"IF(Basisdaten!$E$12<=12,Basisdaten!$K$12*Saisonalisierung!L10,0)","v":208.32899999999998}]
[1,{"$f":"Basisdaten!B13","v":30},{"$f":"Basisdaten!A13","v":"Ralf Ruchti"},{"$f":"Basisdaten!U13","v":2022},{"$f":"IF(Basisdaten!$E$13=1,Basisdaten!$K$13*Saisonalisierung!A11,0)","v":124.40889999999999},{"$f":"IF(Basisdaten!$E$13<=2,Basisdaten!$K$13*Saisonalisierung!B11,0)","v":126.8806},{"$f":"IF(Basisdaten!$E$13<=3,Basisdaten!$K$13*Saisonalisierung!C11,0)","v":146.6542},{"$f":"IF(Basisdaten!$E$13<=4,Basisdaten!$K$13*Saisonalisierung!D11,0)","v":138.4152},{"$f":"IF(Basisdaten!$E$13<=5,Basisdaten!$K$13*Saisonalisierung!E11,0)","v":132.64789999999999},{"$f":"IF(Basisdaten!$E$13<=6,Basisdaten!$K$13*Saisonalisierung!F11,0)","v":137.59129999999999},{"$f":"IF(Basisdaten!$E$13<=7,Basisdaten!$K$13*Saisonalisierung!G11,0)","v":140.8869},{"$f":"IF(Basisdaten!$E$13<=8,Basisdaten!$K$13*Saisonalisierung!H11,0)","v":138.4152},{"$f":"IF(Basisdaten!$E$13<=9,Basisdaten!$K$13*Saisonalisierung!I11,0)","v":140.06300000000002},{"$f":"IF(Basisdaten!$E$13<=10,Basisdaten!$K$13*Saisonalisierung!J11,0)","v":135.9435},{"$f":"IF(Basisdaten!$E$13<=11,Basisdaten!$K$13*Saisonalisierung!K11,0)","v":140.06300000000002},{"$f":"IF(Basisdaten!$E$13<=12,Basisdaten!$K$13*Saisonalisierung!L11,0)","v":145.83029999999999}]
[1,{"$f":"Basisdaten!B14","v":30},{"$f":"Basisdaten!A14","v":"Matthias Mirga"},{"$f":"Basisdaten!U14","v":2022},{"$f":"IF(Basisdaten!$E$14=1,Basisdaten!$K$14*Saisonalisierung!A12,0)","v":177.727},{"$f":"IF(Basisdaten!$E$14<=2,Basisdaten!$K$14*Saisonalisierung!B12,0)","v":181.25800000000001},{"$f":"IF(Basisdaten!$E$14<=3,Basisdaten!$K$14*Saisonalisierung!C12,0)","v":209.50600000000003},{"$f":"IF(Basisdaten!$E$14<=4,Basisdaten!$K$14*Saisonalisierung!D12,0)","v":197.73600000000002},{"$f":"IF(Basisdaten!$E$14<=5,Basisdaten!$K$14*Saisonalisierung!E12,0)","v":189.49700000000001},{"$f":"IF(Basisdaten!$E$14<=6,Basisdaten!$K$14*Saisonalisierung!F12,0)","v":196.55899999999997},{"$f":"IF(Basisdaten!$E$14<=7,Basisdaten!$K$14*Saisonalisierung!G12,0)","v":201.26700000000002},{"$f":"IF(Basisdaten!$E$14<=8,Basisdaten!$K$14*Saisonalisierung!H12,0)","v":197.73600000000002},{"$f":"IF(Basisdaten!$E$14<=9,Basisdaten!$K$14*Saisonalisierung!I12,0)","v":200.09},{"$f":"IF(Basisdaten!$E$14<=10,Basisdaten!$K$14*Saisonalisierung!J12,0)","v":194.20500000000001},{"$f":"IF(Basisdaten!$E$14<=11,Basisdaten!$K$14*Saisonalisierung!K12,0)","v":200.09},{"$f":"IF(Basisdaten!$E$14<=12,Basisdaten!$K$14*Saisonalisierung!L12,0)","v":208.32899999999998}]
[1,{"$f":"Basisdaten!B15","v":40},{"$f":"Basisdaten!A15","v":"Wolfgang Heckelmiller - SCBK"},{"$f":"Basisdaten!U15","v":2022},{"$f":"IF(Basisdaten!$E$15=1,Basisdaten!$K$15*Saisonalisierung!A13,0)","v":177.727},{"$f":"IF(Basisdaten!$E$15<=2,Basisdaten!$K$15*Saisonalisierung!B13,0)","v":181.25800000000001},{"$f":"IF(Basisdaten!$E$15<=3,Basisdaten!$K$15*Saisonalisierung!C13,0)","v":209.50600000000003},{"$f":"IF(Basisdaten!$E$15<=4,Basisdaten!$K$15*Saisonalisierung!D13,0)","v":197.73600000000002},{"$f":"IF(Basisdaten!$E$15<=5,Basisdaten!$K$15*Saisonalisierung!E13,0)","v":189.49700000000001},{"$f":"IF(Basisdaten!$E$15<=6,Basisdaten!$K$15*Saisonalisierung!F13,0)","v":196.55899999999997},{"$f":"IF(Basisdaten!$E$15<=7,Basisdaten!$K$15*Saisonalisierung!G13,0)","v":201.26700000000002},{"$f":"IF(Basisdaten!$E$15<=8,Basisdaten!$K$15*Saisonalisierung!H13,0)","v":197.73600000000002},{"$f":"IF(Basisdaten!$E$15<=9,Basisdaten!$K$15*Saisonalisierung!I13,0)","v":200.09},{"$f":"IF(Basisdaten!$E$15<=10,Basisdaten!$K$15*Saisonalisierung!J13,0)","v":194.20500000000001},{"$f":"IF(Basisdaten!$E$15<=11,Basisdaten!$K$15*Saisonalisierung!K13,0)","v":200.09},{"$f":"IF(Basisdaten!$E$15<=12,Basisdaten!$K$15*Saisonalisierung!L13,0)","v":208.32899999999998}]
[1,{"$f":"Basisdaten!B16","v":40},{"$f":"Basisdaten!A16","v":"Daniel Klingenstein"},{"$f":"Basisdaten!U16","v":2022},{"$f":"IF(Basisdaten!$E$16=1,Basisdaten!$K$16*Saisonalisierung!A14,0)","v":177.727},{"$f":"IF(Basisdaten!$E$16<=2,Basisdaten!$K$16*Saisonalisierung!B14,0)","v":181.25800000000001},{"$f":"IF(Basisdaten!$E$16<=3,Basisdaten!$K$16*Saisonalisierung!C14,0)","v":209.50600000000003},{"$f":"IF(Basisdaten!$E$16<=4,Basisdaten!$K$16*Saisonalisierung!D14,0)","v":197.73600000000002},{"$f":"IF(Basisdaten!$E$16<=5,Basisdaten!$K$16*Saisonalisierung!E14,0)","v":189.49700000000001},{"$f":"IF(Basisdaten!$E$16<=6,Basisdaten!$K$16*Saisonalisierung!F14,0)","v":196.55899999999997},{"$f":"IF(Basisdaten!$E$16<=7,Basisdaten!$K$16*Saisonalisierung!G14,0)","v":201.26700000000002},{"$f":"IF(Basisdaten!$E$16<=8,Basisdaten!$K$16*Saisonalisierung!H14,0)","v":197.73600000000002},{"$f":"IF(Basisdaten!$E$16<=9,Basisdaten!$K$16*Saisonalisierung!I14,0)","v":200.09},{"$f":"IF(Basisdaten!$E$16<=10,Basisdaten!$K$16*Saisonalisierung!J14,0)","v":194.20500000000001},{"$f":"IF(Basisdaten!$E$16<=11,Basisdaten!$K$16*Saisonalisierung!K14,0)","v":200.09},{"$f":"IF(Basisdaten!$E$16<=12,Basisdaten!$K$16*Saisonalisierung!L14,0)","v":208.32899999999998}]
[1,{"$f":"Basisdaten!B17","v":40},{"$f":"Basisdaten!A17","v":"Alnes Zenic"},{"$f":"Basisdaten!U17","v":2022},{"$f":"IF(Basisdaten!$E$17=1,Basisdaten!$K$17*Saisonalisierung!A15,0)","v":177.727},{"$f":"IF(Basisdaten!$E$17<=2,Basisdaten!$K$17*Saisonalisierung!B15,0)","v":181.25800000000001},{"$f":"IF(Basisdaten!$E$17<=3,Basisdaten!$K$17*Saisonalisierung!C15,0)","v":209.50600000000003},{"$f":"IF(Basisdaten!$E$17<=4,Basisdaten!$K$17*Saisonalisierung!D15,0)","v":197.73600000000002},{"$f":"IF(Basisdaten!$E$17<=5,Basisdaten!$K$17*Saisonalisierung!E15,0)","v":189.49700000000001},{"$f":"IF(Basisdaten!$E$17<=6,Basisdaten!$K$17*Saisonalisierung!F15,0)","v":196.55899999999997},{"$f":"IF(Basisdaten!$E$17<=7,Basisdaten!$K$17*Saisonalisierung!G15,0)","v":201.26700000000002},{"$f":"IF(Basisdaten!$E$17<=8,Basisdaten!$K$17*Saisonalisierung!H15,0)","v":197.73600000000002},{"$f":"IF(Basisdaten!$E$17<=9,Basisdaten!$K$17*Saisonalisierung!I15,0)","v":200.09},{"$f":"IF(Basisdaten!$E$17<=10,Basisdaten!$K$17*Saisonalisierung!J15,0)","v":194.20500000000001},{"$f":"IF(Basisdaten!$E$17<=11,Basisdaten!$K$17*Saisonalisierung!K15,0)","v":200.09},{"$f":"IF(Basisdaten!$E$17<=12,Basisdaten!$K$17*Saisonalisierung!L15,0)","v":208.32899999999998}]
[1,{"$f":"Basisdaten!B18","v":40},{"$f":"Basisdaten!A18","v":"Mehmet Dikmen"},{"$f":"Basisdaten!U18","v":2022},{"$f":"IF(Basisdaten!$E$18=1,Basisdaten!$K$18*Saisonalisierung!A16,0)","v":177.727},{"$f":"IF(Basisdaten!$E$18<=2,Basisdaten!$K$18*Saisonalisierung!B16,0)","v":181.25800000000001},{"$f":"IF(Basisdaten!$E$18<=3,Basisdaten!$K$18*Saisonalisierung!C16,0)","v":209.50600000000003},{"$f":"IF(Basisdaten!$E$18<=4,Basisdaten!$K$18*Saisonalisierung!D16,0)","v":197.73600000000002},{"$f":"IF(Basisdaten!$E$18<=5,Basisdaten!$K$18*Saisonalisierung!E16,0)","v":189.49700000000001},{"$f":"IF(Basisdaten!$E$18<=6,Basisdaten!$K$18*Saisonalisierung!F16,0)","v":196.55899999999997},{"$f":"IF(Basisdaten!$E$18<=7,Basisdaten!$K$18*Saisonalisierung!G16,0)","v":201.26700000000002},{"$f":"IF(Basisdaten!$E$18<=8,Basisdaten!$K$18*Saisonalisierung!H16,0)","v":197.73600000000002},{"$f":"IF(Basisdaten!$E$18<=9,Basisdaten!$K$18*Saisonalisierung!I16,0)","v":200.09},{"$f":"IF(Basisdaten!$E$18<=10,Basisdaten!$K$18*Saisonalisierung!J16,0)","v":194.20500000000001},{"$f":"IF(Basisdaten!$E$18<=11,Basisdaten!$K$18*Saisonalisierung!K16,0)","v":200.09},{"$f":"IF(Basisdaten!$E$18<=12,Basisdaten!$K$18*Saisonalisierung!L16,0)","v":208.32899999999998}]
[1,{"$f":"Basisdaten!B19","v":40},{"$f":"Basisdaten!A19","v":"Gerrit Heine"},{"$f":"Basisdaten!U19","v":2022},{"$f":"IF(Basisdaten!$E$19=1,Basisdaten!$K$19*Saisonalisierung!A17,0)","v":177.727},{"$f":"IF(Basisdaten!$E$19<=2,Basisdaten!$K$19*Saisonalisierung!B17,0)","v":181.25800000000001},{"$f":"IF(Basisdaten!$E$19<=3,Basisdaten!$K$19*Saisonalisierung!C17,0)","v":209.50600000000003},{"$f":"IF(Basisdaten!$E$19<=4,Basisdaten!$K$19*Saisonalisierung!D17,0)","v":197.73600000000002},{"$f":"IF(Basisdaten!$E$19<=5,Basisdaten!$K$19*Saisonalisierung!E17,0)","v":189.49700000000001},{"$f":"IF(Basisdaten!$E$19<=6,Basisdaten!$K$19*Saisonalisierung!F17,0)","v":196.55899999999997},{"$f":"IF(Basisdaten!$E$19<=7,Basisdaten!$K$19*Saisonalisierung!G17,0)","v":201.26700000000002},{"$f":"IF(Basisdaten!$E$19<=8,Basisdaten!$K$19*Saisonalisierung!H17,0)","v":197.73600000000002},{"$f":"IF(Basisdaten!$E$19<=9,Basisdaten!$K$19*Saisonalisierung!I17,0)","v":200.09},{"$f":"IF(Basisdaten!$E$19<=10,Basisdaten!$K$19*Saisonalisierung!J17,0)","v":194.20500000000001},{"$f":"IF(Basisdaten!$E$19<=11,Basisdaten!$K$19*Saisonalisierung!K17,0)","v":200.09},{"$f":"IF(Basisdaten!$E$19<=12,Basisdaten!$K$19*Saisonalisierung!L17,0)","v":208.32899999999998}]
[1,{"$f":"Basisdaten!B20","v":40},{"$f":"Basisdaten!A20","v":"Lars Krausen"},{"$f":"Basisdaten!U20","v":2022},{"$f":"IF(Basisdaten!$E$20=1,Basisdaten!$K$20*Saisonalisierung!A18,0)","v":177.727},{"$f":"IF(Basisdaten!$E$20<=2,Basisdaten!$K$20*Saisonalisierung!B18,0)","v":181.25800000000001},{"$f":"IF(Basisdaten!$E$20<=3,Basisdaten!$K$20*Saisonalisierung!C18,0)","v":209.50600000000003},{"$f":"IF(Basisdaten!$E$20<=4,Basisdaten!$K$20*Saisonalisierung!D18,0)","v":197.73600000000002},{"$f":"IF(Basisdaten!$E$20<=5,Basisdaten!$K$20*Saisonalisierung!E18,0)","v":189.49700000000001},{"$f":"IF(Basisdaten!$E$20<=6,Basisdaten!$K$20*Saisonalisierung!F18,0)","v":196.55899999999997},{"$f":"IF(Basisdaten!$E$20<=7,Basisdaten!$K$20*Saisonalisierung!G18,0)","v":201.26700000000002},{"$f":"IF(Basisdaten!$E$20<=8,Basisdaten!$K$20*Saisonalisierung!H18,0)","v":197.73600000000002},{"$f":"IF(Basisdaten!$E$20<=9,Basisdaten!$K$20*Saisonalisierung!I18,0)","v":200.09},{"$f":"IF(Basisdaten!$E$20<=10,Basisdaten!$K$20*Saisonalisierung!J18,0)","v":194.20500000000001},{"$f":"IF(Basisdaten!$E$20<=11,Basisdaten!$K$20*Saisonalisierung!K18,0)","v":200.09},{"$f":"IF(Basisdaten!$E$20<=12,Basisdaten!$K$20*Saisonalisierung!L18,0)","v":208.32899999999998}]
[1,{"$f":"Basisdaten!B21","v":40},{"$f":"Basisdaten!A21","v":"Hubert Figura - SCBI"},{"$f":"Basisdaten!U21","v":2022},{"$f":"IF(Basisdaten!$E$21=1,Basisdaten!$K$21*Saisonalisierung!A19,0)","v":177.727},{"$f":"IF(Basisdaten!$E$21<=2,Basisdaten!$K$21*Saisonalisierung!B19,0)","v":181.25800000000001},{"$f":"IF(Basisdaten!$E$21<=3,Basisdaten!$K$21*Saisonalisierung!C19,0)","v":209.50600000000003},{"$f":"IF(Basisdaten!$E$21<=4,Basisdaten!$K$21*Saisonalisierung!D19,0)","v":197.73600000000002},{"$f":"IF(Basisdaten!$E$21<=5,Basisdaten!$K$21*Saisonalisierung!E19,0)","v":189.49700000000001},{"$f":"IF(Basisdaten!$E$21<=6,Basisdaten!$K$21*Saisonalisierung!F19,0)","v":196.55899999999997},{"$f":"IF(Basisdaten!$E$21<=7,Basisdaten!$K$21*Saisonalisierung!G19,0)","v":201.26700000000002},{"$f":"IF(Basisdaten!$E$21<=8,Basisdaten!$K$21*Saisonalisierung!H19,0)","v":197.73600000000002},{"$f":"IF(Basisdaten!$E$21<=9,Basisdaten!$K$21*Saisonalisierung!I19,0)","v":200.09},{"$f":"IF(Basisdaten!$E$21<=10,Basisdaten!$K$21*Saisonalisierung!J19,0)","v":194.20500000000001},{"$f":"IF(Basisdaten!$E$21<=11,Basisdaten!$K$21*Saisonalisierung!K19,0)","v":200.09},{"$f":"IF(Basisdaten!$E$21<=12,Basisdaten!$K$21*Saisonalisierung!L19,0)","v":208.32899999999998}]
[1,{"$f":"Basisdaten!B22","v":40},{"$f":"Basisdaten!A22","v":"Jan-Oliver Knaus"},{"$f":"Basisdaten!U22","v":2022},{"$f":"IF(Basisdaten!$E$22=1,Basisdaten!$K$22*Saisonalisierung!A20,0)","v":177.727},{"$f":"IF(Basisdaten!$E$22<=2,Basisdaten!$K$22*Saisonalisierung!B20,0)","v":181.25800000000001},{"$f":"IF(Basisdaten!$E$22<=3,Basisdaten!$K$22*Saisonalisierung!C20,0)","v":209.50600000000003},{"$f":"IF(Basisdaten!$E$22<=4,Basisdaten!$K$22*Saisonalisierung!D20,0)","v":197.73600000000002},{"$f":"IF(Basisdaten!$E$22<=5,Basisdaten!$K$22*Saisonalisierung!E20,0)","v":189.49700000000001},{"$f":"IF(Basisdaten!$E$22<=6,Basisdaten!$K$22*Saisonalisierung!F20,0)","v":196.55899999999997},{"$f":"IF(Basisdaten!$E$22<=7,Basisdaten!$K$22*Saisonalisierung!G20,0)","v":201.26700000000002},{"$f":"IF(Basisdaten!$E$22<=8,Basisdaten!$K$22*Saisonalisierung!H20,0)","v":197.73600000000002},{"$f":"IF(Basisdaten!$E$22<=9,Basisdaten!$K$22*Saisonalisierung!I20,0)","v":200.09},{"$f":"IF(Basisdaten!$E$22<=10,Basisdaten!$K$22*Saisonalisierung!J20,0)","v":194.20500000000001},{"$f":"IF(Basisdaten!$E$22<=11,Basisdaten!$K$22*Saisonalisierung!K20,0)","v":200.09},{"$f":"IF(Basisdaten!$E$22<=12,Basisdaten!$K$22*Saisonalisierung!L20,0)","v":208.32899999999998}]
[1,{"$f":"Basisdaten!B23","v":40},{"$f":"Basisdaten!A23","v":"Hakan Celik_ULM"},{"$f":"Basisdaten!U23","v":2022},{"$f":"IF(Basisdaten!$E$23=1,Basisdaten!$K$23*Saisonalisierung!A21,0)","v":0},{"$f":"IF(Basisdaten!$E$23<=2,Basisdaten!$K$23*Saisonalisierung!B21,0)","v":0},{"$f":"IF(Basisdaten!$E$23<=3,Basisdaten!$K$23*Saisonalisierung!C21,0)","v":0},{"$f":"IF(Basisdaten!$E$23<=4,Basisdaten!$K$23*Saisonalisierung!D21,0)","v":0},{"$f":"IF(Basisdaten!$E$23<=5,Basisdaten!$K$23*Saisonalisierung!E21,0)","v":0},{"$f":"IF(Basisdaten!$E$23<=6,Basisdaten!$K$23*Saisonalisierung!F21,0)","v":0},{"$f":"IF(Basisdaten!$E$23<=7,Basisdaten!$K$23*Saisonalisierung!G21,0)","v":0},{"$f":"IF(Basisdaten!$E$23<=8,Basisdaten!$K$23*Saisonalisierung!H21,0)","v":0},{"$f":"IF(Basisdaten!$E$23<=9,Basisdaten!$K$23*Saisonalisierung!I21,0)","v":0},{"$f":"IF(Basisdaten!$E$23<=10,Basisdaten!$K$23*Saisonalisierung!J21,0)","v":0},{"$f":"IF(Basisdaten!$E$23<=11,Basisdaten!$K$23*Saisonalisierung!K21,0)","v":0},{"$f":"IF(Basisdaten!$E$23<=12,Basisdaten!$K$23*Saisonalisierung!L21,0)","v":0}]
[1,{"$f":"Basisdaten!B24","v":40},{"$f":"Basisdaten!A24","v":"Andreas Walter"},{"$f":"Basisdaten!U24","v":2022},{"$f":"IF(Basisdaten!$E$24=1,Basisdaten!$K$24*Saisonalisierung!A22,0)","v":177.727},{"$f":"IF(Basisdaten!$E$24<=2,Basisdaten!$K$24*Saisonalisierung!B22,0)","v":181.25800000000001},{"$f":"IF(Basisdaten!$E$24<=3,Basisdaten!$K$24*Saisonalisierung!C22,0)","v":209.50600000000003},{"$f":"IF(Basisdaten!$E$24<=4,Basisdaten!$K$24*Saisonalisierung!D22,0)","v":197.73600000000002},{"$f":"IF(Basisdaten!$E$24<=5,Basisdaten!$K$24*Saisonalisierung!E22,0)","v":189.49700000000001},{"$f":"IF(Basisdaten!$E$24<=6,Basisdaten!$K$24*Saisonalisierung!F22,0)","v":196.55899999999997},{"$f":"IF(Basisdaten!$E$24<=7,Basisdaten!$K$24*Saisonalisierung!G22,0)","v":201.26700000000002},{"$f":"IF(Basisdaten!$E$24<=8,Basisdaten!$K$24*Saisonalisierung!H22,0)","v":197.73600000000002},{"$f":"IF(Basisdaten!$E$24<=9,Basisdaten!$K$24*Saisonalisierung!I22,0)","v":200.09},{"$f":"IF(Basisdaten!$E$24<=10,Basisdaten!$K$24*Saisonalisierung!J22,0)","v":194.20500000000001},{"$f":"IF(Basisdaten!$E$24<=11,Basisdaten!$K$24*Saisonalisierung!K22,0)","v":200.09},{"$f":"IF(Basisdaten!$E$24<=12,Basisdaten!$K$24*Saisonalisierung!L22,0)","v":208.32899999999998}]
[1,{"$f":"Basisdaten!B25","v":40},{"$f":"Basisdaten!A25","v":"Fatih Cetiner"},{"$f":"Basisdaten!U25","v":2022},{"$f":"IF(Basisdaten!$E$25=1,Basisdaten!$K$25*Saisonalisierung!A23,0)","v":177.727},{"$f":"IF(Basisdaten!$E$25<=2,Basisdaten!$K$25*Saisonalisierung!B23,0)","v":181.25800000000001},{"$f":"IF(Basisdaten!$E$25<=3,Basisdaten!$K$25*Saisonalisierung!C23,0)","v":209.50600000000003},{"$f":"IF(Basisdaten!$E$25<=4,Basisdaten!$K$25*Saisonalisierung!D23,0)","v":197.73600000000002},{"$f":"IF(Basisdaten!$E$25<=5,Basisdaten!$K$25*Saisonalisierung!E23,0)","v":189.49700000000001},{"$f":"IF(Basisdaten!$E$25<=6,Basisdaten!$K$25*Saisonalisierung!F23,0)","v":196.55899999999997},{"$f":"IF(Basisdaten!$E$25<=7,Basisdaten!$K$25*Saisonalisierung!G23,0)","v":201.26700000000002},{"$f":"IF(Basisdaten!$E$25<=8,Basisdaten!$K$25*Saisonalisierung!H23,0)","v":197.73600000000002},{"$f":"IF(Basisdaten!$E$25<=9,Basisdaten!$K$25*Saisonalisierung!I23,0)","v":200.09},{"$f":"IF(Basisdaten!$E$25<=10,Basisdaten!$K$25*Saisonalisierung!J23,0)","v":194.20500000000001},{"$f":"IF(Basisdaten!$E$25<=11,Basisdaten!$K$25*Saisonalisierung!K23,0)","v":200.09},{"$f":"IF(Basisdaten!$E$25<=12,Basisdaten!$K$25*Saisonalisierung!L23,0)","v":208.32899999999998}]
[1,{"$f":"Basisdaten!B26","v":50},{"$f":"Basisdaten!A26","v":"Carlheinz Beylacher"},{"$f":"Basisdaten!U26","v":2022},{"$f":"IF(Basisdaten!$E$26=1,Basisdaten!$K$26*Saisonalisierung!A24,0)","v":177.727},{"$f":"IF(Basisdaten!$E$26<=2,Basisdaten!$K$26*Saisonalisierung!B24,0)","v":181.25800000000001},{"$f":"IF(Basisdaten!$E$26<=3,Basisdaten!$K$26*Saisonalisierung!C24,0)","v":209.50600000000003},{"$f":"IF(Basisdaten!$E$26<=4,Basisdaten!$K$26*Saisonalisierung!D24,0)","v":197.73600000000002},{"$f":"IF(Basisdaten!$E$26<=5,Basisdaten!$K$26*Saisonalisierung!E24,0)","v":189.49700000000001},{"$f":"IF(Basisdaten!$E$26<=6,Basisdaten!$K$26*Saisonalisierung!F24,0)","v":196.55899999999997},{"$f":"IF(Basisdaten!$E$26<=7,Basisdaten!$K$26*Saisonalisierung!G24,0)","v":201.26700000000002},{"$f":"IF(Basisdaten!$E$26<=8,Basisdaten!$K$26*Saisonalisierung!H24,0)","v":197.73600000000002},{"$f":"IF(Basisdaten!$E$26<=9,Basisdaten!$K$26*Saisonalisierung!I24,0)","v":200.09},{"$f":"IF(Basisdaten!$E$26<=10,Basisdaten!$K$26*Saisonalisierung!J24,0)","v":194.20500000000001},{"$f":"IF(Basisdaten!$E$26<=11,Basisdaten!$K$26*Saisonalisierung!K24,0)","v":200.09},{"$f":"IF(Basisdaten!$E$26<=12,Basisdaten!$K$26*Saisonalisierung!L24,0)","v":208.32899999999998}]
[1,{"$f":"Basisdaten!B27","v":50},{"$f":"Basisdaten!A27","v":"Christoph Ziegler"},{"$f":"Basisdaten!U27","v":2022},{"$f":"IF(Basisdaten!$E$27=1,Basisdaten!$K$27*Saisonalisierung!A25,0)","v":177.727},{"$f":"IF(Basisdaten!$E$27<=2,Basisdaten!$K$27*Saisonalisierung!B25,0)","v":181.25800000000001},{"$f":"IF(Basisdaten!$E$27<=3,Basisdaten!$K$27*Saisonalisierung!C25,0)","v":209.50600000000003},{"$f":"IF(Basisdaten!$E$27<=4,Basisdaten!$K$27*Saisonalisierung!D25,0)","v":197.73600000000002},{"$f":"IF(Basisdaten!$E$27<=5,Basisdaten!$K$27*Saisonalisierung!E25,0)","v":189.49700000000001},{"$f":"IF(Basisdaten!$E$27<=6,Basisdaten!$K$27*Saisonalisierung!F25,0)","v":196.55899999999997},{"$f":"IF(Basisdaten!$E$27<=7,Basisdaten!$K$27*Saisonalisierung!G25,0)","v":201.26700000000002},{"$f":"IF(Basisdaten!$E$27<=8,Basisdaten!$K$27*Saisonalisierung!H25,0)","v":197.73600000000002},{"$f":"IF(Basisdaten!$E$27<=9,Basisdaten!$K$27*Saisonalisierung!I25,0)","v":200.09},{"$f":"IF(Basisdaten!$E$27<=10,Basisdaten!$K$27*Saisonalisierung!J25,0)","v":194.20500000000001},{"$f":"IF(Basisdaten!$E$27<=11,Basisdaten!$K$27*Saisonalisierung!K25,0)","v":200.09},{"$f":"IF(Basisdaten!$E$27<=12,Basisdaten!$K$27*Saisonalisierung!L25,0)","v":208.32899999999998}]
[1,{"$f":"Basisdaten!B28","v":50},{"$f":"Basisdaten!A28","v":"Steffen Schiller"},{"$f":"Basisdaten!U28","v":2022},{"$f":"IF(Basisdaten!$E$28=1,Basisdaten!$K$28*Saisonalisierung!A26,0)","v":177.727},{"$f":"IF(Basisdaten!$E$28<=2,Basisdaten!$K$28*Saisonalisierung!B26,0)","v":181.25800000000001},{"$f":"IF(Basisdaten!$E$28<=3,Basisdaten!$K$28*Saisonalisierung!C26,0)","v":209.50600000000003},{"$f":"IF(Basisdaten!$E$28<=4,Basisdaten!$K$28*Saisonalisierung!D26,0)","v":197.73600000000002},{"$f":"IF(Basisdaten!$E$28<=5,Basisdaten!$K$28*Saisonalisierung!E26,0)","v":189.49700000000001},{"$f":"IF(Basisdaten!$E$28<=6,Basisdaten!$K$28*Saisonalisierung!F26,0)","v":196.55899999999997},{"$f":"IF(Basisdaten!$E$28<=7,Basisdaten!$K$28*Saisonalisierung!G26,0)","v":201.26700000000002},{"$f":"IF(Basisdaten!$E$28<=8,Basisdaten!$K$28*Saisonalisierung!H26,0)","v":197.73600000000002},{"$f":"IF(Basisdaten!$E$28<=9,Basisdaten!$K$28*Saisonalisierung!I26,0)","v":200.09},{"$f":"IF(Basisdaten!$E$28<=10,Basisdaten!$K$28*Saisonalisierung!J26,0)","v":194.20500000000001},{"$f":"IF(Basisdaten!$E$28<=11,Basisdaten!$K$28*Saisonalisierung!K26,0)","v":200.09},{"$f":"IF(Basisdaten!$E$28<=12,Basisdaten!$K$28*Saisonalisierung!L26,0)","v":208.32899999999998}]
[1,{"$f":"Basisdaten!B29","v":50},{"$f":"Basisdaten!A29","v":"André Pfeffer - SCBI"},{"$f":"Basisdaten!U29","v":2022},{"$f":"IF(Basisdaten!$E$29=1,Basisdaten!$K$29*Saisonalisierung!A27,0)","v":177.727},{"$f":"IF(Basisdaten!$E$29<=2,Basisdaten!$K$29*Saisonalisierung!B27,0)","v":181.25800000000001},{"$f":"IF(Basisdaten!$E$29<=3,Basisdaten!$K$29*Saisonalisierung!C27,0)","v":209.50600000000003},{"$f":"IF(Basisdaten!$E$29<=4,Basisdaten!$K$29*Saisonalisierung!D27,0)","v":197.73600000000002},{"$f":"IF(Basisdaten!$E$29<=5,Basisdaten!$K$29*Saisonalisierung!E27,0)","v":189.49700000000001},{"$f":"IF(Basisdaten!$E$29<=6,Basisdaten!$K$29*Saisonalisierung!F27,0)","v":196.55899999999997},{"$f":"IF(Basisdaten!$E$29<=7,Basisdaten!$K$29*Saisonalisierung!G27,0)","v":201.26700000000002},{"$f":"IF(Basisdaten!$E$29<=8,Basisdaten!$K$29*Saisonalisierung!H27,0)","v":197.73600000000002},{"$f":"IF(Basisdaten!$E$29<=9,Basisdaten!$K$29*Saisonalisierung!I27,0)","v":200.09},{"$f":"IF(Basisdaten!$E$29<=10,Basisdaten!$K$29*Saisonalisierung!J27,0)","v":194.20500000000001},{"$f":"IF(Basisdaten!$E$29<=11,Basisdaten!$K$29*Saisonalisierung!K27,0)","v":200.09},{"$f":"IF(Basisdaten!$E$29<=12,Basisdaten!$K$29*Saisonalisierung!L27,0)","v":208.32899999999998}]
[1,{"$f":"Basisdaten!B30","v":50},{"$f":"Basisdaten!A30","v":"Christian Wiedemann"},{"$f":"Basisdaten!U30","v":2022},{"$f":"IF(Basisdaten!$E$30=1,Basisdaten!$K$30*Saisonalisierung!A28,0)","v":177.727},{"$f":"IF(Basisdaten!$E$30<=2,Basisdaten!$K$30*Saisonalisierung!B28,0)","v":181.25800000000001},{"$f":"IF(Basisdaten!$E$30<=3,Basisdaten!$K$30*Saisonalisierung!C28,0)","v":209.50600000000003},{"$f":"IF(Basisdaten!$E$30<=4,Basisdaten!$K$30*Saisonalisierung!D28,0)","v":197.73600000000002},{"$f":"IF(Basisdaten!$E$30<=5,Basisdaten!$K$30*Saisonalisierung!E28,0)","v":189.49700000000001},{"$f":"IF(Basisdaten!$E$30<=6,Basisdaten!$K$30*Saisonalisierung!F28,0)","v":196.55899999999997},{"$f":"IF(Basisdaten!$E$30<=7,Basisdaten!$K$30*Saisonalisierung!G28,0)","v":201.26700000000002},{"$f":"IF(Basisdaten!$E$30<=8,Basisdaten!$K$30*Saisonalisierung!H28,0)","v":197.73600000000002},{"$f":"IF(Basisdaten!$E$30<=9,Basisdaten!$K$30*Saisonalisierung!I28,0)","v":200.09},{"$f":"IF(Basisdaten!$E$30<=10,Basisdaten!$K$30*Saisonalisierung!J28,0)","v":194.20500000000001},{"$f":"IF(Basisdaten!$E$30<=11,Basisdaten!$K$30*Saisonalisierung!K28,0)","v":200.09},{"$f":"IF(Basisdaten!$E$30<=12,Basisdaten!$K$30*Saisonalisierung!L28,0)","v":208.32899999999998}]
[1,{"$f":"Basisdaten!B31","v":50},{"$f":"Basisdaten!A31","v":"Daniel Aschmann_"},{"$f":"Basisdaten!U31","v":2022},{"$f":"IF(Basisdaten!$E$31=1,Basisdaten!$K$31*Saisonalisierung!A29,0)","v":0},{"$f":"IF(Basisdaten!$E$31<=2,Basisdaten!$K$31*Saisonalisierung!B29,0)","v":0},{"$f":"IF(Basisdaten!$E$31<=3,Basisdaten!$K$31*Saisonalisierung!C29,0)","v":0},{"$f":"IF(Basisdaten!$E$31<=4,Basisdaten!$K$31*Saisonalisierung!D29,0)","v":0},{"$f":"IF(Basisdaten!$E$31<=5,Basisdaten!$K$31*Saisonalisierung!E29,0)","v":0},{"$f":"IF(Basisdaten!$E$31<=6,Basisdaten!$K$31*Saisonalisierung!F29,0)","v":0},{"$f":"IF(Basisdaten!$E$31<=7,Basisdaten!$K$31*Saisonalisierung!G29,0)","v":0},{"$f":"IF(Basisdaten!$E$31<=8,Basisdaten!$K$31*Saisonalisierung!H29,0)","v":0},{"$f":"IF(Basisdaten!$E$31<=9,Basisdaten!$K$31*Saisonalisierung!I29,0)","v":0},{"$f":"IF(Basisdaten!$E$31<=10,Basisdaten!$K$31*Saisonalisierung!J29,0)","v":0},{"$f":"IF(Basisdaten!$E$31<=11,Basisdaten!$K$31*Saisonalisierung!K29,0)","v":0},{"$f":"IF(Basisdaten!$E$31<=12,Basisdaten!$K$31*Saisonalisierung!L29,0)","v":0}]
[2,{"$f":"Basisdaten!B32","v":60},{"$f":"Basisdaten!A32","v":"Dirk Heditzsch"},{"$f":"Basisdaten!U32","v":2022},{"$f":"IF(Basisdaten!$E$32=1,Basisdaten!$K$32*Saisonalisierung!A30,0)","v":0},{"$f":"IF(Basisdaten!$E$32<=2,Basisdaten!$K$32*Saisonalisierung!B30,0)","v":0},{"$f":"IF(Basisdaten!$E$32<=3,Basisdaten!$K$32*Saisonalisierung!C30,0)","v":0},{"$f":"IF(Basisdaten!$E$32<=4,Basisdaten!$K$32*Saisonalisierung!D30,0)","v":197.73600000000002},{"$f":"IF(Basisdaten!$E$32<=5,Basisdaten!$K$32*Saisonalisierung!E30,0)","v":189.49700000000001},{"$f":"IF(Basisdaten!$E$32<=6,Basisdaten!$K$32*Saisonalisierung!F30,0)","v":196.55899999999997},{"$f":"IF(Basisdaten!$E$32<=7,Basisdaten!$K$32*Saisonalisierung!G30,0)","v":201.26700000000002},{"$f":"IF(Basisdaten!$E$32<=8,Basisdaten!$K$32*Saisonalisierung!H30,0)","v":197.73600000000002},{"$f":"IF(Basisdaten!$E$32<=9,Basisdaten!$K$32*Saisonalisierung!I30,0)","v":200.09},{"$f":"IF(Basisdaten!$E$32<=10,Basisdaten!$K$32*Saisonalisierung!J30,0)","v":194.20500000000001},{"$f":"IF(Basisdaten!$E$32<=11,Basisdaten!$K$32*Saisonalisierung!K30,0)","v":200.09},{"$f":"IF(Basisdaten!$E$32<=12,Basisdaten!$K$32*Saisonalisierung!L30,0)","v":208.32899999999998}]
[2,{"$f":"Basisdaten!B33","v":60},{"$f":"Basisdaten!A33","v":"Marco Hanigk"},{"$f":"Basisdaten!U33","v":2022},{"$f":"IF(Basisdaten!$E$33=1,Basisdaten!$K$33*Saisonalisierung!A31,0)","v":177.727},{"$f":"IF(Basisdaten!$E$33<=2,Basisdaten!$K$33*Saisonalisierung!B31,0)","v":181.25800000000001},{"$f":"IF(Basisdaten!$E$33<=3,Basisdaten!$K$33*Saisonalisierung!C31,0)","v":209.50600000000003},{"$f":"IF(Basisdaten!$E$33<=4,Basisdaten!$K$33*Saisonalisierung!D31,0)","v":197.73600000000002},{"$f":"IF(Basisdaten!$E$33<=5,Basisdaten!$K$33*Saisonalisierung!E31,0)","v":189.49700000000001},{"$f":"IF(Basisdaten!$E$33<=6,Basisdaten!$K$33*Saisonalisierung!F31,0)","v":196.55899999999997},{"$f":"IF(Basisdaten!$E$33<=7,Basisdaten!$K$33*Saisonalisierung!G31,0)","v":201.26700000000002},{"$f":"IF(Basisdaten!$E$33<=8,Basisdaten!$K$33*Saisonalisierung!H31,0)","v":197.73600000000002},{"$f":"IF(Basisdaten!$E$33<=9,Basisdaten!$K$33*Saisonalisierung!I31,0)","v":200.09},{"$f":"IF(Basisdaten!$E$33<=10,Basisdaten!$K$33*Saisonalisierung!J31,0)","v":194.20500000000001},{"$f":"IF(Basisdaten!$E$33<=11,Basisdaten!$K$33*Saisonalisierung!K31,0)","v":200.09},{"$f":"IF(Basisdaten!$E$33<=12,Basisdaten!$K$33*Saisonalisierung!L31,0)","v":208.32899999999998}]
[2,{"$f":"Basisdaten!B34","v":60},{"$f":"Basisdaten!A34","v":"Marcel Lankes"},{"$f":"Basisdaten!U34","v":2022},{"$f":"IF(Basisdaten!$E$34=1,Basisdaten!$K$34*Saisonalisierung!A32,0)","v":0},{"$f":"IF(Basisdaten!$E$34<=2,Basisdaten!$K$34*Saisonalisierung!B32,0)","v":0},{"$f":"IF(Basisdaten!$E$34<=3,Basisdaten!$K$34*Saisonalisierung!C32,0)","v":0},{"$f":"IF(Basisdaten!$E$34<=4,Basisdaten!$K$34*Saisonalisierung!D32,0)","v":197.73600000000002},{"$f":"IF(Basisdaten!$E$34<=5,Basisdaten!$K$34*Saisonalisierung!E32,0)","v":189.49700000000001},{"$f":"IF(Basisdaten!$E$34<=6,Basisdaten!$K$34*Saisonalisierung!F32,0)","v":196.55899999999997},{"$f":"IF(Basisdaten!$E$34<=7,Basisdaten!$K$34*Saisonalisierung!G32,0)","v":201.26700000000002},{"$f":"IF(Basisdaten!$E$34<=8,Basisdaten!$K$34*Saisonalisierung!H32,0)","v":197.73600000000002},{"$f":"IF(Basisdaten!$E$34<=9,Basisdaten!$K$34*Saisonalisierung!I32,0)","v":200.09},{"$f":"IF(Basisdaten!$E$34<=10,Basisdaten!$K$34*Saisonalisierung!J32,0)","v":194.20500000000001},{"$f":"IF(Basisdaten!$E$34<=11,Basisdaten!$K$34*Saisonalisierung!K32,0)","v":200.09},{"$f":"IF(Basisdaten!$E$34<=12,Basisdaten!$K$34*Saisonalisierung!L32,0)","v":208.32899999999998}]
[2,{"$f":"Basisdaten!B35","v":60},{"$f":"Basisdaten!A35","v":"Roland Klier"},{"$f":"Basisdaten!U35","v":2022},{"$f":"IF(Basisdaten!$E$35=1,Basisdaten!$K$35*Saisonalisierung!A33,0)","v":177.727},{"$f":"IF(Basisdaten!$E$35<=2,Basisdaten!$K$35*Saisonalisierung!B33,0)","v":181.25800000000001},{"$f":"IF(Basisdaten!$E$35<=3,Basisdaten!$K$35*Saisonalisierung!C33,0)","v":209.50600000000003},{"$f":"IF(Basisdaten!$E$35<=4,Basisdaten!$K$35*Saisonalisierung!D33,0)","v":197.73600000000002},{"$f":"IF(Basisdaten!$E$35<=5,Basisdaten!$K$35*Saisonalisierung!E33,0)","v":189.49700000000001},{"$f":"IF(Basisdaten!$E$35<=6,Basisdaten!$K$35*Saisonalisierung!F33,0)","v":196.55899999999997},{"$f":"IF(Basisdaten!$E$35<=7,Basisdaten!$K$35*Saisonalisierung!G33,0)","v":201.26700000000002},{"$f":"IF(Basisdaten!$E$35<=8,Basisdaten!$K$35*Saisonalisierung!H33,0)","v":197.73600000000002},{"$f":"IF(Basisdaten!$E$35<=9,Basisdaten!$K$35*Saisonalisierung!I33,0)","v":200.09},{"$f":"IF(Basisdaten!$E$35<=10,Basisdaten!$K$35*Saisonalisierung!J33,0)","v":194.20500000000001},{"$f":"IF(Basisdaten!$E$35<=11,Basisdaten!$K$35*Saisonalisierung!K33,0)","v":200.09},{"$f":"IF(Basisdaten!$E$35<=12,Basisdaten!$K$35*Saisonalisierung!L33,0)","v":208.32899999999998}]
[2,{"$f":"Basisdaten!B36","v":60},{"$f":"Basisdaten!A36","v":"Mert Güngör"},{"$f":"Basisdaten!U36","v":2022},{"$f":"IF(Basisdaten!$E$36=1,Basisdaten!$K$36*Saisonalisierung!A34,0)","v":0},{"$f":"IF(Basisdaten!$E$36<=2,Basisdaten!$K$36*Saisonalisierung!B34,0)","v":0},{"$f":"IF(Basisdaten!$E$36<=3,Basisdaten!$K$36*Saisonalisierung!C34,0)","v":0},{"$f":"IF(Basisdaten!$E$36<=4,Basisdaten!$K$36*Saisonalisierung!D34,0)","v":0},{"$f":"IF(Basisdaten!$E$36<=5,Basisdaten!$K$36*Saisonalisierung!E34,0)","v":0},{"$f":"IF(Basisdaten!$E$36<=6,Basisdaten!$K$36*Saisonalisierung!F34,0)","v":196.55899999999997},{"$f":"IF(Basisdaten!$E$36<=7,Basisdaten!$K$36*Saisonalisierung!G34,0)","v":201.26700000000002},{"$f":"IF(Basisdaten!$E$36<=8,Basisdaten!$K$36*Saisonalisierung!H34,0)","v":197.73600000000002},{"$f":"IF(Basisdaten!$E$36<=9,Basisdaten!$K$36*Saisonalisierung!I34,0)","v":200.09},{"$f":"IF(Basisdaten!$E$36<=10,Basisdaten!$K$36*Saisonalisierung!J34,0)","v":194.20500000000001},{"$f":"IF(Basisdaten!$E$36<=11,Basisdaten!$K$36*Saisonalisierung!K34,0)","v":200.09},{"$f":"IF(Basisdaten!$E$36<=12,Basisdaten!$K$36*Saisonalisierung!L34,0)","v":208.32899999999998}]
[2,{"$f":"Basisdaten!B37","v":60},{"$f":"Basisdaten!A37","v":"Matthias Hagg"},{"$f":"Basisdaten!U37","v":2022},{"$f":"IF(Basisdaten!$E$37=1,Basisdaten!$K$37*Saisonalisierung!A35,0)","v":177.727},{"$f":"IF(Basisdaten!$E$37<=2,Basisdaten!$K$37*Saisonalisierung!B35,0)","v":181.25800000000001},{"$f":"IF(Basisdaten!$E$37<=3,Basisdaten!$K$37*Saisonalisierung!C35,0)","v":209.50600000000003},{"$f":"IF(Basisdaten!$E$37<=4,Basisdaten!$K$37*Saisonalisierung!D35,0)","v":197.73600000000002},{"$f":"IF(Basisdaten!$E$37<=5,Basisdaten!$K$37*Saisonalisierung!E35,0)","v":189.49700000000001},{"$f":"IF(Basisdaten!$E$37<=6,Basisdaten!$K$37*Saisonalisierung!F35,0)","v":196.55899999999997},{"$f":"IF(Basisdaten!$E$37<=7,Basisdaten!$K$37*Saisonalisierung!G35,0)","v":201.26700000000002},{"$f":"IF(Basisdaten!$E$37<=8,Basisdaten!$K$37*Saisonalisierung!H35,0)","v":197.73600000000002},{"$f":"IF(Basisdaten!$E$37<=9,Basisdaten!$K$37*Saisonalisierung!I35,0)","v":200.09},{"$f":"IF(Basisdaten!$E$37<=10,Basisdaten!$K$37*Saisonalisierung!J35,0)","v":194.20500000000001},{"$f":"IF(Basisdaten!$E$37<=11,Basisdaten!$K$37*Saisonalisierung!K35,0)","v":200.09},{"$f":"IF(Basisdaten!$E$37<=12,Basisdaten!$K$37*Saisonalisierung!L35,0)","v":208.32899999999998}]
[2,{"$f":"Basisdaten!B38","v":60},{"$f":"Basisdaten!A38","v":"Walter Schlosser"},{"$f":"Basisdaten!U38","v":2022},{"$f":"IF(Basisdaten!$E$38=1,Basisdaten!$K$38*Saisonalisierung!A36,0)","v":177.727},{"$f":"IF(Basisdaten!$E$38<=2,Basisdaten!$K$38*Saisonalisierung!B36,0)","v":181.25800000000001},{"$f":"IF(Basisdaten!$E$38<=3,Basisdaten!$K$38*Saisonalisierung!C36,0)","v":209.50600000000003},{"$f":"IF(Basisdaten!$E$38<=4,Basisdaten!$K$38*Saisonalisierung!D36,0)","v":197.73600000000002},{"$f":"IF(Basisdaten!$E$38<=5,Basisdaten!$K$38*Saisonalisierung!E36,0)","v":189.49700000000001},{"$f":"IF(Basisdaten!$E$38<=6,Basisdaten!$K$38*Saisonalisierung!F36,0)","v":196.55899999999997},{"$f":"IF(Basisdaten!$E$38<=7,Basisdaten!$K$38*Saisonalisierung!G36,0)","v":201.26700000000002},{"$f":"IF(Basisdaten!$E$38<=8,Basisdaten!$K$38*Saisonalisierung!H36,0)","v":197.73600000000002},{"$f":"IF(Basisdaten!$E$38<=9,Basisdaten!$K$38*Saisonalisierung!I36,0)","v":200.09},{"$f":"IF(Basisdaten!$E$38<=10,Basisdaten!$K$38*Saisonalisierung!J36,0)","v":194.20500000000001},{"$f":"IF(Basisdaten!$E$38<=11,Basisdaten!$K$38*Saisonalisierung!K36,0)","v":200.09},{"$f":"IF(Basisdaten!$E$38<=12,Basisdaten!$K$38*Saisonalisierung!L36,0)","v":208.32899999999998}]
[2,{"$f":"Basisdaten!B39","v":60},{"$f":"Basisdaten!A39","v":"Udo Spindler"},{"$f":"Basisdaten!U39","v":2022},{"$f":"IF(Basisdaten!$E$39=1,Basisdaten!$K$39*Saisonalisierung!A37,0)","v":177.727},{"$f":"IF(Basisdaten!$E$39<=2,Basisdaten!$K$39*Saisonalisierung!B37,0)","v":181.25800000000001},{"$f":"IF(Basisdaten!$E$39<=3,Basisdaten!$K$39*Saisonalisierung!C37,0)","v":209.50600000000003},{"$f":"IF(Basisdaten!$E$39<=4,Basisdaten!$K$39*Saisonalisierung!D37,0)","v":197.73600000000002},{"$f":"IF(Basisdaten!$E$39<=5,Basisdaten!$K$39*Saisonalisierung!E37,0)","v":189.49700000000001},{"$f":"IF(Basisdaten!$E$39<=6,Basisdaten!$K$39*Saisonalisierung!F37,0)","v":196.55899999999997},{"$f":"IF(Basisdaten!$E$39<=7,Basisdaten!$K$39*Saisonalisierung!G37,0)","v":201.26700000000002},{"$f":"IF(Basisdaten!$E$39<=8,Basisdaten!$K$39*Saisonalisierung!H37,0)","v":197.73600000000002},{"$f":"IF(Basisdaten!$E$39<=9,Basisdaten!$K$39*Saisonalisierung!I37,0)","v":200.09},{"$f":"IF(Basisdaten!$E$39<=10,Basisdaten!$K$39*Saisonalisierung!J37,0)","v":194.20500000000001},{"$f":"IF(Basisdaten!$E$39<=11,Basisdaten!$K$39*Saisonalisierung!K37,0)","v":200.09},{"$f":"IF(Basisdaten!$E$39<=12,Basisdaten!$K$39*Saisonalisierung!L37,0)","v":208.32899999999998}]
[2,{"$f":"Basisdaten!B40","v":60},{"$f":"Basisdaten!A40","v":"Marcel Vogler"},{"$f":"Basisdaten!U40","v":2022},{"$f":"IF(Basisdaten!$E$40=1,Basisdaten!$K$40*Saisonalisierung!A38,0)","v":177.727},{"$f":"IF(Basisdaten!$E$40<=2,Basisdaten!$K$40*Saisonalisierung!B38,0)","v":181.25800000000001},{"$f":"IF(Basisdaten!$E$40<=3,Basisdaten!$K$40*Saisonalisierung!C38,0)","v":209.50600000000003},{"$f":"IF(Basisdaten!$E$40<=4,Basisdaten!$K$40*Saisonalisierung!D38,0)","v":197.73600000000002},{"$f":"IF(Basisdaten!$E$40<=5,Basisdaten!$K$40*Saisonalisierung!E38,0)","v":189.49700000000001},{"$f":"IF(Basisdaten!$E$40<=6,Basisdaten!$K$40*Saisonalisierung!F38,0)","v":196.55899999999997},{"$f":"IF(Basisdaten!$E$40<=7,Basisdaten!$K$40*Saisonalisierung!G38,0)","v":201.26700000000002},{"$f":"IF(Basisdaten!$E$40<=8,Basisdaten!$K$40*Saisonalisierung!H38,0)","v":197.73600000000002},{"$f":"IF(Basisdaten!$E$40<=9,Basisdaten!$K$40*Saisonalisierung!I38,0)","v":200.09},{"$f":"IF(Basisdaten!$E$40<=10,Basisdaten!$K$40*Saisonalisierung!J38,0)","v":194.20500000000001},{"$f":"IF(Basisdaten!$E$40<=11,Basisdaten!$K$40*Saisonalisierung!K38,0)","v":200.09},{"$f":"IF(Basisdaten!$E$40<=12,Basisdaten!$K$40*Saisonalisierung!L38,0)","v":208.32899999999998}]
[2,{"$f":"Basisdaten!B41","v":60},{"$f":"Basisdaten!A41","v":"Raphael Marksteiner"},{"$f":"Basisdaten!U41","v":2022},{"$f":"IF(Basisdaten!$E$41=1,Basisdaten!$K$41*Saisonalisierung!A39,0)","v":0},{"$f":"IF(Basisdaten!$E$41<=2,Basisdaten!$K$41*Saisonalisierung!B39,0)","v":0},{"$f":"IF(Basisdaten!$E$41<=3,Basisdaten!$K$41*Saisonalisierung!C39,0)","v":0},{"$f":"IF(Basisdaten!$E$41<=4,Basisdaten!$K$41*Saisonalisierung!D39,0)","v":197.73600000000002},{"$f":"IF(Basisdaten!$E$41<=5,Basisdaten!$K$41*Saisonalisierung!E39,0)","v":189.49700000000001},{"$f":"IF(Basisdaten!$E$41<=6,Basisdaten!$K$41*Saisonalisierung!F39,0)","v":196.55899999999997},{"$f":"IF(Basisdaten!$E$41<=7,Basisdaten!$K$41*Saisonalisierung!G39,0)","v":201.26700000000002},{"$f":"IF(Basisdaten!$E$41<=8,Basisdaten!$K$41*Saisonalisierung!H39,0)","v":197.73600000000002},{"$f":"IF(Basisdaten!$E$41<=9,Basisdaten!$K$41*Saisonalisierung!I39,0)","v":200.09},{"$f":"IF(Basisdaten!$E$41<=10,Basisdaten!$K$41*Saisonalisierung!J39,0)","v":194.20500000000001},{"$f":"IF(Basisdaten!$E$41<=11,Basisdaten!$K$41*Saisonalisierung!K39,0)","v":200.09},{"$f":"IF(Basisdaten!$E$41<=12,Basisdaten!$K$41*Saisonalisierung!L39,0)","v":208.32899999999998}]
[2,{"$f":"Basisdaten!B42","v":60},{"$f":"Basisdaten!A42","v":"Markus Appeljun - SCBI"},{"$f":"Basisdaten!U42","v":2022},{"$f":"IF(Basisdaten!$E$42=1,Basisdaten!$K$42*Saisonalisierung!A40,0)","v":0},{"$f":"IF(Basisdaten!$E$42<=2,Basisdaten!$K$42*Saisonalisierung!B40,0)","v":181.25800000000001},{"$f":"IF(Basisdaten!$E$42<=3,Basisdaten!$K$42*Saisonalisierung!C40,0)","v":209.50600000000003},{"$f":"IF(Basisdaten!$E$42<=4,Basisdaten!$K$42*Saisonalisierung!D40,0)","v":197.73600000000002},{"$f":"IF(Basisdaten!$E$42<=5,Basisdaten!$K$42*Saisonalisierung!E40,0)","v":189.49700000000001},{"$f":"IF(Basisdaten!$E$42<=6,Basisdaten!$K$42*Saisonalisierung!F40,0)","v":196.55899999999997},{"$f":"IF(Basisdaten!$E$42<=7,Basisdaten!$K$42*Saisonalisierung!G40,0)","v":201.26700000000002},{"$f":"IF(Basisdaten!$E$42<=8,Basisdaten!$K$42*Saisonalisierung!H40,0)","v":197.73600000000002},{"$f":"IF(Basisdaten!$E$42<=9,Basisdaten!$K$42*Saisonalisierung!I40,0)","v":200.09},{"$f":"IF(Basisdaten!$E$42<=10,Basisdaten!$K$42*Saisonalisierung!J40,0)","v":194.20500000000001},{"$f":"IF(Basisdaten!$E$42<=11,Basisdaten!$K$42*Saisonalisierung!K40,0)","v":200.09},{"$f":"IF(Basisdaten!$E$42<=12,Basisdaten!$K$42*Saisonalisierung!L40,0)","v":208.32899999999998}]
[2,{"$f":"Basisdaten!B43","v":60},{"$f":"Basisdaten!A43","v":"Andreas Göllner"},{"$f":"Basisdaten!U43","v":2022},{"$f":"IF(Basisdaten!$E$43=1,Basisdaten!$K$43*Saisonalisierung!A41,0)","v":177.727},{"$f":"IF(Basisdaten!$E$43<=2,Basisdaten!$K$43*Saisonalisierung!B41,0)","v":181.25800000000001},{"$f":"IF(Basisdaten!$E$43<=3,Basisdaten!$K$43*Saisonalisierung!C41,0)","v":209.50600000000003},{"$f":"IF(Basisdaten!$E$43<=4,Basisdaten!$K$43*Saisonalisierung!D41,0)","v":197.73600000000002},{"$f":"IF(Basisdaten!$E$43<=5,Basisdaten!$K$43*Saisonalisierung!E41,0)","v":189.49700000000001},{"$f":"IF(Basisdaten!$E$43<=6,Basisdaten!$K$43*Saisonalisierung!F41,0)","v":196.55899999999997},{"$f":"IF(Basisdaten!$E$43<=7,Basisdaten!$K$43*Saisonalisierung!G41,0)","v":201.26700000000002},{"$f":"IF(Basisdaten!$E$43<=8,Basisdaten!$K$43*Saisonalisierung!H41,0)","v":197.73600000000002},{"$f":"IF(Basisdaten!$E$43<=9,Basisdaten!$K$43*Saisonalisierung!I41,0)","v":200.09},{"$f":"IF(Basisdaten!$E$43<=10,Basisdaten!$K$43*Saisonalisierung!J41,0)","v":194.20500000000001},{"$f":"IF(Basisdaten!$E$43<=11,Basisdaten!$K$43*Saisonalisierung!K41,0)","v":200.09},{"$f":"IF(Basisdaten!$E$43<=12,Basisdaten!$K$43*Saisonalisierung!L41,0)","v":208.32899999999998}]
[2,{"$f":"Basisdaten!B44","v":60},{"$f":"Basisdaten!A44","v":"Marcus Stangl"},{"$f":"Basisdaten!U44","v":2022},{"$f":"IF(Basisdaten!$E$44=1,Basisdaten!$K$44*Saisonalisierung!A42,0)","v":177.727},{"$f":"IF(Basisdaten!$E$44<=2,Basisdaten!$K$44*Saisonalisierung!B42,0)","v":181.25800000000001},{"$f":"IF(Basisdaten!$E$44<=3,Basisdaten!$K$44*Saisonalisierung!C42,0)","v":209.50600000000003},{"$f":"IF(Basisdaten!$E$44<=4,Basisdaten!$K$44*Saisonalisierung!D42,0)","v":197.73600000000002},{"$f":"IF(Basisdaten!$E$44<=5,Basisdaten!$K$44*Saisonalisierung!E42,0)","v":189.49700000000001},{"$f":"IF(Basisdaten!$E$44<=6,Basisdaten!$K$44*Saisonalisierung!F42,0)","v":196.55899999999997},{"$f":"IF(Basisdaten!$E$44<=7,Basisdaten!$K$44*Saisonalisierung!G42,0)","v":201.26700000000002},{"$f":"IF(Basisdaten!$E$44<=8,Basisdaten!$K$44*Saisonalisierung!H42,0)","v":197.73600000000002},{"$f":"IF(Basisdaten!$E$44<=9,Basisdaten!$K$44*Saisonalisierung!I42,0)","v":200.09},{"$f":"IF(Basisdaten!$E$44<=10,Basisdaten!$K$44*Saisonalisierung!J42,0)","v":194.20500000000001},{"$f":"IF(Basisdaten!$E$44<=11,Basisdaten!$K$44*Saisonalisierung!K42,0)","v":200.09},{"$f":"IF(Basisdaten!$E$44<=12,Basisdaten!$K$44*Saisonalisierung!L42,0)","v":208.32899999999998}]
[2,{"$f":"Basisdaten!B45","v":60},{"$f":"Basisdaten!A45","v":"Christoph Rottenkolber"},{"$f":"Basisdaten!U45","v":2022},{"$f":"IF(Basisdaten!$E$45=1,Basisdaten!$K$45*Saisonalisierung!A43,0)","v":0},{"$f":"IF(Basisdaten!$E$45<=2,Basisdaten!$K$45*Saisonalisierung!B43,0)","v":0},{"$f":"IF(Basisdaten!$E$45<=3,Basisdaten!$K$45*Saisonalisierung!C43,0)","v":0},{"$f":"IF(Basisdaten!$E$45<=4,Basisdaten!$K$45*Saisonalisierung!D43,0)","v":197.73600000000002},{"$f":"IF(Basisdaten!$E$45<=5,Basisdaten!$K$45*Saisonalisierung!E43,0)","v":189.49700000000001},{"$f":"IF(Basisdaten!$E$45<=6,Basisdaten!$K$45*Saisonalisierung!F43,0)","v":196.55899999999997},{"$f":"IF(Basisdaten!$E$45<=7,Basisdaten!$K$45*Saisonalisierung!G43,0)","v":201.26700000000002},{"$f":"IF(Basisdaten!$E$45<=8,Basisdaten!$K$45*Saisonalisierung!H43,0)","v":197.73600000000002},{"$f":"IF(Basisdaten!$E$45<=9,Basisdaten!$K$45*Saisonalisierung!I43,0)","v":200.09},{"$f":"IF(Basisdaten!$E$45<=10,Basisdaten!$K$45*Saisonalisierung!J43,0)","v":194.20500000000001},{"$f":"IF(Basisdaten!$E$45<=11,Basisdaten!$K$45*Saisonalisierung!K43,0)","v":200.09},{"$f":"IF(Basisdaten!$E$45<=12,Basisdaten!$K$45*Saisonalisierung!L43,0)","v":208.32899999999998}]
[2,{"$f":"Basisdaten!B46","v":60},{"$f":"Basisdaten!A46","v":"Michael Cattide - SCBI"},{"$f":"Basisdaten!U46","v":2022},{"$f":"IF(Basisdaten!$E$46=1,Basisdaten!$K$46*Saisonalisierung!A44,0)","v":177.727},{"$f":"IF(Basisdaten!$E$46<=2,Basisdaten!$K$46*Saisonalisierung!B44,0)","v":181.25800000000001},{"$f":"IF(Basisdaten!$E$46<=3,Basisdaten!$K$46*Saisonalisierung!C44,0)","v":209.50600000000003},{"$f":"IF(Basisdaten!$E$46<=4,Basisdaten!$K$46*Saisonalisierung!D44,0)","v":197.73600000000002},{"$f":"IF(Basisdaten!$E$46<=5,Basisdaten!$K$46*Saisonalisierung!E44,0)","v":189.49700000000001},{"$f":"IF(Basisdaten!$E$46<=6,Basisdaten!$K$46*Saisonalisierung!F44,0)","v":196.55899999999997},{"$f":"IF(Basisdaten!$E$46<=7,Basisdaten!$K$46*Saisonalisierung!G44,0)","v":201.26700000000002},{"$f":"IF(Basisdaten!$E$46<=8,Basisdaten!$K$46*Saisonalisierung!H44,0)","v":197.73600000000002},{"$f":"IF(Basisdaten!$E$46<=9,Basisdaten!$K$46*Saisonalisierung!I44,0)","v":200.09},{"$f":"IF(Basisdaten!$E$46<=10,Basisdaten!$K$46*Saisonalisierung!J44,0)","v":194.20500000000001},{"$f":"IF(Basisdaten!$E$46<=11,Basisdaten!$K$46*Saisonalisierung!K44,0)","v":200.09},{"$f":"IF(Basisdaten!$E$46<=12,Basisdaten!$K$46*Saisonalisierung!L44,0)","v":208.32899999999998}]
[2,{"$f":"Basisdaten!B47","v":60},{"$f":"Basisdaten!A47","v":"Dennis Grohmann"},{"$f":"Basisdaten!U47","v":2022},{"$f":"IF(Basisdaten!$E$47=1,Basisdaten!$K$47*Saisonalisierung!A45,0)","v":0},{"$f":"IF(Basisdaten!$E$47<=2,Basisdaten!$K$47*Saisonalisierung!B45,0)","v":0},{"$f":"IF(Basisdaten!$E$47<=3,Basisdaten!$K$47*Saisonalisierung!C45,0)","v":0},{"$f":"IF(Basisdaten!$E$47<=4,Basisdaten!$K$47*Saisonalisierung!D45,0)","v":0},{"$f":"IF(Basisdaten!$E$47<=5,Basisdaten!$K$47*Saisonalisierung!E45,0)","v":0},{"$f":"IF(Basisdaten!$E$47<=6,Basisdaten!$K$47*Saisonalisierung!F45,0)","v":0},{"$f":"IF(Basisdaten!$E$47<=7,Basisdaten!$K$47*Saisonalisierung!G45,0)","v":0},{"$f":"IF(Basisdaten!$E$47<=8,Basisdaten!$K$47*Saisonalisierung!H45,0)","v":0},{"$f":"IF(Basisdaten!$E$47<=9,Basisdaten!$K$47*Saisonalisierung!I45,0)","v":0},{"$f":"IF(Basisdaten!$E$47<=10,Basisdaten!$K$47*Saisonalisierung!J45,0)","v":0},{"$f":"IF(Basisdaten!$E$47<=11,Basisdaten!$K$47*Saisonalisierung!K45,0)","v":0},{"$f":"IF(Basisdaten!$E$47<=12,Basisdaten!$K$47*Saisonalisierung!L45,0)","v":0}]
[2,{"$f":"Basisdaten!B48","v":60},{"$f":"Basisdaten!A48","v":"Simone Groß - SCBZ"},{"$f":"Basisdaten!U48","v":2022},{"$f":"IF(Basisdaten!$E$48=1,Basisdaten!$K$48*Saisonalisierung!A46,0)","v":177.727},{"$f":"IF(Basisdaten!$E$48<=2,Basisdaten!$K$48*Saisonalisierung!B46,0)","v":181.25800000000001},{"$f":"IF(Basisdaten!$E$48<=3,Basisdaten!$K$48*Saisonalisierung!C46,0)","v":209.50600000000003},{"$f":"IF(Basisdaten!$E$48<=4,Basisdaten!$K$48*Saisonalisierung!D46,0)","v":197.73600000000002},{"$f":"IF(Basisdaten!$E$48<=5,Basisdaten!$K$48*Saisonalisierung!E46,0)","v":189.49700000000001},{"$f":"IF(Basisdaten!$E$48<=6,Basisdaten!$K$48*Saisonalisierung!F46,0)","v":196.55899999999997},{"$f":"IF(Basisdaten!$E$48<=7,Basisdaten!$K$48*Saisonalisierung!G46,0)","v":201.26700000000002},{"$f":"IF(Basisdaten!$E$48<=8,Basisdaten!$K$48*Saisonalisierung!H46,0)","v":197.73600000000002},{"$f":"IF(Basisdaten!$E$48<=9,Basisdaten!$K$48*Saisonalisierung!I46,0)","v":200.09},{"$f":"IF(Basisdaten!$E$48<=10,Basisdaten!$K$48*Saisonalisierung!J46,0)","v":194.20500000000001},{"$f":"IF(Basisdaten!$E$48<=11,Basisdaten!$K$48*Saisonalisierung!K46,0)","v":200.09},{"$f":"IF(Basisdaten!$E$48<=12,Basisdaten!$K$48*Saisonalisierung!L46,0)","v":208.32899999999998}]
[1,{"$f":"Basisdaten!B49","v":55},{"$f":"Basisdaten!A49","v":"Jens Haller"},{"$f":"Basisdaten!U49","v":2022},{"$f":"IF(Basisdaten!$E$49=1,Basisdaten!$K$49*Saisonalisierung!A47,0)","v":177.727},{"$f":"IF(Basisdaten!$E$49<=2,Basisdaten!$K$49*Saisonalisierung!B47,0)","v":181.25800000000001},{"$f":"IF(Basisdaten!$E$49<=3,Basisdaten!$K$49*Saisonalisierung!C47,0)","v":209.50600000000003},{"$f":"IF(Basisdaten!$E$49<=4,Basisdaten!$K$49*Saisonalisierung!D47,0)","v":197.73600000000002},{"$f":"IF(Basisdaten!$E$49<=5,Basisdaten!$K$49*Saisonalisierung!E47,0)","v":189.49700000000001},{"$f":"IF(Basisdaten!$E$49<=6,Basisdaten!$K$49*Saisonalisierung!F47,0)","v":196.55899999999997},{"$f":"IF(Basisdaten!$E$49<=7,Basisdaten!$K$49*Saisonalisierung!G47,0)","v":201.26700000000002},{"$f":"IF(Basisdaten!$E$49<=8,Basisdaten!$K$49*Saisonalisierung!H47,0)","v":197.73600000000002},{"$f":"IF(Basisdaten!$E$49<=9,Basisdaten!$K$49*Saisonalisierung!I47,0)","v":200.09},{"$f":"IF(Basisdaten!$E$49<=10,Basisdaten!$K$49*Saisonalisierung!J47,0)","v":194.20500000000001},{"$f":"IF(Basisdaten!$E$49<=11,Basisdaten!$K$49*Saisonalisierung!K47,0)","v":200.09},{"$f":"IF(Basisdaten!$E$49<=12,Basisdaten!$K$49*Saisonalisierung!L47,0)","v":208.32899999999998}]
[1,{"$f":"Basisdaten!B50","v":55},{"$f":"Basisdaten!A50","v":"Ioannis Tsesmelis_"},{"$f":"Basisdaten!U50","v":2022},{"$f":"IF(Basisdaten!$E$50=1,Basisdaten!$K$50*Saisonalisierung!A48,0)","v":0},{"$f":"IF(Basisdaten!$E$50<=2,Basisdaten!$K$50*Saisonalisierung!B48,0)","v":0},{"$f":"IF(Basisdaten!$E$50<=3,Basisdaten!$K$50*Saisonalisierung!C48,0)","v":0},{"$f":"IF(Basisdaten!$E$50<=4,Basisdaten!$K$50*Saisonalisierung!D48,0)","v":0},{"$f":"IF(Basisdaten!$E$50<=5,Basisdaten!$K$50*Saisonalisierung!E48,0)","v":0},{"$f":"IF(Basisdaten!$E$50<=6,Basisdaten!$K$50*Saisonalisierung!F48,0)","v":0},{"$f":"IF(Basisdaten!$E$50<=7,Basisdaten!$K$50*Saisonalisierung!G48,0)","v":0},{"$f":"IF(Basisdaten!$E$50<=8,Basisdaten!$K$50*Saisonalisierung!H48,0)","v":0},{"$f":"IF(Basisdaten!$E$50<=9,Basisdaten!$K$50*Saisonalisierung!I48,0)","v":0},{"$f":"IF(Basisdaten!$E$50<=10,Basisdaten!$K$50*Saisonalisierung!J48,0)","v":0},{"$f":"IF(Basisdaten!$E$50<=11,Basisdaten!$K$50*Saisonalisierung!K48,0)","v":0},{"$f":"IF(Basisdaten!$E$50<=12,Basisdaten!$K$50*Saisonalisierung!L48,0)","v":0}]
[1,{"$f":"Basisdaten!B51","v":55},{"$f":"Basisdaten!A51","v":"Matthias Mirga_GZ"},{"$f":"Basisdaten!U51","v":2022},{"$f":"IF(Basisdaten!$E$51=1,Basisdaten!$K$51*Saisonalisierung!A49,0)","v":177.727},{"$f":"IF(Basisdaten!$E$51<=2,Basisdaten!$K$51*Saisonalisierung!B49,0)","v":181.25800000000001},{"$f":"IF(Basisdaten!$E$51<=3,Basisdaten!$K$51*Saisonalisierung!C49,0)","v":209.50600000000003},{"$f":"IF(Basisdaten!$E$51<=4,Basisdaten!$K$51*Saisonalisierung!D49,0)","v":197.73600000000002},{"$f":"IF(Basisdaten!$E$51<=5,Basisdaten!$K$51*Saisonalisierung!E49,0)","v":189.49700000000001},{"$f":"IF(Basisdaten!$E$51<=6,Basisdaten!$K$51*Saisonalisierung!F49,0)","v":196.55899999999997},{"$f":"IF(Basisdaten!$E$51<=7,Basisdaten!$K$51*Saisonalisierung!G49,0)","v":201.26700000000002},{"$f":"IF(Basisdaten!$E$51<=8,Basisdaten!$K$51*Saisonalisierung!H49,0)","v":197.73600000000002},{"$f":"IF(Basisdaten!$E$51<=9,Basisdaten!$K$51*Saisonalisierung!I49,0)","v":200.09},{"$f":"IF(Basisdaten!$E$51<=10,Basisdaten!$K$51*Saisonalisierung!J49,0)","v":194.20500000000001},{"$f":"IF(Basisdaten!$E$51<=11,Basisdaten!$K$51*Saisonalisierung!K49,0)","v":200.09},{"$f":"IF(Basisdaten!$E$51<=12,Basisdaten!$K$51*Saisonalisierung!L49,0)","v":208.32899999999998}]
[2,{"$f":"Basisdaten!B52","v":60},{"$f":"Basisdaten!A52","v":"Hakan Celik"},{"$f":"Basisdaten!U52","v":2022},{"$f":"IF(Basisdaten!$E$52=1,Basisdaten!$K$52*Saisonalisierung!A50,0)","v":177.727},{"$f":"IF(Basisdaten!$E$52<=2,Basisdaten!$K$52*Saisonalisierung!B50,0)","v":181.25800000000001},{"$f":"IF(Basisdaten!$E$52<=3,Basisdaten!$K$52*Saisonalisierung!C50,0)","v":209.50600000000003},{"$f":"IF(Basisdaten!$E$52<=4,Basisdaten!$K$52*Saisonalisierung!D50,0)","v":197.73600000000002},{"$f":"IF(Basisdaten!$E$52<=5,Basisdaten!$K$52*Saisonalisierung!E50,0)","v":189.49700000000001},{"$f":"IF(Basisdaten!$E$52<=6,Basisdaten!$K$52*Saisonalisierung!F50,0)","v":196.55899999999997},{"$f":"IF(Basisdaten!$E$52<=7,Basisdaten!$K$52*Saisonalisierung!G50,0)","v":201.26700000000002},{"$f":"IF(Basisdaten!$E$52<=8,Basisdaten!$K$52*Saisonalisierung!H50,0)","v":197.73600000000002},{"$f":"IF(Basisdaten!$E$52<=9,Basisdaten!$K$52*Saisonalisierung!I50,0)","v":200.09},{"$f":"IF(Basisdaten!$E$52<=10,Basisdaten!$K$52*Saisonalisierung!J50,0)","v":194.20500000000001},{"$f":"IF(Basisdaten!$E$52<=11,Basisdaten!$K$52*Saisonalisierung!K50,0)","v":200.09},{"$f":"IF(Basisdaten!$E$52<=12,Basisdaten!$K$52*Saisonalisierung!L50,0)","v":208.32899999999998}]
[1,{"$f":"Basisdaten!B53","v":40},{"$f":"Basisdaten!A53","v":"Tom Sprongl"},{"$f":"Basisdaten!U53","v":2022},{"$f":"IF(Basisdaten!$E$53=1,Basisdaten!$K$53*Saisonalisierung!A51,0)","v":177.727},{"$f":"IF(Basisdaten!$E$53<=2,Basisdaten!$K$53*Saisonalisierung!B51,0)","v":181.25800000000001},{"$f":"IF(Basisdaten!$E$53<=3,Basisdaten!$K$53*Saisonalisierung!C51,0)","v":209.50600000000003},{"$f":"IF(Basisdaten!$E$53<=4,Basisdaten!$K$53*Saisonalisierung!D51,0)","v":197.73600000000002},{"$f":"IF(Basisdaten!$E$53<=5,Basisdaten!$K$53*Saisonalisierung!E51,0)","v":189.49700000000001},{"$f":"IF(Basisdaten!$E$53<=6,Basisdaten!$K$53*Saisonalisierung!F51,0)","v":196.55899999999997},{"$f":"IF(Basisdaten!$E$53<=7,Basisdaten!$K$53*Saisonalisierung!G51,0)","v":201.26700000000002},{"$f":"IF(Basisdaten!$E$53<=8,Basisdaten!$K$53*Saisonalisierung!H51,0)","v":197.73600000000002},{"$f":"IF(Basisdaten!$E$53<=9,Basisdaten!$K$53*Saisonalisierung!I51,0)","v":200.09},{"$f":"IF(Basisdaten!$E$53<=10,Basisdaten!$K$53*Saisonalisierung!J51,0)","v":194.20500000000001},{"$f":"IF(Basisdaten!$E$53<=11,Basisdaten!$K$53*Saisonalisierung!K51,0)","v":200.09},{"$f":"IF(Basisdaten!$E$53<=12,Basisdaten!$K$53*Saisonalisierung!L51,0)","v":208.32899999999998}]
[null,{"$f":"Basisdaten!B54","v":0},{"$f":"Basisdaten!A54","v":"SB 5"},{"$f":"Basisdaten!U54","v":0},{"$f":"IF(Basisdaten!$E$54=1,Basisdaten!$K$54*Saisonalisierung!A52,0)","v":0},{"$f":"IF(Basisdaten!$E$54<=2,Basisdaten!$K$54*Saisonalisierung!B52,0)","v":0},{"$f":"IF(Basisdaten!$E$54<=3,Basisdaten!$K$54*Saisonalisierung!C52,0)","v":0},{"$f":"IF(Basisdaten!$E$54<=4,Basisdaten!$K$54*Saisonalisierung!D52,0)","v":0},{"$f":"IF(Basisdaten!$E$54<=5,Basisdaten!$K$54*Saisonalisierung!E52,0)","v":0},{"$f":"IF(Basisdaten!$E$54<=6,Basisdaten!$K$54*Saisonalisierung!F52,0)","v":0},{"$f":"IF(Basisdaten!$E$54<=7,Basisdaten!$K$54*Saisonalisierung!G52,0)","v":0},{"$f":"IF(Basisdaten!$E$54<=8,Basisdaten!$K$54*Saisonalisierung!H52,0)","v":0},{"$f":"IF(Basisdaten!$E$54<=9,Basisdaten!$K$54*Saisonalisierung!I52,0)","v":0},{"$f":"IF(Basisdaten!$E$54<=10,Basisdaten!$K$54*Saisonalisierung!J52,0)","v":0},{"$f":"IF(Basisdaten!$E$54<=11,Basisdaten!$K$54*Saisonalisierung!K52,0)","v":0},{"$f":"IF(Basisdaten!$E$54<=12,Basisdaten!$K$54*Saisonalisierung!L52,0)","v":0}]
[null,{"$f":"Basisdaten!B55","v":0},{"$f":"Basisdaten!A55","v":"SB 6"},{"$f":"Basisdaten!U55","v":0},{"$f":"IF(Basisdaten!$E$55=1,Basisdaten!$K$55*Saisonalisierung!A53,0)","v":0},{"$f":"IF(Basisdaten!$E$55<=2,Basisdaten!$K$55*Saisonalisierung!B53,0)","v":0},{"$f":"IF(Basisdaten!$E$55<=3,Basisdaten!$K$55*Saisonalisierung!C53,0)","v":0},{"$f":"IF(Basisdaten!$E$55<=4,Basisdaten!$K$55*Saisonalisierung!D53,0)","v":0},{"$f":"IF(Basisdaten!$E$55<=5,Basisdaten!$K$55*Saisonalisierung!E53,0)","v":0},{"$f":"IF(Basisdaten!$E$55<=6,Basisdaten!$K$55*Saisonalisierung!F53,0)","v":0},{"$f":"IF(Basisdaten!$E$55<=7,Basisdaten!$K$55*Saisonalisierung!G53,0)","v":0},{"$f":"IF(Basisdaten!$E$55<=8,Basisdaten!$K$55*Saisonalisierung!H53,0)","v":0},{"$f":"IF(Basisdaten!$E$55<=9,Basisdaten!$K$55*Saisonalisierung!I53,0)","v":0},{"$f":"IF(Basisdaten!$E$55<=10,Basisdaten!$K$55*Saisonalisierung!J53,0)","v":0},{"$f":"IF(Basisdaten!$E$55<=11,Basisdaten!$K$55*Saisonalisierung!K53,0)","v":0},{"$f":"IF(Basisdaten!$E$55<=12,Basisdaten!$K$55*Saisonalisierung!L53,0)","v":0}]
[null,{"$f":"Basisdaten!B56","v":0},{"$f":"Basisdaten!A56","v":"SB 7"},{"$f":"Basisdaten!U56","v":0},{"$f":"IF(Basisdaten!$E$56=1,Basisdaten!$K$56*Saisonalisierung!A54,0)","v":0},{"$f":"IF(Basisdaten!$E$56<=2,Basisdaten!$K$56*Saisonalisierung!B54,0)","v":0},{"$f":"IF(Basisdaten!$E$56<=3,Basisdaten!$K$56*Saisonalisierung!C54,0)","v":0},{"$f":"IF(Basisdaten!$E$56<=4,Basisdaten!$K$56*Saisonalisierung!D54,0)","v":0},{"$f":"IF(Basisdaten!$E$56<=5,Basisdaten!$K$56*Saisonalisierung!E54,0)","v":0},{"$f":"IF(Basisdaten!$E$56<=6,Basisdaten!$K$56*Saisonalisierung!F54,0)","v":0},{"$f":"IF(Basisdaten!$E$56<=7,Basisdaten!$K$56*Saisonalisierung!G54,0)","v":0},{"$f":"IF(Basisdaten!$E$56<=8,Basisdaten!$K$56*Saisonalisierung!H54,0)","v":0},{"$f":"IF(Basisdaten!$E$56<=9,Basisdaten!$K$56*Saisonalisierung!I54,0)","v":0},{"$f":"IF(Basisdaten!$E$56<=10,Basisdaten!$K$56*Saisonalisierung!J54,0)","v":0},{"$f":"IF(Basisdaten!$E$56<=11,Basisdaten!$K$56*Saisonalisierung!K54,0)","v":0},{"$f":"IF(Basisdaten!$E$56<=12,Basisdaten!$K$56*Saisonalisierung!L54,0)","v":0}]
[null,{"$f":"Basisdaten!B57","v":0},{"$f":"Basisdaten!A57","v":"SB 8"},{"$f":"Basisdaten!U57","v":0},{"$f":"IF(Basisdaten!$E$57=1,Basisdaten!$K$57*Saisonalisierung!A55,0)","v":0},{"$f":"IF(Basisdaten!$E$57<=2,Basisdaten!$K$57*Saisonalisierung!B55,0)","v":0},{"$f":"IF(Basisdaten!$E$57<=3,Basisdaten!$K$57*Saisonalisierung!C55,0)","v":0},{"$f":"IF(Basisdaten!$E$57<=4,Basisdaten!$K$57*Saisonalisierung!D55,0)","v":0},{"$f":"IF(Basisdaten!$E$57<=5,Basisdaten!$K$57*Saisonalisierung!E55,0)","v":0},{"$f":"IF(Basisdaten!$E$57<=6,Basisdaten!$K$57*Saisonalisierung!F55,0)","v":0},{"$f":"IF(Basisdaten!$E$57<=7,Basisdaten!$K$57*Saisonalisierung!G55,0)","v":0},{"$f":"IF(Basisdaten!$E$57<=8,Basisdaten!$K$57*Saisonalisierung!H55,0)","v":0},{"$f":"IF(Basisdaten!$E$57<=9,Basisdaten!$K$57*Saisonalisierung!I55,0)","v":0},{"$f":"IF(Basisdaten!$E$57<=10,Basisdaten!$K$57*Saisonalisierung!J55,0)","v":0},{"$f":"IF(Basisdaten!$E$57<=11,Basisdaten!$K$57*Saisonalisierung!K55,0)","v":0},{"$f":"IF(Basisdaten!$E$57<=12,Basisdaten!$K$57*Saisonalisierung!L55,0)","v":0}]
[null,{"$f":"Basisdaten!B58","v":0},{"$f":"Basisdaten!A58","v":"SB 9"},{"$f":"Basisdaten!U58","v":0},{"$f":"IF(Basisdaten!$E$58=1,Basisdaten!$K$58*Saisonalisierung!A56,0)","v":0},{"$f":"IF(Basisdaten!$E$58<=2,Basisdaten!$K$58*Saisonalisierung!B56,0)","v":0},{"$f":"IF(Basisdaten!$E$58<=3,Basisdaten!$K$58*Saisonalisierung!C56,0)","v":0},{"$f":"IF(Basisdaten!$E$58<=4,Basisdaten!$K$58*Saisonalisierung!D56,0)","v":0},{"$f":"IF(Basisdaten!$E$58<=5,Basisdaten!$K$58*Saisonalisierung!E56,0)","v":0},{"$f":"IF(Basisdaten!$E$58<=6,Basisdaten!$K$58*Saisonalisierung!F56,0)","v":0},{"$f":"IF(Basisdaten!$E$58<=7,Basisdaten!$K$58*Saisonalisierung!G56,0)","v":0},{"$f":"IF(Basisdaten!$E$58<=8,Basisdaten!$K$58*Saisonalisierung!H56,0)","v":0},{"$f":"IF(Basisdaten!$E$58<=9,Basisdaten!$K$58*Saisonalisierung!I56,0)","v":0},{"$f":"IF(Basisdaten!$E$58<=10,Basisdaten!$K$58*Saisonalisierung!J56,0)","v":0},{"$f":"IF(Basisdaten!$E$58<=11,Basisdaten!$K$58*Saisonalisierung!K56,0)","v":0},{"$f":"IF(Basisdaten!$E$58<=12,Basisdaten!$K$58*Saisonalisierung!L56,0)","v":0}]
[null,{"$f":"Basisdaten!B59","v":0},{"$f":"Basisdaten!A59","v":"SB 10"},{"$f":"Basisdaten!U59","v":0},{"$f":"IF(Basisdaten!$E$59=1,Basisdaten!$K$59*Saisonalisierung!A57,0)","v":0},{"$f":"IF(Basisdaten!$E$59<=2,Basisdaten!$K$59*Saisonalisierung!B57,0)","v":0},{"$f":"IF(Basisdaten!$E$59<=3,Basisdaten!$K$59*Saisonalisierung!C57,0)","v":0},{"$f":"IF(Basisdaten!$E$59<=4,Basisdaten!$K$59*Saisonalisierung!D57,0)","v":0},{"$f":"IF(Basisdaten!$E$59<=5,Basisdaten!$K$59*Saisonalisierung!E57,0)","v":0},{"$f":"IF(Basisdaten!$E$59<=6,Basisdaten!$K$59*Saisonalisierung!F57,0)","v":0},{"$f":"IF(Basisdaten!$E$59<=7,Basisdaten!$K$59*Saisonalisierung!G57,0)","v":0},{"$f":"IF(Basisdaten!$E$59<=8,Basisdaten!$K$59*Saisonalisierung!H57,0)","v":0},{"$f":"IF(Basisdaten!$E$59<=9,Basisdaten!$K$59*Saisonalisierung!I57,0)","v":0},{"$f":"IF(Basisdaten!$E$59<=10,Basisdaten!$K$59*Saisonalisierung!J57,0)","v":0},{"$f":"IF(Basisdaten!$E$59<=11,Basisdaten!$K$59*Saisonalisierung!K57,0)","v":0},{"$f":"IF(Basisdaten!$E$59<=12,Basisdaten!$K$59*Saisonalisierung!L57,0)","v":0}]

{"sheet":"Verarb_DG_0052052","index":22,"n_rows":57,"n_cols":16,"rows_kept":57,"cut":false,"hidden":false,"merged":[]}
["Hauptbetrieb","Standort","Serviceberater","Invoice Date","DG_ST_Plan_1","DG_ST_Plan_2","DG_ST_Plan_3","DG_ST_Plan_4","DG_ST_Plan_5","DG_ST_Plan_6","DG_ST_Plan_7","DG_ST_Plan_8","DG_ST_Plan_9","DG_ST_Plan_10","DG_ST_Plan_11","DG_ST_Plan_12"]
[1,{"$f":"Basisdaten!B4","v":10},{"$f":"Basisdaten!A4","v":"Erich Harzenetter - SCBK"},{"$f":"Basisdaten!U4","v":2022},{"$f":"IF(Basisdaten!$E$4=1,Basisdaten!$Q$4*Saisonalisierung!A2,0)","v":88.863500000000002},{"$f":"IF(Basisdaten!$E$4<=2,Basisdaten!$Q$4*Saisonalisierung!B2,0)","v":90.629000000000005},{"$f":"IF(Basisdaten!$E$4<=3,Basisdaten!$Q$4*Saisonalisierung!C2,0)","v":104.75300000000001},{"$f":"IF(Basisdaten!$E$4<=4,Basisdaten!$Q$4*Saisonalisierung!D2,0)","v":98.868000000000009},{"$f":"IF(Basisdaten!$E$4<=5,Basisdaten!$Q$4*Saisonalisierung!E2,0)","v":94.748500000000007},{"$f":"IF(Basisdaten!$E$4<=6,Basisdaten!$Q$4*Saisonalisierung!F2,0)","v":98.279499999999985},{"$f":"IF(Basisdaten!$E$4<=7,Basisdaten!$Q$4*Saisonalisierung!G2,0)","v":100.63350000000001},{"$f":"IF(Basisdaten!$E$4<=8,Basisdaten!$Q$4*Saisonalisierung!H2,0)","v":98.868000000000009},{"$f":"IF(Basisdaten!$E$4<=9,Basisdaten!$Q$4*Saisonalisierung!I2,0)","v":100.045},{"$f":"IF(Basisdaten!$E$4<=10,Basisdaten!$Q$4*Saisonalisierung!J2,0)","v":97.102500000000006},{"$f":"IF(Basisdaten!$E$4<=11,Basisdaten!$Q$4*Saisonalisierung!K2,0)","v":100.045},{"$f":"IF(Basisdaten!$E$4<=12,Basisdaten!$Q$4*Saisonalisierung!L2,0)","v":104.16449999999999}]
[1,{"$f":"Basisdaten!B5","v":10},{"$f":"Basisdaten!A5","v":"Johannes Grieser - SCBI"},{"$f":"Basisdaten!U5","v":2022},{"$f":"IF(Basisdaten!$E$5=1,Basisdaten!$Q$5*Saisonalisierung!A3,0)","v":88.863500000000002},{"$f":"IF(Basisdaten!$E$5<=2,Basisdaten!$Q$5*Saisonalisierung!B3,0)","v":90.629000000000005},{"$f":"IF(Basisdaten!$E$5<=3,Basisdaten!$Q$5*Saisonalisierung!C3,0)","v":104.75300000000001},{"$f":"IF(Basisdaten!$E$5<=4,Basisdaten!$Q$5*Saisonalisierung!D3,0)","v":98.868000000000009},{"$f":"IF(Basisdaten!$E$5<=5,Basisdaten!$Q$5*Saisonalisierung!E3,0)","v":94.748500000000007},{"$f":"IF(Basisdaten!$E$5<=6,Basisdaten!$Q$5*Saisonalisierung!F3,0)","v":98.279499999999985},{"$f":"IF(Basisdaten!$E$5<=7,Basisdaten!$Q$5*Saisonalisierung!G3,0)","v":100.63350000000001},{"$f":"IF(Basisdaten!$E$5<=8,Basisdaten!$Q$5*Saisonalisierung!H3,0)","v":98.868000000000009},{"$f":"IF(Basisdaten!$E$5<=9,Basisdaten!$Q$5*Saisonalisierung!I3,0)","v":100.045},{"$f":"IF(Basisdaten!$E$5<=10,Basisdaten!$Q$5*Saisonalisierung!J3,0)","v":97.102500000000006},{"$f":"IF(Basisdaten!$E$5<=11,Basisdaten!$Q$5*Saisonalisierung!K3,0)","v":100.045},{"$f":"IF(Basisdaten!$E$5<=12,Basisdaten!$Q$5*Saisonalisierung!L3,0)","v":104.16449999999999}]
[1,{"$f":"Basisdaten!B6","v":10},{"$f":"Basisdaten!A6","v":"Mike Weber"},{"$f":"Basisdaten!U6","v":2022},{"$f":"IF(Basisdaten!$E$6=1,Basisdaten!$Q$6*Saisonalisierung!A4,0)","v":71.090800000000002},{"$f":"IF(Basisdaten!$E$6<=2,Basisdaten!$Q$6*Saisonalisierung!B4,0)","v":72.503200000000007},{"$f":"IF(Basisdaten!$E$6<=3,Basisdaten!$Q$6*Saisonalisierung!C4,0)","v":83.802400000000006},{"$f":"IF(Basisdaten!$E$6<=4,Basisdaten!$Q$6*Saisonalisierung!D4,0)","v":79.094400000000007},{"$f":"IF(Basisdaten!$E$6<=5,Basisdaten!$Q$6*Saisonalisierung!E4,0)","v":75.7988},{"$f":"IF(Basisdaten!$E$6<=6,Basisdaten!$Q$6*Saisonalisierung!F4,0)","v":78.623599999999996},{"$f":"IF(Basisdaten!$E$6<=7,Basisdaten!$Q$6*Saisonalisierung!G4,0)","v":80.506800000000013},{"$f":"IF(Basisdaten!$E$6<=8,Basisdaten!$Q$6*Saisonalisierung!H4,0)","v":79.094400000000007},{"$f":"IF(Basisdaten!$E$6<=9,Basisdaten!$Q$6*Saisonalisierung!I4,0)","v":80.036000000000001},{"$f":"IF(Basisdaten!$E$6<=10,Basisdaten!$Q$6*Saisonalisierung!J4,0)","v":77.682000000000002},{"$f":"IF(Basisdaten!$E$6<=11,Basisdaten!$Q$6*Saisonalisierung!K4,0)","v":80.036000000000001},{"$f":"IF(Basisdaten!$E$6<=12,Basisdaten!$Q$6*Saisonalisierung!L4,0)","v":83.331599999999995}]
[1,{"$f":"Basisdaten!B7","v":10},{"$f":"Basisdaten!A7","v":"Rudolf Maier"},{"$f":"Basisdaten!U7","v":2022},{"$f":"IF(Basisdaten!$E$7=1,Basisdaten!$Q$7*Saisonalisierung!A5,0)","v":88.863500000000002},{"$f":"IF(Basisdaten!$E$7<=2,Basisdaten!$Q$7*Saisonalisierung!B5,0)","v":90.629000000000005},{"$f":"IF(Basisdaten!$E$7<=3,Basisdaten!$Q$7*Saisonalisierung!C5,0)","v":104.75300000000001},{"$f":"IF(Basisdaten!$E$7<=4,Basisdaten!$Q$7*Saisonalisierung!D5,0)","v":98.868000000000009},{"$f":"IF(Basisdaten!$E$7<=5,Basisdaten!$Q$7*Saisonalisierung!E5,0)","v":94.748500000000007},{"$f":"IF(Basisdaten!$E$7<=6,Basisdaten!$Q$7*Saisonalisierung!F5,0)","v":98.279499999999985},{"$f":"IF(Basisdaten!$E$7<=7,Basisdaten!$Q$7*Saisonalisierung!G5,0)","v":100.63350000000001},{"$f":"IF(Basisdaten!$E$7<=8,Basisdaten!$Q$7*Saisonalisierung!H5,0)","v":98.868000000000009},{"$f":"IF(Basisdaten!$E$7<=9,Basisdaten!$Q$7*Saisonalisierung!I5,0)","v":100.045},{"$f":"IF(Basisdaten!$E$7<=10,Basisdaten!$Q$7*Saisonalisierung!J5,0)","v":97.102500000000006},{"$f":"IF(Basisdaten!$E$7<=11,Basisdaten!$Q$7*Saisonalisierung!K5,0)","v":100.045},{"$f":"IF(Basisdaten!$E$7<=12,Basisdaten!$Q$7*Saisonalisierung!L5,0)","v":104.16449999999999}]
[1,{"$f":"Basisdaten!B8","v":10},{"$f":"Basisdaten!A8","v":"Hermann Haller_"},{"$f":"Basisdaten!U8","v":2022},{"$f":"IF(Basisdaten!$E$8=1,Basisdaten!$Q$8*Saisonalisierung!A6,0)","v":0},{"$f":"IF(Basisdaten!$E$8<=2,Basisdaten!$Q$8*Saisonalisierung!B6,0)","v":0},{"$f":"IF(Basisdaten!$E$8<=3,Basisdaten!$Q$8*Saisonalisierung!C6,0)","v":0},{"$f":"IF(Basisdaten!$E$8<=4,Basisdaten!$Q$8*Saisonalisierung!D6,0)","v":0},{"$f":"IF(Basisdaten!$E$8<=5,Basisdaten!$Q$8*Saisonalisierung!E6,0)","v":0},{"$f":"IF(Basisdaten!$E$8<=6,Basisdaten!$Q$8*Saisonalisierung!F6,0)","v":0},{"$f":"IF(Basisdaten!$E$8<=7,Basisdaten!$Q$8*Saisonalisierung!G6,0)","v":0},{"$f":"IF(Basisdaten!$E$8<=8,Basisdaten!$Q$8*Saisonalisierung!H6,0)","v":0},{"$f":"IF(Basisdaten!$E$8<=9,Basisdaten!$Q$8*Saisonalisierung!I6,0)","v":0},{"$f":"IF(Basisdaten!$E$8<=10,Basisdaten!$Q$8*Saisonalisierung!J6,0)","v":0},{"$f":"IF(Basisdaten!$E$8<=11,Basisdaten!$Q$8*Saisonalisierung!K6,0)","v":0},{"$f":"IF(Basisdaten!$E$8<=12,Basisdaten!$Q$8*Saisonalisierung!L6,0)","v":0}]
[1,{"$f":"Basisdaten!B9","v":10},{"$f":"Basisdaten!A9","v":"Christopher Kirmayer"},{"$f":"Basisdaten!U9","v":2022},{"$f":"IF(Basisdaten!$E$9=1,Basisdaten!$Q$9*Saisonalisierung!A7,0)","v":88.863500000000002},{"$f":"IF(Basisdaten!$E$9<=2,Basisdaten!$Q$9*Saisonalisierung!B7,0)","v":90.629000000000005},{"$f":"IF(Basisdaten!$E$9<=3,Basisdaten!$Q$9*Saisonalisierung!C7,0)","v":104.75300000000001},{"$f":"IF(Basisdaten!$E$9<=4,Basisdaten!$Q$9*Saisonalisierung!D7,0)","v":98.868000000000009},{"$f":"IF(Basisdaten!$E$9<=5,Basisdaten!$Q$9*Saisonalisierung!E7,0)","v":94.748500000000007},{"$f":"IF(Basisdaten!$E$9<=6,Basisdaten!$Q$9*Saisonalisierung!F7,0)","v":98.279499999999985},{"$f":"IF(Basisdaten!$E$9<=7,Basisdaten!$Q$9*Saisonalisierung!G7,0)","v":100.63350000000001},{"$f":"IF(Basisdaten!$E$9<=8,Basisdaten!$Q$9*Saisonalisierung!H7,0)","v":98.868000000000009},{"$f":"IF(Basisdaten!$E$9<=9,Basisdaten!$Q$9*Saisonalisierung!I7,0)","v":100.045},{"$f":"IF(Basisdaten!$E$9<=10,Basisdaten!$Q$9*Saisonalisierung!J7,0)","v":97.102500000000006},{"$f":"IF(Basisdaten!$E$9<=11,Basisdaten!$Q$9*Saisonalisierung!K7,0)","v":100.045},{"$f":"IF(Basisdaten!$E$9<=12,Basisdaten!$Q$9*Saisonalisierung!L7,0)","v":104.16449999999999}]
[1,{"$f":"Basisdaten!B10","v":10},{"$f":"Basisdaten!A10","v":"Jörg Reifenrath"},{"$f":"Basisdaten!U10","v":2022},{"$f":"IF(Basisdaten!$E$10=1,Basisdaten!$Q$10*Saisonalisierung!A8,0)","v":88.863500000000002},{"$f":"IF(Basisdaten!$E$10<=2,Basisdaten!$Q$10*Saisonalisierung!B8,0)","v":90.629000000000005},{"$f":"IF(Basisdaten!$E$10<=3,Basisdaten!$Q$10*Saisonalisierung!C8,0)","v":104.75300000000001},{"$f":"IF(Basisdaten!$E$10<=4,Basisdaten!$Q$10*Saisonalisierung!D8,0)","v":98.868000000000009},{"$f":"IF(Basisdaten!$E$10<=5,Basisdaten!$Q$10*Saisonalisierung!E8,0)","v":94.748500000000007},{"$f":"IF(Basisdaten!$E$10<=6,Basisdaten!$Q$10*Saisonalisierung!F8,0)","v":98.279499999999985},{"$f":"IF(Basisdaten!$E$10<=7,Basisdaten!$Q$10*Saisonalisierung!G8,0)","v":100.63350000000001},{"$f":"IF(Basisdaten!$E$10<=8,Basisdaten!$Q$10*Saisonalisierung!H8,0)","v":98.868000000000009},{"$f":"IF(Basisdaten!$E$10<=9,Basisdaten!$Q$10*Saisonalisierung!I8,0)","v":100.045},{"$f":"IF(Basisdaten!$E$10<=10,Basisdaten!$Q$10*Saisonalisierung!J8,0)","v":97.102500000000006},{"$f":"IF(Basisdaten!$E$10<=11,Basisdaten!$Q$10*Saisonalisierung!K8,0)","v":100.045},{"$f":"IF(Basisdaten!$E$10<=12,Basisdaten!$Q$10*Saisonalisierung!L8,0)","v":104.16449999999999}]
[1,{"$f":"Basisdaten!B11","v":10},{"$f":"Basisdaten!A11","v":"Günter Küblbeck - SCBI_"},{"$f":"Basisdaten!U11","v":2022},{"$f":"IF(Basisdaten!$E$11=1,Basisdaten!$Q$11*Saisonalisierung!A9,0)","v":0},{"$f":"IF(Basisdaten!$E$11<=2,Basisdaten!$Q$11*Saisonalisierung!B9,0)","v":0},{"$f":"IF(Basisdaten!$E$11<=3,Basisdaten!$Q$11*Saisonalisierung!C9,0)","v":0},{"$f":"IF(Basisdaten!$E$11<=4,Basisdaten!$Q$11*Saisonalisierung!D9,0)","v":0},{"$f":"IF(Basisdaten!$E$11<=5,Basisdaten!$Q$11*Saisonalisierung!E9,0)","v":0},{"$f":"IF(Basisdaten!$E$11<=6,Basisdaten!$Q$11*Saisonalisierung!F9,0)","v":0},{"$f":"IF(Basisdaten!$E$11<=7,Basisdaten!$Q$11*Saisonalisierung!G9,0)","v":0},{"$f":"IF(Basisdaten!$E$11<=8,Basisdaten!$Q$11*Saisonalisierung!H9,0)","v":0},{"$f":"IF(Basisdaten!$E$11<=9,Basisdaten!$Q$11*Saisonalisierung!I9,0)","v":0},{"$f":"IF(Basisdaten!$E$11<=10,Basisdaten!$Q$11*Saisonalisierung!J9,0)","v":0},{"$f":"IF(Basisdaten!$E$11<=11,Basisdaten!$Q$11*Saisonalisierung!K9,0)","v":0},{"$f":"IF(Basisdaten!$E$11<=12,Basisdaten!$Q$11*Saisonalisierung!L9,0)","v":0}]
[1,{"$f":"Basisdaten!B12","v":10},{"$f":"Basisdaten!A12","v":"Patrick Kresser"},{"$f":"Basisdaten!U12","v":2022},{"$f":"IF(Basisdaten!$E$12=1,Basisdaten!$Q$12*Saisonalisierung!A10,0)","v":88.863500000000002},{"$f":"IF(Basisdaten!$E$12<=2,Basisdaten!$Q$12*Saisonalisierung!B10,0)","v":90.629000000000005},{"$f":"IF(Basisdaten!$E$12<=3,Basisdaten!$Q$12*Saisonalisierung!C10,0)","v":104.75300000000001},{"$f":"IF(Basisdaten!$E$12<=4,Basisdaten!$Q$12*Saisonalisierung!D10,0)","v":98.868000000000009},{"$f":"IF(Basisdaten!$E$12<=5,Basisdaten!$Q$12*Saisonalisierung!E10,0)","v":94.748500000000007},{"$f":"IF(Basisdaten!$E$12<=6,Basisdaten!$Q$12*Saisonalisierung!F10,0)","v":98.279499999999985},{"$f":"IF(Basisdaten!$E$12<=7,Basisdaten!$Q$12*Saisonalisierung!G10,0)","v":100.63350000000001},{"$f":"IF(Basisdaten!$E$12<=8,Basisdaten!$Q$12*Saisonalisierung!H10,0)","v":98.868000000000009},{"$f":"IF(Basisdaten!$E$12<=9,Basisdaten!$Q$12*Saisonalisierung!I10,0)","v":100.045},{"$f":"IF(Basisdaten!$E$12<=10,Basisdaten!$Q$12*Saisonalisierung!J10,0)","v":97.102500000000006},{"$f":"IF(Basisdaten!$E$12<=11,Basisdaten!$Q$12*Saisonalisierung!K10,0)","v":100.045},{"$f":"IF(Basisdaten!$E$12<=12,Basisdaten!$Q$12*Saisonalisierung!L10,0)","v":104.16449999999999}]
[1,{"$f":"Basisdaten!B13","v":30},{"$f":"Basisdaten!A13","v":"Ralf Ruchti"},{"$f":"Basisdaten!U13","v":2022},{"$f":"IF(Basisdaten!$E$13=1,Basisdaten!$Q$13*Saisonalisierung!A11,0)","v":62.204449999999994},{"$f":"IF(Basisdaten!$E$13<=2,Basisdaten!$Q$13*Saisonalisierung!B11,0)","v":63.440300000000001},{"$f":"IF(Basisdaten!$E$13<=3,Basisdaten!$Q$13*Saisonalisierung!C11,0)","v":73.327100000000002},{"$f":"IF(Basisdaten!$E$13<=4,Basisdaten!$Q$13*Saisonalisierung!D11,0)","v":69.207599999999999},{"$f":"IF(Basisdaten!$E$13<=5,Basisdaten!$Q$13*Saisonalisierung!E11,0)","v":66.323949999999996},{"$f":"IF(Basisdaten!$E$13<=6,Basisdaten!$Q$13*Saisonalisierung!F11,0)","v":68.795649999999995},{"$f":"IF(Basisdaten!$E$13<=7,Basisdaten!$Q$13*Saisonalisierung!G11,0)","v":70.443449999999999},{"$f":"IF(Basisdaten!$E$13<=8,Basisdaten!$Q$13*Saisonalisierung!H11,0)","v":69.207599999999999},{"$f":"IF(Basisdaten!$E$13<=9,Basisdaten!$Q$13*Saisonalisierung!I11,0)","v":70.031500000000008},{"$f":"IF(Basisdaten!$E$13<=10,Basisdaten!$Q$13*Saisonalisierung!J11,0)","v":67.97175},{"$f":"IF(Basisdaten!$E$13<=11,Basisdaten!$Q$13*Saisonalisierung!K11,0)","v":70.031500000000008},{"$f":"IF(Basisdaten!$E$13<=12,Basisdaten!$Q$13*Saisonalisierung!L11,0)","v":72.915149999999997}]
[1,{"$f":"Basisdaten!B14","v":30},{"$f":"Basisdaten!A14","v":"Matthias Mirga"},{"$f":"Basisdaten!U14","v":2022},{"$f":"IF(Basisdaten!$E$14=1,Basisdaten!$Q$14*Saisonalisierung!A12,0)","v":88.863500000000002},{"$f":"IF(Basisdaten!$E$14<=2,Basisdaten!$Q$14*Saisonalisierung!B12,0)","v":90.629000000000005},{"$f":"IF(Basisdaten!$E$14<=3,Basisdaten!$Q$14*Saisonalisierung!C12,0)","v":104.75300000000001},{"$f":"IF(Basisdaten!$E$14<=4,Basisdaten!$Q$14*Saisonalisierung!D12,0)","v":98.868000000000009},{"$f":"IF(Basisdaten!$E$14<=5,Basisdaten!$Q$14*Saisonalisierung!E12,0)","v":94.748500000000007},{"$f":"IF(Basisdaten!$E$14<=6,Basisdaten!$Q$14*Saisonalisierung!F12,0)","v":98.279499999999985},{"$f":"IF(Basisdaten!$E$14<=7,Basisdaten!$Q$14*Saisonalisierung!G12,0)","v":100.63350000000001},{"$f":"IF(Basisdaten!$E$14<=8,Basisdaten!$Q$14*Saisonalisierung!H12,0)","v":98.868000000000009},{"$f":"IF(Basisdaten!$E$14<=9,Basisdaten!$Q$14*Saisonalisierung!I12,0)","v":100.045},{"$f":"IF(Basisdaten!$E$14<=10,Basisdaten!$Q$14*Saisonalisierung!J12,0)","v":97.102500000000006},{"$f":"IF(Basisdaten!$E$14<=11,Basisdaten!$Q$14*Saisonalisierung!K12,0)","v":100.045},{"$f":"IF(Basisdaten!$E$14<=12,Basisdaten!$Q$14*Saisonalisierung!L12,0)","v":104.16449999999999}]
[1,{"$f":"Basisdaten!B15","v":40},{"$f":"Basisdaten!A15","v":"Wolfgang Heckelmiller - SCBK"},{"$f":"Basisdaten!U15","v":2022},{"$f":"IF(Basisdaten!$E$15=1,Basisdaten!$Q$15*Saisonalisierung!A13,0)","v":106.63619999999999},{"$f":"IF(Basisdaten!$E$15<=2,Basisdaten!$Q$15*Saisonalisierung!B13,0)","v":108.75479999999999},{"$f":"IF(Basisdaten!$E$15<=3,Basisdaten!$Q$15*Saisonalisierung!C13,0)","v":125.70359999999999},{"$f":"IF(Basisdaten!$E$15<=4,Basisdaten!$Q$15*Saisonalisierung!D13,0)","v":118.6416},{"$f":"IF(Basisdaten!$E$15<=5,Basisdaten!$Q$15*Saisonalisierung!E13,0)","v":113.69819999999999},{"$f":"IF(Basisdaten!$E$15<=6,Basisdaten!$Q$15*Saisonalisierung!F13,0)","v":117.93539999999997},{"$f":"IF(Basisdaten!$E$15<=7,Basisdaten!$Q$15*Saisonalisierung!G13,0)","v":120.7602},{"$f":"IF(Basisdaten!$E$15<=8,Basisdaten!$Q$15*Saisonalisierung!H13,0)","v":118.6416},{"$f":"IF(Basisdaten!$E$15<=9,Basisdaten!$Q$15*Saisonalisierung!I13,0)","v":120.054},{"$f":"IF(Basisdaten!$E$15<=10,Basisdaten!$Q$15*Saisonalisierung!J13,0)","v":116.523},{"$f":"IF(Basisdaten!$E$15<=11,Basisdaten!$Q$15*Saisonalisierung!K13,0)","v":120.054},{"$f":"IF(Basisdaten!$E$15<=12,Basisdaten!$Q$15*Saisonalisierung!L13,0)","v":124.99739999999998}]
[1,{"$f":"Basisdaten!B16","v":40},{"$f":"Basisdaten!A16","v":"Daniel Klingenstein"},{"$f":"Basisdaten!U16","v":2022},{"$f":"IF(Basisdaten!$E$16=1,Basisdaten!$Q$16*Saisonalisierung!A14,0)","v":106.63619999999999},{"$f":"IF(Basisdaten!$E$16<=2,Basisdaten!$Q$16*Saisonalisierung!B14,0)","v":108.75479999999999},{"$f":"IF(Basisdaten!$E$16<=3,Basisdaten!$Q$16*Saisonalisierung!C14,0)","v":125.70359999999999},{"$f":"IF(Basisdaten!$E$16<=4,Basisdaten!$Q$16*Saisonalisierung!D14,0)","v":118.6416},{"$f":"IF(Basisdaten!$E$16<=5,Basisdaten!$Q$16*Saisonalisierung!E14,0)","v":113.69819999999999},{"$f":"IF(Basisdaten!$E$16<=6,Basisdaten!$Q$16*Saisonalisierung!F14,0)","v":117.93539999999997},{"$f":"IF(Basisdaten!$E$16<=7,Basisdaten!$Q$16*Saisonalisierung!G14,0)","v":120.7602},{"$f":"IF(Basisdaten!$E$16<=8,Basisdaten!$Q$16*Saisonalisierung!H14,0)","v":118.6416},{"$f":"IF(Basisdaten!$E$16<=9,Basisdaten!$Q$16*Saisonalisierung!I14,0)","v":120.054},{"$f":"IF(Basisdaten!$E$16<=10,Basisdaten!$Q$16*Saisonalisierung!J14,0)","v":116.523},{"$f":"IF(Basisdaten!$E$16<=11,Basisdaten!$Q$16*Saisonalisierung!K14,0)","v":120.054},{"$f":"IF(Basisdaten!$E$16<=12,Basisdaten!$Q$16*Saisonalisierung!L14,0)","v":124.99739999999998}]
[1,{"$f":"Basisdaten!B17","v":40},{"$f":"Basisdaten!A17","v":"Alnes Zenic"},{"$f":"Basisdaten!U17","v":2022},{"$f":"IF(Basisdaten!$E$17=1,Basisdaten!$Q$17*Saisonalisierung!A15,0)","v":106.63619999999999},{"$f":"IF(Basisdaten!$E$17<=2,Basisdaten!$Q$17*Saisonalisierung!B15,0)","v":108.75479999999999},{"$f":"IF(Basisdaten!$E$17<=3,Basisdaten!$Q$17*Saisonalisierung!C15,0)","v":125.70359999999999},{"$f":"IF(Basisdaten!$E$17<=4,Basisdaten!$Q$17*Saisonalisierung!D15,0)","v":118.6416},{"$f":"IF(Basisdaten!$E$17<=5,Basisdaten!$Q$17*Saisonalisierung!E15,0)","v":113.69819999999999},{"$f":"IF(Basisdaten!$E$17<=6,Basisdaten!$Q$17*Saisonalisierung!F15,0)","v":117.93539999999997},{"$f":"IF(Basisdaten!$E$17<=7,Basisdaten!$Q$17*Saisonalisierung!G15,0)","v":120.7602},{"$f":"IF(Basisdaten!$E$17<=8,Basisdaten!$Q$17*Saisonalisierung!H15,0)","v":118.6416},{"$f":"IF(Basisdaten!$E$17<=9,Basisdaten!$Q$17*Saisonalisierung!I15,0)","v":120.054},{"$f":"IF(Basisdaten!$E$17<=10,Basisdaten!$Q$17*Saisonalisierung!J15,0)","v":116.523},{"$f":"IF(Basisdaten!$E$17<=11,Basisdaten!$Q$17*Saisonalisierung!K15,0)","v":120.054},{"$f":"IF(Basisdaten!$E$17<=12,Basisdaten!$Q$17*Saisonalisierung!L15,0)","v":124.99739999999998}]
[1,{"$f":"Basisdaten!B18","v":40},{"$f":"Basisdaten!A18","v":"Mehmet Dikmen"},{"$f":"Basisdaten!U18","v":2022},{"$f":"IF(Basisdaten!$E$18=1,Basisdaten!$Q$18*Saisonalisierung!A16,0)","v":106.63619999999999},{"$f":"IF(Basisdaten!$E$18<=2,Basisdaten!$Q$18*Saisonalisierung!B16,0)","v":108.75479999999999},{"$f":"IF(Basisdaten!$E$18<=3,Basisdaten!$Q$18*Saisonalisierung!C16,0)","v":125.70359999999999},{"$f":"IF(Basisdaten!$E$18<=4,Basisdaten!$Q$18*Saisonalisierung!D16,0)","v":118.6416},{"$f":"IF(Basisdaten!$E$18<=5,Basisdaten!$Q$18*Saisonalisierung!E16,0)","v":113.69819999999999},{"$f":"IF(Basisdaten!$E$18<=6,Basisdaten!$Q$18*Saisonalisierung!F16,0)","v":117.93539999999997},{"$f":"IF(Basisdaten!$E$18<=7,Basisdaten!$Q$18*Saisonalisierung!G16,0)","v":120.7602},{"$f":"IF(Basisdaten!$E$18<=8,Basisdaten!$Q$18*Saisonalisierung!H16,0)","v":118.6416},{"$f":"IF(Basisdaten!$E$18<=9,Basisdaten!$Q$18*Saisonalisierung!I16,0)","v":120.054},{"$f":"IF(Basisdaten!$E$18<=10,Basisdaten!$Q$18*Saisonalisierung!J16,0)","v":116.523},{"$f":"IF(Basisdaten!$E$18<=11,Basisdaten!$Q$18*Saisonalisierung!K16,0)","v":120.054},{"$f":"IF(Basisdaten!$E$18<=12,Basisdaten!$Q$18*Saisonalisierung!L16,0)","v":124.99739999999998}]
[1,{"$f":"Basisdaten!B19","v":40},{"$f":"Basisdaten!A19","v":"Gerrit Heine"},{"$f":"Basisdaten!U19","v":2022},{"$f":"IF(Basisdaten!$E$19=1,Basisdaten!$Q$19*Saisonalisierung!A17,0)","v":106.63619999999999},{"$f":"IF(Basisdaten!$E$19<=2,Basisdaten!$Q$19*Saisonalisierung!B17,0)","v":108.75479999999999},{"$f":"IF(Basisdaten!$E$19<=3,Basisdaten!$Q$19*Saisonalisierung!C17,0)","v":125.70359999999999},{"$f":"IF(Basisdaten!$E$19<=4,Basisdaten!$Q$19*Saisonalisierung!D17,0)","v":118.6416},{"$f":"IF(Basisdaten!$E$19<=5,Basisdaten!$Q$19*Saisonalisierung!E17,0)","v":113.69819999999999},{"$f":"IF(Basisdaten!$E$19<=6,Basisdaten!$Q$19*Saisonalisierung!F17,0)","v":117.93539999999997},{"$f":"IF(Basisdaten!$E$19<=7,Basisdaten!$Q$19*Saisonalisierung!G17,0)","v":120.7602},{"$f":"IF(Basisdaten!$E$19<=8,Basisdaten!$Q$19*Saisonalisierung!H17,0)","v":118.6416},{"$f":"IF(Basisdaten!$E$19<=9,Basisdaten!$Q$19*Saisonalisierung!I17,0)","v":120.054},{"$f":"IF(Basisdaten!$E$19<=10,Basisdaten!$Q$19*Saisonalisierung!J17,0)","v":116.523},{"$f":"IF(Basisdaten!$E$19<=11,Basisdaten!$Q$19*Saisonalisierung!K17,0)","v":120.054},{"$f":"IF(Basisdaten!$E$19<=12,Basisdaten!$Q$19*Saisonalisierung!L17,0)","v":124.99739999999998}]
[1,{"$f":"Basisdaten!B20","v":40},{"$f":"Basisdaten!A20","v":"Lars Krausen"},{"$f":"Basisdaten!U20","v":2022},{"$f":"IF(Basisdaten!$E$20=1,Basisdaten!$Q$20*Saisonalisierung!A18,0)","v":106.63619999999999},{"$f":"IF(Basisdaten!$E$20<=2,Basisdaten!$Q$20*Saisonalisierung!B18,0)","v":108.75479999999999},{"$f":"IF(Basisdaten!$E$20<=3,Basisdaten!$Q$20*Saisonalisierung!C18,0)","v":125.70359999999999},{"$f":"IF(Basisdaten!$E$20<=4,Basisdaten!$Q$20*Saisonalisierung!D18,0)","v":118.6416},{"$f":"IF(Basisdaten!$E$20<=5,Basisdaten!$Q$20*Saisonalisierung!E18,0)","v":113.69819999999999},{"$f":"IF(Basisdaten!$E$20<=6,Basisdaten!$Q$20*Saisonalisierung!F18,0)","v":117.93539999999997},{"$f":"IF(Basisdaten!$E$20<=7,Basisdaten!$Q$20*Saisonalisierung!G18,0)","v":120.7602},{"$f":"IF(Basisdaten!$E$20<=8,Basisdaten!$Q$20*Saisonalisierung!H18,0)","v":118.6416},{"$f":"IF(Basisdaten!$E$20<=9,Basisdaten!$Q$20*Saisonalisierung!I18,0)","v":120.054},{"$f":"IF(Basisdaten!$E$20<=10,Basisdaten!$Q$20*Saisonalisierung!J18,0)","v":116.523},{"$f":"IF(Basisdaten!$E$20<=11,Basisdaten!$Q$20*Saisonalisierung!K18,0)","v":120.054},{"$f":"IF(Basisdaten!$E$20<=12,Basisdaten!$Q$20*Saisonalisierung!L18,0)","v":124.99739999999998}]
[1,{"$f":"Basisdaten!B21","v":40},{"$f":"Basisdaten!A21","v":"Hubert Figura - SCBI"},{"$f":"Basisdaten!U21","v":2022},{"$f":"IF(Basisdaten!$E$21=1,Basisdaten!$Q$21*Saisonalisierung!A19,0)","v":106.63619999999999},{"$f":"IF(Basisdaten!$E$21<=2,Basisdaten!$Q$21*Saisonalisierung!B19,0)","v":108.75479999999999},{"$f":"IF(Basisdaten!$E$21<=3,Basisdaten!$Q$21*Saisonalisierung!C19,0)","v":125.70359999999999},{"$f":"IF(Basisdaten!$E$21<=4,Basisdaten!$Q$21*Saisonalisierung!D19,0)","v":118.6416},{"$f":"IF(Basisdaten!$E$21<=5,Basisdaten!$Q$21*Saisonalisierung!E19,0)","v":113.69819999999999},{"$f":"IF(Basisdaten!$E$21<=6,Basisdaten!$Q$21*Saisonalisierung!F19,0)","v":117.93539999999997},{"$f":"IF(Basisdaten!$E$21<=7,Basisdaten!$Q$21*Saisonalisierung!G19,0)","v":120.7602},{"$f":"IF(Basisdaten!$E$21<=8,Basisdaten!$Q$21*Saisonalisierung!H19,0)","v":118.6416},{"$f":"IF(Basisdaten!$E$21<=9,Basisdaten!$Q$21*Saisonalisierung!I19,0)","v":120.054},{"$f":"IF(Basisdaten!$E$21<=10,Basisdaten!$Q$21*Saisonalisierung!J19,0)","v":116.523},{"$f":"IF(Basisdaten!$E$21<=11,Basisdaten!$Q$21*Saisonalisierung!K19,0)","v":120.054},{"$f":"IF(Basisdaten!$E$21<=12,Basisdaten!$Q$21*Saisonalisierung!L19,0)","v":124.99739999999998}]
[1,{"$f":"Basisdaten!B22","v":40},{"$f":"Basisdaten!A22","v":"Jan-Oliver Knaus"},{"$f":"Basisdaten!U22","v":2022},{"$f":"IF(Basisdaten!$E$22=1,Basisdaten!$Q$22*Saisonalisierung!A20,0)","v":106.63619999999999},{"$f":"IF(Basisdaten!$E$22<=2,Basisdaten!$Q$22*Saisonalisierung!B20,0)","v":108.75479999999999},{"$f":"IF(Basisdaten!$E$22<=3,Basisdaten!$Q$22*Saisonalisierung!C20,0)","v":125.70359999999999},{"$f":"IF(Basisdaten!$E$22<=4,Basisdaten!$Q$22*Saisonalisierung!D20,0)","v":118.6416},{"$f":"IF(Basisdaten!$E$22<=5,Basisdaten!$Q$22*Saisonalisierung!E20,0)","v":113.69819999999999},{"$f":"IF(Basisdaten!$E$22<=6,Basisdaten!$Q$22*Saisonalisierung!F20,0)","v":117.93539999999997},{"$f":"IF(Basisdaten!$E$22<=7,Basisdaten!$Q$22*Saisonalisierung!G20,0)","v":120.7602},{"$f":"IF(Basisdaten!$E$22<=8,Basisdaten!$Q$22*Saisonalisierung!H20,0)","v":118.6416},{"$f":"IF(Basisdaten!$E$22<=9,Basisdaten!$Q$22*Saisonalisierung!I20,0)","v":120.054},{"$f":"IF(Basisdaten!$E$22<=10,Basisdaten!$Q$22*Saisonalisierung!J20,0)","v":116.523},{"$f":"IF(Basisdaten!$E$22<=11,Basisdaten!$Q$22*Saisonalisierung!K20,0)","v":120.054},{"$f":"IF(Basisdaten!$E$22<=12,Basisdaten!$Q$22*Saisonalisierung!L20,0)","v":124.99739999999998}]
[1,{"$f":"Basisdaten!B23","v":40},{"$f":"Basisdaten!A23","v":"Hakan Celik_ULM"},{"$f":"Basisdaten!U23","v":2022},{"$f":"IF(Basisdaten!$E$23=1,Basisdaten!$Q$23*Saisonalisierung!A21,0)","v":0},{"$f":"IF(Basisdaten!$E$23<=2,Basisdaten!$Q$23*Saisonalisierung!B21,0)","v":0},{"$f":"IF(Basisdaten!$E$23<=3,Basisdaten!$Q$23*Saisonalisierung!C21,0)","v":0},{"$f":"IF(Basisdaten!$E$23<=4,Basisdaten!$Q$23*Saisonalisierung!D21,0)","v":0},{"$f":"IF(Basisdaten!$E$23<=5,Basisdaten!$Q$23*Saisonalisierung!E21,0)","v":0},{"$f":"IF(Basisdaten!$E$23<=6,Basisdaten!$Q$23*Saisonalisierung!F21,0)","v":0},{"$f":"IF(Basisdaten!$E$23<=7,Basisdaten!$Q$23*Saisonalisierung!G21,0)","v":0},{"$f":"IF(Basisdaten!$E$23<=8,Basisdaten!$Q$23*Saisonalisierung!H21,0)","v":0},{"$f":"IF(Basisdaten!$E$23<=9,Basisdaten!$Q$23*Saisonalisierung!I21,0)","v":0},{"$f":"IF(Basisdaten!$E$23<=10,Basisdaten!$Q$23*Saisonalisierung!J21,0)","v":0},{"$f":"IF(Basisdaten!$E$23<=11,Basisdaten!$Q$23*Saisonalisierung!K21,0)","v":0},{"$f":"IF(Basisdaten!$E$23<=12,Basisdaten!$Q$23*Saisonalisierung!L21,0)","v":0}]
[1,{"$f":"Basisdaten!B24","v":40},{"$f":"Basisdaten!A24","v":"Andreas Walter"},{"$f":"Basisdaten!U24","v":2022},{"$f":"IF(Basisdaten!$E$24=1,Basisdaten!$Q$24*Saisonalisierung!A22,0)","v":106.63619999999999},{"$f":"IF(Basisdaten!$E$24<=2,Basisdaten!$Q$24*Saisonalisierung!B22,0)","v":108.75479999999999},{"$f":"IF(Basisdaten!$E$24<=3,Basisdaten!$Q$24*Saisonalisierung!C22,0)","v":125.70359999999999},{"$f":"IF(Basisdaten!$E$24<=4,Basisdaten!$Q$24*Saisonalisierung!D22,0)","v":118.6416},{"$f":"IF(Basisdaten!$E$24<=5,Basisdaten!$Q$24*Saisonalisierung!E22,0)","v":113.69819999999999},{"$f":"IF(Basisdaten!$E$24<=6,Basisdaten!$Q$24*Saisonalisierung!F22,0)","v":117.93539999999997},{"$f":"IF(Basisdaten!$E$24<=7,Basisdaten!$Q$24*Saisonalisierung!G22,0)","v":120.7602},{"$f":"IF(Basisdaten!$E$24<=8,Basisdaten!$Q$24*Saisonalisierung!H22,0)","v":118.6416},{"$f":"IF(Basisdaten!$E$24<=9,Basisdaten!$Q$24*Saisonalisierung!I22,0)","v":120.054},{"$f":"IF(Basisdaten!$E$24<=10,Basisdaten!$Q$24*Saisonalisierung!J22,0)","v":116.523},{"$f":"IF(Basisdaten!$E$24<=11,Basisdaten!$Q$24*Saisonalisierung!K22,0)","v":120.054},{"$f":"IF(Basisdaten!$E$24<=12,Basisdaten!$Q$24*Saisonalisierung!L22,0)","v":124.99739999999998}]
[1,{"$f":"Basisdaten!B25","v":40},{"$f":"Basisdaten!A25","v":"Fatih Cetiner"},{"$f":"Basisdaten!U25","v":2022},{"$f":"IF(Basisdaten!$E$25=1,Basisdaten!$Q$25*Saisonalisierung!A23,0)","v":106.63619999999999},{"$f":"IF(Basisdaten!$E$25<=2,Basisdaten!$Q$25*Saisonalisierung!B23,0)","v":108.75479999999999},{"$f":"IF(Basisdaten!$E$25<=3,Basisdaten!$Q$25*Saisonalisierung!C23,0)","v":125.70359999999999},{"$f":"IF(Basisdaten!$E$25<=4,Basisdaten!$Q$25*Saisonalisierung!D23,0)","v":118.6416},{"$f":"IF(Basisdaten!$E$25<=5,Basisdaten!$Q$25*Saisonalisierung!E23,0)","v":113.69819999999999},{"$f":"IF(Basisdaten!$E$25<=6,Basisdaten!$Q$25*Saisonalisierung!F23,0)","v":117.93539999999997},{"$f":"IF(Basisdaten!$E$25<=7,Basisdaten!$Q$25*Saisonalisierung!G23,0)","v":120.7602},{"$f":"IF(Basisdaten!$E$25<=8,Basisdaten!$Q$25*Saisonalisierung!H23,0)","v":118.6416},{"$f":"IF(Basisdaten!$E$25<=9,Basisdaten!$Q$25*Saisonalisierung!I23,0)","v":120.054},{"$f":"IF(Basisdaten!$E$25<=10,Basisdaten!$Q$25*Saisonalisierung!J23,0)","v":116.523},{"$f":"IF(Basisdaten!$E$25<=11,Basisdaten!$Q$25*Saisonalisierung!K23,0)","v":120.054},{"$f":"IF(Basisdaten!$E$25<=12,Basisdaten!$Q$25*Saisonalisierung!L23,0)","v":124.99739999999998}]
[1,{"$f":"Basisdaten!B26","v":50},{"$f":"Basisdaten!A26","v":"Carlheinz Beylacher"},{"$f":"Basisdaten!U26","v":2022},{"$f":"IF(Basisdaten!$E$26=1,Basisdaten!$Q$26*Saisonalisierung!A24,0)","v":88.863500000000002},{"$f":"IF(Basisdaten!$E$26<=2,Basisdaten!$Q$26*Saisonalisierung!B24,0)","v":90.629000000000005},{"$f":"IF(Basisdaten!$E$26<=3,Basisdaten!$Q$26*Saisonalisierung!C24,0)","v":104.75300000000001},{"$f":"IF(Basisdaten!$E$26<=4,Basisdaten!$Q$26*Saisonalisierung!D24,0)","v":98.868000000000009},{"$f":"IF(Basisdaten!$E$26<=5,Basisdaten!$Q$26*Saisonalisierung!E24,0)","v":94.748500000000007},{"$f":"IF(Basisdaten!$E$26<=6,Basisdaten!$Q$26*Saisonalisierung!F24,0)","v":98.279499999999985},{"$f":"IF(Basisdaten!$E$26<=7,Basisdaten!$Q$26*Saisonalisierung!G24,0)","v":100.63350000000001},{"$f":"IF(Basisdaten!$E$26<=8,Basisdaten!$Q$26*Saisonalisierung!H24,0)","v":98.868000000000009},{"$f":"IF(Basisdaten!$E$26<=9,Basisdaten!$Q$26*Saisonalisierung!I24,0)","v":100.045},{"$f":"IF(Basisdaten!$E$26<=10,Basisdaten!$Q$26*Saisonalisierung!J24,0)","v":97.102500000000006},{"$f":"IF(Basisdaten!$E$26<=11,Basisdaten!$Q$26*Saisonalisierung!K24,0)","v":100.045},{"$f":"IF(Basisdaten!$E$26<=12,Basisdaten!$Q$26*Saisonalisierung!L24,0)","v":104.16449999999999}]
[1,{"$f":"Basisdaten!B27","v":50},{"$f":"Basisdaten!A27","v":"Christoph Ziegler"},{"$f":"Basisdaten!U27","v":2022},{"$f":"IF(Basisdaten!$E$27=1,Basisdaten!$Q$27*Saisonalisierung!A25,0)","v":88.863500000000002},{"$f":"IF(Basisdaten!$E$27<=2,Basisdaten!$Q$27*Saisonalisierung!B25,0)","v":90.629000000000005},{"$f":"IF(Basisdaten!$E$27<=3,Basisdaten!$Q$27*Saisonalisierung!C25,0)","v":104.75300000000001},{"$f":"IF(Basisdaten!$E$27<=4,Basisdaten!$Q$27*Saisonalisierung!D25,0)","v":98.868000000000009},{"$f":"IF(Basisdaten!$E$27<=5,Basisdaten!$Q$27*Saisonalisierung!E25,0)","v":94.748500000000007},{"$f":"IF(Basisdaten!$E$27<=6,Basisdaten!$Q$27*Saisonalisierung!F25,0)","v":98.279499999999985},{"$f":"IF(Basisdaten!$E$27<=7,Basisdaten!$Q$27*Saisonalisierung!G25,0)","v":100.63350000000001},{"$f":"IF(Basisdaten!$E$27<=8,Basisdaten!$Q$27*Saisonalisierung!H25,0)","v":98.868000000000009},{"$f":"IF(Basisdaten!$E$27<=9,Basisdaten!$Q$27*Saisonalisierung!I25,0)","v":100.045},{"$f":"IF(Basisdaten!$E$27<=10,Basisdaten!$Q$27*Saisonalisierung!J25,0)","v":97.102500000000006},{"$f":"IF(Basisdaten!$E$27<=11,Basisdaten!$Q$27*Saisonalisierung!K25,0)","v":100.045},{"$f":"IF(Basisdaten!$E$27<=12,Basisdaten!$Q$27*Saisonalisierung!L25,0)","v":104.16449999999999}]
[1,{"$f":"Basisdaten!B28","v":50},{"$f":"Basisdaten!A28","v":"Steffen Schiller"},{"$f":"Basisdaten!U28","v":2022},{"$f":"IF(Basisdaten!$E$28=1,Basisdaten!$Q$28*Saisonalisierung!A26,0)","v":88.863500000000002},{"$f":"IF(Basisdaten!$E$28<=2,Basisdaten!$Q$28*Saisonalisierung!B26,0)","v":90.629000000000005},{"$f":"IF(Basisdaten!$E$28<=3,Basisdaten!$Q$28*Saisonalisierung!C26,0)","v":104.75300000000001},{"$f":"IF(Basisdaten!$E$28<=4,Basisdaten!$Q$28*Saisonalisierung!D26,0)","v":98.868000000000009},{"$f":"IF(Basisdaten!$E$28<=5,Basisdaten!$Q$28*Saisonalisierung!E26,0)","v":94.748500000000007},{"$f":"IF(Basisdaten!$E$28<=6,Basisdaten!$Q$28*Saisonalisierung!F26,0)","v":98.279499999999985},{"$f":"IF(Basisdaten!$E$28<=7,Basisdaten!$Q$28*Saisonalisierung!G26,0)","v":100.63350000000001},{"$f":"IF(Basisdaten!$E$28<=8,Basisdaten!$Q$28*Saisonalisierung!H26,0)","v":98.868000000000009},{"$f":"IF(Basisdaten!$E$28<=9,Basisdaten!$Q$28*Saisonalisierung!I26,0)","v":100.045},{"$f":"IF(Basisdaten!$E$28<=10,Basisdaten!$Q$28*Saisonalisierung!J26,0)","v":97.102500000000006},{"$f":"IF(Basisdaten!$E$28<=11,Basisdaten!$Q$28*Saisonalisierung!K26,0)","v":100.045},{"$f":"IF(Basisdaten!$E$28<=12,Basisdaten!$Q$28*Saisonalisierung!L26,0)","v":104.16449999999999}]
[1,{"$f":"Basisdaten!B29","v":50},{"$f":"Basisdaten!A29","v":"André Pfeffer - SCBI"},{"$f":"Basisdaten!U29","v":2022},{"$f":"IF(Basisdaten!$E$29=1,Basisdaten!$Q$29*Saisonalisierung!A27,0)","v":88.863500000000002},{"$f":"IF(Basisdaten!$E$29<=2,Basisdaten!$Q$29*Saisonalisierung!B27,0)","v":90.629000000000005},{"$f":"IF(Basisdaten!$E$29<=3,Basisdaten!$Q$29*Saisonalisierung!C27,0)","v":104.75300000000001},{"$f":"IF(Basisdaten!$E$29<=4,Basisdaten!$Q$29*Saisonalisierung!D27,0)","v":98.868000000000009},{"$f":"IF(Basisdaten!$E$29<=5,Basisdaten!$Q$29*Saisonalisierung!E27,0)","v":94.748500000000007},{"$f":"IF(Basisdaten!$E$29<=6,Basisdaten!$Q$29*Saisonalisierung!F27,0)","v":98.279499999999985},{"$f":"IF(Basisdaten!$E$29<=7,Basisdaten!$Q$29*Saisonalisierung!G27,0)","v":100.63350000000001},{"$f":"IF(Basisdaten!$E$29<=8,Basisdaten!$Q$29*Saisonalisierung!H27,0)","v":98.868000000000009},{"$f":"IF(Basisdaten!$E$29<=9,Basisdaten!$Q$29*Saisonalisierung!I27,0)","v":100.045},{"$f":"IF(Basisdaten!$E$29<=10,Basisdaten!$Q$29*Saisonalisierung!J27,0)","v":97.102500000000006},{"$f":"IF(Basisdaten!$E$29<=11,Basisdaten!$Q$29*Saisonalisierung!K27,0)","v":100.045},{"$f":"IF(Basisdaten!$E$29<=12,Basisdaten!$Q$29*Saisonalisierung!L27,0)","v":104.16449999999999}]
[1,{"$f":"Basisdaten!B30","v":50},{"$f":"Basisdaten!A30","v":"Christian Wiedemann"},{"$f":"Basisdaten!U30","v":2022},{"$f":"IF(Basisdaten!$E$30=1,Basisdaten!$Q$30*Saisonalisierung!A28,0)","v":88.863500000000002},{"$f":"IF(Basisdaten!$E$30<=2,Basisdaten!$Q$30*Saisonalisierung!B28,0)","v":90.629000000000005},{"$f":"IF(Basisdaten!$E$30<=3,Basisdaten!$Q$30*Saisonalisierung!C28,0)","v":104.75300000000001},{"$f":"IF(Basisdaten!$E$30<=4,Basisdaten!$Q$30*Saisonalisierung!D28,0)","v":98.868000000000009},{"$f":"IF(Basisdaten!$E$30<=5,Basisdaten!$Q$30*Saisonalisierung!E28,0)","v":94.748500000000007},{"$f":"IF(Basisdaten!$E$30<=6,Basisdaten!$Q$30*Saisonalisierung!F28,0)","v":98.279499999999985},{"$f":"IF(Basisdaten!$E$30<=7,Basisdaten!$Q$30*Saisonalisierung!G28,0)","v":100.63350000000001},{"$f":"IF(Basisdaten!$E$30<=8,Basisdaten!$Q$30*Saisonalisierung!H28,0)","v":98.868000000000009},{"$f":"IF(Basisdaten!$E$30<=9,Basisdaten!$Q$30*Saisonalisierung!I28,0)","v":100.045},{"$f":"IF(Basisdaten!$E$30<=10,Basisdaten!$Q$30*Saisonalisierung!J28,0)","v":97.102500000000006},{"$f":"IF(Basisdaten!$E$30<=11,Basisdaten!$Q$30*Saisonalisierung!K28,0)","v":100.045},{"$f":"IF(Basisdaten!$E$30<=12,Basisdaten!$Q$30*Saisonalisierung!L28,0)","v":104.16449999999999}]
[1,{"$f":"Basisdaten!B31","v":50},{"$f":"Basisdaten!A31","v":"Daniel Aschmann_"},{"$f":"Basisdaten!U31","v":2022},{"$f":"IF(Basisdaten!$E$31=1,Basisdaten!$Q$31*Saisonalisierung!A29,0)","v":0},{"$f":"IF(Basisdaten!$E$31<=2,Basisdaten!$Q$31*Saisonalisierung!B29,0)","v":0},{"$f":"IF(Basisdaten!$E$31<=3,Basisdaten!$Q$31*Saisonalisierung!C29,0)","v":0},{"$f":"IF(Basisdaten!$E$31<=4,Basisdaten!$Q$31*Saisonalisierung!D29,0)","v":0},{"$f":"IF(Basisdaten!$E$31<=5,Basisdaten!$Q$31*Saisonalisierung!E29,0)","v":0},{"$f":"IF(Basisdaten!$E$31<=6,Basisdaten!$Q$31*Saisonalisierung!F29,0)","v":0},{"$f":"IF(Basisdaten!$E$31<=7,Basisdaten!$Q$31*Saisonalisierung!G29,0)","v":0},{"$f":"IF(Basisdaten!$E$31<=8,Basisdaten!$Q$31*Saisonalisierung!H29,0)","v":0},{"$f":"IF(Basisdaten!$E$31<=9,Basisdaten!$Q$31*Saisonalisierung!I29,0)","v":0},{"$f":"IF(Basisdaten!$E$31<=10,Basisdaten!$Q$31*Saisonalisierung!J29,0)","v":0},{"$f":"IF(Basisdaten!$E$31<=11,Basisdaten!$Q$31*Saisonalisierung!K29,0)","v":0},{"$f":"IF(Basisdaten!$E$31<=12,Basisdaten!$Q$31*Saisonalisierung!L29,0)","v":0}]
[2,{"$f":"Basisdaten!B32","v":60},{"$f":"Basisdaten!A32","v":"Dirk Heditzsch"},{"$f":"Basisdaten!U32","v":2022},{"$f":"IF(Basisdaten!$E$32=1,Basisdaten!$Q$32*Saisonalisierung!A30,0)","v":0},{"$f":"IF(Basisdaten!$E$32<=2,Basisdaten!$Q$32*Saisonalisierung!B30,0)","v":0},{"$f":"IF(Basisdaten!$E$32<=3,Basisdaten!$Q$32*Saisonalisierung!C30,0)","v":0},{"$f":"IF(Basisdaten!$E$32<=4,Basisdaten!$Q$32*Saisonalisierung!D30,0)","v":118.6416},{"$f":"IF(Basisdaten!$E$32<=5,Basisdaten!$Q$32*Saisonalisierung!E30,0)","v":113.69819999999999},{"$f":"IF(Basisdaten!$E$32<=6,Basisdaten!$Q$32*Saisonalisierung!F30,0)","v":117.93539999999997},{"$f":"IF(Basisdaten!$E$32<=7,Basisdaten!$Q$32*Saisonalisierung!G30,0)","v":120.7602},{"$f":"IF(Basisdaten!$E$32<=8,Basisdaten!$Q$32*Saisonalisierung!H30,0)","v":118.6416},{"$f":"IF(Basisdaten!$E$32<=9,Basisdaten!$Q$32*Saisonalisierung!I30,0)","v":120.054},{"$f":"IF(Basisdaten!$E$32<=10,Basisdaten!$Q$32*Saisonalisierung!J30,0)","v":116.523},{"$f":"IF(Basisdaten!$E$32<=11,Basisdaten!$Q$32*Saisonalisierung!K30,0)","v":120.054},{"$f":"IF(Basisdaten!$E$32<=12,Basisdaten!$Q$32*Saisonalisierung!L30,0)","v":124.99739999999998}]
[2,{"$f":"Basisdaten!B33","v":60},{"$f":"Basisdaten!A33","v":"Marco Hanigk"},{"$f":"Basisdaten!U33","v":2022},{"$f":"IF(Basisdaten!$E$33=1,Basisdaten!$Q$33*Saisonalisierung!A31,0)","v":106.63619999999999},{"$f":"IF(Basisdaten!$E$33<=2,Basisdaten!$Q$33*Saisonalisierung!B31,0)","v":108.75479999999999},{"$f":"IF(Basisdaten!$E$33<=3,Basisdaten!$Q$33*Saisonalisierung!C31,0)","v":125.70359999999999},{"$f":"IF(Basisdaten!$E$33<=4,Basisdaten!$Q$33*Saisonalisierung!D31,0)","v":118.6416},{"$f":"IF(Basisdaten!$E$33<=5,Basisdaten!$Q$33*Saisonalisierung!E31,0)","v":113.69819999999999},{"$f":"IF(Basisdaten!$E$33<=6,Basisdaten!$Q$33*Saisonalisierung!F31,0)","v":117.93539999999997},{"$f":"IF(Basisdaten!$E$33<=7,Basisdaten!$Q$33*Saisonalisierung!G31,0)","v":120.7602},{"$f":"IF(Basisdaten!$E$33<=8,Basisdaten!$Q$33*Saisonalisierung!H31,0)","v":118.6416},{"$f":"IF(Basisdaten!$E$33<=9,Basisdaten!$Q$33*Saisonalisierung!I31,0)","v":120.054},{"$f":"IF(Basisdaten!$E$33<=10,Basisdaten!$Q$33*Saisonalisierung!J31,0)","v":116.523},{"$f":"IF(Basisdaten!$E$33<=11,Basisdaten!$Q$33*Saisonalisierung!K31,0)","v":120.054},{"$f":"IF(Basisdaten!$E$33<=12,Basisdaten!$Q$33*Saisonalisierung!L31,0)","v":124.99739999999998}]
[2,{"$f":"Basisdaten!B34","v":60},{"$f":"Basisdaten!A34","v":"Marcel Lankes"},{"$f":"Basisdaten!U34","v":2022},{"$f":"IF(Basisdaten!$E$34=1,Basisdaten!$Q$34*Saisonalisierung!A32,0)","v":0},{"$f":"IF(Basisdaten!$E$34<=2,Basisdaten!$Q$34*Saisonalisierung!B32,0)","v":0},{"$f":"IF(Basisdaten!$E$34<=3,Basisdaten!$Q$34*Saisonalisierung!C32,0)","v":0},{"$f":"IF(Basisdaten!$E$34<=4,Basisdaten!$Q$34*Saisonalisierung!D32,0)","v":118.6416},{"$f":"IF(Basisdaten!$E$34<=5,Basisdaten!$Q$34*Saisonalisierung!E32,0)","v":113.69819999999999},{"$f":"IF(Basisdaten!$E$34<=6,Basisdaten!$Q$34*Saisonalisierung!F32,0)","v":117.93539999999997},{"$f":"IF(Basisdaten!$E$34<=7,Basisdaten!$Q$34*Saisonalisierung!G32,0)","v":120.7602},{"$f":"IF(Basisdaten!$E$34<=8,Basisdaten!$Q$34*Saisonalisierung!H32,0)","v":118.6416},{"$f":"IF(Basisdaten!$E$34<=9,Basisdaten!$Q$34*Saisonalisierung!I32,0)","v":120.054},{"$f":"IF(Basisdaten!$E$34<=10,Basisdaten!$Q$34*Saisonalisierung!J32,0)","v":116.523},{"$f":"IF(Basisdaten!$E$34<=11,Basisdaten!$Q$34*Saisonalisierung!K32,0)","v":120.054},{"$f":"IF(Basisdaten!$E$34<=12,Basisdaten!$Q$34*Saisonalisierung!L32,0)","v":124.99739999999998}]
[2,{"$f":"Basisdaten!B35","v":60},{"$f":"Basisdaten!A35","v":"Roland Klier"},{"$f":"Basisdaten!U35","v":2022},{"$f":"IF(Basisdaten!$E$35=1,Basisdaten!$Q$35*Saisonalisierung!A33,0)","v":106.63619999999999},{"$f":"IF(Basisdaten!$E$35<=2,Basisdaten!$Q$35*Saisonalisierung!B33,0)","v":108.75479999999999},{"$f":"IF(Basisdaten!$E$35<=3,Basisdaten!$Q$35*Saisonalisierung!C33,0)","v":125.70359999999999},{"$f":"IF(Basisdaten!$E$35<=4,Basisdaten!$Q$35*Saisonalisierung!D33,0)","v":118.6416},{"$f":"IF(Basisdaten!$E$35<=5,Basisdaten!$Q$35*Saisonalisierung!E33,0)","v":113.69819999999999},{"$f":"IF(Basisdaten!$E$35<=6,Basisdaten!$Q$35*Saisonalisierung!F33,0)","v":117.93539999999997},{"$f":"IF(Basisdaten!$E$35<=7,Basisdaten!$Q$35*Saisonalisierung!G33,0)","v":120.7602},{"$f":"IF(Basisdaten!$E$35<=8,Basisdaten!$Q$35*Saisonalisierung!H33,0)","v":118.6416},{"$f":"IF(Basisdaten!$E$35<=9,Basisdaten!$Q$35*Saisonalisierung!I33,0)","v":120.054},{"$f":"IF(Basisdaten!$E$35<=10,Basisdaten!$Q$35*Saisonalisierung!J33,0)","v":116.523},{"$f":"IF(Basisdaten!$E$35<=11,Basisdaten!$Q$35*Saisonalisierung!K33,0)","v":120.054},{"$f":"IF(Basisdaten!$E$35<=12,Basisdaten!$Q$35*Saisonalisierung!L33,0)","v":124.99739999999998}]
[2,{"$f":"Basisdaten!B36","v":60},{"$f":"Basisdaten!A36","v":"Mert Güngör"},{"$f":"Basisdaten!U36","v":2022},{"$f":"IF(Basisdaten!$E$36=1,Basisdaten!$Q$36*Saisonalisierung!A34,0)","v":0},{"$f":"IF(Basisdaten!$E$36<=2,Basisdaten!$Q$36*Saisonalisierung!B34,0)","v":0},{"$f":"IF(Basisdaten!$E$36<=3,Basisdaten!$Q$36*Saisonalisierung!C34,0)","v":0},{"$f":"IF(Basisdaten!$E$36<=4,Basisdaten!$Q$36*Saisonalisierung!D34,0)","v":0},{"$f":"IF(Basisdaten!$E$36<=5,Basisdaten!$Q$36*Saisonalisierung!E34,0)","v":0},{"$f":"IF(Basisdaten!$E$36<=6,Basisdaten!$Q$36*Saisonalisierung!F34,0)","v":117.93539999999997},{"$f":"IF(Basisdaten!$E$36<=7,Basisdaten!$Q$36*Saisonalisierung!G34,0)","v":120.7602},{"$f":"IF(Basisdaten!$E$36<=8,Basisdaten!$Q$36*Saisonalisierung!H34,0)","v":118.6416},{"$f":"IF(Basisdaten!$E$36<=9,Basisdaten!$Q$36*Saisonalisierung!I34,0)","v":120.054},{"$f":"IF(Basisdaten!$E$36<=10,Basisdaten!$Q$36*Saisonalisierung!J34,0)","v":116.523},{"$f":"IF(Basisdaten!$E$36<=11,Basisdaten!$Q$36*Saisonalisierung!K34,0)","v":120.054},{"$f":"IF(Basisdaten!$E$36<=12,Basisdaten!$Q$36*Saisonalisierung!L34,0)","v":124.99739999999998}]
[2,{"$f":"Basisdaten!B37","v":60},{"$f":"Basisdaten!A37","v":"Matthias Hagg"},{"$f":"Basisdaten!U37","v":2022},{"$f":"IF(Basisdaten!$E$37=1,Basisdaten!$Q$37*Saisonalisierung!A35,0)","v":106.63619999999999},{"$f":"IF(Basisdaten!$E$37<=2,Basisdaten!$Q$37*Saisonalisierung!B35,0)","v":108.75479999999999},{"$f":"IF(Basisdaten!$E$37<=3,Basisdaten!$Q$37*Saisonalisierung!C35,0)","v":125.70359999999999},{"$f":"IF(Basisdaten!$E$37<=4,Basisdaten!$Q$37*Saisonalisierung!D35,0)","v":118.6416},{"$f":"IF(Basisdaten!$E$37<=5,Basisdaten!$Q$37*Saisonalisierung!E35,0)","v":113.69819999999999},{"$f":"IF(Basisdaten!$E$37<=6,Basisdaten!$Q$37*Saisonalisierung!F35,0)","v":117.93539999999997},{"$f":"IF(Basisdaten!$E$37<=7,Basisdaten!$Q$37*Saisonalisierung!G35,0)","v":120.7602},{"$f":"IF(Basisdaten!$E$37<=8,Basisdaten!$Q$37*Saisonalisierung!H35,0)","v":118.6416},{"$f":"IF(Basisdaten!$E$37<=9,Basisdaten!$Q$37*Saisonalisierung!I35,0)","v":120.054},{"$f":"IF(Basisdaten!$E$37<=10,Basisdaten!$Q$37*Saisonalisierung!J35,0)","v":116.523},{"$f":"IF(Basisdaten!$E$37<=11,Basisdaten!$Q$37*Saisonalisierung!K35,0)","v":120.054},{"$f":"IF(Basisdaten!$E$37<=12,Basisdaten!$Q$37*Saisonalisierung!L35,0)","v":124.99739999999998}]
[2,{"$f":"Basisdaten!B38","v":60},{"$f":"Basisdaten!A38","v":"Walter Schlosser"},{"$f":"Basisdaten!U38","v":2022},{"$f":"IF(Basisdaten!$E$38=1,Basisdaten!$Q$38*Saisonalisierung!A36,0)","v":106.63619999999999},{"$f":"IF(Basisdaten!$E$38<=2,Basisdaten!$Q$38*Saisonalisierung!B36,0)","v":108.75479999999999},{"$f":"IF(Basisdaten!$E$38<=3,Basisdaten!$Q$38*Saisonalisierung!C36,0)","v":125.70359999999999},{"$f":"IF(Basisdaten!$E$38<=4,Basisdaten!$Q$38*Saisonalisierung!D36,0)","v":118.6416},{"$f":"IF(Basisdaten!$E$38<=5,Basisdaten!$Q$38*Saisonalisierung!E36,0)","v":113.69819999999999},{"$f":"IF(Basisdaten!$E$38<=6,Basisdaten!$Q$38*Saisonalisierung!F36,0)","v":117.93539999999997},{"$f":"IF(Basisdaten!$E$38<=7,Basisdaten!$Q$38*Saisonalisierung!G36,0)","v":120.7602},{"$f":"IF(Basisdaten!$E$38<=8,Basisdaten!$Q$38*Saisonalisierung!H36,0)","v":118.6416},{"$f":"IF(Basisdaten!$E$38<=9,Basisdaten!$Q$38*Saisonalisierung!I36,0)","v":120.054},{"$f":"IF(Basisdaten!$E$38<=10,Basisdaten!$Q$38*Saisonalisierung!J36,0)","v":116.523},{"$f":"IF(Basisdaten!$E$38<=11,Basisdaten!$Q$38*Saisonalisierung!K36,0)","v":120.054},{"$f":"IF(Basisdaten!$E$38<=12,Basisdaten!$Q$38*Saisonalisierung!L36,0)","v":124.99739999999998}]
[2,{"$f":"Basisdaten!B39","v":60},{"$f":"Basisdaten!A39","v":"Udo Spindler"},{"$f":"Basisdaten!U39","v":2022},{"$f":"IF(Basisdaten!$E$39=1,Basisdaten!$Q$39*Saisonalisierung!A37,0)","v":106.63619999999999},{"$f":"IF(Basisdaten!$E$39<=2,Basisdaten!$Q$39*Saisonalisierung!B37,0)","v":108.75479999999999},{"$f":"IF(Basisdaten!$E$39<=3,Basisdaten!$Q$39*Saisonalisierung!C37,0)","v":125.70359999999999},{"$f":"IF(Basisdaten!$E$39<=4,Basisdaten!$Q$39*Saisonalisierung!D37,0)","v":118.6416},{"$f":"IF(Basisdaten!$E$39<=5,Basisdaten!$Q$39*Saisonalisierung!E37,0)","v":113.69819999999999},{"$f":"IF(Basisdaten!$E$39<=6,Basisdaten!$Q$39*Saisonalisierung!F37,0)","v":117.93539999999997},{"$f":"IF(Basisdaten!$E$39<=7,Basisdaten!$Q$39*Saisonalisierung!G37,0)","v":120.7602},{"$f":"IF(Basisdaten!$E$39<=8,Basisdaten!$Q$39*Saisonalisierung!H37,0)","v":118.6416},{"$f":"IF(Basisdaten!$E$39<=9,Basisdaten!$Q$39*Saisonalisierung!I37,0)","v":120.054},{"$f":"IF(Basisdaten!$E$39<=10,Basisdaten!$Q$39*Saisonalisierung!J37,0)","v":116.523},{"$f":"IF(Basisdaten!$E$39<=11,Basisdaten!$Q$39*Saisonalisierung!K37,0)","v":120.054},{"$f":"IF(Basisdaten!$E$39<=12,Basisdaten!$Q$39*Saisonalisierung!L37,0)","v":124.99739999999998}]
[2,{"$f":"Basisdaten!B40","v":60},{"$f":"Basisdaten!A40","v":"Marcel Vogler"},{"$f":"Basisdaten!U40","v":2022},{"$f":"IF(Basisdaten!$E$40=1,Basisdaten!$Q$40*Saisonalisierung!A38,0)","v":106.63619999999999},{"$f":"IF(Basisdaten!$E$40<=2,Basisdaten!$Q$40*Saisonalisierung!B38,0)","v":108.75479999999999},{"$f":"IF(Basisdaten!$E$40<=3,Basisdaten!$Q$40*Saisonalisierung!C38,0)","v":125.70359999999999},{"$f":"IF(Basisdaten!$E$40<=4,Basisdaten!$Q$40*Saisonalisierung!D38,0)","v":118.6416},{"$f":"IF(Basisdaten!$E$40<=5,Basisdaten!$Q$40*Saisonalisierung!E38,0)","v":113.69819999999999},{"$f":"IF(Basisdaten!$E$40<=6,Basisdaten!$Q$40*Saisonalisierung!F38,0)","v":117.93539999999997},{"$f":"IF(Basisdaten!$E$40<=7,Basisdaten!$Q$40*Saisonalisierung!G38,0)","v":120.7602},{"$f":"IF(Basisdaten!$E$40<=8,Basisdaten!$Q$40*Saisonalisierung!H38,0)","v":118.6416},{"$f":"IF(Basisdaten!$E$40<=9,Basisdaten!$Q$40*Saisonalisierung!I38,0)","v":120.054},{"$f":"IF(Basisdaten!$E$40<=10,Basisdaten!$Q$40*Saisonalisierung!J38,0)","v":116.523},{"$f":"IF(Basisdaten!$E$40<=11,Basisdaten!$Q$40*Saisonalisierung!K38,0)","v":120.054},{"$f":"IF(Basisdaten!$E$40<=12,Basisdaten!$Q$40*Saisonalisierung!L38,0)","v":124.99739999999998}]
[2,{"$f":"Basisdaten!B41","v":60},{"$f":"Basisdaten!A41","v":"Raphael Marksteiner"},{"$f":"Basisdaten!U41","v":2022},{"$f":"IF(Basisdaten!$E$41=1,Basisdaten!$Q$41*Saisonalisierung!A39,0)","v":0},{"$f":"IF(Basisdaten!$E$41<=2,Basisdaten!$Q$41*Saisonalisierung!B39,0)","v":0},{"$f":"IF(Basisdaten!$E$41<=3,Basisdaten!$Q$41*Saisonalisierung!C39,0)","v":0},{"$f":"IF(Basisdaten!$E$41<=4,Basisdaten!$Q$41*Saisonalisierung!D39,0)","v":118.6416},{"$f":"IF(Basisdaten!$E$41<=5,Basisdaten!$Q$41*Saisonalisierung!E39,0)","v":113.69819999999999},{"$f":"IF(Basisdaten!$E$41<=6,Basisdaten!$Q$41*Saisonalisierung!F39,0)","v":117.93539999999997},{"$f":"IF(Basisdaten!$E$41<=7,Basisdaten!$Q$41*Saisonalisierung!G39,0)","v":120.7602},{"$f":"IF(Basisdaten!$E$41<=8,Basisdaten!$Q$41*Saisonalisierung!H39,0)","v":118.6416},{"$f":"IF(Basisdaten!$E$41<=9,Basisdaten!$Q$41*Saisonalisierung!I39,0)","v":120.054},{"$f":"IF(Basisdaten!$E$41<=10,Basisdaten!$Q$41*Saisonalisierung!J39,0)","v":116.523},{"$f":"IF(Basisdaten!$E$41<=11,Basisdaten!$Q$41*Saisonalisierung!K39,0)","v":120.054},{"$f":"IF(Basisdaten!$E$41<=12,Basisdaten!$Q$41*Saisonalisierung!L39,0)","v":124.99739999999998}]
[2,{"$f":"Basisdaten!B42","v":60},{"$f":"Basisdaten!A42","v":"Markus Appeljun - SCBI"},{"$f":"Basisdaten!U42","v":2022},{"$f":"IF(Basisdaten!$E$42=1,Basisdaten!$Q$42*Saisonalisierung!A40,0)","v":0},{"$f":"IF(Basisdaten!$E$42<=2,Basisdaten!$Q$42*Saisonalisierung!B40,0)","v":108.75479999999999},{"$f":"IF(Basisdaten!$E$42<=3,Basisdaten!$Q$42*Saisonalisierung!C40,0)","v":125.70359999999999},{"$f":"IF(Basisdaten!$E$42<=4,Basisdaten!$Q$42*Saisonalisierung!D40,0)","v":118.6416},{"$f":"IF(Basisdaten!$E$42<=5,Basisdaten!$Q$42*Saisonalisierung!E40,0)","v":113.69819999999999},{"$f":"IF(Basisdaten!$E$42<=6,Basisdaten!$Q$42*Saisonalisierung!F40,0)","v":117.93539999999997},{"$f":"IF(Basisdaten!$E$42<=7,Basisdaten!$Q$42*Saisonalisierung!G40,0)","v":120.7602},{"$f":"IF(Basisdaten!$E$42<=8,Basisdaten!$Q$42*Saisonalisierung!H40,0)","v":118.6416},{"$f":"IF(Basisdaten!$E$42<=9,Basisdaten!$Q$42*Saisonalisierung!I40,0)","v":120.054},{"$f":"IF(Basisdaten!$E$42<=10,Basisdaten!$Q$42*Saisonalisierung!J40,0)","v":116.523},{"$f":"IF(Basisdaten!$E$42<=11,Basisdaten!$Q$42*Saisonalisierung!K40,0)","v":120.054},{"$f":"IF(Basisdaten!$E$42<=12,Basisdaten!$Q$42*Saisonalisierung!L40,0)","v":124.99739999999998}]
[2,{"$f":"Basisdaten!B43","v":60},{"$f":"Basisdaten!A43","v":"Andreas Göllner"},{"$f":"Basisdaten!U43","v":2022},{"$f":"IF(Basisdaten!$E$43=1,Basisdaten!$Q$43*Saisonalisierung!A41,0)","v":106.63619999999999},{"$f":"IF(Basisdaten!$E$43<=2,Basisdaten!$Q$43*Saisonalisierung!B41,0)","v":108.75479999999999},{"$f":"IF(Basisdaten!$E$43<=3,Basisdaten!$Q$43*Saisonalisierung!C41,0)","v":125.70359999999999},{"$f":"IF(Basisdaten!$E$43<=4,Basisdaten!$Q$43*Saisonalisierung!D41,0)","v":118.6416},{"$f":"IF(Basisdaten!$E$43<=5,Basisdaten!$Q$43*Saisonalisierung!E41,0)","v":113.69819999999999},{"$f":"IF(Basisdaten!$E$43<=6,Basisdaten!$Q$43*Saisonalisierung!F41,0)","v":117.93539999999997},{"$f":"IF(Basisdaten!$E$43<=7,Basisdaten!$Q$43*Saisonalisierung!G41,0)","v":120.7602},{"$f":"IF(Basisdaten!$E$43<=8,Basisdaten!$Q$43*Saisonalisierung!H41,0)","v":118.6416},{"$f":"IF(Basisdaten!$E$43<=9,Basisdaten!$Q$43*Saisonalisierung!I41,0)","v":120.054},{"$f":"IF(Basisdaten!$E$43<=10,Basisdaten!$Q$43*Saisonalisierung!J41,0)","v":116.523},{"$f":"IF(Basisdaten!$E$43<=11,Basisdaten!$Q$43*Saisonalisierung!K41,0)","v":120.054},{"$f":"IF(Basisdaten!$E$43<=12,Basisdaten!$Q$43*Saisonalisierung!L41,0)","v":124.99739999999998}]
[2,{"$f":"Basisdaten!B44","v":60},{"$f":"Basisdaten!A44","v":"Marcus Stangl"},{"$f":"Basisdaten!U44","v":2022},{"$f":"IF(Basisdaten!$E$44=1,Basisdaten!$Q$44*Saisonalisierung!A42,0)","v":106.63619999999999},{"$f":"IF(Basisdaten!$E$44<=2,Basisdaten!$Q$44*Saisonalisierung!B42,0)","v":108.75479999999999},{"$f":"IF(Basisdaten!$E$44<=3,Basisdaten!$Q$44*Saisonalisierung!C42,0)","v":125.70359999999999},{"$f":"IF(Basisdaten!$E$44<=4,Basisdaten!$Q$44*Saisonalisierung!D42,0)","v":118.6416},{"$f":"IF(Basisdaten!$E$44<=5,Basisdaten!$Q$44*Saisonalisierung!E42,0)","v":113.69819999999999},{"$f":"IF(Basisdaten!$E$44<=6,Basisdaten!$Q$44*Saisonalisierung!F42,0)","v":117.93539999999997},{"$f":"IF(Basisdaten!$E$44<=7,Basisdaten!$Q$44*Saisonalisierung!G42,0)","v":120.7602},{"$f":"IF(Basisdaten!$E$44<=8,Basisdaten!$Q$44*Saisonalisierung!H42,0)","v":118.6416},{"$f":"IF(Basisdaten!$E$44<=9,Basisdaten!$Q$44*Saisonalisierung!I42,0)","v":120.054},{"$f":"IF(Basisdaten!$E$44<=10,Basisdaten!$Q$44*Saisonalisierung!J42,0)","v":116.523},{"$f":"IF(Basisdaten!$E$44<=11,Basisdaten!$Q$44*Saisonalisierung!K42,0)","v":120.054},{"$f":"IF(Basisdaten!$E$44<=12,Basisdaten!$Q$44*Saisonalisierung!L42,0)","v":124.99739999999998}]
[2,{"$f":"Basisdaten!B45","v":60},{"$f":"Basisdaten!A45","v":"Christoph Rottenkolber"},{"$f":"Basisdaten!U45","v":2022},{"$f":"IF(Basisdaten!$E$45=1,Basisdaten!$Q$45*Saisonalisierung!A43,0)","v":0},{"$f":"IF(Basisdaten!$E$45<=2,Basisdaten!$Q$45*Saisonalisierung!B43,0)","v":0},{"$f":"IF(Basisdaten!$E$45<=3,Basisdaten!$Q$45*Saisonalisierung!C43,0)","v":0},{"$f":"IF(Basisdaten!$E$45<=4,Basisdaten!$Q$45*Saisonalisierung!D43,0)","v":118.6416},{"$f":"IF(Basisdaten!$E$45<=5,Basisdaten!$Q$45*Saisonalisierung!E43,0)","v":113.69819999999999},{"$f":"IF(Basisdaten!$E$45<=6,Basisdaten!$Q$45*Saisonalisierung!F43,0)","v":117.93539999999997},{"$f":"IF(Basisdaten!$E$45<=7,Basisdaten!$Q$45*Saisonalisierung!G43,0)","v":120.7602},{"$f":"IF(Basisdaten!$E$45<=8,Basisdaten!$Q$45*Saisonalisierung!H43,0)","v":118.6416},{"$f":"IF(Basisdaten!$E$45<=9,Basisdaten!$Q$45*Saisonalisierung!I43,0)","v":120.054},{"$f":"IF(Basisdaten!$E$45<=10,Basisdaten!$Q$45*Saisonalisierung!J43,0)","v":116.523},{"$f":"IF(Basisdaten!$E$45<=11,Basisdaten!$Q$45*Saisonalisierung!K43,0)","v":120.054},{"$f":"IF(Basisdaten!$E$45<=12,Basisdaten!$Q$45*Saisonalisierung!L43,0)","v":124.99739999999998}]
[2,{"$f":"Basisdaten!B46","v":60},{"$f":"Basisdaten!A46","v":"Michael Cattide - SCBI"},{"$f":"Basisdaten!U46","v":2022},{"$f":"IF(Basisdaten!$E$46=1,Basisdaten!$Q$46*Saisonalisierung!A44,0)","v":106.63619999999999},{"$f":"IF(Basisdaten!$E$46<=2,Basisdaten!$Q$46*Saisonalisierung!B44,0)","v":108.75479999999999},{"$f":"IF(Basisdaten!$E$46<=3,Basisdaten!$Q$46*Saisonalisierung!C44,0)","v":125.70359999999999},{"$f":"IF(Basisdaten!$E$46<=4,Basisdaten!$Q$46*Saisonalisierung!D44,0)","v":118.6416},{"$f":"IF(Basisdaten!$E$46<=5,Basisdaten!$Q$46*Saisonalisierung!E44,0)","v":113.69819999999999},{"$f":"IF(Basisdaten!$E$46<=6,Basisdaten!$Q$46*Saisonalisierung!F44,0)","v":117.93539999999997},{"$f":"IF(Basisdaten!$E$46<=7,Basisdaten!$Q$46*Saisonalisierung!G44,0)","v":120.7602},{"$f":"IF(Basisdaten!$E$46<=8,Basisdaten!$Q$46*Saisonalisierung!H44,0)","v":118.6416},{"$f":"IF(Basisdaten!$E$46<=9,Basisdaten!$Q$46*Saisonalisierung!I44,0)","v":120.054},{"$f":"IF(Basisdaten!$E$46<=10,Basisdaten!$Q$46*Saisonalisierung!J44,0)","v":116.523},{"$f":"IF(Basisdaten!$E$46<=11,Basisdaten!$Q$46*Saisonalisierung!K44,0)","v":120.054},{"$f":"IF(Basisdaten!$E$46<=12,Basisdaten!$Q$46*Saisonalisierung!L44,0)","v":124.99739999999998}]
[2,{"$f":"Basisdaten!B47","v":60},{"$f":"Basisdaten!A47","v":"Dennis Grohmann"},{"$f":"Basisdaten!U47","v":2022},{"$f":"IF(Basisdaten!$E$47=1,Basisdaten!$Q$47*Saisonalisierung!A45,0)","v":0},{"$f":"IF(Basisdaten!$E$47<=2,Basisdaten!$Q$47*Saisonalisierung!B45,0)","v":0},{"$f":"IF(Basisdaten!$E$47<=3,Basisdaten!$Q$47*Saisonalisierung!C45,0)","v":0},{"$f":"IF(Basisdaten!$E$47<=4,Basisdaten!$Q$47*Saisonalisierung!D45,0)","v":0},{"$f":"IF(Basisdaten!$E$47<=5,Basisdaten!$Q$47*Saisonalisierung!E45,0)","v":0},{"$f":"IF(Basisdaten!$E$47<=6,Basisdaten!$Q$47*Saisonalisierung!F45,0)","v":0},{"$f":"IF(Basisdaten!$E$47<=7,Basisdaten!$Q$47*Saisonalisierung!G45,0)","v":0},{"$f":"IF(Basisdaten!$E$47<=8,Basisdaten!$Q$47*Saisonalisierung!H45,0)","v":0},{"$f":"IF(Basisdaten!$E$47<=9,Basisdaten!$Q$47*Saisonalisierung!I45,0)","v":0},{"$f":"IF(Basisdaten!$E$47<=10,Basisdaten!$Q$47*Saisonalisierung!J45,0)","v":0},{"$f":"IF(Basisdaten!$E$47<=11,Basisdaten!$Q$47*Saisonalisierung!K45,0)","v":0},{"$f":"IF(Basisdaten!$E$47<=12,Basisdaten!$Q$47*Saisonalisierung!L45,0)","v":0}]
[2,{"$f":"Basisdaten!B48","v":60},{"$f":"Basisdaten!A48","v":"Simone Groß - SCBZ"},{"$f":"Basisdaten!U48","v":2022},{"$f":"IF(Basisdaten!$E$48=1,Basisdaten!$Q$48*Saisonalisierung!A46,0)","v":106.63619999999999},{"$f":"IF(Basisdaten!$E$48<=2,Basisdaten!$Q$48*Saisonalisierung!B46,0)","v":108.75479999999999},{"$f":"IF(Basisdaten!$E$48<=3,Basisdaten!$Q$48*Saisonalisierung!C46,0)","v":125.70359999999999},{"$f":"IF(Basisdaten!$E$48<=4,Basisdaten!$Q$48*Saisonalisierung!D46,0)","v":118.6416},{"$f":"IF(Basisdaten!$E$48<=5,Basisdaten!$Q$48*Saisonalisierung!E46,0)","v":113.69819999999999},{"$f":"IF(Basisdaten!$E$48<=6,Basisdaten!$Q$48*Saisonalisierung!F46,0)","v":117.93539999999997},{"$f":"IF(Basisdaten!$E$48<=7,Basisdaten!$Q$48*Saisonalisierung!G46,0)","v":120.7602},{"$f":"IF(Basisdaten!$E$48<=8,Basisdaten!$Q$48*Saisonalisierung!H46,0)","v":118.6416},{"$f":"IF(Basisdaten!$E$48<=9,Basisdaten!$Q$48*Saisonalisierung!I46,0)","v":120.054},{"$f":"IF(Basisdaten!$E$48<=10,Basisdaten!$Q$48*Saisonalisierung!J46,0)","v":116.523},{"$f":"IF(Basisdaten!$E$48<=11,Basisdaten!$Q$48*Saisonalisierung!K46,0)","v":120.054},{"$f":"IF(Basisdaten!$E$48<=12,Basisdaten!$Q$48*Saisonalisierung!L46,0)","v":124.99739999999998}]
[1,{"$f":"Basisdaten!B49","v":55},{"$f":"Basisdaten!A49","v":"Jens Haller"},{"$f":"Basisdaten!U49","v":2022},{"$f":"IF(Basisdaten!$E$49=1,Basisdaten!$Q$49*Saisonalisierung!A47,0)","v":106.63619999999999},{"$f":"IF(Basisdaten!$E$49<=2,Basisdaten!$Q$49*Saisonalisierung!B47,0)","v":108.75479999999999},{"$f":"IF(Basisdaten!$E$49<=3,Basisdaten!$Q$49*Saisonalisierung!C47,0)","v":125.70359999999999},{"$f":"IF(Basisdaten!$E$49<=4,Basisdaten!$Q$49*Saisonalisierung!D47,0)","v":118.6416},{"$f":"IF(Basisdaten!$E$49<=5,Basisdaten!$Q$49*Saisonalisierung!E47,0)","v":113.69819999999999},{"$f":"IF(Basisdaten!$E$49<=6,Basisdaten!$Q$49*Saisonalisierung!F47,0)","v":117.93539999999997},{"$f":"IF(Basisdaten!$E$49<=7,Basisdaten!$Q$49*Saisonalisierung!G47,0)","v":120.7602},{"$f":"IF(Basisdaten!$E$49<=8,Basisdaten!$Q$49*Saisonalisierung!H47,0)","v":118.6416},{"$f":"IF(Basisdaten!$E$49<=9,Basisdaten!$Q$49*Saisonalisierung!I47,0)","v":120.054},{"$f":"IF(Basisdaten!$E$49<=10,Basisdaten!$Q$49*Saisonalisierung!J47,0)","v":116.523},{"$f":"IF(Basisdaten!$E$49<=11,Basisdaten!$Q$49*Saisonalisierung!K47,0)","v":120.054},{"$f":"IF(Basisdaten!$E$49<=12,Basisdaten!$Q$49*Saisonalisierung!L47,0)","v":124.99739999999998}]
[1,{"$f":"Basisdaten!B50","v":55},{"$f":"Basisdaten!A50","v":"Ioannis Tsesmelis_"},{"$f":"Basisdaten!U50","v":2022},{"$f":"IF(Basisdaten!$E$50=1,Basisdaten!$Q$50*Saisonalisierung!A48,0)","v":0},{"$f":"IF(Basisdaten!$E$50<=2,Basisdaten!$Q$50*Saisonalisierung!B48,0)","v":0},{"$f":"IF(Basisdaten!$E$50<=3,Basisdaten!$Q$50*Saisonalisierung!C48,0)","v":0},{"$f":"IF(Basisdaten!$E$50<=4,Basisdaten!$Q$50*Saisonalisierung!D48,0)","v":0},{"$f":"IF(Basisdaten!$E$50<=5,Basisdaten!$Q$50*Saisonalisierung!E48,0)","v":0},{"$f":"IF(Basisdaten!$E$50<=6,Basisdaten!$Q$50*Saisonalisierung!F48,0)","v":0},{"$f":"IF(Basisdaten!$E$50<=7,Basisdaten!$Q$50*Saisonalisierung!G48,0)","v":0},{"$f":"IF(Basisdaten!$E$50<=8,Basisdaten!$Q$50*Saisonalisierung!H48,0)","v":0},{"$f":"IF(Basisdaten!$E$50<=9,Basisdaten!$Q$50*Saisonalisierung!I48,0)","v":0},{"$f":"IF(Basisdaten!$E$50<=10,Basisdaten!$Q$50*Saisonalisierung!J48,0)","v":0},{"$f":"IF(Basisdaten!$E$50<=11,Basisdaten!$Q$50*Saisonalisierung!K48,0)","v":0},{"$f":"IF(Basisdaten!$E$50<=12,Basisdaten!$Q$50*Saisonalisierung!L48,0)","v":0}]
[1,{"$f":"Basisdaten!B51","v":55},{"$f":"Basisdaten!A51","v":"Matthias Mirga_GZ"},{"$f":"Basisdaten!U51","v":2022},{"$f":"IF(Basisdaten!$E$51=1,Basisdaten!$Q$51*Saisonalisierung!A49,0)","v":106.63619999999999},{"$f":"IF(Basisdaten!$E$51<=2,Basisdaten!$Q$51*Saisonalisierung!B49,0)","v":108.75479999999999},{"$f":"IF(Basisdaten!$E$51<=3,Basisdaten!$Q$51*Saisonalisierung!C49,0)","v":125.70359999999999},{"$f":"IF(Basisdaten!$E$51<=4,Basisdaten!$Q$51*Saisonalisierung!D49,0)","v":118.6416},{"$f":"IF(Basisdaten!$E$51<=5,Basisdaten!$Q$51*Saisonalisierung!E49,0)","v":113.69819999999999},{"$f":"IF(Basisdaten!$E$51<=6,Basisdaten!$Q$51*Saisonalisierung!F49,0)","v":117.93539999999997},{"$f":"IF(Basisdaten!$E$51<=7,Basisdaten!$Q$51*Saisonalisierung!G49,0)","v":120.7602},{"$f":"IF(Basisdaten!$E$51<=8,Basisdaten!$Q$51*Saisonalisierung!H49,0)","v":118.6416},{"$f":"IF(Basisdaten!$E$51<=9,Basisdaten!$Q$51*Saisonalisierung!I49,0)","v":120.054},{"$f":"IF(Basisdaten!$E$51<=10,Basisdaten!$Q$51*Saisonalisierung!J49,0)","v":116.523},{"$f":"IF(Basisdaten!$E$51<=11,Basisdaten!$Q$51*Saisonalisierung!K49,0)","v":120.054},{"$f":"IF(Basisdaten!$E$51<=12,Basisdaten!$Q$51*Saisonalisierung!L49,0)","v":124.99739999999998}]
[2,{"$f":"Basisdaten!B52","v":60},{"$f":"Basisdaten!A52","v":"Hakan Celik"},{"$f":"Basisdaten!U52","v":2022},{"$f":"IF(Basisdaten!$E$52=1,Basisdaten!$Q$52*Saisonalisierung!A50,0)","v":106.63619999999999},{"$f":"IF(Basisdaten!$E$52<=2,Basisdaten!$Q$52*Saisonalisierung!B50,0)","v":108.75479999999999},{"$f":"IF(Basisdaten!$E$52<=3,Basisdaten!$Q$52*Saisonalisierung!C50,0)","v":125.70359999999999},{"$f":"IF(Basisdaten!$E$52<=4,Basisdaten!$Q$52*Saisonalisierung!D50,0)","v":118.6416},{"$f":"IF(Basisdaten!$E$52<=5,Basisdaten!$Q$52*Saisonalisierung!E50,0)","v":113.69819999999999},{"$f":"IF(Basisdaten!$E$52<=6,Basisdaten!$Q$52*Saisonalisierung!F50,0)","v":117.93539999999997},{"$f":"IF(Basisdaten!$E$52<=7,Basisdaten!$Q$52*Saisonalisierung!G50,0)","v":120.7602},{"$f":"IF(Basisdaten!$E$52<=8,Basisdaten!$Q$52*Saisonalisierung!H50,0)","v":118.6416},{"$f":"IF(Basisdaten!$E$52<=9,Basisdaten!$Q$52*Saisonalisierung!I50,0)","v":120.054},{"$f":"IF(Basisdaten!$E$52<=10,Basisdaten!$Q$52*Saisonalisierung!J50,0)","v":116.523},{"$f":"IF(Basisdaten!$E$52<=11,Basisdaten!$Q$52*Saisonalisierung!K50,0)","v":120.054},{"$f":"IF(Basisdaten!$E$52<=12,Basisdaten!$Q$52*Saisonalisierung!L50,0)","v":124.99739999999998}]
[1,{"$f":"Basisdaten!B53","v":40},{"$f":"Basisdaten!A53","v":"Tom Sprongl"},{"$f":"Basisdaten!U53","v":2022},{"$f":"IF(Basisdaten!$E$53=1,Basisdaten!$Q$53*Saisonalisierung!A51,0)","v":106.63619999999999},{"$f":"IF(Basisdaten!$E$53<=2,Basisdaten!$Q$53*Saisonalisierung!B51,0)","v":108.75479999999999},{"$f":"IF(Basisdaten!$E$53<=3,Basisdaten!$Q$53*Saisonalisierung!C51,0)","v":125.70359999999999},{"$f":"IF(Basisdaten!$E$53<=4,Basisdaten!$Q$53*Saisonalisierung!D51,0)","v":118.6416},{"$f":"IF(Basisdaten!$E$53<=5,Basisdaten!$Q$53*Saisonalisierung!E51,0)","v":113.69819999999999},{"$f":"IF(Basisdaten!$E$53<=6,Basisdaten!$Q$53*Saisonalisierung!F51,0)","v":117.93539999999997},{"$f":"IF(Basisdaten!$E$53<=7,Basisdaten!$Q$53*Saisonalisierung!G51,0)","v":120.7602},{"$f":"IF(Basisdaten!$E$53<=8,Basisdaten!$Q$53*Saisonalisierung!H51,0)","v":118.6416},{"$f":"IF(Basisdaten!$E$53<=9,Basisdaten!$Q$53*Saisonalisierung!I51,0)","v":120.054},{"$f":"IF(Basisdaten!$E$53<=10,Basisdaten!$Q$53*Saisonalisierung!J51,0)","v":116.523},{"$f":"IF(Basisdaten!$E$53<=11,Basisdaten!$Q$53*Saisonalisierung!K51,0)","v":120.054},{"$f":"IF(Basisdaten!$E$53<=12,Basisdaten!$Q$53*Saisonalisierung!L51,0)","v":124.99739999999998}]
[null,{"$f":"Basisdaten!B54","v":0},{"$f":"Basisdaten!A54","v":"SB 5"},{"$f":"Basisdaten!U54","v":0},{"$f":"IF(Basisdaten!$E$54=1,Basisdaten!$Q$54*Saisonalisierung!A52,0)","v":0},{"$f":"IF(Basisdaten!$E$54<=2,Basisdaten!$Q$54*Saisonalisierung!B52,0)","v":0},{"$f":"IF(Basisdaten!$E$54<=3,Basisdaten!$Q$54*Saisonalisierung!C52,0)","v":0},{"$f":"IF(Basisdaten!$E$54<=4,Basisdaten!$Q$54*Saisonalisierung!D52,0)","v":0},{"$f":"IF(Basisdaten!$E$54<=5,Basisdaten!$Q$54*Saisonalisierung!E52,0)","v":0},{"$f":"IF(Basisdaten!$E$54<=6,Basisdaten!$Q$54*Saisonalisierung!F52,0)","v":0},{"$f":"IF(Basisdaten!$E$54<=7,Basisdaten!$Q$54*Saisonalisierung!G52,0)","v":0},{"$f":"IF(Basisdaten!$E$54<=8,Basisdaten!$Q$54*Saisonalisierung!H52,0)","v":0},{"$f":"IF(Basisdaten!$E$54<=9,Basisdaten!$Q$54*Saisonalisierung!I52,0)","v":0},{"$f":"IF(Basisdaten!$E$54<=10,Basisdaten!$Q$54*Saisonalisierung!J52,0)","v":0},{"$f":"IF(Basisdaten!$E$54<=11,Basisdaten!$Q$54*Saisonalisierung!K52,0)","v":0},{"$f":"IF(Basisdaten!$E$54<=12,Basisdaten!$Q$54*Saisonalisierung!L52,0)","v":0}]
[null,{"$f":"Basisdaten!B55","v":0},{"$f":"Basisdaten!A55","v":"SB 6"},{"$f":"Basisdaten!U55","v":0},{"$f":"IF(Basisdaten!$E$55=1,Basisdaten!$Q$55*Saisonalisierung!A53,0)","v":0},{"$f":"IF(Basisdaten!$E$55<=2,Basisdaten!$Q$55*Saisonalisierung!B53,0)","v":0},{"$f":"IF(Basisdaten!$E$55<=3,Basisdaten!$Q$55*Saisonalisierung!C53,0)","v":0},{"$f":"IF(Basisdaten!$E$55<=4,Basisdaten!$Q$55*Saisonalisierung!D53,0)","v":0},{"$f":"IF(Basisdaten!$E$55<=5,Basisdaten!$Q$55*Saisonalisierung!E53,0)","v":0},{"$f":"IF(Basisdaten!$E$55<=6,Basisdaten!$Q$55*Saisonalisierung!F53,0)","v":0},{"$f":"IF(Basisdaten!$E$55<=7,Basisdaten!$Q$55*Saisonalisierung!G53,0)","v":0},{"$f":"IF(Basisdaten!$E$55<=8,Basisdaten!$Q$55*Saisonalisierung!H53,0)","v":0},{"$f":"IF(Basisdaten!$E$55<=9,Basisdaten!$Q$55*Saisonalisierung!I53,0)","v":0},{"$f":"IF(Basisdaten!$E$55<=10,Basisdaten!$Q$55*Saisonalisierung!J53,0)","v":0},{"$f":"IF(Basisdaten!$E$55<=11,Basisdaten!$Q$55*Saisonalisierung!K53,0)","v":0},{"$f":"IF(Basisdaten!$E$55<=12,Basisdaten!$Q$55*Saisonalisierung!L53,0)","v":0}]
[null,{"$f":"Basisdaten!B56","v":0},{"$f":"Basisdaten!A56","v":"SB 7"},{"$f":"Basisdaten!U56","v":0},{"$f":"IF(Basisdaten!$E$56=1,Basisdaten!$Q$56*Saisonalisierung!A54,0)","v":0},{"$f":"IF(Basisdaten!$E$56<=2,Basisdaten!$Q$56*Saisonalisierung!B54,0)","v":0},{"$f":"IF(Basisdaten!$E$56<=3,Basisdaten!$Q$56*Saisonalisierung!C54,0)","v":0},{"$f":"IF(Basisdaten!$E$56<=4,Basisdaten!$Q$56*Saisonalisierung!D54,0)","v":0},{"$f":"IF(Basisdaten!$E$56<=5,Basisdaten!$Q$56*Saisonalisierung!E54,0)","v":0},{"$f":"IF(Basisdaten!$E$56<=6,Basisdaten!$Q$56*Saisonalisierung!F54,0)","v":0},{"$f":"IF(Basisdaten!$E$56<=7,Basisdaten!$Q$56*Saisonalisierung!G54,0)","v":0},{"$f":"IF(Basisdaten!$E$56<=8,Basisdaten!$Q$56*Saisonalisierung!H54,0)","v":0},{"$f":"IF(Basisdaten!$E$56<=9,Basisdaten!$Q$56*Saisonalisierung!I54,0)","v":0},{"$f":"IF(Basisdaten!$E$56<=10,Basisdaten!$Q$56*Saisonalisierung!J54,0)","v":0},{"$f":"IF(Basisdaten!$E$56<=11,Basisdaten!$Q$56*Saisonalisierung!K54,0)","v":0},{"$f":"IF(Basisdaten!$E$56<=12,Basisdaten!$Q$56*Saisonalisierung!L54,0)","v":0}]
[null,{"$f":"Basisdaten!B57","v":0},{"$f":"Basisdaten!A57","v":"SB 8"},{"$f":"Basisdaten!U57","v":0},{"$f":"IF(Basisdaten!$E$57=1,Basisdaten!$Q$57*Saisonalisierung!A55,0)","v":0},{"$f":"IF(Basisdaten!$E$57<=2,Basisdaten!$Q$57*Saisonalisierung!B55,0)","v":0},{"$f":"IF(Basisdaten!$E$57<=3,Basisdaten!$Q$57*Saisonalisierung!C55,0)","v":0},{"$f":"IF(Basisdaten!$E$57<=4,Basisdaten!$Q$57*Saisonalisierung!D55,0)","v":0},{"$f":"IF(Basisdaten!$E$57<=5,Basisdaten!$Q$57*Saisonalisierung!E55,0)","v":0},{"$f":"IF(Basisdaten!$E$57<=6,Basisdaten!$Q$57*Saisonalisierung!F55,0)","v":0},{"$f":"IF(Basisdaten!$E$57<=7,Basisdaten!$Q$57*Saisonalisierung!G55,0)","v":0},{"$f":"IF(Basisdaten!$E$57<=8,Basisdaten!$Q$57*Saisonalisierung!H55,0)","v":0},{"$f":"IF(Basisdaten!$E$57<=9,Basisdaten!$Q$57*Saisonalisierung!I55,0)","v":0},{"$f":"IF(Basisdaten!$E$57<=10,Basisdaten!$Q$57*Saisonalisierung!J55,0)","v":0},{"$f":"IF(Basisdaten!$E$57<=11,Basisdaten!$Q$57*Saisonalisierung!K55,0)","v":0},{"$f":"IF(Basisdaten!$E$57<=12,Basisdaten!$Q$57*Saisonalisierung!L55,0)","v":0}]
[null,{"$f":"Basisdaten!B58","v":0},{"$f":"Basisdaten!A58","v":"SB 9"},{"$f":"Basisdaten!U58","v":0},{"$f":"IF(Basisdaten!$E$58=1,Basisdaten!$Q$58*Saisonalisierung!A56,0)","v":0},{"$f":"IF(Basisdaten!$E$58<=2,Basisdaten!$Q$58*Saisonalisierung!B56,0)","v":0},{"$f":"IF(Basisdaten!$E$58<=3,Basisdaten!$Q$58*Saisonalisierung!C56,0)","v":0},{"$f":"IF(Basisdaten!$E$58<=4,Basisdaten!$Q$58*Saisonalisierung!D56,0)","v":0},{"$f":"IF(Basisdaten!$E$58<=5,Basisdaten!$Q$58*Saisonalisierung!E56,0)","v":0},{"$f":"IF(Basisdaten!$E$58<=6,Basisdaten!$Q$58*Saisonalisierung!F56,0)","v":0},{"$f":"IF(Basisdaten!$E$58<=7,Basisdaten!$Q$58*Saisonalisierung!G56,0)","v":0},{"$f":"IF(Basisdaten!$E$58<=8,Basisdaten!$Q$58*Saisonalisierung!H56,0)","v":0},{"$f":"IF(Basisdaten!$E$58<=9,Basisdaten!$Q$58*Saisonalisierung!I56,0)","v":0},{"$f":"IF(Basisdaten!$E$58<=10,Basisdaten!$Q$58*Saisonalisierung!J56,0)","v":0},{"$f":"IF(Basisdaten!$E$58<=11,Basisdaten!$Q$58*Saisonalisierung!K56,0)","v":0},{"$f":"IF(Basisdaten!$E$58<=12,Basisdaten!$Q$58*Saisonalisierung!L56,0)","v":0}]
[null,{"$f":"Basisdaten!B59","v":0},{"$f":"Basisdaten!A59","v":"SB 10"},{"$f":"Basisdaten!U59","v":0},{"$f":"IF(Basisdaten!$E$59=1,Basisdaten!$Q$59*Saisonalisierung!A57,0)","v":0},{"$f":"IF(Basisdaten!$E$59<=2,Basisdaten!$Q$59*Saisonalisierung!B57,0)","v":0},{"$f":"IF(Basisdaten!$E$59<=3,Basisdaten!$Q$59*Saisonalisierung!C57,0)","v":0},{"$f":"IF(Basisdaten!$E$59<=4,Basisdaten!$Q$59*Saisonalisierung!D57,0)","v":0},{"$f":"IF(Basisdaten!$E$59<=5,Basisdaten!$Q$59*Saisonalisierung!E57,0)","v":0},{"$f":"IF(Basisdaten!$E$59<=6,Basisdaten!$Q$59*Saisonalisierung!F57,0)","v":0},{"$f":"IF(Basisdaten!$E$59<=7,Basisdaten!$Q$59*Saisonalisierung!G57,0)","v":0},{"$f":"IF(Basisdaten!$E$59<=8,Basisdaten!$Q$59*Saisonalisierung!H57,0)","v":0},{"$f":"IF(Basisdaten!$E$59<=9,Basisdaten!$Q$59*Saisonalisierung!I57,0)","v":0},{"$f":"IF(Basisdaten!$E$59<=10,Basisdaten!$Q$59*Saisonalisierung!J57,0)","v":0},{"$f":"IF(Basisdaten!$E$59<=11,Basisdaten!$Q$59*Saisonalisierung!K57,0)","v":0},{"$f":"IF(Basisdaten!$E$59<=12,Basisdaten!$Q$59*Saisonalisierung!L57,0)","v":0}]

{"sheet":"Verarb_DG_0052053","index":23,"n_rows":57,"n_cols":16,"rows_kept":57,"cut":false,"hidden":false,"merged":[]}
["Hauptbetrieb","Standort","Serviceberater","Invoice Date","DG_ST_Plan_1_0052053","DG_ST_Plan_2_0052053","DG_ST_Plan_3_0052053","DG_ST_Plan_4_0052053","DG_ST_Plan_5_0052053","DG_ST_Plan_6_0052053","DG_ST_Plan_7_0052053","DG_ST_Plan_8_0052053","DG_ST_Plan_9_0052053","DG_ST_Plan_10_0052053","DG_ST_Plan_11_0052053","DG_ST_Plan_12_0052053"]
[1,{"$f":"Basisdaten!B4","v":10},{"$f":"Basisdaten!A4","v":"Erich Harzenetter - SCBK"},{"$f":"Basisdaten!U4","v":2022},{"$f":"IF(Basisdaten!$E$4=1,Basisdaten!$S$4*Saisonalisierung!A2,0)","v":35.545400000000001},{"$f":"IF(Basisdaten!$E$4<=2,Basisdaten!$S$4*Saisonalisierung!B2,0)","v":36.251600000000003},{"$f":"IF(Basisdaten!$E$4<=3,Basisdaten!$S$4*Saisonalisierung!C2,0)","v":41.901200000000003},{"$f":"IF(Basisdaten!$E$4<=4,Basisdaten!$S$4*Saisonalisierung!D2,0)","v":39.547200000000004},{"$f":"IF(Basisdaten!$E$4<=5,Basisdaten!$S$4*Saisonalisierung!E2,0)","v":37.8994},{"$f":"IF(Basisdaten!$E$4<=6,Basisdaten!$S$4*Saisonalisierung!F2,0)","v":39.311799999999998},{"$f":"IF(Basisdaten!$E$4<=7,Basisdaten!$S$4*Saisonalisierung!G2,0)","v":40.253400000000006},{"$f":"IF(Basisdaten!$E$4<=8,Basisdaten!$S$4*Saisonalisierung!H2,0)","v":39.547200000000004},{"$f":"IF(Basisdaten!$E$4<=9,Basisdaten!$S$4*Saisonalisierung!I2,0)","v":40.018000000000001},{"$f":"IF(Basisdaten!$E$4<=10,Basisdaten!$S$4*Saisonalisierung!J2,0)","v":38.841000000000001},{"$f":"IF(Basisdaten!$E$4<=11,Basisdaten!$S$4*Saisonalisierung!K2,0)","v":40.018000000000001},{"$f":"IF(Basisdaten!$E$4<=12,Basisdaten!$S$4*Saisonalisierung!L2,0)","v":41.665799999999997}]
[1,{"$f":"Basisdaten!B5","v":10},{"$f":"Basisdaten!A5","v":"Johannes Grieser - SCBI"},{"$f":"Basisdaten!U5","v":2022},{"$f":"IF(Basisdaten!$E$5=1,Basisdaten!$S$5*Saisonalisierung!A3,0)","v":17.7727},{"$f":"IF(Basisdaten!$E$5<=2,Basisdaten!$S$5*Saisonalisierung!B3,0)","v":18.125800000000002},{"$f":"IF(Basisdaten!$E$5<=3,Basisdaten!$S$5*Saisonalisierung!C3,0)","v":20.950600000000001},{"$f":"IF(Basisdaten!$E$5<=4,Basisdaten!$S$5*Saisonalisierung!D3,0)","v":19.773600000000002},{"$f":"IF(Basisdaten!$E$5<=5,Basisdaten!$S$5*Saisonalisierung!E3,0)","v":18.9497},{"$f":"IF(Basisdaten!$E$5<=6,Basisdaten!$S$5*Saisonalisierung!F3,0)","v":19.655899999999999},{"$f":"IF(Basisdaten!$E$5<=7,Basisdaten!$S$5*Saisonalisierung!G3,0)","v":20.126700000000003},{"$f":"IF(Basisdaten!$E$5<=8,Basisdaten!$S$5*Saisonalisierung!H3,0)","v":19.773600000000002},{"$f":"IF(Basisdaten!$E$5<=9,Basisdaten!$S$5*Saisonalisierung!I3,0)","v":20.009},{"$f":"IF(Basisdaten!$E$5<=10,Basisdaten!$S$5*Saisonalisierung!J3,0)","v":19.420500000000001},{"$f":"IF(Basisdaten!$E$5<=11,Basisdaten!$S$5*Saisonalisierung!K3,0)","v":20.009},{"$f":"IF(Basisdaten!$E$5<=12,Basisdaten!$S$5*Saisonalisierung!L3,0)","v":20.832899999999999}]
[1,{"$f":"Basisdaten!B6","v":10},{"$f":"Basisdaten!A6","v":"Mike Weber"},{"$f":"Basisdaten!U6","v":2022},{"$f":"IF(Basisdaten!$E$6=1,Basisdaten!$S$6*Saisonalisierung!A4,0)","v":17.7727},{"$f":"IF(Basisdaten!$E$6<=2,Basisdaten!$S$6*Saisonalisierung!B4,0)","v":18.125800000000002},{"$f":"IF(Basisdaten!$E$6<=3,Basisdaten!$S$6*Saisonalisierung!C4,0)","v":20.950600000000001},{"$f":"IF(Basisdaten!$E$6<=4,Basisdaten!$S$6*Saisonalisierung!D4,0)","v":19.773600000000002},{"$f":"IF(Basisdaten!$E$6<=5,Basisdaten!$S$6*Saisonalisierung!E4,0)","v":18.9497},{"$f":"IF(Basisdaten!$E$6<=6,Basisdaten!$S$6*Saisonalisierung!F4,0)","v":19.655899999999999},{"$f":"IF(Basisdaten!$E$6<=7,Basisdaten!$S$6*Saisonalisierung!G4,0)","v":20.126700000000003},{"$f":"IF(Basisdaten!$E$6<=8,Basisdaten!$S$6*Saisonalisierung!H4,0)","v":19.773600000000002},{"$f":"IF(Basisdaten!$E$6<=9,Basisdaten!$S$6*Saisonalisierung!I4,0)","v":20.009},{"$f":"IF(Basisdaten!$E$6<=10,Basisdaten!$S$6*Saisonalisierung!J4,0)","v":19.420500000000001},{"$f":"IF(Basisdaten!$E$6<=11,Basisdaten!$S$6*Saisonalisierung!K4,0)","v":20.009},{"$f":"IF(Basisdaten!$E$6<=12,Basisdaten!$S$6*Saisonalisierung!L4,0)","v":20.832899999999999}]
[1,{"$f":"Basisdaten!B7","v":10},{"$f":"Basisdaten!A7","v":"Rudolf Maier"},{"$f":"Basisdaten!U7","v":2022},{"$f":"IF(Basisdaten!$E$7=1,Basisdaten!$S$7*Saisonalisierung!A5,0)","v":35.545400000000001},{"$f":"IF(Basisdaten!$E$7<=2,Basisdaten!$S$7*Saisonalisierung!B5,0)","v":36.251600000000003},{"$f":"IF(Basisdaten!$E$7<=3,Basisdaten!$S$7*Saisonalisierung!C5,0)","v":41.901200000000003},{"$f":"IF(Basisdaten!$E$7<=4,Basisdaten!$S$7*Saisonalisierung!D5,0)","v":39.547200000000004},{"$f":"IF(Basisdaten!$E$7<=5,Basisdaten!$S$7*Saisonalisierung!E5,0)","v":37.8994},{"$f":"IF(Basisdaten!$E$7<=6,Basisdaten!$S$7*Saisonalisierung!F5,0)","v":39.311799999999998},{"$f":"IF(Basisdaten!$E$7<=7,Basisdaten!$S$7*Saisonalisierung!G5,0)","v":40.253400000000006},{"$f":"IF(Basisdaten!$E$7<=8,Basisdaten!$S$7*Saisonalisierung!H5,0)","v":39.547200000000004},{"$f":"IF(Basisdaten!$E$7<=9,Basisdaten!$S$7*Saisonalisierung!I5,0)","v":40.018000000000001},{"$f":"IF(Basisdaten!$E$7<=10,Basisdaten!$S$7*Saisonalisierung!J5,0)","v":38.841000000000001},{"$f":"IF(Basisdaten!$E$7<=11,Basisdaten!$S$7*Saisonalisierung!K5,0)","v":40.018000000000001},{"$f":"IF(Basisdaten!$E$7<=12,Basisdaten!$S$7*Saisonalisierung!L5,0)","v":41.665799999999997}]
[1,{"$f":"Basisdaten!B8","v":10},{"$f":"Basisdaten!A8","v":"Hermann Haller_"},{"$f":"Basisdaten!U8","v":2022},{"$f":"IF(Basisdaten!$E$8=1,Basisdaten!$S$8*Saisonalisierung!A6,0)","v":0},{"$f":"IF(Basisdaten!$E$8<=2,Basisdaten!$S$8*Saisonalisierung!B6,0)","v":0},{"$f":"IF(Basisdaten!$E$8<=3,Basisdaten!$S$8*Saisonalisierung!C6,0)","v":0},{"$f":"IF(Basisdaten!$E$8<=4,Basisdaten!$S$8*Saisonalisierung!D6,0)","v":0},{"$f":"IF(Basisdaten!$E$8<=5,Basisdaten!$S$8*Saisonalisierung!E6,0)","v":0},{"$f":"IF(Basisdaten!$E$8<=6,Basisdaten!$S$8*Saisonalisierung!F6,0)","v":0},{"$f":"IF(Basisdaten!$E$8<=7,Basisdaten!$S$8*Saisonalisierung!G6,0)","v":0},{"$f":"IF(Basisdaten!$E$8<=8,Basisdaten!$S$8*Saisonalisierung!H6,0)","v":0},{"$f":"IF(Basisdaten!$E$8<=9,Basisdaten!$S$8*Saisonalisierung!I6,0)","v":0},{"$f":"IF(Basisdaten!$E$8<=10,Basisdaten!$S$8*Saisonalisierung!J6,0)","v":0},{"$f":"IF(Basisdaten!$E$8<=11,Basisdaten!$S$8*Saisonalisierung!K6,0)","v":0},{"$f":"IF(Basisdaten!$E$8<=12,Basisdaten!$S$8*Saisonalisierung!L6,0)","v":0}]
[1,{"$f":"Basisdaten!B9","v":10},{"$f":"Basisdaten!A9","v":"Christopher Kirmayer"},{"$f":"Basisdaten!U9","v":2022},{"$f":"IF(Basisdaten!$E$9=1,Basisdaten!$S$9*Saisonalisierung!A7,0)","v":17.7727},{"$f":"IF(Basisdaten!$E$9<=2,Basisdaten!$S$9*Saisonalisierung!B7,0)","v":18.125800000000002},{"$f":"IF(Basisdaten!$E$9<=3,Basisdaten!$S$9*Saisonalisierung!C7,0)","v":20.950600000000001},{"$f":"IF(Basisdaten!$E$9<=4,Basisdaten!$S$9*Saisonalisierung!D7,0)","v":19.773600000000002},{"$f":"IF(Basisdaten!$E$9<=5,Basisdaten!$S$9*Saisonalisierung!E7,0)","v":18.9497},{"$f":"IF(Basisdaten!$E$9<=6,Basisdaten!$S$9*Saisonalisierung!F7,0)","v":19.655899999999999},{"$f":"IF(Basisdaten!$E$9<=7,Basisdaten!$S$9*Saisonalisierung!G7,0)","v":20.126700000000003},{"$f":"IF(Basisdaten!$E$9<=8,Basisdaten!$S$9*Saisonalisierung!H7,0)","v":19.773600000000002},{"$f":"IF(Basisdaten!$E$9<=9,Basisdaten!$S$9*Saisonalisierung!I7,0)","v":20.009},{"$f":"IF(Basisdaten!$E$9<=10,Basisdaten!$S$9*Saisonalisierung!J7,0)","v":19.420500000000001},{"$f":"IF(Basisdaten!$E$9<=11,Basisdaten!$S$9*Saisonalisierung!K7,0)","v":20.009},{"$f":"IF(Basisdaten!$E$9<=12,Basisdaten!$S$9*Saisonalisierung!L7,0)","v":20.832899999999999}]
[1,{"$f":"Basisdaten!B10","v":10},{"$f":"Basisdaten!A10","v":"Jörg Reifenrath"},{"$f":"Basisdaten!U10","v":2022},{"$f":"IF(Basisdaten!$E$10=1,Basisdaten!$S$10*Saisonalisierung!A8,0)","v":17.7727},{"$f":"IF(Basisdaten!$E$10<=2,Basisdaten!$S$10*Saisonalisierung!B8,0)","v":18.125800000000002},{"$f":"IF(Basisdaten!$E$10<=3,Basisdaten!$S$10*Saisonalisierung!C8,0)","v":20.950600000000001},{"$f":"IF(Basisdaten!$E$10<=4,Basisdaten!$S$10*Saisonalisierung!D8,0)","v":19.773600000000002},{"$f":"IF(Basisdaten!$E$10<=5,Basisdaten!$S$10*Saisonalisierung!E8,0)","v":18.9497},{"$f":"IF(Basisdaten!$E$10<=6,Basisdaten!$S$10*Saisonalisierung!F8,0)","v":19.655899999999999},{"$f":"IF(Basisdaten!$E$10<=7,Basisdaten!$S$10*Saisonalisierung!G8,0)","v":20.126700000000003},{"$f":"IF(Basisdaten!$E$10<=8,Basisdaten!$S$10*Saisonalisierung!H8,0)","v":19.773600000000002},{"$f":"IF(Basisdaten!$E$10<=9,Basisdaten!$S$10*Saisonalisierung!I8,0)","v":20.009},{"$f":"IF(Basisdaten!$E$10<=10,Basisdaten!$S$10*Saisonalisierung!J8,0)","v":19.420500000000001},{"$f":"IF(Basisdaten!$E$10<=11,Basisdaten!$S$10*Saisonalisierung!K8,0)","v":20.009},{"$f":"IF(Basisdaten!$E$10<=12,Basisdaten!$S$10*Saisonalisierung!L8,0)","v":20.832899999999999}]
[1,{"$f":"Basisdaten!B11","v":10},{"$f":"Basisdaten!A11","v":"Günter Küblbeck - SCBI_"},{"$f":"Basisdaten!U11","v":2022},{"$f":"IF(Basisdaten!$E$11=1,Basisdaten!$S$11*Saisonalisierung!A9,0)","v":0},{"$f":"IF(Basisdaten!$E$11<=2,Basisdaten!$S$11*Saisonalisierung!B9,0)","v":0},{"$f":"IF(Basisdaten!$E$11<=3,Basisdaten!$S$11*Saisonalisierung!C9,0)","v":0},{"$f":"IF(Basisdaten!$E$11<=4,Basisdaten!$S$11*Saisonalisierung!D9,0)","v":0},{"$f":"IF(Basisdaten!$E$11<=5,Basisdaten!$S$11*Saisonalisierung!E9,0)","v":0},{"$f":"IF(Basisdaten!$E$11<=6,Basisdaten!$S$11*Saisonalisierung!F9,0)","v":0},{"$f":"IF(Basisdaten!$E$11<=7,Basisdaten!$S$11*Saisonalisierung!G9,0)","v":0},{"$f":"IF(Basisdaten!$E$11<=8,Basisdaten!$S$11*Saisonalisierung!H9,0)","v":0},{"$f":"IF(Basisdaten!$E$11<=9,Basisdaten!$S$11*Saisonalisierung!I9,0)","v":0},{"$f":"IF(Basisdaten!$E$11<=10,Basisdaten!$S$11*Saisonalisierung!J9,0)","v":0},{"$f":"IF(Basisdaten!$E$11<=11,Basisdaten!$S$11*Saisonalisierung!K9,0)","v":0},{"$f":"IF(Basisdaten!$E$11<=12,Basisdaten!$S$11*Saisonalisierung!L9,0)","v":0}]
[1,{"$f":"Basisdaten!B12","v":10},{"$f":"Basisdaten!A12","v":"Patrick Kresser"},{"$f":"Basisdaten!U12","v":2022},{"$f":"IF(Basisdaten!$E$12=1,Basisdaten!$S$12*Saisonalisierung!A10,0)","v":17.7727},{"$f":"IF(Basisdaten!$E$12<=2,Basisdaten!$S$12*Saisonalisierung!B10,0)","v":18.125800000000002},{"$f":"IF(Basisdaten!$E$12<=3,Basisdaten!$S$12*Saisonalisierung!C10,0)","v":20.950600000000001},{"$f":"IF(Basisdaten!$E$12<=4,Basisdaten!$S$12*Saisonalisierung!D10,0)","v":19.773600000000002},{"$f":"IF(Basisdaten!$E$12<=5,Basisdaten!$S$12*Saisonalisierung!E10,0)","v":18.9497},{"$f":"IF(Basisdaten!$E$12<=6,Basisdaten!$S$12*Saisonalisierung!F10,0)","v":19.655899999999999},{"$f":"IF(Basisdaten!$E$12<=7,Basisdaten!$S$12*Saisonalisierung!G10,0)","v":20.126700000000003},{"$f":"IF(Basisdaten!$E$12<=8,Basisdaten!$S$12*Saisonalisierung!H10,0)","v":19.773600000000002},{"$f":"IF(Basisdaten!$E$12<=9,Basisdaten!$S$12*Saisonalisierung!I10,0)","v":20.009},{"$f":"IF(Basisdaten!$E$12<=10,Basisdaten!$S$12*Saisonalisierung!J10,0)","v":19.420500000000001},{"$f":"IF(Basisdaten!$E$12<=11,Basisdaten!$S$12*Saisonalisierung!K10,0)","v":20.009},{"$f":"IF(Basisdaten!$E$12<=12,Basisdaten!$S$12*Saisonalisierung!L10,0)","v":20.832899999999999}]
[1,{"$f":"Basisdaten!B13","v":30},{"$f":"Basisdaten!A13","v":"Ralf Ruchti"},{"$f":"Basisdaten!U13","v":2022},{"$f":"IF(Basisdaten!$E$13=1,Basisdaten!$S$13*Saisonalisierung!A11,0)","v":24.881779999999999},{"$f":"IF(Basisdaten!$E$13<=2,Basisdaten!$S$13*Saisonalisierung!B11,0)","v":25.37612},{"$f":"IF(Basisdaten!$E$13<=3,Basisdaten!$S$13*Saisonalisierung!C11,0)","v":29.330840000000002},{"$f":"IF(Basisdaten!$E$13<=4,Basisdaten!$S$13*Saisonalisierung!D11,0)","v":27.683040000000002},{"$f":"IF(Basisdaten!$E$13<=5,Basisdaten!$S$13*Saisonalisierung!E11,0)","v":26.529579999999999},{"$f":"IF(Basisdaten!$E$13<=6,Basisdaten!$S$13*Saisonalisierung!F11,0)","v":27.518259999999998},{"$f":"IF(Basisdaten!$E$13<=7,Basisdaten!$S$13*Saisonalisierung!G11,0)","v":28.177380000000003},{"$f":"IF(Basisdaten!$E$13<=8,Basisdaten!$S$13*Saisonalisierung!H11,0)","v":27.683040000000002},{"$f":"IF(Basisdaten!$E$13<=9,Basisdaten!$S$13*Saisonalisierung!I11,0)","v":28.012600000000003},{"$f":"IF(Basisdaten!$E$13<=10,Basisdaten!$S$13*Saisonalisierung!J11,0)","v":27.188700000000001},{"$f":"IF(Basisdaten!$E$13<=11,Basisdaten!$S$13*Saisonalisierung!K11,0)","v":28.012600000000003},{"$f":"IF(Basisdaten!$E$13<=12,Basisdaten!$S$13*Saisonalisierung!L11,0)","v":29.166059999999998}]
[1,{"$f":"Basisdaten!B14","v":30},{"$f":"Basisdaten!A14","v":"Matthias Mirga"},{"$f":"Basisdaten!U14","v":2022},{"$f":"IF(Basisdaten!$E$14=1,Basisdaten!$S$14*Saisonalisierung!A12,0)","v":35.545400000000001},{"$f":"IF(Basisdaten!$E$14<=2,Basisdaten!$S$14*Saisonalisierung!B12,0)","v":36.251600000000003},{"$f":"IF(Basisdaten!$E$14<=3,Basisdaten!$S$14*Saisonalisierung!C12,0)","v":41.901200000000003},{"$f":"IF(Basisdaten!$E$14<=4,Basisdaten!$S$14*Saisonalisierung!D12,0)","v":39.547200000000004},{"$f":"IF(Basisdaten!$E$14<=5,Basisdaten!$S$14*Saisonalisierung!E12,0)","v":37.8994},{"$f":"IF(Basisdaten!$E$14<=6,Basisdaten!$S$14*Saisonalisierung!F12,0)","v":39.311799999999998},{"$f":"IF(Basisdaten!$E$14<=7,Basisdaten!$S$14*Saisonalisierung!G12,0)","v":40.253400000000006},{"$f":"IF(Basisdaten!$E$14<=8,Basisdaten!$S$14*Saisonalisierung!H12,0)","v":39.547200000000004},{"$f":"IF(Basisdaten!$E$14<=9,Basisdaten!$S$14*Saisonalisierung!I12,0)","v":40.018000000000001},{"$f":"IF(Basisdaten!$E$14<=10,Basisdaten!$S$14*Saisonalisierung!J12,0)","v":38.841000000000001},{"$f":"IF(Basisdaten!$E$14<=11,Basisdaten!$S$14*Saisonalisierung!K12,0)","v":40.018000000000001},{"$f":"IF(Basisdaten!$E$14<=12,Basisdaten!$S$14*Saisonalisierung!L12,0)","v":41.665799999999997}]
[1,{"$f":"Basisdaten!B15","v":40},{"$f":"Basisdaten!A15","v":"Wolfgang Heckelmiller - SCBK"},{"$f":"Basisdaten!U15","v":2022},{"$f":"IF(Basisdaten!$E$15=1,Basisdaten!$S$15*Saisonalisierung!A13,0)","v":35.545400000000001},{"$f":"IF(Basisdaten!$E$15<=2,Basisdaten!$S$15*Saisonalisierung!B13,0)","v":36.251600000000003},{"$f":"IF(Basisdaten!$E$15<=3,Basisdaten!$S$15*Saisonalisierung!C13,0)","v":41.901200000000003},{"$f":"IF(Basisdaten!$E$15<=4,Basisdaten!$S$15*Saisonalisierung!D13,0)","v":39.547200000000004},{"$f":"IF(Basisdaten!$E$15<=5,Basisdaten!$S$15*Saisonalisierung!E13,0)","v":37.8994},{"$f":"IF(Basisdaten!$E$15<=6,Basisdaten!$S$15*Saisonalisierung!F13,0)","v":39.311799999999998},{"$f":"IF(Basisdaten!$E$15<=7,Basisdaten!$S$15*Saisonalisierung!G13,0)","v":40.253400000000006},{"$f":"IF(Basisdaten!$E$15<=8,Basisdaten!$S$15*Saisonalisierung!H13,0)","v":39.547200000000004},{"$f":"IF(Basisdaten!$E$15<=9,Basisdaten!$S$15*Saisonalisierung!I13,0)","v":40.018000000000001},{"$f":"IF(Basisdaten!$E$15<=10,Basisdaten!$S$15*Saisonalisierung!J13,0)","v":38.841000000000001},{"$f":"IF(Basisdaten!$E$15<=11,Basisdaten!$S$15*Saisonalisierung!K13,0)","v":40.018000000000001},{"$f":"IF(Basisdaten!$E$15<=12,Basisdaten!$S$15*Saisonalisierung!L13,0)","v":41.665799999999997}]
[1,{"$f":"Basisdaten!B16","v":40},{"$f":"Basisdaten!A16","v":"Daniel Klingenstein"},{"$f":"Basisdaten!U16","v":2022},{"$f":"IF(Basisdaten!$E$16=1,Basisdaten!$S$16*Saisonalisierung!A14,0)","v":35.545400000000001},{"$f":"IF(Basisdaten!$E$16<=2,Basisdaten!$S$16*Saisonalisierung!B14,0)","v":36.251600000000003},{"$f":"IF(Basisdaten!$E$16<=3,Basisdaten!$S$16*Saisonalisierung!C14,0)","v":41.901200000000003},{"$f":"IF(Basisdaten!$E$16<=4,Basisdaten!$S$16*Saisonalisierung!D14,0)","v":39.547200000000004},{"$f":"IF(Basisdaten!$E$16<=5,Basisdaten!$S$16*Saisonalisierung!E14,0)","v":37.8994},{"$f":"IF(Basisdaten!$E$16<=6,Basisdaten!$S$16*Saisonalisierung!F14,0)","v":39.311799999999998},{"$f":"IF(Basisdaten!$E$16<=7,Basisdaten!$S$16*Saisonalisierung!G14,0)","v":40.253400000000006},{"$f":"IF(Basisdaten!$E$16<=8,Basisdaten!$S$16*Saisonalisierung!H14,0)","v":39.547200000000004},{"$f":"IF(Basisdaten!$E$16<=9,Basisdaten!$S$16*Saisonalisierung!I14,0)","v":40.018000000000001},{"$f":"IF(Basisdaten!$E$16<=10,Basisdaten!$S$16*Saisonalisierung!J14,0)","v":38.841000000000001},{"$f":"IF(Basisdaten!$E$16<=11,Basisdaten!$S$16*Saisonalisierung!K14,0)","v":40.018000000000001},{"$f":"IF(Basisdaten!$E$16<=12,Basisdaten!$S$16*Saisonalisierung!L14,0)","v":41.665799999999997}]
[1,{"$f":"Basisdaten!B17","v":40},{"$f":"Basisdaten!A17","v":"Alnes Zenic"},{"$f":"Basisdaten!U17","v":2022},{"$f":"IF(Basisdaten!$E$17=1,Basisdaten!$S$17*Saisonalisierung!A15,0)","v":35.545400000000001},{"$f":"IF(Basisdaten!$E$17<=2,Basisdaten!$S$17*Saisonalisierung!B15,0)","v":36.251600000000003},{"$f":"IF(Basisdaten!$E$17<=3,Basisdaten!$S$17*Saisonalisierung!C15,0)","v":41.901200000000003},{"$f":"IF(Basisdaten!$E$17<=4,Basisdaten!$S$17*Saisonalisierung!D15,0)","v":39.547200000000004},{"$f":"IF(Basisdaten!$E$17<=5,Basisdaten!$S$17*Saisonalisierung!E15,0)","v":37.8994},{"$f":"IF(Basisdaten!$E$17<=6,Basisdaten!$S$17*Saisonalisierung!F15,0)","v":39.311799999999998},{"$f":"IF(Basisdaten!$E$17<=7,Basisdaten!$S$17*Saisonalisierung!G15,0)","v":40.253400000000006},{"$f":"IF(Basisdaten!$E$17<=8,Basisdaten!$S$17*Saisonalisierung!H15,0)","v":39.547200000000004},{"$f":"IF(Basisdaten!$E$17<=9,Basisdaten!$S$17*Saisonalisierung!I15,0)","v":40.018000000000001},{"$f":"IF(Basisdaten!$E$17<=10,Basisdaten!$S$17*Saisonalisierung!J15,0)","v":38.841000000000001},{"$f":"IF(Basisdaten!$E$17<=11,Basisdaten!$S$17*Saisonalisierung!K15,0)","v":40.018000000000001},{"$f":"IF(Basisdaten!$E$17<=12,Basisdaten!$S$17*Saisonalisierung!L15,0)","v":41.665799999999997}]
[1,{"$f":"Basisdaten!B18","v":40},{"$f":"Basisdaten!A18","v":"Mehmet Dikmen"},{"$f":"Basisdaten!U18","v":2022},{"$f":"IF(Basisdaten!$E$18=1,Basisdaten!$S$18*Saisonalisierung!A16,0)","v":35.545400000000001},{"$f":"IF(Basisdaten!$E$18<=2,Basisdaten!$S$18*Saisonalisierung!B16,0)","v":36.251600000000003},{"$f":"IF(Basisdaten!$E$18<=3,Basisdaten!$S$18*Saisonalisierung!C16,0)","v":41.901200000000003},{"$f":"IF(Basisdaten!$E$18<=4,Basisdaten!$S$18*Saisonalisierung!D16,0)","v":39.547200000000004},{"$f":"IF(Basisdaten!$E$18<=5,Basisdaten!$S$18*Saisonalisierung!E16,0)","v":37.8994},{"$f":"IF(Basisdaten!$E$18<=6,Basisdaten!$S$18*Saisonalisierung!F16,0)","v":39.311799999999998},{"$f":"IF(Basisdaten!$E$18<=7,Basisdaten!$S$18*Saisonalisierung!G16,0)","v":40.253400000000006},{"$f":"IF(Basisdaten!$E$18<=8,Basisdaten!$S$18*Saisonalisierung!H16,0)","v":39.547200000000004},{"$f":"IF(Basisdaten!$E$18<=9,Basisdaten!$S$18*Saisonalisierung!I16,0)","v":40.018000000000001},{"$f":"IF(Basisdaten!$E$18<=10,Basisdaten!$S$18*Saisonalisierung!J16,0)","v":38.841000000000001},{"$f":"IF(Basisdaten!$E$18<=11,Basisdaten!$S$18*Saisonalisierung!K16,0)","v":40.018000000000001},{"$f":"IF(Basisdaten!$E$18<=12,Basisdaten!$S$18*Saisonalisierung!L16,0)","v":41.665799999999997}]
[1,{"$f":"Basisdaten!B19","v":40},{"$f":"Basisdaten!A19","v":"Gerrit Heine"},{"$f":"Basisdaten!U19","v":2022},{"$f":"IF(Basisdaten!$E$19=1,Basisdaten!$S$19*Saisonalisierung!A17,0)","v":35.545400000000001},{"$f":"IF(Basisdaten!$E$19<=2,Basisdaten!$S$19*Saisonalisierung!B17,0)","v":36.251600000000003},{"$f":"IF(Basisdaten!$E$19<=3,Basisdaten!$S$19*Saisonalisierung!C17,0)","v":41.901200000000003},{"$f":"IF(Basisdaten!$E$19<=4,Basisdaten!$S$19*Saisonalisierung!D17,0)","v":39.547200000000004},{"$f":"IF(Basisdaten!$E$19<=5,Basisdaten!$S$19*Saisonalisierung!E17,0)","v":37.8994},{"$f":"IF(Basisdaten!$E$19<=6,Basisdaten!$S$19*Saisonalisierung!F17,0)","v":39.311799999999998},{"$f":"IF(Basisdaten!$E$19<=7,Basisdaten!$S$19*Saisonalisierung!G17,0)","v":40.253400000000006},{"$f":"IF(Basisdaten!$E$19<=8,Basisdaten!$S$19*Saisonalisierung!H17,0)","v":39.547200000000004},{"$f":"IF(Basisdaten!$E$19<=9,Basisdaten!$S$19*Saisonalisierung!I17,0)","v":40.018000000000001},{"$f":"IF(Basisdaten!$E$19<=10,Basisdaten!$S$19*Saisonalisierung!J17,0)","v":38.841000000000001},{"$f":"IF(Basisdaten!$E$19<=11,Basisdaten!$S$19*Saisonalisierung!K17,0)","v":40.018000000000001},{"$f":"IF(Basisdaten!$E$19<=12,Basisdaten!$S$19*Saisonalisierung!L17,0)","v":41.665799999999997}]
[1,{"$f":"Basisdaten!B20","v":40},{"$f":"Basisdaten!A20","v":"Lars Krausen"},{"$f":"Basisdaten!U20","v":2022},{"$f":"IF(Basisdaten!$E$20=1,Basisdaten!$S$20*Saisonalisierung!A18,0)","v":35.545400000000001},{"$f":"IF(Basisdaten!$E$20<=2,Basisdaten!$S$20*Saisonalisierung!B18,0)","v":36.251600000000003},{"$f":"IF(Basisdaten!$E$20<=3,Basisdaten!$S$20*Saisonalisierung!C18,0)","v":41.901200000000003},{"$f":"IF(Basisdaten!$E$20<=4,Basisdaten!$S$20*Saisonalisierung!D18,0)","v":39.547200000000004},{"$f":"IF(Basisdaten!$E$20<=5,Basisdaten!$S$20*Saisonalisierung!E18,0)","v":37.8994},{"$f":"IF(Basisdaten!$E$20<=6,Basisdaten!$S$20*Saisonalisierung!F18,0)","v":39.311799999999998},{"$f":"IF(Basisdaten!$E$20<=7,Basisdaten!$S$20*Saisonalisierung!G18,0)","v":40.253400000000006},{"$f":"IF(Basisdaten!$E$20<=8,Basisdaten!$S$20*Saisonalisierung!H18,0)","v":39.547200000000004},{"$f":"IF(Basisdaten!$E$20<=9,Basisdaten!$S$20*Saisonalisierung!I18,0)","v":40.018000000000001},{"$f":"IF(Basisdaten!$E$20<=10,Basisdaten!$S$20*Saisonalisierung!J18,0)","v":38.841000000000001},{"$f":"IF(Basisdaten!$E$20<=11,Basisdaten!$S$20*Saisonalisierung!K18,0)","v":40.018000000000001},{"$f":"IF(Basisdaten!$E$20<=12,Basisdaten!$S$20*Saisonalisierung!L18,0)","v":41.665799999999997}]
[1,{"$f":"Basisdaten!B21","v":40},{"$f":"Basisdaten!A21","v":"Hubert Figura - SCBI"},{"$f":"Basisdaten!U21","v":2022},{"$f":"IF(Basisdaten!$E$21=1,Basisdaten!$S$21*Saisonalisierung!A19,0)","v":35.545400000000001},{"$f":"IF(Basisdaten!$E$21<=2,Basisdaten!$S$21*Saisonalisierung!B19,0)","v":36.251600000000003},{"$f":"IF(Basisdaten!$E$21<=3,Basisdaten!$S$21*Saisonalisierung!C19,0)","v":41.901200000000003},{"$f":"IF(Basisdaten!$E$21<=4,Basisdaten!$S$21*Saisonalisierung!D19,0)","v":39.547200000000004},{"$f":"IF(Basisdaten!$E$21<=5,Basisdaten!$S$21*Saisonalisierung!E19,0)","v":37.8994},{"$f":"IF(Basisdaten!$E$21<=6,Basisdaten!$S$21*Saisonalisierung!F19,0)","v":39.311799999999998},{"$f":"IF(Basisdaten!$E$21<=7,Basisdaten!$S$21*Saisonalisierung!G19,0)","v":40.253400000000006},{"$f":"IF(Basisdaten!$E$21<=8,Basisdaten!$S$21*Saisonalisierung!H19,0)","v":39.547200000000004},{"$f":"IF(Basisdaten!$E$21<=9,Basisdaten!$S$21*Saisonalisierung!I19,0)","v":40.018000000000001},{"$f":"IF(Basisdaten!$E$21<=10,Basisdaten!$S$21*Saisonalisierung!J19,0)","v":38.841000000000001},{"$f":"IF(Basisdaten!$E$21<=11,Basisdaten!$S$21*Saisonalisierung!K19,0)","v":40.018000000000001},{"$f":"IF(Basisdaten!$E$21<=12,Basisdaten!$S$21*Saisonalisierung!L19,0)","v":41.665799999999997}]
[1,{"$f":"Basisdaten!B22","v":40},{"$f":"Basisdaten!A22","v":"Jan-Oliver Knaus"},{"$f":"Basisdaten!U22","v":2022},{"$f":"IF(Basisdaten!$E$22=1,Basisdaten!$S$22*Saisonalisierung!A20,0)","v":35.545400000000001},{"$f":"IF(Basisdaten!$E$22<=2,Basisdaten!$S$22*Saisonalisierung!B20,0)","v":36.251600000000003},{"$f":"IF(Basisdaten!$E$22<=3,Basisdaten!$S$22*Saisonalisierung!C20,0)","v":41.901200000000003},{"$f":"IF(Basisdaten!$E$22<=4,Basisdaten!$S$22*Saisonalisierung!D20,0)","v":39.547200000000004},{"$f":"IF(Basisdaten!$E$22<=5,Basisdaten!$S$22*Saisonalisierung!E20,0)","v":37.8994},{"$f":"IF(Basisdaten!$E$22<=6,Basisdaten!$S$22*Saisonalisierung!F20,0)","v":39.311799999999998},{"$f":"IF(Basisdaten!$E$22<=7,Basisdaten!$S$22*Saisonalisierung!G20,0)","v":40.253400000000006},{"$f":"IF(Basisdaten!$E$22<=8,Basisdaten!$S$22*Saisonalisierung!H20,0)","v":39.547200000000004},{"$f":"IF(Basisdaten!$E$22<=9,Basisdaten!$S$22*Saisonalisierung!I20,0)","v":40.018000000000001},{"$f":"IF(Basisdaten!$E$22<=10,Basisdaten!$S$22*Saisonalisierung!J20,0)","v":38.841000000000001},{"$f":"IF(Basisdaten!$E$22<=11,Basisdaten!$S$22*Saisonalisierung!K20,0)","v":40.018000000000001},{"$f":"IF(Basisdaten!$E$22<=12,Basisdaten!$S$22*Saisonalisierung!L20,0)","v":41.665799999999997}]
[1,{"$f":"Basisdaten!B23","v":40},{"$f":"Basisdaten!A23","v":"Hakan Celik_ULM"},{"$f":"Basisdaten!U23","v":2022},{"$f":"IF(Basisdaten!$E$23=1,Basisdaten!$S$23*Saisonalisierung!A21,0)","v":0},{"$f":"IF(Basisdaten!$E$23<=2,Basisdaten!$S$23*Saisonalisierung!B21,0)","v":0},{"$f":"IF(Basisdaten!$E$23<=3,Basisdaten!$S$23*Saisonalisierung!C21,0)","v":0},{"$f":"IF(Basisdaten!$E$23<=4,Basisdaten!$S$23*Saisonalisierung!D21,0)","v":0},{"$f":"IF(Basisdaten!$E$23<=5,Basisdaten!$S$23*Saisonalisierung!E21,0)","v":0},{"$f":"IF(Basisdaten!$E$23<=6,Basisdaten!$S$23*Saisonalisierung!F21,0)","v":0},{"$f":"IF(Basisdaten!$E$23<=7,Basisdaten!$S$23*Saisonalisierung!G21,0)","v":0},{"$f":"IF(Basisdaten!$E$23<=8,Basisdaten!$S$23*Saisonalisierung!H21,0)","v":0},{"$f":"IF(Basisdaten!$E$23<=9,Basisdaten!$S$23*Saisonalisierung!I21,0)","v":0},{"$f":"IF(Basisdaten!$E$23<=10,Basisdaten!$S$23*Saisonalisierung!J21,0)","v":0},{"$f":"IF(Basisdaten!$E$23<=11,Basisdaten!$S$23*Saisonalisierung!K21,0)","v":0},{"$f":"IF(Basisdaten!$E$23<=12,Basisdaten!$S$23*Saisonalisierung!L21,0)","v":0}]
[1,{"$f":"Basisdaten!B24","v":40},{"$f":"Basisdaten!A24","v":"Andreas Walter"},{"$f":"Basisdaten!U24","v":2022},{"$f":"IF(Basisdaten!$E$24=1,Basisdaten!$S$24*Saisonalisierung!A22,0)","v":35.545400000000001},{"$f":"IF(Basisdaten!$E$24<=2,Basisdaten!$S$24*Saisonalisierung!B22,0)","v":36.251600000000003},{"$f":"IF(Basisdaten!$E$24<=3,Basisdaten!$S$24*Saisonalisierung!C22,0)","v":41.901200000000003},{"$f":"IF(Basisdaten!$E$24<=4,Basisdaten!$S$24*Saisonalisierung!D22,0)","v":39.547200000000004},{"$f":"IF(Basisdaten!$E$24<=5,Basisdaten!$S$24*Saisonalisierung!E22,0)","v":37.8994},{"$f":"IF(Basisdaten!$E$24<=6,Basisdaten!$S$24*Saisonalisierung!F22,0)","v":39.311799999999998},{"$f":"IF(Basisdaten!$E$24<=7,Basisdaten!$S$24*Saisonalisierung!G22,0)","v":40.253400000000006},{"$f":"IF(Basisdaten!$E$24<=8,Basisdaten!$S$24*Saisonalisierung!H22,0)","v":39.547200000000004},{"$f":"IF(Basisdaten!$E$24<=9,Basisdaten!$S$24*Saisonalisierung!I22,0)","v":40.018000000000001},{"$f":"IF(Basisdaten!$E$24<=10,Basisdaten!$S$24*Saisonalisierung!J22,0)","v":38.841000000000001},{"$f":"IF(Basisdaten!$E$24<=11,Basisdaten!$S$24*Saisonalisierung!K22,0)","v":40.018000000000001},{"$f":"IF(Basisdaten!$E$24<=12,Basisdaten!$S$24*Saisonalisierung!L22,0)","v":41.665799999999997}]
[1,{"$f":"Basisdaten!B25","v":40},{"$f":"Basisdaten!A25","v":"Fatih Cetiner"},{"$f":"Basisdaten!U25","v":2022},{"$f":"IF(Basisdaten!$E$25=1,Basisdaten!$S$25*Saisonalisierung!A23,0)","v":35.545400000000001},{"$f":"IF(Basisdaten!$E$25<=2,Basisdaten!$S$25*Saisonalisierung!B23,0)","v":36.251600000000003},{"$f":"IF(Basisdaten!$E$25<=3,Basisdaten!$S$25*Saisonalisierung!C23,0)","v":41.901200000000003},{"$f":"IF(Basisdaten!$E$25<=4,Basisdaten!$S$25*Saisonalisierung!D23,0)","v":39.547200000000004},{"$f":"IF(Basisdaten!$E$25<=5,Basisdaten!$S$25*Saisonalisierung!E23,0)","v":37.8994},{"$f":"IF(Basisdaten!$E$25<=6,Basisdaten!$S$25*Saisonalisierung!F23,0)","v":39.311799999999998},{"$f":"IF(Basisdaten!$E$25<=7,Basisdaten!$S$25*Saisonalisierung!G23,0)","v":40.253400000000006},{"$f":"IF(Basisdaten!$E$25<=8,Basisdaten!$S$25*Saisonalisierung!H23,0)","v":39.547200000000004},{"$f":"IF(Basisdaten!$E$25<=9,Basisdaten!$S$25*Saisonalisierung!I23,0)","v":40.018000000000001},{"$f":"IF(Basisdaten!$E$25<=10,Basisdaten!$S$25*Saisonalisierung!J23,0)","v":38.841000000000001},{"$f":"IF(Basisdaten!$E$25<=11,Basisdaten!$S$25*Saisonalisierung!K23,0)","v":40.018000000000001},{"$f":"IF(Basisdaten!$E$25<=12,Basisdaten!$S$25*Saisonalisierung!L23,0)","v":41.665799999999997}]
[1,{"$f":"Basisdaten!B26","v":50},{"$f":"Basisdaten!A26","v":"Carlheinz Beylacher"},{"$f":"Basisdaten!U26","v":2022},{"$f":"IF(Basisdaten!$E$26=1,Basisdaten!$S$26*Saisonalisierung!A24,0)","v":35.545400000000001},{"$f":"IF(Basisdaten!$E$26<=2,Basisdaten!$S$26*Saisonalisierung!B24,0)","v":36.251600000000003},{"$f":"IF(Basisdaten!$E$26<=3,Basisdaten!$S$26*Saisonalisierung!C24,0)","v":41.901200000000003},{"$f":"IF(Basisdaten!$E$26<=4,Basisdaten!$S$26*Saisonalisierung!D24,0)","v":39.547200000000004},{"$f":"IF(Basisdaten!$E$26<=5,Basisdaten!$S$26*Saisonalisierung!E24,0)","v":37.8994},{"$f":"IF(Basisdaten!$E$26<=6,Basisdaten!$S$26*Saisonalisierung!F24,0)","v":39.311799999999998},{"$f":"IF(Basisdaten!$E$26<=7,Basisdaten!$S$26*Saisonalisierung!G24,0)","v":40.253400000000006},{"$f":"IF(Basisdaten!$E$26<=8,Basisdaten!$S$26*Saisonalisierung!H24,0)","v":39.547200000000004},{"$f":"IF(Basisdaten!$E$26<=9,Basisdaten!$S$26*Saisonalisierung!I24,0)","v":40.018000000000001},{"$f":"IF(Basisdaten!$E$26<=10,Basisdaten!$S$26*Saisonalisierung!J24,0)","v":38.841000000000001},{"$f":"IF(Basisdaten!$E$26<=11,Basisdaten!$S$26*Saisonalisierung!K24,0)","v":40.018000000000001},{"$f":"IF(Basisdaten!$E$26<=12,Basisdaten!$S$26*Saisonalisierung!L24,0)","v":41.665799999999997}]
[1,{"$f":"Basisdaten!B27","v":50},{"$f":"Basisdaten!A27","v":"Christoph Ziegler"},{"$f":"Basisdaten!U27","v":2022},{"$f":"IF(Basisdaten!$E$27=1,Basisdaten!$S$27*Saisonalisierung!A25,0)","v":35.545400000000001},{"$f":"IF(Basisdaten!$E$27<=2,Basisdaten!$S$27*Saisonalisierung!B25,0)","v":36.251600000000003},{"$f":"IF(Basisdaten!$E$27<=3,Basisdaten!$S$27*Saisonalisierung!C25,0)","v":41.901200000000003},{"$f":"IF(Basisdaten!$E$27<=4,Basisdaten!$S$27*Saisonalisierung!D25,0)","v":39.547200000000004},{"$f":"IF(Basisdaten!$E$27<=5,Basisdaten!$S$27*Saisonalisierung!E25,0)","v":37.8994},{"$f":"IF(Basisdaten!$E$27<=6,Basisdaten!$S$27*Saisonalisierung!F25,0)","v":39.311799999999998},{"$f":"IF(Basisdaten!$E$27<=7,Basisdaten!$S$27*Saisonalisierung!G25,0)","v":40.253400000000006},{"$f":"IF(Basisdaten!$E$27<=8,Basisdaten!$S$27*Saisonalisierung!H25,0)","v":39.547200000000004},{"$f":"IF(Basisdaten!$E$27<=9,Basisdaten!$S$27*Saisonalisierung!I25,0)","v":40.018000000000001},{"$f":"IF(Basisdaten!$E$27<=10,Basisdaten!$S$27*Saisonalisierung!J25,0)","v":38.841000000000001},{"$f":"IF(Basisdaten!$E$27<=11,Basisdaten!$S$27*Saisonalisierung!K25,0)","v":40.018000000000001},{"$f":"IF(Basisdaten!$E$27<=12,Basisdaten!$S$27*Saisonalisierung!L25,0)","v":41.665799999999997}]
[1,{"$f":"Basisdaten!B28","v":50},{"$f":"Basisdaten!A28","v":"Steffen Schiller"},{"$f":"Basisdaten!U28","v":2022},{"$f":"IF(Basisdaten!$E$28=1,Basisdaten!$S$28*Saisonalisierung!A26,0)","v":35.545400000000001},{"$f":"IF(Basisdaten!$E$28<=2,Basisdaten!$S$28*Saisonalisierung!B26,0)","v":36.251600000000003},{"$f":"IF(Basisdaten!$E$28<=3,Basisdaten!$S$28*Saisonalisierung!C26,0)","v":41.901200000000003},{"$f":"IF(Basisdaten!$E$28<=4,Basisdaten!$S$28*Saisonalisierung!D26,0)","v":39.547200000000004},{"$f":"IF(Basisdaten!$E$28<=5,Basisdaten!$S$28*Saisonalisierung!E26,0)","v":37.8994},{"$f":"IF(Basisdaten!$E$28<=6,Basisdaten!$S$28*Saisonalisierung!F26,0)","v":39.311799999999998},{"$f":"IF(Basisdaten!$E$28<=7,Basisdaten!$S$28*Saisonalisierung!G26,0)","v":40.253400000000006},{"$f":"IF(Basisdaten!$E$28<=8,Basisdaten!$S$28*Saisonalisierung!H26,0)","v":39.547200000000004},{"$f":"IF(Basisdaten!$E$28<=9,Basisdaten!$S$28*Saisonalisierung!I26,0)","v":40.018000000000001},{"$f":"IF(Basisdaten!$E$28<=10,Basisdaten!$S$28*Saisonalisierung!J26,0)","v":38.841000000000001},{"$f":"IF(Basisdaten!$E$28<=11,Basisdaten!$S$28*Saisonalisierung!K26,0)","v":40.018000000000001},{"$f":"IF(Basisdaten!$E$28<=12,Basisdaten!$S$28*Saisonalisierung!L26,0)","v":41.665799999999997}]
[1,{"$f":"Basisdaten!B29","v":50},{"$f":"Basisdaten!A29","v":"André Pfeffer - SCBI"},{"$f":"Basisdaten!U29","v":2022},{"$f":"IF(Basisdaten!$E$29=1,Basisdaten!$S$29*Saisonalisierung!A27,0)","v":35.545400000000001},{"$f":"IF(Basisdaten!$E$29<=2,Basisdaten!$S$29*Saisonalisierung!B27,0)","v":36.251600000000003},{"$f":"IF(Basisdaten!$E$29<=3,Basisdaten!$S$29*Saisonalisierung!C27,0)","v":41.901200000000003},{"$f":"IF(Basisdaten!$E$29<=4,Basisdaten!$S$29*Saisonalisierung!D27,0)","v":39.547200000000004},{"$f":"IF(Basisdaten!$E$29<=5,Basisdaten!$S$29*Saisonalisierung!E27,0)","v":37.8994},{"$f":"IF(Basisdaten!$E$29<=6,Basisdaten!$S$29*Saisonalisierung!F27,0)","v":39.311799999999998},{"$f":"IF(Basisdaten!$E$29<=7,Basisdaten!$S$29*Saisonalisierung!G27,0)","v":40.253400000000006},{"$f":"IF(Basisdaten!$E$29<=8,Basisdaten!$S$29*Saisonalisierung!H27,0)","v":39.547200000000004},{"$f":"IF(Basisdaten!$E$29<=9,Basisdaten!$S$29*Saisonalisierung!I27,0)","v":40.018000000000001},{"$f":"IF(Basisdaten!$E$29<=10,Basisdaten!$S$29*Saisonalisierung!J27,0)","v":38.841000000000001},{"$f":"IF(Basisdaten!$E$29<=11,Basisdaten!$S$29*Saisonalisierung!K27,0)","v":40.018000000000001},{"$f":"IF(Basisdaten!$E$29<=12,Basisdaten!$S$29*Saisonalisierung!L27,0)","v":41.665799999999997}]
[1,{"$f":"Basisdaten!B30","v":50},{"$f":"Basisdaten!A30","v":"Christian Wiedemann"},{"$f":"Basisdaten!U30","v":2022},{"$f":"IF(Basisdaten!$E$30=1,Basisdaten!$S$30*Saisonalisierung!A28,0)","v":35.545400000000001},{"$f":"IF(Basisdaten!$E$30<=2,Basisdaten!$S$30*Saisonalisierung!B28,0)","v":36.251600000000003},{"$f":"IF(Basisdaten!$E$30<=3,Basisdaten!$S$30*Saisonalisierung!C28,0)","v":41.901200000000003},{"$f":"IF(Basisdaten!$E$30<=4,Basisdaten!$S$30*Saisonalisierung!D28,0)","v":39.547200000000004},{"$f":"IF(Basisdaten!$E$30<=5,Basisdaten!$S$30*Saisonalisierung!E28,0)","v":37.8994},{"$f":"IF(Basisdaten!$E$30<=6,Basisdaten!$S$30*Saisonalisierung!F28,0)","v":39.311799999999998},{"$f":"IF(Basisdaten!$E$30<=7,Basisdaten!$S$30*Saisonalisierung!G28,0)","v":40.253400000000006},{"$f":"IF(Basisdaten!$E$30<=8,Basisdaten!$S$30*Saisonalisierung!H28,0)","v":39.547200000000004},{"$f":"IF(Basisdaten!$E$30<=9,Basisdaten!$S$30*Saisonalisierung!I28,0)","v":40.018000000000001},{"$f":"IF(Basisdaten!$E$30<=10,Basisdaten!$S$30*Saisonalisierung!J28,0)","v":38.841000000000001},{"$f":"IF(Basisdaten!$E$30<=11,Basisdaten!$S$30*Saisonalisierung!K28,0)","v":40.018000000000001},{"$f":"IF(Basisdaten!$E$30<=12,Basisdaten!$S$30*Saisonalisierung!L28,0)","v":41.665799999999997}]
[1,{"$f":"Basisdaten!B31","v":50},{"$f":"Basisdaten!A31","v":"Daniel Aschmann_"},{"$f":"Basisdaten!U31","v":2022},{"$f":"IF(Basisdaten!$E$31=1,Basisdaten!$S$31*Saisonalisierung!A29,0)","v":0},{"$f":"IF(Basisdaten!$E$31<=2,Basisdaten!$S$31*Saisonalisierung!B29,0)","v":0},{"$f":"IF(Basisdaten!$E$31<=3,Basisdaten!$S$31*Saisonalisierung!C29,0)","v":0},{"$f":"IF(Basisdaten!$E$31<=4,Basisdaten!$S$31*Saisonalisierung!D29,0)","v":0},{"$f":"IF(Basisdaten!$E$31<=5,Basisdaten!$S$31*Saisonalisierung!E29,0)","v":0},{"$f":"IF(Basisdaten!$E$31<=6,Basisdaten!$S$31*Saisonalisierung!F29,0)","v":0},{"$f":"IF(Basisdaten!$E$31<=7,Basisdaten!$S$31*Saisonalisierung!G29,0)","v":0},{"$f":"IF(Basisdaten!$E$31<=8,Basisdaten!$S$31*Saisonalisierung!H29,0)","v":0},{"$f":"IF(Basisdaten!$E$31<=9,Basisdaten!$S$31*Saisonalisierung!I29,0)","v":0},{"$f":"IF(Basisdaten!$E$31<=10,Basisdaten!$S$31*Saisonalisierung!J29,0)","v":0},{"$f":"IF(Basisdaten!$E$31<=11,Basisdaten!$S$31*Saisonalisierung!K29,0)","v":0},{"$f":"IF(Basisdaten!$E$31<=12,Basisdaten!$S$31*Saisonalisierung!L29,0)","v":0}]
[2,{"$f":"Basisdaten!B32","v":60},{"$f":"Basisdaten!A32","v":"Dirk Heditzsch"},{"$f":"Basisdaten!U32","v":2022},{"$f":"IF(Basisdaten!$E$32=1,Basisdaten!$S$32*Saisonalisierung!A30,0)","v":0},{"$f":"IF(Basisdaten!$E$32<=2,Basisdaten!$S$32*Saisonalisierung!B30,0)","v":0},{"$f":"IF(Basisdaten!$E$32<=3,Basisdaten!$S$32*Saisonalisierung!C30,0)","v":0},{"$f":"IF(Basisdaten!$E$32<=4,Basisdaten!$S$32*Saisonalisierung!D30,0)","v":39.547200000000004},{"$f":"IF(Basisdaten!$E$32<=5,Basisdaten!$S$32*Saisonalisierung!E30,0)","v":37.8994},{"$f":"IF(Basisdaten!$E$32<=6,Basisdaten!$S$32*Saisonalisierung!F30,0)","v":39.311799999999998},{"$f":"IF(Basisdaten!$E$32<=7,Basisdaten!$S$32*Saisonalisierung!G30,0)","v":40.253400000000006},{"$f":"IF(Basisdaten!$E$32<=8,Basisdaten!$S$32*Saisonalisierung!H30,0)","v":39.547200000000004},{"$f":"IF(Basisdaten!$E$32<=9,Basisdaten!$S$32*Saisonalisierung!I30,0)","v":40.018000000000001},{"$f":"IF(Basisdaten!$E$32<=10,Basisdaten!$S$32*Saisonalisierung!J30,0)","v":38.841000000000001},{"$f":"IF(Basisdaten!$E$32<=11,Basisdaten!$S$32*Saisonalisierung!K30,0)","v":40.018000000000001},{"$f":"IF(Basisdaten!$E$32<=12,Basisdaten!$S$32*Saisonalisierung!L30,0)","v":41.665799999999997}]
[2,{"$f":"Basisdaten!B33","v":60},{"$f":"Basisdaten!A33","v":"Marco Hanigk"},{"$f":"Basisdaten!U33","v":2022},{"$f":"IF(Basisdaten!$E$33=1,Basisdaten!$S$33*Saisonalisierung!A31,0)","v":35.545400000000001},{"$f":"IF(Basisdaten!$E$33<=2,Basisdaten!$S$33*Saisonalisierung!B31,0)","v":36.251600000000003},{"$f":"IF(Basisdaten!$E$33<=3,Basisdaten!$S$33*Saisonalisierung!C31,0)","v":41.901200000000003},{"$f":"IF(Basisdaten!$E$33<=4,Basisdaten!$S$33*Saisonalisierung!D31,0)","v":39.547200000000004},{"$f":"IF(Basisdaten!$E$33<=5,Basisdaten!$S$33*Saisonalisierung!E31,0)","v":37.8994},{"$f":"IF(Basisdaten!$E$33<=6,Basisdaten!$S$33*Saisonalisierung!F31,0)","v":39.311799999999998},{"$f":"IF(Basisdaten!$E$33<=7,Basisdaten!$S$33*Saisonalisierung!G31,0)","v":40.253400000000006},{"$f":"IF(Basisdaten!$E$33<=8,Basisdaten!$S$33*Saisonalisierung!H31,0)","v":39.547200000000004},{"$f":"IF(Basisdaten!$E$33<=9,Basisdaten!$S$33*Saisonalisierung!I31,0)","v":40.018000000000001},{"$f":"IF(Basisdaten!$E$33<=10,Basisdaten!$S$33*Saisonalisierung!J31,0)","v":38.841000000000001},{"$f":"IF(Basisdaten!$E$33<=11,Basisdaten!$S$33*Saisonalisierung!K31,0)","v":40.018000000000001},{"$f":"IF(Basisdaten!$E$33<=12,Basisdaten!$S$33*Saisonalisierung!L31,0)","v":41.665799999999997}]
[2,{"$f":"Basisdaten!B34","v":60},{"$f":"Basisdaten!A34","v":"Marcel Lankes"},{"$f":"Basisdaten!U34","v":2022},{"$f":"IF(Basisdaten!$E$34=1,Basisdaten!$S$34*Saisonalisierung!A32,0)","v":0},{"$f":"IF(Basisdaten!$E$34<=2,Basisdaten!$S$34*Saisonalisierung!B32,0)","v":0},{"$f":"IF(Basisdaten!$E$34<=3,Basisdaten!$S$34*Saisonalisierung!C32,0)","v":0},{"$f":"IF(Basisdaten!$E$34<=4,Basisdaten!$S$34*Saisonalisierung!D32,0)","v":39.547200000000004},{"$f":"IF(Basisdaten!$E$34<=5,Basisdaten!$S$34*Saisonalisierung!E32,0)","v":37.8994},{"$f":"IF(Basisdaten!$E$34<=6,Basisdaten!$S$34*Saisonalisierung!F32,0)","v":39.311799999999998},{"$f":"IF(Basisdaten!$E$34<=7,Basisdaten!$S$34*Saisonalisierung!G32,0)","v":40.253400000000006},{"$f":"IF(Basisdaten!$E$34<=8,Basisdaten!$S$34*Saisonalisierung!H32,0)","v":39.547200000000004},{"$f":"IF(Basisdaten!$E$34<=9,Basisdaten!$S$34*Saisonalisierung!I32,0)","v":40.018000000000001},{"$f":"IF(Basisdaten!$E$34<=10,Basisdaten!$S$34*Saisonalisierung!J32,0)","v":38.841000000000001},{"$f":"IF(Basisdaten!$E$34<=11,Basisdaten!$S$34*Saisonalisierung!K32,0)","v":40.018000000000001},{"$f":"IF(Basisdaten!$E$34<=12,Basisdaten!$S$34*Saisonalisierung!L32,0)","v":41.665799999999997}]
[2,{"$f":"Basisdaten!B35","v":60},{"$f":"Basisdaten!A35","v":"Roland Klier"},{"$f":"Basisdaten!U35","v":2022},{"$f":"IF(Basisdaten!$E$35=1,Basisdaten!$S$35*Saisonalisierung!A33,0)","v":35.545400000000001},{"$f":"IF(Basisdaten!$E$35<=2,Basisdaten!$S$35*Saisonalisierung!B33,0)","v":36.251600000000003},{"$f":"IF(Basisdaten!$E$35<=3,Basisdaten!$S$35*Saisonalisierung!C33,0)","v":41.901200000000003},{"$f":"IF(Basisdaten!$E$35<=4,Basisdaten!$S$35*Saisonalisierung!D33,0)","v":39.547200000000004},{"$f":"IF(Basisdaten!$E$35<=5,Basisdaten!$S$35*Saisonalisierung!E33,0)","v":37.8994},{"$f":"IF(Basisdaten!$E$35<=6,Basisdaten!$S$35*Saisonalisierung!F33,0)","v":39.311799999999998},{"$f":"IF(Basisdaten!$E$35<=7,Basisdaten!$S$35*Saisonalisierung!G33,0)","v":40.253400000000006},{"$f":"IF(Basisdaten!$E$35<=8,Basisdaten!$S$35*Saisonalisierung!H33,0)","v":39.547200000000004},{"$f":"IF(Basisdaten!$E$35<=9,Basisdaten!$S$35*Saisonalisierung!I33,0)","v":40.018000000000001},{"$f":"IF(Basisdaten!$E$35<=10,Basisdaten!$S$35*Saisonalisierung!J33,0)","v":38.841000000000001},{"$f":"IF(Basisdaten!$E$35<=11,Basisdaten!$S$35*Saisonalisierung!K33,0)","v":40.018000000000001},{"$f":"IF(Basisdaten!$E$35<=12,Basisdaten!$S$35*Saisonalisierung!L33,0)","v":41.665799999999997}]
[2,{"$f":"Basisdaten!B36","v":60},{"$f":"Basisdaten!A36","v":"Mert Güngör"},{"$f":"Basisdaten!U36","v":2022},{"$f":"IF(Basisdaten!$E$36=1,Basisdaten!$S$36*Saisonalisierung!A34,0)","v":0},{"$f":"IF(Basisdaten!$E$36<=2,Basisdaten!$S$36*Saisonalisierung!B34,0)","v":0},{"$f":"IF(Basisdaten!$E$36<=3,Basisdaten!$S$36*Saisonalisierung!C34,0)","v":0},{"$f":"IF(Basisdaten!$E$36<=4,Basisdaten!$S$36*Saisonalisierung!D34,0)","v":0},{"$f":"IF(Basisdaten!$E$36<=5,Basisdaten!$S$36*Saisonalisierung!E34,0)","v":0},{"$f":"IF(Basisdaten!$E$36<=6,Basisdaten!$S$36*Saisonalisierung!F34,0)","v":39.311799999999998},{"$f":"IF(Basisdaten!$E$36<=7,Basisdaten!$S$36*Saisonalisierung!G34,0)","v":40.253400000000006},{"$f":"IF(Basisdaten!$E$36<=8,Basisdaten!$S$36*Saisonalisierung!H34,0)","v":39.547200000000004},{"$f":"IF(Basisdaten!$E$36<=9,Basisdaten!$S$36*Saisonalisierung!I34,0)","v":40.018000000000001},{"$f":"IF(Basisdaten!$E$36<=10,Basisdaten!$S$36*Saisonalisierung!J34,0)","v":38.841000000000001},{"$f":"IF(Basisdaten!$E$36<=11,Basisdaten!$S$36*Saisonalisierung!K34,0)","v":40.018000000000001},{"$f":"IF(Basisdaten!$E$36<=12,Basisdaten!$S$36*Saisonalisierung!L34,0)","v":41.665799999999997}]
[2,{"$f":"Basisdaten!B37","v":60},{"$f":"Basisdaten!A37","v":"Matthias Hagg"},{"$f":"Basisdaten!U37","v":2022},{"$f":"IF(Basisdaten!$E$37=1,Basisdaten!$S$37*Saisonalisierung!A35,0)","v":35.545400000000001},{"$f":"IF(Basisdaten!$E$37<=2,Basisdaten!$S$37*Saisonalisierung!B35,0)","v":36.251600000000003},{"$f":"IF(Basisdaten!$E$37<=3,Basisdaten!$S$37*Saisonalisierung!C35,0)","v":41.901200000000003},{"$f":"IF(Basisdaten!$E$37<=4,Basisdaten!$S$37*Saisonalisierung!D35,0)","v":39.547200000000004},{"$f":"IF(Basisdaten!$E$37<=5,Basisdaten!$S$37*Saisonalisierung!E35,0)","v":37.8994},{"$f":"IF(Basisdaten!$E$37<=6,Basisdaten!$S$37*Saisonalisierung!F35,0)","v":39.311799999999998},{"$f":"IF(Basisdaten!$E$37<=7,Basisdaten!$S$37*Saisonalisierung!G35,0)","v":40.253400000000006},{"$f":"IF(Basisdaten!$E$37<=8,Basisdaten!$S$37*Saisonalisierung!H35,0)","v":39.547200000000004},{"$f":"IF(Basisdaten!$E$37<=9,Basisdaten!$S$37*Saisonalisierung!I35,0)","v":40.018000000000001},{"$f":"IF(Basisdaten!$E$37<=10,Basisdaten!$S$37*Saisonalisierung!J35,0)","v":38.841000000000001},{"$f":"IF(Basisdaten!$E$37<=11,Basisdaten!$S$37*Saisonalisierung!K35,0)","v":40.018000000000001},{"$f":"IF(Basisdaten!$E$37<=12,Basisdaten!$S$37*Saisonalisierung!L35,0)","v":41.665799999999997}]
[2,{"$f":"Basisdaten!B38","v":60},{"$f":"Basisdaten!A38","v":"Walter Schlosser"},{"$f":"Basisdaten!U38","v":2022},{"$f":"IF(Basisdaten!$E$38=1,Basisdaten!$S$38*Saisonalisierung!A36,0)","v":35.545400000000001},{"$f":"IF(Basisdaten!$E$38<=2,Basisdaten!$S$38*Saisonalisierung!B36,0)","v":36.251600000000003},{"$f":"IF(Basisdaten!$E$38<=3,Basisdaten!$S$38*Saisonalisierung!C36,0)","v":41.901200000000003},{"$f":"IF(Basisdaten!$E$38<=4,Basisdaten!$S$38*Saisonalisierung!D36,0)","v":39.547200000000004},{"$f":"IF(Basisdaten!$E$38<=5,Basisdaten!$S$38*Saisonalisierung!E36,0)","v":37.8994},{"$f":"IF(Basisdaten!$E$38<=6,Basisdaten!$S$38*Saisonalisierung!F36,0)","v":39.311799999999998},{"$f":"IF(Basisdaten!$E$38<=7,Basisdaten!$S$38*Saisonalisierung!G36,0)","v":40.253400000000006},{"$f":"IF(Basisdaten!$E$38<=8,Basisdaten!$S$38*Saisonalisierung!H36,0)","v":39.547200000000004},{"$f":"IF(Basisdaten!$E$38<=9,Basisdaten!$S$38*Saisonalisierung!I36,0)","v":40.018000000000001},{"$f":"IF(Basisdaten!$E$38<=10,Basisdaten!$S$38*Saisonalisierung!J36,0)","v":38.841000000000001},{"$f":"IF(Basisdaten!$E$38<=11,Basisdaten!$S$38*Saisonalisierung!K36,0)","v":40.018000000000001},{"$f":"IF(Basisdaten!$E$38<=12,Basisdaten!$S$38*Saisonalisierung!L36,0)","v":41.665799999999997}]
[2,{"$f":"Basisdaten!B39","v":60},{"$f":"Basisdaten!A39","v":"Udo Spindler"},{"$f":"Basisdaten!U39","v":2022},{"$f":"IF(Basisdaten!$E$39=1,Basisdaten!$S$39*Saisonalisierung!A37,0)","v":35.545400000000001},{"$f":"IF(Basisdaten!$E$39<=2,Basisdaten!$S$39*Saisonalisierung!B37,0)","v":36.251600000000003},{"$f":"IF(Basisdaten!$E$39<=3,Basisdaten!$S$39*Saisonalisierung!C37,0)","v":41.901200000000003},{"$f":"IF(Basisdaten!$E$39<=4,Basisdaten!$S$39*Saisonalisierung!D37,0)","v":39.547200000000004},{"$f":"IF(Basisdaten!$E$39<=5,Basisdaten!$S$39*Saisonalisierung!E37,0)","v":37.8994},{"$f":"IF(Basisdaten!$E$39<=6,Basisdaten!$S$39*Saisonalisierung!F37,0)","v":39.311799999999998},{"$f":"IF(Basisdaten!$E$39<=7,Basisdaten!$S$39*Saisonalisierung!G37,0)","v":40.253400000000006},{"$f":"IF(Basisdaten!$E$39<=8,Basisdaten!$S$39*Saisonalisierung!H37,0)","v":39.547200000000004},{"$f":"IF(Basisdaten!$E$39<=9,Basisdaten!$S$39*Saisonalisierung!I37,0)","v":40.018000000000001},{"$f":"IF(Basisdaten!$E$39<=10,Basisdaten!$S$39*Saisonalisierung!J37,0)","v":38.841000000000001},{"$f":"IF(Basisdaten!$E$39<=11,Basisdaten!$S$39*Saisonalisierung!K37,0)","v":40.018000000000001},{"$f":"IF(Basisdaten!$E$39<=12,Basisdaten!$S$39*Saisonalisierung!L37,0)","v":41.665799999999997}]
[2,{"$f":"Basisdaten!B40","v":60},{"$f":"Basisdaten!A40","v":"Marcel Vogler"},{"$f":"Basisdaten!U40","v":2022},{"$f":"IF(Basisdaten!$E$40=1,Basisdaten!$S$40*Saisonalisierung!A38,0)","v":35.545400000000001},{"$f":"IF(Basisdaten!$E$40<=2,Basisdaten!$S$40*Saisonalisierung!B38,0)","v":36.251600000000003},{"$f":"IF(Basisdaten!$E$40<=3,Basisdaten!$S$40*Saisonalisierung!C38,0)","v":41.901200000000003},{"$f":"IF(Basisdaten!$E$40<=4,Basisdaten!$S$40*Saisonalisierung!D38,0)","v":39.547200000000004},{"$f":"IF(Basisdaten!$E$40<=5,Basisdaten!$S$40*Saisonalisierung!E38,0)","v":37.8994},{"$f":"IF(Basisdaten!$E$40<=6,Basisdaten!$S$40*Saisonalisierung!F38,0)","v":39.311799999999998},{"$f":"IF(Basisdaten!$E$40<=7,Basisdaten!$S$40*Saisonalisierung!G38,0)","v":40.253400000000006},{"$f":"IF(Basisdaten!$E$40<=8,Basisdaten!$S$40*Saisonalisierung!H38,0)","v":39.547200000000004},{"$f":"IF(Basisdaten!$E$40<=9,Basisdaten!$S$40*Saisonalisierung!I38,0)","v":40.018000000000001},{"$f":"IF(Basisdaten!$E$40<=10,Basisdaten!$S$40*Saisonalisierung!J38,0)","v":38.841000000000001},{"$f":"IF(Basisdaten!$E$40<=11,Basisdaten!$S$40*Saisonalisierung!K38,0)","v":40.018000000000001},{"$f":"IF(Basisdaten!$E$40<=12,Basisdaten!$S$40*Saisonalisierung!L38,0)","v":41.665799999999997}]
[2,{"$f":"Basisdaten!B41","v":60},{"$f":"Basisdaten!A41","v":"Raphael Marksteiner"},{"$f":"Basisdaten!U41","v":2022},{"$f":"IF(Basisdaten!$E$41=1,Basisdaten!$S$41*Saisonalisierung!A39,0)","v":0},{"$f":"IF(Basisdaten!$E$41<=2,Basisdaten!$S$41*Saisonalisierung!B39,0)","v":0},{"$f":"IF(Basisdaten!$E$41<=3,Basisdaten!$S$41*Saisonalisierung!C39,0)","v":0},{"$f":"IF(Basisdaten!$E$41<=4,Basisdaten!$S$41*Saisonalisierung!D39,0)","v":39.547200000000004},{"$f":"IF(Basisdaten!$E$41<=5,Basisdaten!$S$41*Saisonalisierung!E39,0)","v":37.8994},{"$f":"IF(Basisdaten!$E$41<=6,Basisdaten!$S$41*Saisonalisierung!F39,0)","v":39.311799999999998},{"$f":"IF(Basisdaten!$E$41<=7,Basisdaten!$S$41*Saisonalisierung!G39,0)","v":40.253400000000006},{"$f":"IF(Basisdaten!$E$41<=8,Basisdaten!$S$41*Saisonalisierung!H39,0)","v":39.547200000000004},{"$f":"IF(Basisdaten!$E$41<=9,Basisdaten!$S$41*Saisonalisierung!I39,0)","v":40.018000000000001},{"$f":"IF(Basisdaten!$E$41<=10,Basisdaten!$S$41*Saisonalisierung!J39,0)","v":38.841000000000001},{"$f":"IF(Basisdaten!$E$41<=11,Basisdaten!$S$41*Saisonalisierung!K39,0)","v":40.018000000000001},{"$f":"IF(Basisdaten!$E$41<=12,Basisdaten!$S$41*Saisonalisierung!L39,0)","v":41.665799999999997}]
[2,{"$f":"Basisdaten!B42","v":60},{"$f":"Basisdaten!A42","v":"Markus Appeljun - SCBI"},{"$f":"Basisdaten!U42","v":2022},{"$f":"IF(Basisdaten!$E$42=1,Basisdaten!$S$42*Saisonalisierung!A40,0)","v":0},{"$f":"IF(Basisdaten!$E$42<=2,Basisdaten!$S$42*Saisonalisierung!B40,0)","v":36.251600000000003},{"$f":"IF(Basisdaten!$E$42<=3,Basisdaten!$S$42*Saisonalisierung!C40,0)","v":41.901200000000003},{"$f":"IF(Basisdaten!$E$42<=4,Basisdaten!$S$42*Saisonalisierung!D40,0)","v":39.547200000000004},{"$f":"IF(Basisdaten!$E$42<=5,Basisdaten!$S$42*Saisonalisierung!E40,0)","v":37.8994},{"$f":"IF(Basisdaten!$E$42<=6,Basisdaten!$S$42*Saisonalisierung!F40,0)","v":39.311799999999998},{"$f":"IF(Basisdaten!$E$42<=7,Basisdaten!$S$42*Saisonalisierung!G40,0)","v":40.253400000000006},{"$f":"IF(Basisdaten!$E$42<=8,Basisdaten!$S$42*Saisonalisierung!H40,0)","v":39.547200000000004},{"$f":"IF(Basisdaten!$E$42<=9,Basisdaten!$S$42*Saisonalisierung!I40,0)","v":40.018000000000001},{"$f":"IF(Basisdaten!$E$42<=10,Basisdaten!$S$42*Saisonalisierung!J40,0)","v":38.841000000000001},{"$f":"IF(Basisdaten!$E$42<=11,Basisdaten!$S$42*Saisonalisierung!K40,0)","v":40.018000000000001},{"$f":"IF(Basisdaten!$E$42<=12,Basisdaten!$S$42*Saisonalisierung!L40,0)","v":41.665799999999997}]
[2,{"$f":"Basisdaten!B43","v":60},{"$f":"Basisdaten!A43","v":"Andreas Göllner"},{"$f":"Basisdaten!U43","v":2022},{"$f":"IF(Basisdaten!$E$43=1,Basisdaten!$S$43*Saisonalisierung!A41,0)","v":35.545400000000001},{"$f":"IF(Basisdaten!$E$43<=2,Basisdaten!$S$43*Saisonalisierung!B41,0)","v":36.251600000000003},{"$f":"IF(Basisdaten!$E$43<=3,Basisdaten!$S$43*Saisonalisierung!C41,0)","v":41.901200000000003},{"$f":"IF(Basisdaten!$E$43<=4,Basisdaten!$S$43*Saisonalisierung!D41,0)","v":39.547200000000004},{"$f":"IF(Basisdaten!$E$43<=5,Basisdaten!$S$43*Saisonalisierung!E41,0)","v":37.8994},{"$f":"IF(Basisdaten!$E$43<=6,Basisdaten!$S$43*Saisonalisierung!F41,0)","v":39.311799999999998},{"$f":"IF(Basisdaten!$E$43<=7,Basisdaten!$S$43*Saisonalisierung!G41,0)","v":40.253400000000006},{"$f":"IF(Basisdaten!$E$43<=8,Basisdaten!$S$43*Saisonalisierung!H41,0)","v":39.547200000000004},{"$f":"IF(Basisdaten!$E$43<=9,Basisdaten!$S$43*Saisonalisierung!I41,0)","v":40.018000000000001},{"$f":"IF(Basisdaten!$E$43<=10,Basisdaten!$S$43*Saisonalisierung!J41,0)","v":38.841000000000001},{"$f":"IF(Basisdaten!$E$43<=11,Basisdaten!$S$43*Saisonalisierung!K41,0)","v":40.018000000000001},{"$f":"IF(Basisdaten!$E$43<=12,Basisdaten!$S$43*Saisonalisierung!L41,0)","v":41.665799999999997}]
[2,{"$f":"Basisdaten!B44","v":60},{"$f":"Basisdaten!A44","v":"Marcus Stangl"},{"$f":"Basisdaten!U44","v":2022},{"$f":"IF(Basisdaten!$E$44=1,Basisdaten!$S$44*Saisonalisierung!A42,0)","v":35.545400000000001},{"$f":"IF(Basisdaten!$E$44<=2,Basisdaten!$S$44*Saisonalisierung!B42,0)","v":36.251600000000003},{"$f":"IF(Basisdaten!$E$44<=3,Basisdaten!$S$44*Saisonalisierung!C42,0)","v":41.901200000000003},{"$f":"IF(Basisdaten!$E$44<=4,Basisdaten!$S$44*Saisonalisierung!D42,0)","v":39.547200000000004},{"$f":"IF(Basisdaten!$E$44<=5,Basisdaten!$S$44*Saisonalisierung!E42,0)","v":37.8994},{"$f":"IF(Basisdaten!$E$44<=6,Basisdaten!$S$44*Saisonalisierung!F42,0)","v":39.311799999999998},{"$f":"IF(Basisdaten!$E$44<=7,Basisdaten!$S$44*Saisonalisierung!G42,0)","v":40.253400000000006},{"$f":"IF(Basisdaten!$E$44<=8,Basisdaten!$S$44*Saisonalisierung!H42,0)","v":39.547200000000004},{"$f":"IF(Basisdaten!$E$44<=9,Basisdaten!$S$44*Saisonalisierung!I42,0)","v":40.018000000000001},{"$f":"IF(Basisdaten!$E$44<=10,Basisdaten!$S$44*Saisonalisierung!J42,0)","v":38.841000000000001},{"$f":"IF(Basisdaten!$E$44<=11,Basisdaten!$S$44*Saisonalisierung!K42,0)","v":40.018000000000001},{"$f":"IF(Basisdaten!$E$44<=12,Basisdaten!$S$44*Saisonalisierung!L42,0)","v":41.665799999999997}]
[2,{"$f":"Basisdaten!B45","v":60},{"$f":"Basisdaten!A45","v":"Christoph Rottenkolber"},{"$f":"Basisdaten!U45","v":2022},{"$f":"IF(Basisdaten!$E$45=1,Basisdaten!$S$45*Saisonalisierung!A43,0)","v":0},{"$f":"IF(Basisdaten!$E$45<=2,Basisdaten!$S$45*Saisonalisierung!B43,0)","v":0},{"$f":"IF(Basisdaten!$E$45<=3,Basisdaten!$S$45*Saisonalisierung!C43,0)","v":0},{"$f":"IF(Basisdaten!$E$45<=4,Basisdaten!$S$45*Saisonalisierung!D43,0)","v":39.547200000000004},{"$f":"IF(Basisdaten!$E$45<=5,Basisdaten!$S$45*Saisonalisierung!E43,0)","v":37.8994},{"$f":"IF(Basisdaten!$E$45<=6,Basisdaten!$S$45*Saisonalisierung!F43,0)","v":39.311799999999998},{"$f":"IF(Basisdaten!$E$45<=7,Basisdaten!$S$45*Saisonalisierung!G43,0)","v":40.253400000000006},{"$f":"IF(Basisdaten!$E$45<=8,Basisdaten!$S$45*Saisonalisierung!H43,0)","v":39.547200000000004},{"$f":"IF(Basisdaten!$E$45<=9,Basisdaten!$S$45*Saisonalisierung!I43,0)","v":40.018000000000001},{"$f":"IF(Basisdaten!$E$45<=10,Basisdaten!$S$45*Saisonalisierung!J43,0)","v":38.841000000000001},{"$f":"IF(Basisdaten!$E$45<=11,Basisdaten!$S$45*Saisonalisierung!K43,0)","v":40.018000000000001},{"$f":"IF(Basisdaten!$E$45<=12,Basisdaten!$S$45*Saisonalisierung!L43,0)","v":41.665799999999997}]
[2,{"$f":"Basisdaten!B46","v":60},{"$f":"Basisdaten!A46","v":"Michael Cattide - SCBI"},{"$f":"Basisdaten!U46","v":2022},{"$f":"IF(Basisdaten!$E$46=1,Basisdaten!$S$46*Saisonalisierung!A44,0)","v":35.545400000000001},{"$f":"IF(Basisdaten!$E$46<=2,Basisdaten!$S$46*Saisonalisierung!B44,0)","v":36.251600000000003},{"$f":"IF(Basisdaten!$E$46<=3,Basisdaten!$S$46*Saisonalisierung!C44,0)","v":41.901200000000003},{"$f":"IF(Basisdaten!$E$46<=4,Basisdaten!$S$46*Saisonalisierung!D44,0)","v":39.547200000000004},{"$f":"IF(Basisdaten!$E$46<=5,Basisdaten!$S$46*Saisonalisierung!E44,0)","v":37.8994},{"$f":"IF(Basisdaten!$E$46<=6,Basisdaten!$S$46*Saisonalisierung!F44,0)","v":39.311799999999998},{"$f":"IF(Basisdaten!$E$46<=7,Basisdaten!$S$46*Saisonalisierung!G44,0)","v":40.253400000000006},{"$f":"IF(Basisdaten!$E$46<=8,Basisdaten!$S$46*Saisonalisierung!H44,0)","v":39.547200000000004},{"$f":"IF(Basisdaten!$E$46<=9,Basisdaten!$S$46*Saisonalisierung!I44,0)","v":40.018000000000001},{"$f":"IF(Basisdaten!$E$46<=10,Basisdaten!$S$46*Saisonalisierung!J44,0)","v":38.841000000000001},{"$f":"IF(Basisdaten!$E$46<=11,Basisdaten!$S$46*Saisonalisierung!K44,0)","v":40.018000000000001},{"$f":"IF(Basisdaten!$E$46<=12,Basisdaten!$S$46*Saisonalisierung!L44,0)","v":41.665799999999997}]
[2,{"$f":"Basisdaten!B47","v":60},{"$f":"Basisdaten!A47","v":"Dennis Grohmann"},{"$f":"Basisdaten!U47","v":2022},{"$f":"IF(Basisdaten!$E$47=1,Basisdaten!$S$47*Saisonalisierung!A45,0)","v":0},{"$f":"IF(Basisdaten!$E$47<=2,Basisdaten!$S$47*Saisonalisierung!B45,0)","v":0},{"$f":"IF(Basisdaten!$E$47<=3,Basisdaten!$S$47*Saisonalisierung!C45,0)","v":0},{"$f":"IF(Basisdaten!$E$47<=4,Basisdaten!$S$47*Saisonalisierung!D45,0)","v":0},{"$f":"IF(Basisdaten!$E$47<=5,Basisdaten!$S$47*Saisonalisierung!E45,0)","v":0},{"$f":"IF(Basisdaten!$E$47<=6,Basisdaten!$S$47*Saisonalisierung!F45,0)","v":0},{"$f":"IF(Basisdaten!$E$47<=7,Basisdaten!$S$47*Saisonalisierung!G45,0)","v":0},{"$f":"IF(Basisdaten!$E$47<=8,Basisdaten!$S$47*Saisonalisierung!H45,0)","v":0},{"$f":"IF(Basisdaten!$E$47<=9,Basisdaten!$S$47*Saisonalisierung!I45,0)","v":0},{"$f":"IF(Basisdaten!$E$47<=10,Basisdaten!$S$47*Saisonalisierung!J45,0)","v":0},{"$f":"IF(Basisdaten!$E$47<=11,Basisdaten!$S$47*Saisonalisierung!K45,0)","v":0},{"$f":"IF(Basisdaten!$E$47<=12,Basisdaten!$S$47*Saisonalisierung!L45,0)","v":0}]
[2,{"$f":"Basisdaten!B48","v":60},{"$f":"Basisdaten!A48","v":"Simone Groß - SCBZ"},{"$f":"Basisdaten!U48","v":2022},{"$f":"IF(Basisdaten!$E$48=1,Basisdaten!$S$48*Saisonalisierung!A46,0)","v":35.545400000000001},{"$f":"IF(Basisdaten!$E$48<=2,Basisdaten!$S$48*Saisonalisierung!B46,0)","v":36.251600000000003},{"$f":"IF(Basisdaten!$E$48<=3,Basisdaten!$S$48*Saisonalisierung!C46,0)","v":41.901200000000003},{"$f":"IF(Basisdaten!$E$48<=4,Basisdaten!$S$48*Saisonalisierung!D46,0)","v":39.547200000000004},{"$f":"IF(Basisdaten!$E$48<=5,Basisdaten!$S$48*Saisonalisierung!E46,0)","v":37.8994},{"$f":"IF(Basisdaten!$E$48<=6,Basisdaten!$S$48*Saisonalisierung!F46,0)","v":39.311799999999998},{"$f":"IF(Basisdaten!$E$48<=7,Basisdaten!$S$48*Saisonalisierung!G46,0)","v":40.253400000000006},{"$f":"IF(Basisdaten!$E$48<=8,Basisdaten!$S$48*Saisonalisierung!H46,0)","v":39.547200000000004},{"$f":"IF(Basisdaten!$E$48<=9,Basisdaten!$S$48*Saisonalisierung!I46,0)","v":40.018000000000001},{"$f":"IF(Basisdaten!$E$48<=10,Basisdaten!$S$48*Saisonalisierung!J46,0)","v":38.841000000000001},{"$f":"IF(Basisdaten!$E$48<=11,Basisdaten!$S$48*Saisonalisierung!K46,0)","v":40.018000000000001},{"$f":"IF(Basisdaten!$E$48<=12,Basisdaten!$S$48*Saisonalisierung!L46,0)","v":41.665799999999997}]
[1,{"$f":"Basisdaten!B49","v":55},{"$f":"Basisdaten!A49","v":"Jens Haller"},{"$f":"Basisdaten!U49","v":2022},{"$f":"IF(Basisdaten!$E$49=1,Basisdaten!$S$49*Saisonalisierung!A47,0)","v":35.545400000000001},{"$f":"IF(Basisdaten!$E$49<=2,Basisdaten!$S$49*Saisonalisierung!B47,0)","v":36.251600000000003},{"$f":"IF(Basisdaten!$E$49<=3,Basisdaten!$S$49*Saisonalisierung!C47,0)","v":41.901200000000003},{"$f":"IF(Basisdaten!$E$49<=4,Basisdaten!$S$49*Saisonalisierung!D47,0)","v":39.547200000000004},{"$f":"IF(Basisdaten!$E$49<=5,Basisdaten!$S$49*Saisonalisierung!E47,0)","v":37.8994},{"$f":"IF(Basisdaten!$E$49<=6,Basisdaten!$S$49*Saisonalisierung!F47,0)","v":39.311799999999998},{"$f":"IF(Basisdaten!$E$49<=7,Basisdaten!$S$49*Saisonalisierung!G47,0)","v":40.253400000000006},{"$f":"IF(Basisdaten!$E$49<=8,Basisdaten!$S$49*Saisonalisierung!H47,0)","v":39.547200000000004},{"$f":"IF(Basisdaten!$E$49<=9,Basisdaten!$S$49*Saisonalisierung!I47,0)","v":40.018000000000001},{"$f":"IF(Basisdaten!$E$49<=10,Basisdaten!$S$49*Saisonalisierung!J47,0)","v":38.841000000000001},{"$f":"IF(Basisdaten!$E$49<=11,Basisdaten!$S$49*Saisonalisierung!K47,0)","v":40.018000000000001},{"$f":"IF(Basisdaten!$E$49<=12,Basisdaten!$S$49*Saisonalisierung!L47,0)","v":41.665799999999997}]
[1,{"$f":"Basisdaten!B50","v":55},{"$f":"Basisdaten!A50","v":"Ioannis Tsesmelis_"},{"$f":"Basisdaten!U50","v":2022},{"$f":"IF(Basisdaten!$E$50=1,Basisdaten!$S$50*Saisonalisierung!A48,0)","v":0},{"$f":"IF(Basisdaten!$E$50<=2,Basisdaten!$S$50*Saisonalisierung!B48,0)","v":0},{"$f":"IF(Basisdaten!$E$50<=3,Basisdaten!$S$50*Saisonalisierung!C48,0)","v":0},{"$f":"IF(Basisdaten!$E$50<=4,Basisdaten!$S$50*Saisonalisierung!D48,0)","v":0},{"$f":"IF(Basisdaten!$E$50<=5,Basisdaten!$S$50*Saisonalisierung!E48,0)","v":0},{"$f":"IF(Basisdaten!$E$50<=6,Basisdaten!$S$50*Saisonalisierung!F48,0)","v":0},{"$f":"IF(Basisdaten!$E$50<=7,Basisdaten!$S$50*Saisonalisierung!G48,0)","v":0},{"$f":"IF(Basisdaten!$E$50<=8,Basisdaten!$S$50*Saisonalisierung!H48,0)","v":0},{"$f":"IF(Basisdaten!$E$50<=9,Basisdaten!$S$50*Saisonalisierung!I48,0)","v":0},{"$f":"IF(Basisdaten!$E$50<=10,Basisdaten!$S$50*Saisonalisierung!J48,0)","v":0},{"$f":"IF(Basisdaten!$E$50<=11,Basisdaten!$S$50*Saisonalisierung!K48,0)","v":0},{"$f":"IF(Basisdaten!$E$50<=12,Basisdaten!$S$50*Saisonalisierung!L48,0)","v":0}]
[1,{"$f":"Basisdaten!B51","v":55},{"$f":"Basisdaten!A51","v":"Matthias Mirga_GZ"},{"$f":"Basisdaten!U51","v":2022},{"$f":"IF(Basisdaten!$E$51=1,Basisdaten!$S$51*Saisonalisierung!A49,0)","v":35.545400000000001},{"$f":"IF(Basisdaten!$E$51<=2,Basisdaten!$S$51*Saisonalisierung!B49,0)","v":36.251600000000003},{"$f":"IF(Basisdaten!$E$51<=3,Basisdaten!$S$51*Saisonalisierung!C49,0)","v":41.901200000000003},{"$f":"IF(Basisdaten!$E$51<=4,Basisdaten!$S$51*Saisonalisierung!D49,0)","v":39.547200000000004},{"$f":"IF(Basisdaten!$E$51<=5,Basisdaten!$S$51*Saisonalisierung!E49,0)","v":37.8994},{"$f":"IF(Basisdaten!$E$51<=6,Basisdaten!$S$51*Saisonalisierung!F49,0)","v":39.311799999999998},{"$f":"IF(Basisdaten!$E$51<=7,Basisdaten!$S$51*Saisonalisierung!G49,0)","v":40.253400000000006},{"$f":"IF(Basisdaten!$E$51<=8,Basisdaten!$S$51*Saisonalisierung!H49,0)","v":39.547200000000004},{"$f":"IF(Basisdaten!$E$51<=9,Basisdaten!$S$51*Saisonalisierung!I49,0)","v":40.018000000000001},{"$f":"IF(Basisdaten!$E$51<=10,Basisdaten!$S$51*Saisonalisierung!J49,0)","v":38.841000000000001},{"$f":"IF(Basisdaten!$E$51<=11,Basisdaten!$S$51*Saisonalisierung!K49,0)","v":40.018000000000001},{"$f":"IF(Basisdaten!$E$51<=12,Basisdaten!$S$51*Saisonalisierung!L49,0)","v":41.665799999999997}]
[2,{"$f":"Basisdaten!B52","v":60},{"$f":"Basisdaten!A52","v":"Hakan Celik"},{"$f":"Basisdaten!U52","v":2022},{"$f":"IF(Basisdaten!$E$52=1,Basisdaten!$S$52*Saisonalisierung!A50,0)","v":35.545400000000001},{"$f":"IF(Basisdaten!$E$52<=2,Basisdaten!$S$52*Saisonalisierung!B50,0)","v":36.251600000000003},{"$f":"IF(Basisdaten!$E$52<=3,Basisdaten!$S$52*Saisonalisierung!C50,0)","v":41.901200000000003},{"$f":"IF(Basisdaten!$E$52<=4,Basisdaten!$S$52*Saisonalisierung!D50,0)","v":39.547200000000004},{"$f":"IF(Basisdaten!$E$52<=5,Basisdaten!$S$52*Saisonalisierung!E50,0)","v":37.8994},{"$f":"IF(Basisdaten!$E$52<=6,Basisdaten!$S$52*Saisonalisierung!F50,0)","v":39.311799999999998},{"$f":"IF(Basisdaten!$E$52<=7,Basisdaten!$S$52*Saisonalisierung!G50,0)","v":40.253400000000006},{"$f":"IF(Basisdaten!$E$52<=8,Basisdaten!$S$52*Saisonalisierung!H50,0)","v":39.547200000000004},{"$f":"IF(Basisdaten!$E$52<=9,Basisdaten!$S$52*Saisonalisierung!I50,0)","v":40.018000000000001},{"$f":"IF(Basisdaten!$E$52<=10,Basisdaten!$S$52*Saisonalisierung!J50,0)","v":38.841000000000001},{"$f":"IF(Basisdaten!$E$52<=11,Basisdaten!$S$52*Saisonalisierung!K50,0)","v":40.018000000000001},{"$f":"IF(Basisdaten!$E$52<=12,Basisdaten!$S$52*Saisonalisierung!L50,0)","v":41.665799999999997}]
[1,{"$f":"Basisdaten!B53","v":40},{"$f":"Basisdaten!A53","v":"Tom Sprongl"},{"$f":"Basisdaten!U53","v":2022},{"$f":"IF(Basisdaten!$E$53=1,Basisdaten!$S$53*Saisonalisierung!A51,0)","v":35.545400000000001},{"$f":"IF(Basisdaten!$E$53<=2,Basisdaten!$S$53*Saisonalisierung!B51,0)","v":36.251600000000003},{"$f":"IF(Basisdaten!$E$53<=3,Basisdaten!$S$53*Saisonalisierung!C51,0)","v":41.901200000000003},{"$f":"IF(Basisdaten!$E$53<=4,Basisdaten!$S$53*Saisonalisierung!D51,0)","v":39.547200000000004},{"$f":"IF(Basisdaten!$E$53<=5,Basisdaten!$S$53*Saisonalisierung!E51,0)","v":37.8994},{"$f":"IF(Basisdaten!$E$53<=6,Basisdaten!$S$53*Saisonalisierung!F51,0)","v":39.311799999999998},{"$f":"IF(Basisdaten!$E$53<=7,Basisdaten!$S$53*Saisonalisierung!G51,0)","v":40.253400000000006},{"$f":"IF(Basisdaten!$E$53<=8,Basisdaten!$S$53*Saisonalisierung!H51,0)","v":39.547200000000004},{"$f":"IF(Basisdaten!$E$53<=9,Basisdaten!$S$53*Saisonalisierung!I51,0)","v":40.018000000000001},{"$f":"IF(Basisdaten!$E$53<=10,Basisdaten!$S$53*Saisonalisierung!J51,0)","v":38.841000000000001},{"$f":"IF(Basisdaten!$E$53<=11,Basisdaten!$S$53*Saisonalisierung!K51,0)","v":40.018000000000001},{"$f":"IF(Basisdaten!$E$53<=12,Basisdaten!$S$53*Saisonalisierung!L51,0)","v":41.665799999999997}]
[null,{"$f":"Basisdaten!B54","v":0},{"$f":"Basisdaten!A54","v":"SB 5"},{"$f":"Basisdaten!U54","v":0},{"$f":"IF(Basisdaten!$E$54=1,Basisdaten!$S$54*Saisonalisierung!A52,0)","v":0},{"$f":"IF(Basisdaten!$E$54<=2,Basisdaten!$S$54*Saisonalisierung!B52,0)","v":0},{"$f":"IF(Basisdaten!$E$54<=3,Basisdaten!$S$54*Saisonalisierung!C52,0)","v":0},{"$f":"IF(Basisdaten!$E$54<=4,Basisdaten!$S$54*Saisonalisierung!D52,0)","v":0},{"$f":"IF(Basisdaten!$E$54<=5,Basisdaten!$S$54*Saisonalisierung!E52,0)","v":0},{"$f":"IF(Basisdaten!$E$54<=6,Basisdaten!$S$54*Saisonalisierung!F52,0)","v":0},{"$f":"IF(Basisdaten!$E$54<=7,Basisdaten!$S$54*Saisonalisierung!G52,0)","v":0},{"$f":"IF(Basisdaten!$E$54<=8,Basisdaten!$S$54*Saisonalisierung!H52,0)","v":0},{"$f":"IF(Basisdaten!$E$54<=9,Basisdaten!$S$54*Saisonalisierung!I52,0)","v":0},{"$f":"IF(Basisdaten!$E$54<=10,Basisdaten!$S$54*Saisonalisierung!J52,0)","v":0},{"$f":"IF(Basisdaten!$E$54<=11,Basisdaten!$S$54*Saisonalisierung!K52,0)","v":0},{"$f":"IF(Basisdaten!$E$54<=12,Basisdaten!$S$54*Saisonalisierung!L52,0)","v":0}]
[null,{"$f":"Basisdaten!B55","v":0},{"$f":"Basisdaten!A55","v":"SB 6"},{"$f":"Basisdaten!U55","v":0},{"$f":"IF(Basisdaten!$E$55=1,Basisdaten!$S$55*Saisonalisierung!A53,0)","v":0},{"$f":"IF(Basisdaten!$E$55<=2,Basisdaten!$S$55*Saisonalisierung!B53,0)","v":0},{"$f":"IF(Basisdaten!$E$55<=3,Basisdaten!$S$55*Saisonalisierung!C53,0)","v":0},{"$f":"IF(Basisdaten!$E$55<=4,Basisdaten!$S$55*Saisonalisierung!D53,0)","v":0},{"$f":"IF(Basisdaten!$E$55<=5,Basisdaten!$S$55*Saisonalisierung!E53,0)","v":0},{"$f":"IF(Basisdaten!$E$55<=6,Basisdaten!$S$55*Saisonalisierung!F53,0)","v":0},{"$f":"IF(Basisdaten!$E$55<=7,Basisdaten!$S$55*Saisonalisierung!G53,0)","v":0},{"$f":"IF(Basisdaten!$E$55<=8,Basisdaten!$S$55*Saisonalisierung!H53,0)","v":0},{"$f":"IF(Basisdaten!$E$55<=9,Basisdaten!$S$55*Saisonalisierung!I53,0)","v":0},{"$f":"IF(Basisdaten!$E$55<=10,Basisdaten!$S$55*Saisonalisierung!J53,0)","v":0},{"$f":"IF(Basisdaten!$E$55<=11,Basisdaten!$S$55*Saisonalisierung!K53,0)","v":0},{"$f":"IF(Basisdaten!$E$55<=12,Basisdaten!$S$55*Saisonalisierung!L53,0)","v":0}]
[null,{"$f":"Basisdaten!B56","v":0},{"$f":"Basisdaten!A56","v":"SB 7"},{"$f":"Basisdaten!U56","v":0},{"$f":"IF(Basisdaten!$E$56=1,Basisdaten!$S$56*Saisonalisierung!A54,0)","v":0},{"$f":"IF(Basisdaten!$E$56<=2,Basisdaten!$S$56*Saisonalisierung!B54,0)","v":0},{"$f":"IF(Basisdaten!$E$56<=3,Basisdaten!$S$56*Saisonalisierung!C54,0)","v":0},{"$f":"IF(Basisdaten!$E$56<=4,Basisdaten!$S$56*Saisonalisierung!D54,0)","v":0},{"$f":"IF(Basisdaten!$E$56<=5,Basisdaten!$S$56*Saisonalisierung!E54,0)","v":0},{"$f":"IF(Basisdaten!$E$56<=6,Basisdaten!$S$56*Saisonalisierung!F54,0)","v":0},{"$f":"IF(Basisdaten!$E$56<=7,Basisdaten!$S$56*Saisonalisierung!G54,0)","v":0},{"$f":"IF(Basisdaten!$E$56<=8,Basisdaten!$S$56*Saisonalisierung!H54,0)","v":0},{"$f":"IF(Basisdaten!$E$56<=9,Basisdaten!$S$56*Saisonalisierung!I54,0)","v":0},{"$f":"IF(Basisdaten!$E$56<=10,Basisdaten!$S$56*Saisonalisierung!J54,0)","v":0},{"$f":"IF(Basisdaten!$E$56<=11,Basisdaten!$S$56*Saisonalisierung!K54,0)","v":0},{"$f":"IF(Basisdaten!$E$56<=12,Basisdaten!$S$56*Saisonalisierung!L54,0)","v":0}]
[null,{"$f":"Basisdaten!B57","v":0},{"$f":"Basisdaten!A57","v":"SB 8"},{"$f":"Basisdaten!U57","v":0},{"$f":"IF(Basisdaten!$E$57=1,Basisdaten!$S$57*Saisonalisierung!A55,0)","v":0},{"$f":"IF(Basisdaten!$E$57<=2,Basisdaten!$S$57*Saisonalisierung!B55,0)","v":0},{"$f":"IF(Basisdaten!$E$57<=3,Basisdaten!$S$57*Saisonalisierung!C55,0)","v":0},{"$f":"IF(Basisdaten!$E$57<=4,Basisdaten!$S$57*Saisonalisierung!D55,0)","v":0},{"$f":"IF(Basisdaten!$E$57<=5,Basisdaten!$S$57*Saisonalisierung!E55,0)","v":0},{"$f":"IF(Basisdaten!$E$57<=6,Basisdaten!$S$57*Saisonalisierung!F55,0)","v":0},{"$f":"IF(Basisdaten!$E$57<=7,Basisdaten!$S$57*Saisonalisierung!G55,0)","v":0},{"$f":"IF(Basisdaten!$E$57<=8,Basisdaten!$S$57*Saisonalisierung!H55,0)","v":0},{"$f":"IF(Basisdaten!$E$57<=9,Basisdaten!$S$57*Saisonalisierung!I55,0)","v":0},{"$f":"IF(Basisdaten!$E$57<=10,Basisdaten!$S$57*Saisonalisierung!J55,0)","v":0},{"$f":"IF(Basisdaten!$E$57<=11,Basisdaten!$S$57*Saisonalisierung!K55,0)","v":0},{"$f":"IF(Basisdaten!$E$57<=12,Basisdaten!$S$57*Saisonalisierung!L55,0)","v":0}]
[null,{"$f":"Basisdaten!B58","v":0},{"$f":"Basisdaten!A58","v":"SB 9"},{"$f":"Basisdaten!U58","v":0},{"$f":"IF(Basisdaten!$E$58=1,Basisdaten!$S$58*Saisonalisierung!A56,0)","v":0},{"$f":"IF(Basisdaten!$E$58<=2,Basisdaten!$S$58*Saisonalisierung!B56,0)","v":0},{"$f":"IF(Basisdaten!$E$58<=3,Basisdaten!$S$58*Saisonalisierung!C56,0)","v":0},{"$f":"IF(Basisdaten!$E$58<=4,Basisdaten!$S$58*Saisonalisierung!D56,0)","v":0},{"$f":"IF(Basisdaten!$E$58<=5,Basisdaten!$S$58*Saisonalisierung!E56,0)","v":0},{"$f":"IF(Basisdaten!$E$58<=6,Basisdaten!$S$58*Saisonalisierung!F56,0)","v":0},{"$f":"IF(Basisdaten!$E$58<=7,Basisdaten!$S$58*Saisonalisierung!G56,0)","v":0},{"$f":"IF(Basisdaten!$E$58<=8,Basisdaten!$S$58*Saisonalisierung!H56,0)","v":0},{"$f":"IF(Basisdaten!$E$58<=9,Basisdaten!$S$58*Saisonalisierung!I56,0)","v":0},{"$f":"IF(Basisdaten!$E$58<=10,Basisdaten!$S$58*Saisonalisierung!J56,0)","v":0},{"$f":"IF(Basisdaten!$E$58<=11,Basisdaten!$S$58*Saisonalisierung!K56,0)","v":0},{"$f":"IF(Basisdaten!$E$58<=12,Basisdaten!$S$58*Saisonalisierung!L56,0)","v":0}]
[null,{"$f":"Basisdaten!B59","v":0},{"$f":"Basisdaten!A59","v":"SB 10"},{"$f":"Basisdaten!U59","v":0},{"$f":"IF(Basisdaten!$E$59=1,Basisdaten!$S$59*Saisonalisierung!A57,0)","v":0},{"$f":"IF(Basisdaten!$E$59<=2,Basisdaten!$S$59*Saisonalisierung!B57,0)","v":0},{"$f":"IF(Basisdaten!$E$59<=3,Basisdaten!$S$59*Saisonalisierung!C57,0)","v":0},{"$f":"IF(Basisdaten!$E$59<=4,Basisdaten!$S$59*Saisonalisierung!D57,0)","v":0},{"$f":"IF(Basisdaten!$E$59<=5,Basisdaten!$S$59*Saisonalisierung!E57,0)","v":0},{"$f":"IF(Basisdaten!$E$59<=6,Basisdaten!$S$59*Saisonalisierung!F57,0)","v":0},{"$f":"IF(Basisdaten!$E$59<=7,Basisdaten!$S$59*Saisonalisierung!G57,0)","v":0},{"$f":"IF(Basisdaten!$E$59<=8,Basisdaten!$S$59*Saisonalisierung!H57,0)","v":0},{"$f":"IF(Basisdaten!$E$59<=9,Basisdaten!$S$59*Saisonalisierung!I57,0)","v":0},{"$f":"IF(Basisdaten!$E$59<=10,Basisdaten!$S$59*Saisonalisierung!J57,0)","v":0},{"$f":"IF(Basisdaten!$E$59<=11,Basisdaten!$S$59*Saisonalisierung!K57,0)","v":0},{"$f":"IF(Basisdaten!$E$59<=12,Basisdaten!$S$59*Saisonalisierung!L57,0)","v":0}]

{"sheet":"Verarb_AW","index":24,"n_rows":57,"n_cols":16,"rows_kept":57,"cut":false,"hidden":false,"merged":[]}
["Hauptbetrieb","Standort","Serviceberater","Invoice Date","AW_Plan_1","AW_Plan_2","AW_Plan_3","AW_Plan_4","AW_Plan_5","AW_Plan_6","AW_Plan_7","AW_Plan_8","AW_Plan_9","AW_Plan_10","AW_Plan_11","AW_Plan_12"]
[1,{"$f":"Basisdaten!B4","v":10},{"$f":"Basisdaten!A4","v":"Erich Harzenetter - SCBK"},{"$f":"Basisdaten!U4","v":2022},{"$f":"IF(Basisdaten!$E$4=1,Basisdaten!$M$4*Saisonalisierung!A2,0)","v":4265.4480000000003},{"$f":"IF(Basisdaten!$E$4<=2,Basisdaten!$M$4*Saisonalisierung!B2,0)","v":4350.192},{"$f":"IF(Basisdaten!$E$4<=3,Basisdaten!$M$4*Saisonalisierung!C2,0)","v":5028.1440000000002},{"$f":"IF(Basisdaten!$E$4<=4,Basisdaten!$M$4*Saisonalisierung!D2,0)","v":4745.6640000000007},{"$f":"IF(Basisdaten!$E$4<=5,Basisdaten!$M$4*Saisonalisierung!E2,0)","v":4547.9279999999999},{"$f":"IF(Basisdaten!$E$4<=6,Basisdaten!$M$4*Saisonalisierung!F2,0)","v":4717.4159999999993},{"$f":"IF(Basisdaten!$E$4<=7,Basisdaten!$M$4*Saisonalisierung!G2,0)","v":4830.4080000000004},{"$f":"IF(Basisdaten!$E$4<=8,Basisdaten!$M$4*Saisonalisierung!H2,0)","v":4745.6640000000007},{"$f":"IF(Basisdaten!$E$4<=9,Basisdaten!$M$4*Saisonalisierung!I2,0)","v":4802.1600000000008},{"$f":"IF(Basisdaten!$E$4<=10,Basisdaten!$M$4*Saisonalisierung!J2,0)","v":4660.92},{"$f":"IF(Basisdaten!$E$4<=11,Basisdaten!$M$4*Saisonalisierung!K2,0)","v":4802.1600000000008},{"$f":"IF(Basisdaten!$E$4<=12,Basisdaten!$M$4*Saisonalisierung!L2,0)","v":4999.8959999999997}]
[1,{"$f":"Basisdaten!B5","v":10},{"$f":"Basisdaten!A5","v":"Johannes Grieser - SCBI"},{"$f":"Basisdaten!U5","v":2022},{"$f":"IF(Basisdaten!$E$5=1,Basisdaten!$M$5*Saisonalisierung!A3,0)","v":4265.4480000000003},{"$f":"IF(Basisdaten!$E$5<=2,Basisdaten!$M$5*Saisonalisierung!B3,0)","v":4350.192},{"$f":"IF(Basisdaten!$E$5<=3,Basisdaten!$M$5*Saisonalisierung!C3,0)","v":5028.1440000000002},{"$f":"IF(Basisdaten!$E$5<=4,Basisdaten!$M$5*Saisonalisierung!D3,0)","v":4745.6640000000007},{"$f":"IF(Basisdaten!$E$5<=5,Basisdaten!$M$5*Saisonalisierung!E3,0)","v":4547.9279999999999},{"$f":"IF(Basisdaten!$E$5<=6,Basisdaten!$M$5*Saisonalisierung!F3,0)","v":4717.4159999999993},{"$f":"IF(Basisdaten!$E$5<=7,Basisdaten!$M$5*Saisonalisierung!G3,0)","v":4830.4080000000004},{"$f":"IF(Basisdaten!$E$5<=8,Basisdaten!$M$5*Saisonalisierung!H3,0)","v":4745.6640000000007},{"$f":"IF(Basisdaten!$E$5<=9,Basisdaten!$M$5*Saisonalisierung!I3,0)","v":4802.1600000000008},{"$f":"IF(Basisdaten!$E$5<=10,Basisdaten!$M$5*Saisonalisierung!J3,0)","v":4660.92},{"$f":"IF(Basisdaten!$E$5<=11,Basisdaten!$M$5*Saisonalisierung!K3,0)","v":4802.1600000000008},{"$f":"IF(Basisdaten!$E$5<=12,Basisdaten!$M$5*Saisonalisierung!L3,0)","v":4999.8959999999997}]
[1,{"$f":"Basisdaten!B6","v":10},{"$f":"Basisdaten!A6","v":"Mike Weber"},{"$f":"Basisdaten!U6","v":2022},{"$f":"IF(Basisdaten!$E$6=1,Basisdaten!$M$6*Saisonalisierung!A4,0)","v":4265.4480000000003},{"$f":"IF(Basisdaten!$E$6<=2,Basisdaten!$M$6*Saisonalisierung!B4,0)","v":4350.192},{"$f":"IF(Basisdaten!$E$6<=3,Basisdaten!$M$6*Saisonalisierung!C4,0)","v":5028.1440000000002},{"$f":"IF(Basisdaten!$E$6<=4,Basisdaten!$M$6*Saisonalisierung!D4,0)","v":4745.6640000000007},{"$f":"IF(Basisdaten!$E$6<=5,Basisdaten!$M$6*Saisonalisierung!E4,0)","v":4547.9279999999999},{"$f":"IF(Basisdaten!$E$6<=6,Basisdaten!$M$6*Saisonalisierung!F4,0)","v":4717.4159999999993},{"$f":"IF(Basisdaten!$E$6<=7,Basisdaten!$M$6*Saisonalisierung!G4,0)","v":4830.4080000000004},{"$f":"IF(Basisdaten!$E$6<=8,Basisdaten!$M$6*Saisonalisierung!H4,0)","v":4745.6640000000007},{"$f":"IF(Basisdaten!$E$6<=9,Basisdaten!$M$6*Saisonalisierung!I4,0)","v":4802.1600000000008},{"$f":"IF(Basisdaten!$E$6<=10,Basisdaten!$M$6*Saisonalisierung!J4,0)","v":4660.92},{"$f":"IF(Basisdaten!$E$6<=11,Basisdaten!$M$6*Saisonalisierung!K4,0)","v":4802.1600000000008},{"$f":"IF(Basisdaten!$E$6<=12,Basisdaten!$M$6*Saisonalisierung!L4,0)","v":4999.8959999999997}]
[1,{"$f":"Basisdaten!B7","v":10},{"$f":"Basisdaten!A7","v":"Rudolf Maier"},{"$f":"Basisdaten!U7","v":2022},{"$f":"IF(Basisdaten!$E$7=1,Basisdaten!$M$7*Saisonalisierung!A5,0)","v":4265.4480000000003},{"$f":"IF(Basisdaten!$E$7<=2,Basisdaten!$M$7*Saisonalisierung!B5,0)","v":4350.192},{"$f":"IF(Basisdaten!$E$7<=3,Basisdaten!$M$7*Saisonalisierung!C5,0)","v":5028.1440000000002},{"$f":"IF(Basisdaten!$E$7<=4,Basisdaten!$M$7*Saisonalisierung!D5,0)","v":4745.6640000000007},{"$f":"IF(Basisdaten!$E$7<=5,Basisdaten!$M$7*Saisonalisierung!E5,0)","v":4547.9279999999999},{"$f":"IF(Basisdaten!$E$7<=6,Basisdaten!$M$7*Saisonalisierung!F5,0)","v":4717.4159999999993},{"$f":"IF(Basisdaten!$E$7<=7,Basisdaten!$M$7*Saisonalisierung!G5,0)","v":4830.4080000000004},{"$f":"IF(Basisdaten!$E$7<=8,Basisdaten!$M$7*Saisonalisierung!H5,0)","v":4745.6640000000007},{"$f":"IF(Basisdaten!$E$7<=9,Basisdaten!$M$7*Saisonalisierung!I5,0)","v":4802.1600000000008},{"$f":"IF(Basisdaten!$E$7<=10,Basisdaten!$M$7*Saisonalisierung!J5,0)","v":4660.92},{"$f":"IF(Basisdaten!$E$7<=11,Basisdaten!$M$7*Saisonalisierung!K5,0)","v":4802.1600000000008},{"$f":"IF(Basisdaten!$E$7<=12,Basisdaten!$M$7*Saisonalisierung!L5,0)","v":4999.8959999999997}]
[1,{"$f":"Basisdaten!B8","v":10},{"$f":"Basisdaten!A8","v":"Hermann Haller_"},{"$f":"Basisdaten!U8","v":2022},{"$f":"IF(Basisdaten!$E$8=1,Basisdaten!$M$8*Saisonalisierung!A6,0)","v":0},{"$f":"IF(Basisdaten!$E$8<=2,Basisdaten!$M$8*Saisonalisierung!B6,0)","v":0},{"$f":"IF(Basisdaten!$E$8<=3,Basisdaten!$M$8*Saisonalisierung!C6,0)","v":0},{"$f":"IF(Basisdaten!$E$8<=4,Basisdaten!$M$8*Saisonalisierung!D6,0)","v":0},{"$f":"IF(Basisdaten!$E$8<=5,Basisdaten!$M$8*Saisonalisierung!E6,0)","v":0},{"$f":"IF(Basisdaten!$E$8<=6,Basisdaten!$M$8*Saisonalisierung!F6,0)","v":0},{"$f":"IF(Basisdaten!$E$8<=7,Basisdaten!$M$8*Saisonalisierung!G6,0)","v":0},{"$f":"IF(Basisdaten!$E$8<=8,Basisdaten!$M$8*Saisonalisierung!H6,0)","v":0},{"$f":"IF(Basisdaten!$E$8<=9,Basisdaten!$M$8*Saisonalisierung!I6,0)","v":0},{"$f":"IF(Basisdaten!$E$8<=10,Basisdaten!$M$8*Saisonalisierung!J6,0)","v":0},{"$f":"IF(Basisdaten!$E$8<=11,Basisdaten!$M$8*Saisonalisierung!K6,0)","v":0},{"$f":"IF(Basisdaten!$E$8<=12,Basisdaten!$M$8*Saisonalisierung!L6,0)","v":0}]
[1,{"$f":"Basisdaten!B9","v":10},{"$f":"Basisdaten!A9","v":"Christopher Kirmayer"},{"$f":"Basisdaten!U9","v":2022},{"$f":"IF(Basisdaten!$E$9=1,Basisdaten!$M$9*Saisonalisierung!A7,0)","v":4265.4480000000003},{"$f":"IF(Basisdaten!$E$9<=2,Basisdaten!$M$9*Saisonalisierung!B7,0)","v":4350.192},{"$f":"IF(Basisdaten!$E$9<=3,Basisdaten!$M$9*Saisonalisierung!C7,0)","v":5028.1440000000002},{"$f":"IF(Basisdaten!$E$9<=4,Basisdaten!$M$9*Saisonalisierung!D7,0)","v":4745.6640000000007},{"$f":"IF(Basisdaten!$E$9<=5,Basisdaten!$M$9*Saisonalisierung!E7,0)","v":4547.9279999999999},{"$f":"IF(Basisdaten!$E$9<=6,Basisdaten!$M$9*Saisonalisierung!F7,0)","v":4717.4159999999993},{"$f":"IF(Basisdaten!$E$9<=7,Basisdaten!$M$9*Saisonalisierung!G7,0)","v":4830.4080000000004},{"$f":"IF(Basisdaten!$E$9<=8,Basisdaten!$M$9*Saisonalisierung!H7,0)","v":4745.6640000000007},{"$f":"IF(Basisdaten!$E$9<=9,Basisdaten!$M$9*Saisonalisierung!I7,0)","v":4802.1600000000008},{"$f":"IF(Basisdaten!$E$9<=10,Basisdaten!$M$9*Saisonalisierung!J7,0)","v":4660.92},{"$f":"IF(Basisdaten!$E$9<=11,Basisdaten!$M$9*Saisonalisierung!K7,0)","v":4802.1600000000008},{"$f":"IF(Basisdaten!$E$9<=12,Basisdaten!$M$9*Saisonalisierung!L7,0)","v":4999.8959999999997}]
[1,{"$f":"Basisdaten!B10","v":10},{"$f":"Basisdaten!A10","v":"Jörg Reifenrath"},{"$f":"Basisdaten!U10","v":2022},{"$f":"IF(Basisdaten!$E$10=1,Basisdaten!$M$10*Saisonalisierung!A8,0)","v":4265.4480000000003},{"$f":"IF(Basisdaten!$E$10<=2,Basisdaten!$M$10*Saisonalisierung!B8,0)","v":4350.192},{"$f":"IF(Basisdaten!$E$10<=3,Basisdaten!$M$10*Saisonalisierung!C8,0)","v":5028.1440000000002},{"$f":"IF(Basisdaten!$E$10<=4,Basisdaten!$M$10*Saisonalisierung!D8,0)","v":4745.6640000000007},{"$f":"IF(Basisdaten!$E$10<=5,Basisdaten!$M$10*Saisonalisierung!E8,0)","v":4547.9279999999999},{"$f":"IF(Basisdaten!$E$10<=6,Basisdaten!$M$10*Saisonalisierung!F8,0)","v":4717.4159999999993},{"$f":"IF(Basisdaten!$E$10<=7,Basisdaten!$M$10*Saisonalisierung!G8,0)","v":4830.4080000000004},{"$f":"IF(Basisdaten!$E$10<=8,Basisdaten!$M$10*Saisonalisierung!H8,0)","v":4745.6640000000007},{"$f":"IF(Basisdaten!$E$10<=9,Basisdaten!$M$10*Saisonalisierung!I8,0)","v":4802.1600000000008},{"$f":"IF(Basisdaten!$E$10<=10,Basisdaten!$M$10*Saisonalisierung!J8,0)","v":4660.92},{"$f":"IF(Basisdaten!$E$10<=11,Basisdaten!$M$10*Saisonalisierung!K8,0)","v":4802.1600000000008},{"$f":"IF(Basisdaten!$E$10<=12,Basisdaten!$M$10*Saisonalisierung!L8,0)","v":4999.8959999999997}]
[1,{"$f":"Basisdaten!B11","v":10},{"$f":"Basisdaten!A11","v":"Günter Küblbeck - SCBI_"},{"$f":"Basisdaten!U11","v":2022},{"$f":"IF(Basisdaten!$E$11=1,Basisdaten!$M$11*Saisonalisierung!A9,0)","v":0},{"$f":"IF(Basisdaten!$E$11<=2,Basisdaten!$M$11*Saisonalisierung!B9,0)","v":0},{"$f":"IF(Basisdaten!$E$11<=3,Basisdaten!$M$11*Saisonalisierung!C9,0)","v":0},{"$f":"IF(Basisdaten!$E$11<=4,Basisdaten!$M$11*Saisonalisierung!D9,0)","v":0},{"$f":"IF(Basisdaten!$E$11<=5,Basisdaten!$M$11*Saisonalisierung!E9,0)","v":0},{"$f":"IF(Basisdaten!$E$11<=6,Basisdaten!$M$11*Saisonalisierung!F9,0)","v":0},{"$f":"IF(Basisdaten!$E$11<=7,Basisdaten!$M$11*Saisonalisierung!G9,0)","v":0},{"$f":"IF(Basisdaten!$E$11<=8,Basisdaten!$M$11*Saisonalisierung!H9,0)","v":0},{"$f":"IF(Basisdaten!$E$11<=9,Basisdaten!$M$11*Saisonalisierung!I9,0)","v":0},{"$f":"IF(Basisdaten!$E$11<=10,Basisdaten!$M$11*Saisonalisierung!J9,0)","v":0},{"$f":"IF(Basisdaten!$E$11<=11,Basisdaten!$M$11*Saisonalisierung!K9,0)","v":0},{"$f":"IF(Basisdaten!$E$11<=12,Basisdaten!$M$11*Saisonalisierung!L9,0)","v":0}]
[1,{"$f":"Basisdaten!B12","v":10},{"$f":"Basisdaten!A12","v":"Patrick Kresser"},{"$f":"Basisdaten!U12","v":2022},{"$f":"IF(Basisdaten!$E$12=1,Basisdaten!$M$12*Saisonalisierung!A10,0)","v":4265.4480000000003},{"$f":"IF(Basisdaten!$E$12<=2,Basisdaten!$M$12*Saisonalisierung!B10,0)","v":4350.192},{"$f":"IF(Basisdaten!$E$12<=3,Basisdaten!$M$12*Saisonalisierung!C10,0)","v":5028.1440000000002},{"$f":"IF(Basisdaten!$E$12<=4,Basisdaten!$M$12*Saisonalisierung!D10,0)","v":4745.6640000000007},{"$f":"IF(Basisdaten!$E$12<=5,Basisdaten!$M$12*Saisonalisierung!E10,0)","v":4547.9279999999999},{"$f":"IF(Basisdaten!$E$12<=6,Basisdaten!$M$12*Saisonalisierung!F10,0)","v":4717.4159999999993},{"$f":"IF(Basisdaten!$E$12<=7,Basisdaten!$M$12*Saisonalisierung!G10,0)","v":4830.4080000000004},{"$f":"IF(Basisdaten!$E$12<=8,Basisdaten!$M$12*Saisonalisierung!H10,0)","v":4745.6640000000007},{"$f":"IF(Basisdaten!$E$12<=9,Basisdaten!$M$12*Saisonalisierung!I10,0)","v":4802.1600000000008},{"$f":"IF(Basisdaten!$E$12<=10,Basisdaten!$M$12*Saisonalisierung!J10,0)","v":4660.92},{"$f":"IF(Basisdaten!$E$12<=11,Basisdaten!$M$12*Saisonalisierung!K10,0)","v":4802.1600000000008},{"$f":"IF(Basisdaten!$E$12<=12,Basisdaten!$M$12*Saisonalisierung!L10,0)","v":4999.8959999999997}]
[1,{"$f":"Basisdaten!B13","v":30},{"$f":"Basisdaten!A13","v":"Ralf Ruchti"},{"$f":"Basisdaten!U13","v":2022},{"$f":"IF(Basisdaten!$E$13=1,Basisdaten!$M$13*Saisonalisierung!A11,0)","v":2985.8135999999995},{"$f":"IF(Basisdaten!$E$13<=2,Basisdaten!$M$13*Saisonalisierung!B11,0)","v":3045.1343999999999},{"$f":"IF(Basisdaten!$E$13<=3,Basisdaten!$M$13*Saisonalisierung!C11,0)","v":3519.7008000000001},{"$f":"IF(Basisdaten!$E$13<=4,Basisdaten!$M$13*Saisonalisierung!D11,0)","v":3321.9647999999997},{"$f":"IF(Basisdaten!$E$13<=5,Basisdaten!$M$13*Saisonalisierung!E11,0)","v":3183.5495999999998},{"$f":"IF(Basisdaten!$E$13<=6,Basisdaten!$M$13*Saisonalisierung!F11,0)","v":3302.1911999999993},{"$f":"IF(Basisdaten!$E$13<=7,Basisdaten!$M$13*Saisonalisierung!G11,0)","v":3381.2856000000002},{"$f":"IF(Basisdaten!$E$13<=8,Basisdaten!$M$13*Saisonalisierung!H11,0)","v":3321.9647999999997},{"$f":"IF(Basisdaten!$E$13<=9,Basisdaten!$M$13*Saisonalisierung!I11,0)","v":3361.5120000000002},{"$f":"IF(Basisdaten!$E$13<=10,Basisdaten!$M$13*Saisonalisierung!J11,0)","v":3262.6439999999998},{"$f":"IF(Basisdaten!$E$13<=11,Basisdaten!$M$13*Saisonalisierung!K11,0)","v":3361.5120000000002},{"$f":"IF(Basisdaten!$E$13<=12,Basisdaten!$M$13*Saisonalisierung!L11,0)","v":3499.9271999999996}]
[1,{"$f":"Basisdaten!B14","v":30},{"$f":"Basisdaten!A14","v":"Matthias Mirga"},{"$f":"Basisdaten!U14","v":2022},{"$f":"IF(Basisdaten!$E$14=1,Basisdaten!$M$14*Saisonalisierung!A12,0)","v":4265.4480000000003},{"$f":"IF(Basisdaten!$E$14<=2,Basisdaten!$M$14*Saisonalisierung!B12,0)","v":4350.192},{"$f":"IF(Basisdaten!$E$14<=3,Basisdaten!$M$14*Saisonalisierung!C12,0)","v":5028.1440000000002},{"$f":"IF(Basisdaten!$E$14<=4,Basisdaten!$M$14*Saisonalisierung!D12,0)","v":4745.6640000000007},{"$f":"IF(Basisdaten!$E$14<=5,Basisdaten!$M$14*Saisonalisierung!E12,0)","v":4547.9279999999999},{"$f":"IF(Basisdaten!$E$14<=6,Basisdaten!$M$14*Saisonalisierung!F12,0)","v":4717.4159999999993},{"$f":"IF(Basisdaten!$E$14<=7,Basisdaten!$M$14*Saisonalisierung!G12,0)","v":4830.4080000000004},{"$f":"IF(Basisdaten!$E$14<=8,Basisdaten!$M$14*Saisonalisierung!H12,0)","v":4745.6640000000007},{"$f":"IF(Basisdaten!$E$14<=9,Basisdaten!$M$14*Saisonalisierung!I12,0)","v":4802.1600000000008},{"$f":"IF(Basisdaten!$E$14<=10,Basisdaten!$M$14*Saisonalisierung!J12,0)","v":4660.92},{"$f":"IF(Basisdaten!$E$14<=11,Basisdaten!$M$14*Saisonalisierung!K12,0)","v":4802.1600000000008},{"$f":"IF(Basisdaten!$E$14<=12,Basisdaten!$M$14*Saisonalisierung!L12,0)","v":4999.8959999999997}]
[1,{"$f":"Basisdaten!B15","v":40},{"$f":"Basisdaten!A15","v":"Wolfgang Heckelmiller - SCBK"},{"$f":"Basisdaten!U15","v":2022},{"$f":"IF(Basisdaten!$E$15=1,Basisdaten!$M$15*Saisonalisierung!A13,0)","v":4265.4480000000003},{"$f":"IF(Basisdaten!$E$15<=2,Basisdaten!$M$15*Saisonalisierung!B13,0)","v":4350.192},{"$f":"IF(Basisdaten!$E$15<=3,Basisdaten!$M$15*Saisonalisierung!C13,0)","v":5028.1440000000002},{"$f":"IF(Basisdaten!$E$15<=4,Basisdaten!$M$15*Saisonalisierung!D13,0)","v":4745.6640000000007},{"$f":"IF(Basisdaten!$E$15<=5,Basisdaten!$M$15*Saisonalisierung!E13,0)","v":4547.9279999999999},{"$f":"IF(Basisdaten!$E$15<=6,Basisdaten!$M$15*Saisonalisierung!F13,0)","v":4717.4159999999993},{"$f":"IF(Basisdaten!$E$15<=7,Basisdaten!$M$15*Saisonalisierung!G13,0)","v":4830.4080000000004},{"$f":"IF(Basisdaten!$E$15<=8,Basisdaten!$M$15*Saisonalisierung!H13,0)","v":4745.6640000000007},{"$f":"IF(Basisdaten!$E$15<=9,Basisdaten!$M$15*Saisonalisierung!I13,0)","v":4802.1600000000008},{"$f":"IF(Basisdaten!$E$15<=10,Basisdaten!$M$15*Saisonalisierung!J13,0)","v":4660.92},{"$f":"IF(Basisdaten!$E$15<=11,Basisdaten!$M$15*Saisonalisierung!K13,0)","v":4802.1600000000008},{"$f":"IF(Basisdaten!$E$15<=12,Basisdaten!$M$15*Saisonalisierung!L13,0)","v":4999.8959999999997}]
[1,{"$f":"Basisdaten!B16","v":40},{"$f":"Basisdaten!A16","v":"Daniel Klingenstein"},{"$f":"Basisdaten!U16","v":2022},{"$f":"IF(Basisdaten!$E$16=1,Basisdaten!$M$16*Saisonalisierung!A14,0)","v":4265.4480000000003},{"$f":"IF(Basisdaten!$E$16<=2,Basisdaten!$M$16*Saisonalisierung!B14,0)","v":4350.192},{"$f":"IF(Basisdaten!$E$16<=3,Basisdaten!$M$16*Saisonalisierung!C14,0)","v":5028.1440000000002},{"$f":"IF(Basisdaten!$E$16<=4,Basisdaten!$M$16*Saisonalisierung!D14,0)","v":4745.6640000000007},{"$f":"IF(Basisdaten!$E$16<=5,Basisdaten!$M$16*Saisonalisierung!E14,0)","v":4547.9279999999999},{"$f":"IF(Basisdaten!$E$16<=6,Basisdaten!$M$16*Saisonalisierung!F14,0)","v":4717.4159999999993},{"$f":"IF(Basisdaten!$E$16<=7,Basisdaten!$M$16*Saisonalisierung!G14,0)","v":4830.4080000000004},{"$f":"IF(Basisdaten!$E$16<=8,Basisdaten!$M$16*Saisonalisierung!H14,0)","v":4745.6640000000007},{"$f":"IF(Basisdaten!$E$16<=9,Basisdaten!$M$16*Saisonalisierung!I14,0)","v":4802.1600000000008},{"$f":"IF(Basisdaten!$E$16<=10,Basisdaten!$M$16*Saisonalisierung!J14,0)","v":4660.92},{"$f":"IF(Basisdaten!$E$16<=11,Basisdaten!$M$16*Saisonalisierung!K14,0)","v":4802.1600000000008},{"$f":"IF(Basisdaten!$E$16<=12,Basisdaten!$M$16*Saisonalisierung!L14,0)","v":4999.8959999999997}]
[1,{"$f":"Basisdaten!B17","v":40},{"$f":"Basisdaten!A17","v":"Alnes Zenic"},{"$f":"Basisdaten!U17","v":2022},{"$f":"IF(Basisdaten!$E$17=1,Basisdaten!$M$17*Saisonalisierung!A15,0)","v":4265.4480000000003},{"$f":"IF(Basisdaten!$E$17<=2,Basisdaten!$M$17*Saisonalisierung!B15,0)","v":4350.192},{"$f":"IF(Basisdaten!$E$17<=3,Basisdaten!$M$17*Saisonalisierung!C15,0)","v":5028.1440000000002},{"$f":"IF(Basisdaten!$E$17<=4,Basisdaten!$M$17*Saisonalisierung!D15,0)","v":4745.6640000000007},{"$f":"IF(Basisdaten!$E$17<=5,Basisdaten!$M$17*Saisonalisierung!E15,0)","v":4547.9279999999999},{"$f":"IF(Basisdaten!$E$17<=6,Basisdaten!$M$17*Saisonalisierung!F15,0)","v":4717.4159999999993},{"$f":"IF(Basisdaten!$E$17<=7,Basisdaten!$M$17*Saisonalisierung!G15,0)","v":4830.4080000000004},{"$f":"IF(Basisdaten!$E$17<=8,Basisdaten!$M$17*Saisonalisierung!H15,0)","v":4745.6640000000007},{"$f":"IF(Basisdaten!$E$17<=9,Basisdaten!$M$17*Saisonalisierung!I15,0)","v":4802.1600000000008},{"$f":"IF(Basisdaten!$E$17<=10,Basisdaten!$M$17*Saisonalisierung!J15,0)","v":4660.92},{"$f":"IF(Basisdaten!$E$17<=11,Basisdaten!$M$17*Saisonalisierung!K15,0)","v":4802.1600000000008},{"$f":"IF(Basisdaten!$E$17<=12,Basisdaten!$M$17*Saisonalisierung!L15,0)","v":4999.8959999999997}]
[1,{"$f":"Basisdaten!B18","v":40},{"$f":"Basisdaten!A18","v":"Mehmet Dikmen"},{"$f":"Basisdaten!U18","v":2022},{"$f":"IF(Basisdaten!$E$18=1,Basisdaten!$M$18*Saisonalisierung!A16,0)","v":4265.4480000000003},{"$f":"IF(Basisdaten!$E$18<=2,Basisdaten!$M$18*Saisonalisierung!B16,0)","v":4350.192},{"$f":"IF(Basisdaten!$E$18<=3,Basisdaten!$M$18*Saisonalisierung!C16,0)","v":5028.1440000000002},{"$f":"IF(Basisdaten!$E$18<=4,Basisdaten!$M$18*Saisonalisierung!D16,0)","v":4745.6640000000007},{"$f":"IF(Basisdaten!$E$18<=5,Basisdaten!$M$18*Saisonalisierung!E16,0)","v":4547.9279999999999},{"$f":"IF(Basisdaten!$E$18<=6,Basisdaten!$M$18*Saisonalisierung!F16,0)","v":4717.4159999999993},{"$f":"IF(Basisdaten!$E$18<=7,Basisdaten!$M$18*Saisonalisierung!G16,0)","v":4830.4080000000004},{"$f":"IF(Basisdaten!$E$18<=8,Basisdaten!$M$18*Saisonalisierung!H16,0)","v":4745.6640000000007},{"$f":"IF(Basisdaten!$E$18<=9,Basisdaten!$M$18*Saisonalisierung!I16,0)","v":4802.1600000000008},{"$f":"IF(Basisdaten!$E$18<=10,Basisdaten!$M$18*Saisonalisierung!J16,0)","v":4660.92},{"$f":"IF(Basisdaten!$E$18<=11,Basisdaten!$M$18*Saisonalisierung!K16,0)","v":4802.1600000000008},{"$f":"IF(Basisdaten!$E$18<=12,Basisdaten!$M$18*Saisonalisierung!L16,0)","v":4999.8959999999997}]
[1,{"$f":"Basisdaten!B19","v":40},{"$f":"Basisdaten!A19","v":"Gerrit Heine"},{"$f":"Basisdaten!U19","v":2022},{"$f":"IF(Basisdaten!$E$19=1,Basisdaten!$M$19*Saisonalisierung!A17,0)","v":4265.4480000000003},{"$f":"IF(Basisdaten!$E$19<=2,Basisdaten!$M$19*Saisonalisierung!B17,0)","v":4350.192},{"$f":"IF(Basisdaten!$E$19<=3,Basisdaten!$M$19*Saisonalisierung!C17,0)","v":5028.1440000000002},{"$f":"IF(Basisdaten!$E$19<=4,Basisdaten!$M$19*Saisonalisierung!D17,0)","v":4745.6640000000007},{"$f":"IF(Basisdaten!$E$19<=5,Basisdaten!$M$19*Saisonalisierung!E17,0)","v":4547.9279999999999},{"$f":"IF(Basisdaten!$E$19<=6,Basisdaten!$M$19*Saisonalisierung!F17,0)","v":4717.4159999999993},{"$f":"IF(Basisdaten!$E$19<=7,Basisdaten!$M$19*Saisonalisierung!G17,0)","v":4830.4080000000004},{"$f":"IF(Basisdaten!$E$19<=8,Basisdaten!$M$19*Saisonalisierung!H17,0)","v":4745.6640000000007},{"$f":"IF(Basisdaten!$E$19<=9,Basisdaten!$M$19*Saisonalisierung!I17,0)","v":4802.1600000000008},{"$f":"IF(Basisdaten!$E$19<=10,Basisdaten!$M$19*Saisonalisierung!J17,0)","v":4660.92},{"$f":"IF(Basisdaten!$E$19<=11,Basisdaten!$M$19*Saisonalisierung!K17,0)","v":4802.1600000000008},{"$f":"IF(Basisdaten!$E$19<=12,Basisdaten!$M$19*Saisonalisierung!L17,0)","v":4999.8959999999997}]
[1,{"$f":"Basisdaten!B20","v":40},{"$f":"Basisdaten!A20","v":"Lars Krausen"},{"$f":"Basisdaten!U20","v":2022},{"$f":"IF(Basisdaten!$E$20=1,Basisdaten!$M$20*Saisonalisierung!A18,0)","v":4265.4480000000003},{"$f":"IF(Basisdaten!$E$20<=2,Basisdaten!$M$20*Saisonalisierung!B18,0)","v":4350.192},{"$f":"IF(Basisdaten!$E$20<=3,Basisdaten!$M$20*Saisonalisierung!C18,0)","v":5028.1440000000002},{"$f":"IF(Basisdaten!$E$20<=4,Basisdaten!$M$20*Saisonalisierung!D18,0)","v":4745.6640000000007},{"$f":"IF(Basisdaten!$E$20<=5,Basisdaten!$M$20*Saisonalisierung!E18,0)","v":4547.9279999999999},{"$f":"IF(Basisdaten!$E$20<=6,Basisdaten!$M$20*Saisonalisierung!F18,0)","v":4717.4159999999993},{"$f":"IF(Basisdaten!$E$20<=7,Basisdaten!$M$20*Saisonalisierung!G18,0)","v":4830.4080000000004},{"$f":"IF(Basisdaten!$E$20<=8,Basisdaten!$M$20*Saisonalisierung!H18,0)","v":4745.6640000000007},{"$f":"IF(Basisdaten!$E$20<=9,Basisdaten!$M$20*Saisonalisierung!I18,0)","v":4802.1600000000008},{"$f":"IF(Basisdaten!$E$20<=10,Basisdaten!$M$20*Saisonalisierung!J18,0)","v":4660.92},{"$f":"IF(Basisdaten!$E$20<=11,Basisdaten!$M$20*Saisonalisierung!K18,0)","v":4802.1600000000008},{"$f":"IF(Basisdaten!$E$20<=12,Basisdaten!$M$20*Saisonalisierung!L18,0)","v":4999.8959999999997}]
[1,{"$f":"Basisdaten!B21","v":40},{"$f":"Basisdaten!A21","v":"Hubert Figura - SCBI"},{"$f":"Basisdaten!U21","v":2022},{"$f":"IF(Basisdaten!$E$21=1,Basisdaten!$M$21*Saisonalisierung!A19,0)","v":4265.4480000000003},{"$f":"IF(Basisdaten!$E$21<=2,Basisdaten!$M$21*Saisonalisierung!B19,0)","v":4350.192},{"$f":"IF(Basisdaten!$E$21<=3,Basisdaten!$M$21*Saisonalisierung!C19,0)","v":5028.1440000000002},{"$f":"IF(Basisdaten!$E$21<=4,Basisdaten!$M$21*Saisonalisierung!D19,0)","v":4745.6640000000007},{"$f":"IF(Basisdaten!$E$21<=5,Basisdaten!$M$21*Saisonalisierung!E19,0)","v":4547.9279999999999},{"$f":"IF(Basisdaten!$E$21<=6,Basisdaten!$M$21*Saisonalisierung!F19,0)","v":4717.4159999999993},{"$f":"IF(Basisdaten!$E$21<=7,Basisdaten!$M$21*Saisonalisierung!G19,0)","v":4830.4080000000004},{"$f":"IF(Basisdaten!$E$21<=8,Basisdaten!$M$21*Saisonalisierung!H19,0)","v":4745.6640000000007},{"$f":"IF(Basisdaten!$E$21<=9,Basisdaten!$M$21*Saisonalisierung!I19,0)","v":4802.1600000000008},{"$f":"IF(Basisdaten!$E$21<=10,Basisdaten!$M$21*Saisonalisierung!J19,0)","v":4660.92},{"$f":"IF(Basisdaten!$E$21<=11,Basisdaten!$M$21*Saisonalisierung!K19,0)","v":4802.1600000000008},{"$f":"IF(Basisdaten!$E$21<=12,Basisdaten!$M$21*Saisonalisierung!L19,0)","v":4999.8959999999997}]
[1,{"$f":"Basisdaten!B22","v":40},{"$f":"Basisdaten!A22","v":"Jan-Oliver Knaus"},{"$f":"Basisdaten!U22","v":2022},{"$f":"IF(Basisdaten!$E$22=1,Basisdaten!$M$22*Saisonalisierung!A20,0)","v":4265.4480000000003},{"$f":"IF(Basisdaten!$E$22<=2,Basisdaten!$M$22*Saisonalisierung!B20,0)","v":4350.192},{"$f":"IF(Basisdaten!$E$22<=3,Basisdaten!$M$22*Saisonalisierung!C20,0)","v":5028.1440000000002},{"$f":"IF(Basisdaten!$E$22<=4,Basisdaten!$M$22*Saisonalisierung!D20,0)","v":4745.6640000000007},{"$f":"IF(Basisdaten!$E$22<=5,Basisdaten!$M$22*Saisonalisierung!E20,0)","v":4547.9279999999999},{"$f":"IF(Basisdaten!$E$22<=6,Basisdaten!$M$22*Saisonalisierung!F20,0)","v":4717.4159999999993},{"$f":"IF(Basisdaten!$E$22<=7,Basisdaten!$M$22*Saisonalisierung!G20,0)","v":4830.4080000000004},{"$f":"IF(Basisdaten!$E$22<=8,Basisdaten!$M$22*Saisonalisierung!H20,0)","v":4745.6640000000007},{"$f":"IF(Basisdaten!$E$22<=9,Basisdaten!$M$22*Saisonalisierung!I20,0)","v":4802.1600000000008},{"$f":"IF(Basisdaten!$E$22<=10,Basisdaten!$M$22*Saisonalisierung!J20,0)","v":4660.92},{"$f":"IF(Basisdaten!$E$22<=11,Basisdaten!$M$22*Saisonalisierung!K20,0)","v":4802.1600000000008},{"$f":"IF(Basisdaten!$E$22<=12,Basisdaten!$M$22*Saisonalisierung!L20,0)","v":4999.8959999999997}]
[1,{"$f":"Basisdaten!B23","v":40},{"$f":"Basisdaten!A23","v":"Hakan Celik_ULM"},{"$f":"Basisdaten!U23","v":2022},{"$f":"IF(Basisdaten!$E$23=1,Basisdaten!$M$23*Saisonalisierung!A21,0)","v":0},{"$f":"IF(Basisdaten!$E$23<=2,Basisdaten!$M$23*Saisonalisierung!B21,0)","v":0},{"$f":"IF(Basisdaten!$E$23<=3,Basisdaten!$M$23*Saisonalisierung!C21,0)","v":0},{"$f":"IF(Basisdaten!$E$23<=4,Basisdaten!$M$23*Saisonalisierung!D21,0)","v":0},{"$f":"IF(Basisdaten!$E$23<=5,Basisdaten!$M$23*Saisonalisierung!E21,0)","v":0},{"$f":"IF(Basisdaten!$E$23<=6,Basisdaten!$M$23*Saisonalisierung!F21,0)","v":0},{"$f":"IF(Basisdaten!$E$23<=7,Basisdaten!$M$23*Saisonalisierung!G21,0)","v":0},{"$f":"IF(Basisdaten!$E$23<=8,Basisdaten!$M$23*Saisonalisierung!H21,0)","v":0},{"$f":"IF(Basisdaten!$E$23<=9,Basisdaten!$M$23*Saisonalisierung!I21,0)","v":0},{"$f":"IF(Basisdaten!$E$23<=10,Basisdaten!$M$23*Saisonalisierung!J21,0)","v":0},{"$f":"IF(Basisdaten!$E$23<=11,Basisdaten!$M$23*Saisonalisierung!K21,0)","v":0},{"$f":"IF(Basisdaten!$E$23<=12,Basisdaten!$M$23*Saisonalisierung!L21,0)","v":0}]
[1,{"$f":"Basisdaten!B24","v":40},{"$f":"Basisdaten!A24","v":"Andreas Walter"},{"$f":"Basisdaten!U24","v":2022},{"$f":"IF(Basisdaten!$E$24=1,Basisdaten!$M$24*Saisonalisierung!A22,0)","v":4265.4480000000003},{"$f":"IF(Basisdaten!$E$24<=2,Basisdaten!$M$24*Saisonalisierung!B22,0)","v":4350.192},{"$f":"IF(Basisdaten!$E$24<=3,Basisdaten!$M$24*Saisonalisierung!C22,0)","v":5028.1440000000002},{"$f":"IF(Basisdaten!$E$24<=4,Basisdaten!$M$24*Saisonalisierung!D22,0)","v":4745.6640000000007},{"$f":"IF(Basisdaten!$E$24<=5,Basisdaten!$M$24*Saisonalisierung!E22,0)","v":4547.9279999999999},{"$f":"IF(Basisdaten!$E$24<=6,Basisdaten!$M$24*Saisonalisierung!F22,0)","v":4717.4159999999993},{"$f":"IF(Basisdaten!$E$24<=7,Basisdaten!$M$24*Saisonalisierung!G22,0)","v":4830.4080000000004},{"$f":"IF(Basisdaten!$E$24<=8,Basisdaten!$M$24*Saisonalisierung!H22,0)","v":4745.6640000000007},{"$f":"IF(Basisdaten!$E$24<=9,Basisdaten!$M$24*Saisonalisierung!I22,0)","v":4802.1600000000008},{"$f":"IF(Basisdaten!$E$24<=10,Basisdaten!$M$24*Saisonalisierung!J22,0)","v":4660.92},{"$f":"IF(Basisdaten!$E$24<=11,Basisdaten!$M$24*Saisonalisierung!K22,0)","v":4802.1600000000008},{"$f":"IF(Basisdaten!$E$24<=12,Basisdaten!$M$24*Saisonalisierung!L22,0)","v":4999.8959999999997}]
[1,{"$f":"Basisdaten!B25","v":40},{"$f":"Basisdaten!A25","v":"Fatih Cetiner"},{"$f":"Basisdaten!U25","v":2022},{"$f":"IF(Basisdaten!$E$25=1,Basisdaten!$M$25*Saisonalisierung!A23,0)","v":4265.4480000000003},{"$f":"IF(Basisdaten!$E$25<=2,Basisdaten!$M$25*Saisonalisierung!B23,0)","v":4350.192},{"$f":"IF(Basisdaten!$E$25<=3,Basisdaten!$M$25*Saisonalisierung!C23,0)","v":5028.1440000000002},{"$f":"IF(Basisdaten!$E$25<=4,Basisdaten!$M$25*Saisonalisierung!D23,0)","v":4745.6640000000007},{"$f":"IF(Basisdaten!$E$25<=5,Basisdaten!$M$25*Saisonalisierung!E23,0)","v":4547.9279999999999},{"$f":"IF(Basisdaten!$E$25<=6,Basisdaten!$M$25*Saisonalisierung!F23,0)","v":4717.4159999999993},{"$f":"IF(Basisdaten!$E$25<=7,Basisdaten!$M$25*Saisonalisierung!G23,0)","v":4830.4080000000004},{"$f":"IF(Basisdaten!$E$25<=8,Basisdaten!$M$25*Saisonalisierung!H23,0)","v":4745.6640000000007},{"$f":"IF(Basisdaten!$E$25<=9,Basisdaten!$M$25*Saisonalisierung!I23,0)","v":4802.1600000000008},{"$f":"IF(Basisdaten!$E$25<=10,Basisdaten!$M$25*Saisonalisierung!J23,0)","v":4660.92},{"$f":"IF(Basisdaten!$E$25<=11,Basisdaten!$M$25*Saisonalisierung!K23,0)","v":4802.1600000000008},{"$f":"IF(Basisdaten!$E$25<=12,Basisdaten!$M$25*Saisonalisierung!L23,0)","v":4999.8959999999997}]
[1,{"$f":"Basisdaten!B26","v":50},{"$f":"Basisdaten!A26","v":"Carlheinz Beylacher"},{"$f":"Basisdaten!U26","v":2022},{"$f":"IF(Basisdaten!$E$26=1,Basisdaten!$M$26*Saisonalisierung!A24,0)","v":4265.4480000000003},{"$f":"IF(Basisdaten!$E$26<=2,Basisdaten!$M$26*Saisonalisierung!B24,0)","v":4350.192},{"$f":"IF(Basisdaten!$E$26<=3,Basisdaten!$M$26*Saisonalisierung!C24,0)","v":5028.1440000000002},{"$f":"IF(Basisdaten!$E$26<=4,Basisdaten!$M$26*Saisonalisierung!D24,0)","v":4745.6640000000007},{"$f":"IF(Basisdaten!$E$26<=5,Basisdaten!$M$26*Saisonalisierung!E24,0)","v":4547.9279999999999},{"$f":"IF(Basisdaten!$E$26<=6,Basisdaten!$M$26*Saisonalisierung!F24,0)","v":4717.4159999999993},{"$f":"IF(Basisdaten!$E$26<=7,Basisdaten!$M$26*Saisonalisierung!G24,0)","v":4830.4080000000004},{"$f":"IF(Basisdaten!$E$26<=8,Basisdaten!$M$26*Saisonalisierung!H24,0)","v":4745.6640000000007},{"$f":"IF(Basisdaten!$E$26<=9,Basisdaten!$M$26*Saisonalisierung!I24,0)","v":4802.1600000000008},{"$f":"IF(Basisdaten!$E$26<=10,Basisdaten!$M$26*Saisonalisierung!J24,0)","v":4660.92},{"$f":"IF(Basisdaten!$E$26<=11,Basisdaten!$M$26*Saisonalisierung!K24,0)","v":4802.1600000000008},{"$f":"IF(Basisdaten!$E$26<=12,Basisdaten!$M$26*Saisonalisierung!L24,0)","v":4999.8959999999997}]
[1,{"$f":"Basisdaten!B27","v":50},{"$f":"Basisdaten!A27","v":"Christoph Ziegler"},{"$f":"Basisdaten!U27","v":2022},{"$f":"IF(Basisdaten!$E$27=1,Basisdaten!$M$27*Saisonalisierung!A25,0)","v":4265.4480000000003},{"$f":"IF(Basisdaten!$E$27<=2,Basisdaten!$M$27*Saisonalisierung!B25,0)","v":4350.192},{"$f":"IF(Basisdaten!$E$27<=3,Basisdaten!$M$27*Saisonalisierung!C25,0)","v":5028.1440000000002},{"$f":"IF(Basisdaten!$E$27<=4,Basisdaten!$M$27*Saisonalisierung!D25,0)","v":4745.6640000000007},{"$f":"IF(Basisdaten!$E$27<=5,Basisdaten!$M$27*Saisonalisierung!E25,0)","v":4547.9279999999999},{"$f":"IF(Basisdaten!$E$27<=6,Basisdaten!$M$27*Saisonalisierung!F25,0)","v":4717.4159999999993},{"$f":"IF(Basisdaten!$E$27<=7,Basisdaten!$M$27*Saisonalisierung!G25,0)","v":4830.4080000000004},{"$f":"IF(Basisdaten!$E$27<=8,Basisdaten!$M$27*Saisonalisierung!H25,0)","v":4745.6640000000007},{"$f":"IF(Basisdaten!$E$27<=9,Basisdaten!$M$27*Saisonalisierung!I25,0)","v":4802.1600000000008},{"$f":"IF(Basisdaten!$E$27<=10,Basisdaten!$M$27*Saisonalisierung!J25,0)","v":4660.92},{"$f":"IF(Basisdaten!$E$27<=11,Basisdaten!$M$27*Saisonalisierung!K25,0)","v":4802.1600000000008},{"$f":"IF(Basisdaten!$E$27<=12,Basisdaten!$M$27*Saisonalisierung!L25,0)","v":4999.8959999999997}]
[1,{"$f":"Basisdaten!B28","v":50},{"$f":"Basisdaten!A28","v":"Steffen Schiller"},{"$f":"Basisdaten!U28","v":2022},{"$f":"IF(Basisdaten!$E$28=1,Basisdaten!$M$28*Saisonalisierung!A26,0)","v":4265.4480000000003},{"$f":"IF(Basisdaten!$E$28<=2,Basisdaten!$M$28*Saisonalisierung!B26,0)","v":4350.192},{"$f":"IF(Basisdaten!$E$28<=3,Basisdaten!$M$28*Saisonalisierung!C26,0)","v":5028.1440000000002},{"$f":"IF(Basisdaten!$E$28<=4,Basisdaten!$M$28*Saisonalisierung!D26,0)","v":4745.6640000000007},{"$f":"IF(Basisdaten!$E$28<=5,Basisdaten!$M$28*Saisonalisierung!E26,0)","v":4547.9279999999999},{"$f":"IF(Basisdaten!$E$28<=6,Basisdaten!$M$28*Saisonalisierung!F26,0)","v":4717.4159999999993},{"$f":"IF(Basisdaten!$E$28<=7,Basisdaten!$M$28*Saisonalisierung!G26,0)","v":4830.4080000000004},{"$f":"IF(Basisdaten!$E$28<=8,Basisdaten!$M$28*Saisonalisierung!H26,0)","v":4745.6640000000007},{"$f":"IF(Basisdaten!$E$28<=9,Basisdaten!$M$28*Saisonalisierung!I26,0)","v":4802.1600000000008},{"$f":"IF(Basisdaten!$E$28<=10,Basisdaten!$M$28*Saisonalisierung!J26,0)","v":4660.92},{"$f":"IF(Basisdaten!$E$28<=11,Basisdaten!$M$28*Saisonalisierung!K26,0)","v":4802.1600000000008},{"$f":"IF(Basisdaten!$E$28<=12,Basisdaten!$M$28*Saisonalisierung!L26,0)","v":4999.8959999999997}]
[1,{"$f":"Basisdaten!B29","v":50},{"$f":"Basisdaten!A29","v":"André Pfeffer - SCBI"},{"$f":"Basisdaten!U29","v":2022},{"$f":"IF(Basisdaten!$E$29=1,Basisdaten!$M$29*Saisonalisierung!A27,0)","v":4265.4480000000003},{"$f":"IF(Basisdaten!$E$29<=2,Basisdaten!$M$29*Saisonalisierung!B27,0)","v":4350.192},{"$f":"IF(Basisdaten!$E$29<=3,Basisdaten!$M$29*Saisonalisierung!C27,0)","v":5028.1440000000002},{"$f":"IF(Basisdaten!$E$29<=4,Basisdaten!$M$29*Saisonalisierung!D27,0)","v":4745.6640000000007},{"$f":"IF(Basisdaten!$E$29<=5,Basisdaten!$M$29*Saisonalisierung!E27,0)","v":4547.9279999999999},{"$f":"IF(Basisdaten!$E$29<=6,Basisdaten!$M$29*Saisonalisierung!F27,0)","v":4717.4159999999993},{"$f":"IF(Basisdaten!$E$29<=7,Basisdaten!$M$29*Saisonalisierung!G27,0)","v":4830.4080000000004},{"$f":"IF(Basisdaten!$E$29<=8,Basisdaten!$M$29*Saisonalisierung!H27,0)","v":4745.6640000000007},{"$f":"IF(Basisdaten!$E$29<=9,Basisdaten!$M$29*Saisonalisierung!I27,0)","v":4802.1600000000008},{"$f":"IF(Basisdaten!$E$29<=10,Basisdaten!$M$29*Saisonalisierung!J27,0)","v":4660.92},{"$f":"IF(Basisdaten!$E$29<=11,Basisdaten!$M$29*Saisonalisierung!K27,0)","v":4802.1600000000008},{"$f":"IF(Basisdaten!$E$29<=12,Basisdaten!$M$29*Saisonalisierung!L27,0)","v":4999.8959999999997}]
[1,{"$f":"Basisdaten!B30","v":50},{"$f":"Basisdaten!A30","v":"Christian Wiedemann"},{"$f":"Basisdaten!U30","v":2022},{"$f":"IF(Basisdaten!$E$30=1,Basisdaten!$M$30*Saisonalisierung!A28,0)","v":4265.4480000000003},{"$f":"IF(Basisdaten!$E$30<=2,Basisdaten!$M$30*Saisonalisierung!B28,0)","v":4350.192},{"$f":"IF(Basisdaten!$E$30<=3,Basisdaten!$M$30*Saisonalisierung!C28,0)","v":5028.1440000000002},{"$f":"IF(Basisdaten!$E$30<=4,Basisdaten!$M$30*Saisonalisierung!D28,0)","v":4745.6640000000007},{"$f":"IF(Basisdaten!$E$30<=5,Basisdaten!$M$30*Saisonalisierung!E28,0)","v":4547.9279999999999},{"$f":"IF(Basisdaten!$E$30<=6,Basisdaten!$M$30*Saisonalisierung!F28,0)","v":4717.4159999999993},{"$f":"IF(Basisdaten!$E$30<=7,Basisdaten!$M$30*Saisonalisierung!G28,0)","v":4830.4080000000004},{"$f":"IF(Basisdaten!$E$30<=8,Basisdaten!$M$30*Saisonalisierung!H28,0)","v":4745.6640000000007},{"$f":"IF(Basisdaten!$E$30<=9,Basisdaten!$M$30*Saisonalisierung!I28,0)","v":4802.1600000000008},{"$f":"IF(Basisdaten!$E$30<=10,Basisdaten!$M$30*Saisonalisierung!J28,0)","v":4660.92},{"$f":"IF(Basisdaten!$E$30<=11,Basisdaten!$M$30*Saisonalisierung!K28,0)","v":4802.1600000000008},{"$f":"IF(Basisdaten!$E$30<=12,Basisdaten!$M$30*Saisonalisierung!L28,0)","v":4999.8959999999997}]
[1,{"$f":"Basisdaten!B31","v":50},{"$f":"Basisdaten!A31","v":"Daniel Aschmann_"},{"$f":"Basisdaten!U31","v":2022},{"$f":"IF(Basisdaten!$E$31=1,Basisdaten!$M$31*Saisonalisierung!A29,0)","v":0},{"$f":"IF(Basisdaten!$E$31<=2,Basisdaten!$M$31*Saisonalisierung!B29,0)","v":0},{"$f":"IF(Basisdaten!$E$31<=3,Basisdaten!$M$31*Saisonalisierung!C29,0)","v":0},{"$f":"IF(Basisdaten!$E$31<=4,Basisdaten!$M$31*Saisonalisierung!D29,0)","v":0},{"$f":"IF(Basisdaten!$E$31<=5,Basisdaten!$M$31*Saisonalisierung!E29,0)","v":0},{"$f":"IF(Basisdaten!$E$31<=6,Basisdaten!$M$31*Saisonalisierung!F29,0)","v":0},{"$f":"IF(Basisdaten!$E$31<=7,Basisdaten!$M$31*Saisonalisierung!G29,0)","v":0},{"$f":"IF(Basisdaten!$E$31<=8,Basisdaten!$M$31*Saisonalisierung!H29,0)","v":0},{"$f":"IF(Basisdaten!$E$31<=9,Basisdaten!$M$31*Saisonalisierung!I29,0)","v":0},{"$f":"IF(Basisdaten!$E$31<=10,Basisdaten!$M$31*Saisonalisierung!J29,0)","v":0},{"$f":"IF(Basisdaten!$E$31<=11,Basisdaten!$M$31*Saisonalisierung!K29,0)","v":0},{"$f":"IF(Basisdaten!$E$31<=12,Basisdaten!$M$31*Saisonalisierung!L29,0)","v":0}]
[2,{"$f":"Basisdaten!B32","v":60},{"$f":"Basisdaten!A32","v":"Dirk Heditzsch"},{"$f":"Basisdaten!U32","v":2022},{"$f":"IF(Basisdaten!$E$32=1,Basisdaten!$M$32*Saisonalisierung!A30,0)","v":0},{"$f":"IF(Basisdaten!$E$32<=2,Basisdaten!$M$32*Saisonalisierung!B30,0)","v":0},{"$f":"IF(Basisdaten!$E$32<=3,Basisdaten!$M$32*Saisonalisierung!C30,0)","v":0},{"$f":"IF(Basisdaten!$E$32<=4,Basisdaten!$M$32*Saisonalisierung!D30,0)","v":4745.6640000000007},{"$f":"IF(Basisdaten!$E$32<=5,Basisdaten!$M$32*Saisonalisierung!E30,0)","v":4547.9279999999999},{"$f":"IF(Basisdaten!$E$32<=6,Basisdaten!$M$32*Saisonalisierung!F30,0)","v":4717.4159999999993},{"$f":"IF(Basisdaten!$E$32<=7,Basisdaten!$M$32*Saisonalisierung!G30,0)","v":4830.4080000000004},{"$f":"IF(Basisdaten!$E$32<=8,Basisdaten!$M$32*Saisonalisierung!H30,0)","v":4745.6640000000007},{"$f":"IF(Basisdaten!$E$32<=9,Basisdaten!$M$32*Saisonalisierung!I30,0)","v":4802.1600000000008},{"$f":"IF(Basisdaten!$E$32<=10,Basisdaten!$M$32*Saisonalisierung!J30,0)","v":4660.92},{"$f":"IF(Basisdaten!$E$32<=11,Basisdaten!$M$32*Saisonalisierung!K30,0)","v":4802.1600000000008},{"$f":"IF(Basisdaten!$E$32<=12,Basisdaten!$M$32*Saisonalisierung!L30,0)","v":4999.8959999999997}]
[2,{"$f":"Basisdaten!B33","v":60},{"$f":"Basisdaten!A33","v":"Marco Hanigk"},{"$f":"Basisdaten!U33","v":2022},{"$f":"IF(Basisdaten!$E$33=1,Basisdaten!$M$33*Saisonalisierung!A31,0)","v":4265.4480000000003},{"$f":"IF(Basisdaten!$E$33<=2,Basisdaten!$M$33*Saisonalisierung!B31,0)","v":4350.192},{"$f":"IF(Basisdaten!$E$33<=3,Basisdaten!$M$33*Saisonalisierung!C31,0)","v":5028.1440000000002},{"$f":"IF(Basisdaten!$E$33<=4,Basisdaten!$M$33*Saisonalisierung!D31,0)","v":4745.6640000000007},{"$f":"IF(Basisdaten!$E$33<=5,Basisdaten!$M$33*Saisonalisierung!E31,0)","v":4547.9279999999999},{"$f":"IF(Basisdaten!$E$33<=6,Basisdaten!$M$33*Saisonalisierung!F31,0)","v":4717.4159999999993},{"$f":"IF(Basisdaten!$E$33<=7,Basisdaten!$M$33*Saisonalisierung!G31,0)","v":4830.4080000000004},{"$f":"IF(Basisdaten!$E$33<=8,Basisdaten!$M$33*Saisonalisierung!H31,0)","v":4745.6640000000007},{"$f":"IF(Basisdaten!$E$33<=9,Basisdaten!$M$33*Saisonalisierung!I31,0)","v":4802.1600000000008},{"$f":"IF(Basisdaten!$E$33<=10,Basisdaten!$M$33*Saisonalisierung!J31,0)","v":4660.92},{"$f":"IF(Basisdaten!$E$33<=11,Basisdaten!$M$33*Saisonalisierung!K31,0)","v":4802.1600000000008},{"$f":"IF(Basisdaten!$E$33<=12,Basisdaten!$M$33*Saisonalisierung!L31,0)","v":4999.8959999999997}]
[2,{"$f":"Basisdaten!B34","v":60},{"$f":"Basisdaten!A34","v":"Marcel Lankes"},{"$f":"Basisdaten!U34","v":2022},{"$f":"IF(Basisdaten!$E$34=1,Basisdaten!$M$34*Saisonalisierung!A32,0)","v":0},{"$f":"IF(Basisdaten!$E$34<=2,Basisdaten!$M$34*Saisonalisierung!B32,0)","v":0},{"$f":"IF(Basisdaten!$E$34<=3,Basisdaten!$M$34*Saisonalisierung!C32,0)","v":0},{"$f":"IF(Basisdaten!$E$34<=4,Basisdaten!$M$34*Saisonalisierung!D32,0)","v":4745.6640000000007},{"$f":"IF(Basisdaten!$E$34<=5,Basisdaten!$M$34*Saisonalisierung!E32,0)","v":4547.9279999999999},{"$f":"IF(Basisdaten!$E$34<=6,Basisdaten!$M$34*Saisonalisierung!F32,0)","v":4717.4159999999993},{"$f":"IF(Basisdaten!$E$34<=7,Basisdaten!$M$34*Saisonalisierung!G32,0)","v":4830.4080000000004},{"$f":"IF(Basisdaten!$E$34<=8,Basisdaten!$M$34*Saisonalisierung!H32,0)","v":4745.6640000000007},{"$f":"IF(Basisdaten!$E$34<=9,Basisdaten!$M$34*Saisonalisierung!I32,0)","v":4802.1600000000008},{"$f":"IF(Basisdaten!$E$34<=10,Basisdaten!$M$34*Saisonalisierung!J32,0)","v":4660.92},{"$f":"IF(Basisdaten!$E$34<=11,Basisdaten!$M$34*Saisonalisierung!K32,0)","v":4802.1600000000008},{"$f":"IF(Basisdaten!$E$34<=12,Basisdaten!$M$34*Saisonalisierung!L32,0)","v":4999.8959999999997}]
[2,{"$f":"Basisdaten!B35","v":60},{"$f":"Basisdaten!A35","v":"Roland Klier"},{"$f":"Basisdaten!U35","v":2022},{"$f":"IF(Basisdaten!$E$35=1,Basisdaten!$M$35*Saisonalisierung!A33,0)","v":4265.4480000000003},{"$f":"IF(Basisdaten!$E$35<=2,Basisdaten!$M$35*Saisonalisierung!B33,0)","v":4350.192},{"$f":"IF(Basisdaten!$E$35<=3,Basisdaten!$M$35*Saisonalisierung!C33,0)","v":5028.1440000000002},{"$f":"IF(Basisdaten!$E$35<=4,Basisdaten!$M$35*Saisonalisierung!D33,0)","v":4745.6640000000007},{"$f":"IF(Basisdaten!$E$35<=5,Basisdaten!$M$35*Saisonalisierung!E33,0)","v":4547.9279999999999},{"$f":"IF(Basisdaten!$E$35<=6,Basisdaten!$M$35*Saisonalisierung!F33,0)","v":4717.4159999999993},{"$f":"IF(Basisdaten!$E$35<=7,Basisdaten!$M$35*Saisonalisierung!G33,0)","v":4830.4080000000004},{"$f":"IF(Basisdaten!$E$35<=8,Basisdaten!$M$35*Saisonalisierung!H33,0)","v":4745.6640000000007},{"$f":"IF(Basisdaten!$E$35<=9,Basisdaten!$M$35*Saisonalisierung!I33,0)","v":4802.1600000000008},{"$f":"IF(Basisdaten!$E$35<=10,Basisdaten!$M$35*Saisonalisierung!J33,0)","v":4660.92},{"$f":"IF(Basisdaten!$E$35<=11,Basisdaten!$M$35*Saisonalisierung!K33,0)","v":4802.1600000000008},{"$f":"IF(Basisdaten!$E$35<=12,Basisdaten!$M$35*Saisonalisierung!L33,0)","v":4999.8959999999997}]
[2,{"$f":"Basisdaten!B36","v":60},{"$f":"Basisdaten!A36","v":"Mert Güngör"},{"$f":"Basisdaten!U36","v":2022},{"$f":"IF(Basisdaten!$E$36=1,Basisdaten!$M$36*Saisonalisierung!A34,0)","v":0},{"$f":"IF(Basisdaten!$E$36<=2,Basisdaten!$M$36*Saisonalisierung!B34,0)","v":0},{"$f":"IF(Basisdaten!$E$36<=3,Basisdaten!$M$36*Saisonalisierung!C34,0)","v":0},{"$f":"IF(Basisdaten!$E$36<=4,Basisdaten!$M$36*Saisonalisierung!D34,0)","v":0},{"$f":"IF(Basisdaten!$E$36<=5,Basisdaten!$M$36*Saisonalisierung!E34,0)","v":0},{"$f":"IF(Basisdaten!$E$36<=6,Basisdaten!$M$36*Saisonalisierung!F34,0)","v":4717.4159999999993},{"$f":"IF(Basisdaten!$E$36<=7,Basisdaten!$M$36*Saisonalisierung!G34,0)","v":4830.4080000000004},{"$f":"IF(Basisdaten!$E$36<=8,Basisdaten!$M$36*Saisonalisierung!H34,0)","v":4745.6640000000007},{"$f":"IF(Basisdaten!$E$36<=9,Basisdaten!$M$36*Saisonalisierung!I34,0)","v":4802.1600000000008},{"$f":"IF(Basisdaten!$E$36<=10,Basisdaten!$M$36*Saisonalisierung!J34,0)","v":4660.92},{"$f":"IF(Basisdaten!$E$36<=11,Basisdaten!$M$36*Saisonalisierung!K34,0)","v":4802.1600000000008},{"$f":"IF(Basisdaten!$E$36<=12,Basisdaten!$M$36*Saisonalisierung!L34,0)","v":4999.8959999999997}]
[2,{"$f":"Basisdaten!B37","v":60},{"$f":"Basisdaten!A37","v":"Matthias Hagg"},{"$f":"Basisdaten!U37","v":2022},{"$f":"IF(Basisdaten!$E$37=1,Basisdaten!$M$37*Saisonalisierung!A35,0)","v":4265.4480000000003},{"$f":"IF(Basisdaten!$E$37<=2,Basisdaten!$M$37*Saisonalisierung!B35,0)","v":4350.192},{"$f":"IF(Basisdaten!$E$37<=3,Basisdaten!$M$37*Saisonalisierung!C35,0)","v":5028.1440000000002},{"$f":"IF(Basisdaten!$E$37<=4,Basisdaten!$M$37*Saisonalisierung!D35,0)","v":4745.6640000000007},{"$f":"IF(Basisdaten!$E$37<=5,Basisdaten!$M$37*Saisonalisierung!E35,0)","v":4547.9279999999999},{"$f":"IF(Basisdaten!$E$37<=6,Basisdaten!$M$37*Saisonalisierung!F35,0)","v":4717.4159999999993},{"$f":"IF(Basisdaten!$E$37<=7,Basisdaten!$M$37*Saisonalisierung!G35,0)","v":4830.4080000000004},{"$f":"IF(Basisdaten!$E$37<=8,Basisdaten!$M$37*Saisonalisierung!H35,0)","v":4745.6640000000007},{"$f":"IF(Basisdaten!$E$37<=9,Basisdaten!$M$37*Saisonalisierung!I35,0)","v":4802.1600000000008},{"$f":"IF(Basisdaten!$E$37<=10,Basisdaten!$M$37*Saisonalisierung!J35,0)","v":4660.92},{"$f":"IF(Basisdaten!$E$37<=11,Basisdaten!$M$37*Saisonalisierung!K35,0)","v":4802.1600000000008},{"$f":"IF(Basisdaten!$E$37<=12,Basisdaten!$M$37*Saisonalisierung!L35,0)","v":4999.8959999999997}]
[2,{"$f":"Basisdaten!B38","v":60},{"$f":"Basisdaten!A38","v":"Walter Schlosser"},{"$f":"Basisdaten!U38","v":2022},{"$f":"IF(Basisdaten!$E$38=1,Basisdaten!$M$38*Saisonalisierung!A36,0)","v":4265.4480000000003},{"$f":"IF(Basisdaten!$E$38<=2,Basisdaten!$M$38*Saisonalisierung!B36,0)","v":4350.192},{"$f":"IF(Basisdaten!$E$38<=3,Basisdaten!$M$38*Saisonalisierung!C36,0)","v":5028.1440000000002},{"$f":"IF(Basisdaten!$E$38<=4,Basisdaten!$M$38*Saisonalisierung!D36,0)","v":4745.6640000000007},{"$f":"IF(Basisdaten!$E$38<=5,Basisdaten!$M$38*Saisonalisierung!E36,0)","v":4547.9279999999999},{"$f":"IF(Basisdaten!$E$38<=6,Basisdaten!$M$38*Saisonalisierung!F36,0)","v":4717.4159999999993},{"$f":"IF(Basisdaten!$E$38<=7,Basisdaten!$M$38*Saisonalisierung!G36,0)","v":4830.4080000000004},{"$f":"IF(Basisdaten!$E$38<=8,Basisdaten!$M$38*Saisonalisierung!H36,0)","v":4745.6640000000007},{"$f":"IF(Basisdaten!$E$38<=9,Basisdaten!$M$38*Saisonalisierung!I36,0)","v":4802.1600000000008},{"$f":"IF(Basisdaten!$E$38<=10,Basisdaten!$M$38*Saisonalisierung!J36,0)","v":4660.92},{"$f":"IF(Basisdaten!$E$38<=11,Basisdaten!$M$38*Saisonalisierung!K36,0)","v":4802.1600000000008},{"$f":"IF(Basisdaten!$E$38<=12,Basisdaten!$M$38*Saisonalisierung!L36,0)","v":4999.8959999999997}]
[2,{"$f":"Basisdaten!B39","v":60},{"$f":"Basisdaten!A39","v":"Udo Spindler"},{"$f":"Basisdaten!U39","v":2022},{"$f":"IF(Basisdaten!$E$39=1,Basisdaten!$M$39*Saisonalisierung!A37,0)","v":4265.4480000000003},{"$f":"IF(Basisdaten!$E$39<=2,Basisdaten!$M$39*Saisonalisierung!B37,0)","v":4350.192},{"$f":"IF(Basisdaten!$E$39<=3,Basisdaten!$M$39*Saisonalisierung!C37,0)","v":5028.1440000000002},{"$f":"IF(Basisdaten!$E$39<=4,Basisdaten!$M$39*Saisonalisierung!D37,0)","v":4745.6640000000007},{"$f":"IF(Basisdaten!$E$39<=5,Basisdaten!$M$39*Saisonalisierung!E37,0)","v":4547.9279999999999},{"$f":"IF(Basisdaten!$E$39<=6,Basisdaten!$M$39*Saisonalisierung!F37,0)","v":4717.4159999999993},{"$f":"IF(Basisdaten!$E$39<=7,Basisdaten!$M$39*Saisonalisierung!G37,0)","v":4830.4080000000004},{"$f":"IF(Basisdaten!$E$39<=8,Basisdaten!$M$39*Saisonalisierung!H37,0)","v":4745.6640000000007},{"$f":"IF(Basisdaten!$E$39<=9,Basisdaten!$M$39*Saisonalisierung!I37,0)","v":4802.1600000000008},{"$f":"IF(Basisdaten!$E$39<=10,Basisdaten!$M$39*Saisonalisierung!J37,0)","v":4660.92},{"$f":"IF(Basisdaten!$E$39<=11,Basisdaten!$M$39*Saisonalisierung!K37,0)","v":4802.1600000000008},{"$f":"IF(Basisdaten!$E$39<=12,Basisdaten!$M$39*Saisonalisierung!L37,0)","v":4999.8959999999997}]
[2,{"$f":"Basisdaten!B40","v":60},{"$f":"Basisdaten!A40","v":"Marcel Vogler"},{"$f":"Basisdaten!U40","v":2022},{"$f":"IF(Basisdaten!$E$40=1,Basisdaten!$M$40*Saisonalisierung!A38,0)","v":4265.4480000000003},{"$f":"IF(Basisdaten!$E$40<=2,Basisdaten!$M$40*Saisonalisierung!B38,0)","v":4350.192},{"$f":"IF(Basisdaten!$E$40<=3,Basisdaten!$M$40*Saisonalisierung!C38,0)","v":5028.1440000000002},{"$f":"IF(Basisdaten!$E$40<=4,Basisdaten!$M$40*Saisonalisierung!D38,0)","v":4745.6640000000007},{"$f":"IF(Basisdaten!$E$40<=5,Basisdaten!$M$40*Saisonalisierung!E38,0)","v":4547.9279999999999},{"$f":"IF(Basisdaten!$E$40<=6,Basisdaten!$M$40*Saisonalisierung!F38,0)","v":4717.4159999999993},{"$f":"IF(Basisdaten!$E$40<=7,Basisdaten!$M$40*Saisonalisierung!G38,0)","v":4830.4080000000004},{"$f":"IF(Basisdaten!$E$40<=8,Basisdaten!$M$40*Saisonalisierung!H38,0)","v":4745.6640000000007},{"$f":"IF(Basisdaten!$E$40<=9,Basisdaten!$M$40*Saisonalisierung!I38,0)","v":4802.1600000000008},{"$f":"IF(Basisdaten!$E$40<=10,Basisdaten!$M$40*Saisonalisierung!J38,0)","v":4660.92},{"$f":"IF(Basisdaten!$E$40<=11,Basisdaten!$M$40*Saisonalisierung!K38,0)","v":4802.1600000000008},{"$f":"IF(Basisdaten!$E$40<=12,Basisdaten!$M$40*Saisonalisierung!L38,0)","v":4999.8959999999997}]
[2,{"$f":"Basisdaten!B41","v":60},{"$f":"Basisdaten!A41","v":"Raphael Marksteiner"},{"$f":"Basisdaten!U41","v":2022},{"$f":"IF(Basisdaten!$E$41=1,Basisdaten!$M$41*Saisonalisierung!A39,0)","v":0},{"$f":"IF(Basisdaten!$E$41<=2,Basisdaten!$M$41*Saisonalisierung!B39,0)","v":0},{"$f":"IF(Basisdaten!$E$41<=3,Basisdaten!$M$41*Saisonalisierung!C39,0)","v":0},{"$f":"IF(Basisdaten!$E$41<=4,Basisdaten!$M$41*Saisonalisierung!D39,0)","v":4745.6640000000007},{"$f":"IF(Basisdaten!$E$41<=5,Basisdaten!$M$41*Saisonalisierung!E39,0)","v":4547.9279999999999},{"$f":"IF(Basisdaten!$E$41<=6,Basisdaten!$M$41*Saisonalisierung!F39,0)","v":4717.4159999999993},{"$f":"IF(Basisdaten!$E$41<=7,Basisdaten!$M$41*Saisonalisierung!G39,0)","v":4830.4080000000004},{"$f":"IF(Basisdaten!$E$41<=8,Basisdaten!$M$41*Saisonalisierung!H39,0)","v":4745.6640000000007},{"$f":"IF(Basisdaten!$E$41<=9,Basisdaten!$M$41*Saisonalisierung!I39,0)","v":4802.1600000000008},{"$f":"IF(Basisdaten!$E$41<=10,Basisdaten!$M$41*Saisonalisierung!J39,0)","v":4660.92},{"$f":"IF(Basisdaten!$E$41<=11,Basisdaten!$M$41*Saisonalisierung!K39,0)","v":4802.1600000000008},{"$f":"IF(Basisdaten!$E$41<=12,Basisdaten!$M$41*Saisonalisierung!L39,0)","v":4999.8959999999997}]
[2,{"$f":"Basisdaten!B42","v":60},{"$f":"Basisdaten!A42","v":"Markus Appeljun - SCBI"},{"$f":"Basisdaten!U42","v":2022},{"$f":"IF(Basisdaten!$E$42=1,Basisdaten!$M$42*Saisonalisierung!A40,0)","v":0},{"$f":"IF(Basisdaten!$E$42<=2,Basisdaten!$M$42*Saisonalisierung!B40,0)","v":4350.192},{"$f":"IF(Basisdaten!$E$42<=3,Basisdaten!$M$42*Saisonalisierung!C40,0)","v":5028.1440000000002},{"$f":"IF(Basisdaten!$E$42<=4,Basisdaten!$M$42*Saisonalisierung!D40,0)","v":4745.6640000000007},{"$f":"IF(Basisdaten!$E$42<=5,Basisdaten!$M$42*Saisonalisierung!E40,0)","v":4547.9279999999999},{"$f":"IF(Basisdaten!$E$42<=6,Basisdaten!$M$42*Saisonalisierung!F40,0)","v":4717.4159999999993},{"$f":"IF(Basisdaten!$E$42<=7,Basisdaten!$M$42*Saisonalisierung!G40,0)","v":4830.4080000000004},{"$f":"IF(Basisdaten!$E$42<=8,Basisdaten!$M$42*Saisonalisierung!H40,0)","v":4745.6640000000007},{"$f":"IF(Basisdaten!$E$42<=9,Basisdaten!$M$42*Saisonalisierung!I40,0)","v":4802.1600000000008},{"$f":"IF(Basisdaten!$E$42<=10,Basisdaten!$M$42*Saisonalisierung!J40,0)","v":4660.92},{"$f":"IF(Basisdaten!$E$42<=11,Basisdaten!$M$42*Saisonalisierung!K40,0)","v":4802.1600000000008},{"$f":"IF(Basisdaten!$E$42<=12,Basisdaten!$M$42*Saisonalisierung!L40,0)","v":4999.8959999999997}]
[2,{"$f":"Basisdaten!B43","v":60},{"$f":"Basisdaten!A43","v":"Andreas Göllner"},{"$f":"Basisdaten!U43","v":2022},{"$f":"IF(Basisdaten!$E$43=1,Basisdaten!$M$43*Saisonalisierung!A41,0)","v":4265.4480000000003},{"$f":"IF(Basisdaten!$E$43<=2,Basisdaten!$M$43*Saisonalisierung!B41,0)","v":4350.192},{"$f":"IF(Basisdaten!$E$43<=3,Basisdaten!$M$43*Saisonalisierung!C41,0)","v":5028.1440000000002},{"$f":"IF(Basisdaten!$E$43<=4,Basisdaten!$M$43*Saisonalisierung!D41,0)","v":4745.6640000000007},{"$f":"IF(Basisdaten!$E$43<=5,Basisdaten!$M$43*Saisonalisierung!E41,0)","v":4547.9279999999999},{"$f":"IF(Basisdaten!$E$43<=6,Basisdaten!$M$43*Saisonalisierung!F41,0)","v":4717.4159999999993},{"$f":"IF(Basisdaten!$E$43<=7,Basisdaten!$M$43*Saisonalisierung!G41,0)","v":4830.4080000000004},{"$f":"IF(Basisdaten!$E$43<=8,Basisdaten!$M$43*Saisonalisierung!H41,0)","v":4745.6640000000007},{"$f":"IF(Basisdaten!$E$43<=9,Basisdaten!$M$43*Saisonalisierung!I41,0)","v":4802.1600000000008},{"$f":"IF(Basisdaten!$E$43<=10,Basisdaten!$M$43*Saisonalisierung!J41,0)","v":4660.92},{"$f":"IF(Basisdaten!$E$43<=11,Basisdaten!$M$43*Saisonalisierung!K41,0)","v":4802.1600000000008},{"$f":"IF(Basisdaten!$E$43<=12,Basisdaten!$M$43*Saisonalisierung!L41,0)","v":4999.8959999999997}]
[2,{"$f":"Basisdaten!B44","v":60},{"$f":"Basisdaten!A44","v":"Marcus Stangl"},{"$f":"Basisdaten!U44","v":2022},{"$f":"IF(Basisdaten!$E$44=1,Basisdaten!$M$44*Saisonalisierung!A42,0)","v":4265.4480000000003},{"$f":"IF(Basisdaten!$E$44<=2,Basisdaten!$M$44*Saisonalisierung!B42,0)","v":4350.192},{"$f":"IF(Basisdaten!$E$44<=3,Basisdaten!$M$44*Saisonalisierung!C42,0)","v":5028.1440000000002},{"$f":"IF(Basisdaten!$E$44<=4,Basisdaten!$M$44*Saisonalisierung!D42,0)","v":4745.6640000000007},{"$f":"IF(Basisdaten!$E$44<=5,Basisdaten!$M$44*Saisonalisierung!E42,0)","v":4547.9279999999999},{"$f":"IF(Basisdaten!$E$44<=6,Basisdaten!$M$44*Saisonalisierung!F42,0)","v":4717.4159999999993},{"$f":"IF(Basisdaten!$E$44<=7,Basisdaten!$M$44*Saisonalisierung!G42,0)","v":4830.4080000000004},{"$f":"IF(Basisdaten!$E$44<=8,Basisdaten!$M$44*Saisonalisierung!H42,0)","v":4745.6640000000007},{"$f":"IF(Basisdaten!$E$44<=9,Basisdaten!$M$44*Saisonalisierung!I42,0)","v":4802.1600000000008},{"$f":"IF(Basisdaten!$E$44<=10,Basisdaten!$M$44*Saisonalisierung!J42,0)","v":4660.92},{"$f":"IF(Basisdaten!$E$44<=11,Basisdaten!$M$44*Saisonalisierung!K42,0)","v":4802.1600000000008},{"$f":"IF(Basisdaten!$E$44<=12,Basisdaten!$M$44*Saisonalisierung!L42,0)","v":4999.8959999999997}]
[2,{"$f":"Basisdaten!B45","v":60},{"$f":"Basisdaten!A45","v":"Christoph Rottenkolber"},{"$f":"Basisdaten!U45","v":2022},{"$f":"IF(Basisdaten!$E$45=1,Basisdaten!$M$45*Saisonalisierung!A43,0)","v":0},{"$f":"IF(Basisdaten!$E$45<=2,Basisdaten!$M$45*Saisonalisierung!B43,0)","v":0},{"$f":"IF(Basisdaten!$E$45<=3,Basisdaten!$M$45*Saisonalisierung!C43,0)","v":0},{"$f":"IF(Basisdaten!$E$45<=4,Basisdaten!$M$45*Saisonalisierung!D43,0)","v":4745.6640000000007},{"$f":"IF(Basisdaten!$E$45<=5,Basisdaten!$M$45*Saisonalisierung!E43,0)","v":4547.9279999999999},{"$f":"IF(Basisdaten!$E$45<=6,Basisdaten!$M$45*Saisonalisierung!F43,0)","v":4717.4159999999993},{"$f":"IF(Basisdaten!$E$45<=7,Basisdaten!$M$45*Saisonalisierung!G43,0)","v":4830.4080000000004},{"$f":"IF(Basisdaten!$E$45<=8,Basisdaten!$M$45*Saisonalisierung!H43,0)","v":4745.6640000000007},{"$f":"IF(Basisdaten!$E$45<=9,Basisdaten!$M$45*Saisonalisierung!I43,0)","v":4802.1600000000008},{"$f":"IF(Basisdaten!$E$45<=10,Basisdaten!$M$45*Saisonalisierung!J43,0)","v":4660.92},{"$f":"IF(Basisdaten!$E$45<=11,Basisdaten!$M$45*Saisonalisierung!K43,0)","v":4802.1600000000008},{"$f":"IF(Basisdaten!$E$45<=12,Basisdaten!$M$45*Saisonalisierung!L43,0)","v":4999.8959999999997}]
[2,{"$f":"Basisdaten!B46","v":60},{"$f":"Basisdaten!A46","v":"Michael Cattide - SCBI"},{"$f":"Basisdaten!U46","v":2022},{"$f":"IF(Basisdaten!$E$46=1,Basisdaten!$M$46*Saisonalisierung!A44,0)","v":4265.4480000000003},{"$f":"IF(Basisdaten!$E$46<=2,Basisdaten!$M$46*Saisonalisierung!B44,0)","v":4350.192},{"$f":"IF(Basisdaten!$E$46<=3,Basisdaten!$M$46*Saisonalisierung!C44,0)","v":5028.1440000000002},{"$f":"IF(Basisdaten!$E$46<=4,Basisdaten!$M$46*Saisonalisierung!D44,0)","v":4745.6640000000007},{"$f":"IF(Basisdaten!$E$46<=5,Basisdaten!$M$46*Saisonalisierung!E44,0)","v":4547.9279999999999},{"$f":"IF(Basisdaten!$E$46<=6,Basisdaten!$M$46*Saisonalisierung!F44,0)","v":4717.4159999999993},{"$f":"IF(Basisdaten!$E$46<=7,Basisdaten!$M$46*Saisonalisierung!G44,0)","v":4830.4080000000004},{"$f":"IF(Basisdaten!$E$46<=8,Basisdaten!$M$46*Saisonalisierung!H44,0)","v":4745.6640000000007},{"$f":"IF(Basisdaten!$E$46<=9,Basisdaten!$M$46*Saisonalisierung!I44,0)","v":4802.1600000000008},{"$f":"IF(Basisdaten!$E$46<=10,Basisdaten!$M$46*Saisonalisierung!J44,0)","v":4660.92},{"$f":"IF(Basisdaten!$E$46<=11,Basisdaten!$M$46*Saisonalisierung!K44,0)","v":4802.1600000000008},{"$f":"IF(Basisdaten!$E$46<=12,Basisdaten!$M$46*Saisonalisierung!L44,0)","v":4999.8959999999997}]
[2,{"$f":"Basisdaten!B47","v":60},{"$f":"Basisdaten!A47","v":"Dennis Grohmann"},{"$f":"Basisdaten!U47","v":2022},{"$f":"IF(Basisdaten!$E$47=1,Basisdaten!$M$47*Saisonalisierung!A45,0)","v":0},{"$f":"IF(Basisdaten!$E$47<=2,Basisdaten!$M$47*Saisonalisierung!B45,0)","v":0},{"$f":"IF(Basisdaten!$E$47<=3,Basisdaten!$M$47*Saisonalisierung!C45,0)","v":0},{"$f":"IF(Basisdaten!$E$47<=4,Basisdaten!$M$47*Saisonalisierung!D45,0)","v":0},{"$f":"IF(Basisdaten!$E$47<=5,Basisdaten!$M$47*Saisonalisierung!E45,0)","v":0},{"$f":"IF(Basisdaten!$E$47<=6,Basisdaten!$M$47*Saisonalisierung!F45,0)","v":0},{"$f":"IF(Basisdaten!$E$47<=7,Basisdaten!$M$47*Saisonalisierung!G45,0)","v":0},{"$f":"IF(Basisdaten!$E$47<=8,Basisdaten!$M$47*Saisonalisierung!H45,0)","v":0},{"$f":"IF(Basisdaten!$E$47<=9,Basisdaten!$M$47*Saisonalisierung!I45,0)","v":0},{"$f":"IF(Basisdaten!$E$47<=10,Basisdaten!$M$47*Saisonalisierung!J45,0)","v":0},{"$f":"IF(Basisdaten!$E$47<=11,Basisdaten!$M$47*Saisonalisierung!K45,0)","v":0},{"$f":"IF(Basisdaten!$E$47<=12,Basisdaten!$M$47*Saisonalisierung!L45,0)","v":0}]
[2,{"$f":"Basisdaten!B48","v":60},{"$f":"Basisdaten!A48","v":"Simone Groß - SCBZ"},{"$f":"Basisdaten!U48","v":2022},{"$f":"IF(Basisdaten!$E$48=1,Basisdaten!$M$48*Saisonalisierung!A46,0)","v":4265.4480000000003},{"$f":"IF(Basisdaten!$E$48<=2,Basisdaten!$M$48*Saisonalisierung!B46,0)","v":4350.192},{"$f":"IF(Basisdaten!$E$48<=3,Basisdaten!$M$48*Saisonalisierung!C46,0)","v":5028.1440000000002},{"$f":"IF(Basisdaten!$E$48<=4,Basisdaten!$M$48*Saisonalisierung!D46,0)","v":4745.6640000000007},{"$f":"IF(Basisdaten!$E$48<=5,Basisdaten!$M$48*Saisonalisierung!E46,0)","v":4547.9279999999999},{"$f":"IF(Basisdaten!$E$48<=6,Basisdaten!$M$48*Saisonalisierung!F46,0)","v":4717.4159999999993},{"$f":"IF(Basisdaten!$E$48<=7,Basisdaten!$M$48*Saisonalisierung!G46,0)","v":4830.4080000000004},{"$f":"IF(Basisdaten!$E$48<=8,Basisdaten!$M$48*Saisonalisierung!H46,0)","v":4745.6640000000007},{"$f":"IF(Basisdaten!$E$48<=9,Basisdaten!$M$48*Saisonalisierung!I46,0)","v":4802.1600000000008},{"$f":"IF(Basisdaten!$E$48<=10,Basisdaten!$M$48*Saisonalisierung!J46,0)","v":4660.92},{"$f":"IF(Basisdaten!$E$48<=11,Basisdaten!$M$48*Saisonalisierung!K46,0)","v":4802.1600000000008},{"$f":"IF(Basisdaten!$E$48<=12,Basisdaten!$M$48*Saisonalisierung!L46,0)","v":4999.8959999999997}]
[1,{"$f":"Basisdaten!B49","v":55},{"$f":"Basisdaten!A49","v":"Jens Haller"},{"$f":"Basisdaten!U49","v":2022},{"$f":"IF(Basisdaten!$E$49=1,Basisdaten!$M$49*Saisonalisierung!A47,0)","v":4265.4480000000003},{"$f":"IF(Basisdaten!$E$49<=2,Basisdaten!$M$49*Saisonalisierung!B47,0)","v":4350.192},{"$f":"IF(Basisdaten!$E$49<=3,Basisdaten!$M$49*Saisonalisierung!C47,0)","v":5028.1440000000002},{"$f":"IF(Basisdaten!$E$49<=4,Basisdaten!$M$49*Saisonalisierung!D47,0)","v":4745.6640000000007},{"$f":"IF(Basisdaten!$E$49<=5,Basisdaten!$M$49*Saisonalisierung!E47,0)","v":4547.9279999999999},{"$f":"IF(Basisdaten!$E$49<=6,Basisdaten!$M$49*Saisonalisierung!F47,0)","v":4717.4159999999993},{"$f":"IF(Basisdaten!$E$49<=7,Basisdaten!$M$49*Saisonalisierung!G47,0)","v":4830.4080000000004},{"$f":"IF(Basisdaten!$E$49<=8,Basisdaten!$M$49*Saisonalisierung!H47,0)","v":4745.6640000000007},{"$f":"IF(Basisdaten!$E$49<=9,Basisdaten!$M$49*Saisonalisierung!I47,0)","v":4802.1600000000008},{"$f":"IF(Basisdaten!$E$49<=10,Basisdaten!$M$49*Saisonalisierung!J47,0)","v":4660.92},{"$f":"IF(Basisdaten!$E$49<=11,Basisdaten!$M$49*Saisonalisierung!K47,0)","v":4802.1600000000008},{"$f":"IF(Basisdaten!$E$49<=12,Basisdaten!$M$49*Saisonalisierung!L47,0)","v":4999.8959999999997}]
[1,{"$f":"Basisdaten!B50","v":55},{"$f":"Basisdaten!A50","v":"Ioannis Tsesmelis_"},{"$f":"Basisdaten!U50","v":2022},{"$f":"IF(Basisdaten!$E$50=1,Basisdaten!$M$50*Saisonalisierung!A48,0)","v":0},{"$f":"IF(Basisdaten!$E$50<=2,Basisdaten!$M$50*Saisonalisierung!B48,0)","v":0},{"$f":"IF(Basisdaten!$E$50<=3,Basisdaten!$M$50*Saisonalisierung!C48,0)","v":0},{"$f":"IF(Basisdaten!$E$50<=4,Basisdaten!$M$50*Saisonalisierung!D48,0)","v":0},{"$f":"IF(Basisdaten!$E$50<=5,Basisdaten!$M$50*Saisonalisierung!E48,0)","v":0},{"$f":"IF(Basisdaten!$E$50<=6,Basisdaten!$M$50*Saisonalisierung!F48,0)","v":0},{"$f":"IF(Basisdaten!$E$50<=7,Basisdaten!$M$50*Saisonalisierung!G48,0)","v":0},{"$f":"IF(Basisdaten!$E$50<=8,Basisdaten!$M$50*Saisonalisierung!H48,0)","v":0},{"$f":"IF(Basisdaten!$E$50<=9,Basisdaten!$M$50*Saisonalisierung!I48,0)","v":0},{"$f":"IF(Basisdaten!$E$50<=10,Basisdaten!$M$50*Saisonalisierung!J48,0)","v":0},{"$f":"IF(Basisdaten!$E$50<=11,Basisdaten!$M$50*Saisonalisierung!K48,0)","v":0},{"$f":"IF(Basisdaten!$E$50<=12,Basisdaten!$M$50*Saisonalisierung!L48,0)","v":0}]
[1,{"$f":"Basisdaten!B51","v":55},{"$f":"Basisdaten!A51","v":"Matthias Mirga_GZ"},{"$f":"Basisdaten!U51","v":2022},{"$f":"IF(Basisdaten!$E$51=1,Basisdaten!$M$51*Saisonalisierung!A49,0)","v":4265.4480000000003},{"$f":"IF(Basisdaten!$E$51<=2,Basisdaten!$M$51*Saisonalisierung!B49,0)","v":4350.192},{"$f":"IF(Basisdaten!$E$51<=3,Basisdaten!$M$51*Saisonalisierung!C49,0)","v":5028.1440000000002},{"$f":"IF(Basisdaten!$E$51<=4,Basisdaten!$M$51*Saisonalisierung!D49,0)","v":4745.6640000000007},{"$f":"IF(Basisdaten!$E$51<=5,Basisdaten!$M$51*Saisonalisierung!E49,0)","v":4547.9279999999999},{"$f":"IF(Basisdaten!$E$51<=6,Basisdaten!$M$51*Saisonalisierung!F49,0)","v":4717.4159999999993},{"$f":"IF(Basisdaten!$E$51<=7,Basisdaten!$M$51*Saisonalisierung!G49,0)","v":4830.4080000000004},{"$f":"IF(Basisdaten!$E$51<=8,Basisdaten!$M$51*Saisonalisierung!H49,0)","v":4745.6640000000007},{"$f":"IF(Basisdaten!$E$51<=9,Basisdaten!$M$51*Saisonalisierung!I49,0)","v":4802.1600000000008},{"$f":"IF(Basisdaten!$E$51<=10,Basisdaten!$M$51*Saisonalisierung!J49,0)","v":4660.92},{"$f":"IF(Basisdaten!$E$51<=11,Basisdaten!$M$51*Saisonalisierung!K49,0)","v":4802.1600000000008},{"$f":"IF(Basisdaten!$E$51<=12,Basisdaten!$M$51*Saisonalisierung!L49,0)","v":4999.8959999999997}]
[2,{"$f":"Basisdaten!B52","v":60},{"$f":"Basisdaten!A52","v":"Hakan Celik"},{"$f":"Basisdaten!U52","v":2022},{"$f":"IF(Basisdaten!$E$52=1,Basisdaten!$M$52*Saisonalisierung!A50,0)","v":4265.4480000000003},{"$f":"IF(Basisdaten!$E$52<=2,Basisdaten!$M$52*Saisonalisierung!B50,0)","v":4350.192},{"$f":"IF(Basisdaten!$E$52<=3,Basisdaten!$M$52*Saisonalisierung!C50,0)","v":5028.1440000000002},{"$f":"IF(Basisdaten!$E$52<=4,Basisdaten!$M$52*Saisonalisierung!D50,0)","v":4745.6640000000007},{"$f":"IF(Basisdaten!$E$52<=5,Basisdaten!$M$52*Saisonalisierung!E50,0)","v":4547.9279999999999},{"$f":"IF(Basisdaten!$E$52<=6,Basisdaten!$M$52*Saisonalisierung!F50,0)","v":4717.4159999999993},{"$f":"IF(Basisdaten!$E$52<=7,Basisdaten!$M$52*Saisonalisierung!G50,0)","v":4830.4080000000004},{"$f":"IF(Basisdaten!$E$52<=8,Basisdaten!$M$52*Saisonalisierung!H50,0)","v":4745.6640000000007},{"$f":"IF(Basisdaten!$E$52<=9,Basisdaten!$M$52*Saisonalisierung!I50,0)","v":4802.1600000000008},{"$f":"IF(Basisdaten!$E$52<=10,Basisdaten!$M$52*Saisonalisierung!J50,0)","v":4660.92},{"$f":"IF(Basisdaten!$E$52<=11,Basisdaten!$M$52*Saisonalisierung!K50,0)","v":4802.1600000000008},{"$f":"IF(Basisdaten!$E$52<=12,Basisdaten!$M$52*Saisonalisierung!L50,0)","v":4999.8959999999997}]
[1,{"$f":"Basisdaten!B53","v":40},{"$f":"Basisdaten!A53","v":"Tom Sprongl"},{"$f":"Basisdaten!U53","v":2022},{"$f":"IF(Basisdaten!$E$53=1,Basisdaten!$M$53*Saisonalisierung!A51,0)","v":4265.4480000000003},{"$f":"IF(Basisdaten!$E$53<=2,Basisdaten!$M$53*Saisonalisierung!B51,0)","v":4350.192},{"$f":"IF(Basisdaten!$E$53<=3,Basisdaten!$M$53*Saisonalisierung!C51,0)","v":5028.1440000000002},{"$f":"IF(Basisdaten!$E$53<=4,Basisdaten!$M$53*Saisonalisierung!D51,0)","v":4745.6640000000007},{"$f":"IF(Basisdaten!$E$53<=5,Basisdaten!$M$53*Saisonalisierung!E51,0)","v":4547.9279999999999},{"$f":"IF(Basisdaten!$E$53<=6,Basisdaten!$M$53*Saisonalisierung!F51,0)","v":4717.4159999999993},{"$f":"IF(Basisdaten!$E$53<=7,Basisdaten!$M$53*Saisonalisierung!G51,0)","v":4830.4080000000004},{"$f":"IF(Basisdaten!$E$53<=8,Basisdaten!$M$53*Saisonalisierung!H51,0)","v":4745.6640000000007},{"$f":"IF(Basisdaten!$E$53<=9,Basisdaten!$M$53*Saisonalisierung!I51,0)","v":4802.1600000000008},{"$f":"IF(Basisdaten!$E$53<=10,Basisdaten!$M$53*Saisonalisierung!J51,0)","v":4660.92},{"$f":"IF(Basisdaten!$E$53<=11,Basisdaten!$M$53*Saisonalisierung!K51,0)","v":4802.1600000000008},{"$f":"IF(Basisdaten!$E$53<=12,Basisdaten!$M$53*Saisonalisierung!L51,0)","v":4999.8959999999997}]
[null,{"$f":"Basisdaten!B54","v":0},{"$f":"Basisdaten!A54","v":"SB 5"},{"$f":"Basisdaten!U54","v":0},{"$f":"IF(Basisdaten!$E$54=1,Basisdaten!$M$54*Saisonalisierung!A52,0)","v":0},{"$f":"IF(Basisdaten!$E$54<=2,Basisdaten!$M$54*Saisonalisierung!B52,0)","v":0},{"$f":"IF(Basisdaten!$E$54<=3,Basisdaten!$M$54*Saisonalisierung!C52,0)","v":0},{"$f":"IF(Basisdaten!$E$54<=4,Basisdaten!$M$54*Saisonalisierung!D52,0)","v":0},{"$f":"IF(Basisdaten!$E$54<=5,Basisdaten!$M$54*Saisonalisierung!E52,0)","v":0},{"$f":"IF(Basisdaten!$E$54<=6,Basisdaten!$M$54*Saisonalisierung!F52,0)","v":0},{"$f":"IF(Basisdaten!$E$54<=7,Basisdaten!$M$54*Saisonalisierung!G52,0)","v":0},{"$f":"IF(Basisdaten!$E$54<=8,Basisdaten!$M$54*Saisonalisierung!H52,0)","v":0},{"$f":"IF(Basisdaten!$E$54<=9,Basisdaten!$M$54*Saisonalisierung!I52,0)","v":0},{"$f":"IF(Basisdaten!$E$54<=10,Basisdaten!$M$54*Saisonalisierung!J52,0)","v":0},{"$f":"IF(Basisdaten!$E$54<=11,Basisdaten!$M$54*Saisonalisierung!K52,0)","v":0},{"$f":"IF(Basisdaten!$E$54<=12,Basisdaten!$M$54*Saisonalisierung!L52,0)","v":0}]
[null,{"$f":"Basisdaten!B55","v":0},{"$f":"Basisdaten!A55","v":"SB 6"},{"$f":"Basisdaten!U55","v":0},{"$f":"IF(Basisdaten!$E$55=1,Basisdaten!$M$55*Saisonalisierung!A53,0)","v":0},{"$f":"IF(Basisdaten!$E$55<=2,Basisdaten!$M$55*Saisonalisierung!B53,0)","v":0},{"$f":"IF(Basisdaten!$E$55<=3,Basisdaten!$M$55*Saisonalisierung!C53,0)","v":0},{"$f":"IF(Basisdaten!$E$55<=4,Basisdaten!$M$55*Saisonalisierung!D53,0)","v":0},{"$f":"IF(Basisdaten!$E$55<=5,Basisdaten!$M$55*Saisonalisierung!E53,0)","v":0},{"$f":"IF(Basisdaten!$E$55<=6,Basisdaten!$M$55*Saisonalisierung!F53,0)","v":0},{"$f":"IF(Basisdaten!$E$55<=7,Basisdaten!$M$55*Saisonalisierung!G53,0)","v":0},{"$f":"IF(Basisdaten!$E$55<=8,Basisdaten!$M$55*Saisonalisierung!H53,0)","v":0},{"$f":"IF(Basisdaten!$E$55<=9,Basisdaten!$M$55*Saisonalisierung!I53,0)","v":0},{"$f":"IF(Basisdaten!$E$55<=10,Basisdaten!$M$55*Saisonalisierung!J53,0)","v":0},{"$f":"IF(Basisdaten!$E$55<=11,Basisdaten!$M$55*Saisonalisierung!K53,0)","v":0},{"$f":"IF(Basisdaten!$E$55<=12,Basisdaten!$M$55*Saisonalisierung!L53,0)","v":0}]
[null,{"$f":"Basisdaten!B56","v":0},{"$f":"Basisdaten!A56","v":"SB 7"},{"$f":"Basisdaten!U56","v":0},{"$f":"IF(Basisdaten!$E$56=1,Basisdaten!$M$56*Saisonalisierung!A54,0)","v":0},{"$f":"IF(Basisdaten!$E$56<=2,Basisdaten!$M$56*Saisonalisierung!B54,0)","v":0},{"$f":"IF(Basisdaten!$E$56<=3,Basisdaten!$M$56*Saisonalisierung!C54,0)","v":0},{"$f":"IF(Basisdaten!$E$56<=4,Basisdaten!$M$56*Saisonalisierung!D54,0)","v":0},{"$f":"IF(Basisdaten!$E$56<=5,Basisdaten!$M$56*Saisonalisierung!E54,0)","v":0},{"$f":"IF(Basisdaten!$E$56<=6,Basisdaten!$M$56*Saisonalisierung!F54,0)","v":0},{"$f":"IF(Basisdaten!$E$56<=7,Basisdaten!$M$56*Saisonalisierung!G54,0)","v":0},{"$f":"IF(Basisdaten!$E$56<=8,Basisdaten!$M$56*Saisonalisierung!H54,0)","v":0},{"$f":"IF(Basisdaten!$E$56<=9,Basisdaten!$M$56*Saisonalisierung!I54,0)","v":0},{"$f":"IF(Basisdaten!$E$56<=10,Basisdaten!$M$56*Saisonalisierung!J54,0)","v":0},{"$f":"IF(Basisdaten!$E$56<=11,Basisdaten!$M$56*Saisonalisierung!K54,0)","v":0},{"$f":"IF(Basisdaten!$E$56<=12,Basisdaten!$M$56*Saisonalisierung!L54,0)","v":0}]
[null,{"$f":"Basisdaten!B57","v":0},{"$f":"Basisdaten!A57","v":"SB 8"},{"$f":"Basisdaten!U57","v":0},{"$f":"IF(Basisdaten!$E$57=1,Basisdaten!$M$57*Saisonalisierung!A55,0)","v":0},{"$f":"IF(Basisdaten!$E$57<=2,Basisdaten!$M$57*Saisonalisierung!B55,0)","v":0},{"$f":"IF(Basisdaten!$E$57<=3,Basisdaten!$M$57*Saisonalisierung!C55,0)","v":0},{"$f":"IF(Basisdaten!$E$57<=4,Basisdaten!$M$57*Saisonalisierung!D55,0)","v":0},{"$f":"IF(Basisdaten!$E$57<=5,Basisdaten!$M$57*Saisonalisierung!E55,0)","v":0},{"$f":"IF(Basisdaten!$E$57<=6,Basisdaten!$M$57*Saisonalisierung!F55,0)","v":0},{"$f":"IF(Basisdaten!$E$57<=7,Basisdaten!$M$57*Saisonalisierung!G55,0)","v":0},{"$f":"IF(Basisdaten!$E$57<=8,Basisdaten!$M$57*Saisonalisierung!H55,0)","v":0},{"$f":"IF(Basisdaten!$E$57<=9,Basisdaten!$M$57*Saisonalisierung!I55,0)","v":0},{"$f":"IF(Basisdaten!$E$57<=10,Basisdaten!$M$57*Saisonalisierung!J55,0)","v":0},{"$f":"IF(Basisdaten!$E$57<=11,Basisdaten!$M$57*Saisonalisierung!K55,0)","v":0},{"$f":"IF(Basisdaten!$E$57<=12,Basisdaten!$M$57*Saisonalisierung!L55,0)","v":0}]
[null,{"$f":"Basisdaten!B58","v":0},{"$f":"Basisdaten!A58","v":"SB 9"},{"$f":"Basisdaten!U58","v":0},{"$f":"IF(Basisdaten!$E$58=1,Basisdaten!$M$58*Saisonalisierung!A56,0)","v":0},{"$f":"IF(Basisdaten!$E$58<=2,Basisdaten!$M$58*Saisonalisierung!B56,0)","v":0},{"$f":"IF(Basisdaten!$E$58<=3,Basisdaten!$M$58*Saisonalisierung!C56,0)","v":0},{"$f":"IF(Basisdaten!$E$58<=4,Basisdaten!$M$58*Saisonalisierung!D56,0)","v":0},{"$f":"IF(Basisdaten!$E$58<=5,Basisdaten!$M$58*Saisonalisierung!E56,0)","v":0},{"$f":"IF(Basisdaten!$E$58<=6,Basisdaten!$M$58*Saisonalisierung!F56,0)","v":0},{"$f":"IF(Basisdaten!$E$58<=7,Basisdaten!$M$58*Saisonalisierung!G56,0)","v":0},{"$f":"IF(Basisdaten!$E$58<=8,Basisdaten!$M$58*Saisonalisierung!H56,0)","v":0},{"$f":"IF(Basisdaten!$E$58<=9,Basisdaten!$M$58*Saisonalisierung!I56,0)","v":0},{"$f":"IF(Basisdaten!$E$58<=10,Basisdaten!$M$58*Saisonalisierung!J56,0)","v":0},{"$f":"IF(Basisdaten!$E$58<=11,Basisdaten!$M$58*Saisonalisierung!K56,0)","v":0},{"$f":"IF(Basisdaten!$E$58<=12,Basisdaten!$M$58*Saisonalisierung!L56,0)","v":0}]
[null,{"$f":"Basisdaten!B59","v":0},{"$f":"Basisdaten!A59","v":"SB 10"},{"$f":"Basisdaten!U59","v":0},{"$f":"IF(Basisdaten!$E$59=1,Basisdaten!$M$59*Saisonalisierung!A57,0)","v":0},{"$f":"IF(Basisdaten!$E$59<=2,Basisdaten!$M$59*Saisonalisierung!B57,0)","v":0},{"$f":"IF(Basisdaten!$E$59<=3,Basisdaten!$M$59*Saisonalisierung!C57,0)","v":0},{"$f":"IF(Basisdaten!$E$59<=4,Basisdaten!$M$59*Saisonalisierung!D57,0)","v":0},{"$f":"IF(Basisdaten!$E$59<=5,Basisdaten!$M$59*Saisonalisierung!E57,0)","v":0},{"$f":"IF(Basisdaten!$E$59<=6,Basisdaten!$M$59*Saisonalisierung!F57,0)","v":0},{"$f":"IF(Basisdaten!$E$59<=7,Basisdaten!$M$59*Saisonalisierung!G57,0)","v":0},{"$f":"IF(Basisdaten!$E$59<=8,Basisdaten!$M$59*Saisonalisierung!H57,0)","v":0},{"$f":"IF(Basisdaten!$E$59<=9,Basisdaten!$M$59*Saisonalisierung!I57,0)","v":0},{"$f":"IF(Basisdaten!$E$59<=10,Basisdaten!$M$59*Saisonalisierung!J57,0)","v":0},{"$f":"IF(Basisdaten!$E$59<=11,Basisdaten!$M$59*Saisonalisierung!K57,0)","v":0},{"$f":"IF(Basisdaten!$E$59<=12,Basisdaten!$M$59*Saisonalisierung!L57,0)","v":0}]

{"sheet":"Verarb_AW_Satz","index":25,"n_rows":57,"n_cols":16,"rows_kept":57,"cut":false,"hidden":false,"merged":[]}
["Hauptbetrieb","Standort","Serviceberater","Invoice Date","AW_Plan_1","AW_Plan_2","AW_Plan_3","AW_Plan_4","AW_Plan_5","AW_Plan_6","AW_Plan_7","AW_Plan_8","AW_Plan_9","AW_Plan_10","AW_Plan_11","AW_Plan_12"]
[1,{"$f":"Basisdaten!B4","v":10},{"$f":"Basisdaten!A4","v":"Erich Harzenetter - SCBK"},{"$f":"Basisdaten!U4","v":2022},{"$f":"IF(Basisdaten!$E$4=1,Basisdaten!$O$4,0)","v":10.5},{"$f":"IF(Basisdaten!$E$4<=2,Basisdaten!$O$4,0)","v":10.5},{"$f":"IF(Basisdaten!$E$4<=3,Basisdaten!$O$4,0)","v":10.5},{"$f":"IF(Basisdaten!$E$4<=4,Basisdaten!$O$4,0)","v":10.5},{"$f":"IF(Basisdaten!$E$4<=5,Basisdaten!$O$4,0)","v":10.5},{"$f":"IF(Basisdaten!$E$4<=6,Basisdaten!$O$4,0)","v":10.5},{"$f":"IF(Basisdaten!$E$4<=7,Basisdaten!$O$4,0)","v":10.5},{"$f":"IF(Basisdaten!$E$4<=8,Basisdaten!$O$4,0)","v":10.5},{"$f":"IF(Basisdaten!$E$4<=9,Basisdaten!$O$4,0)","v":10.5},{"$f":"IF(Basisdaten!$E$4<=10,Basisdaten!$O$4,0)","v":10.5},{"$f":"IF(Basisdaten!$E$4<=11,Basisdaten!$O$4,0)","v":10.5},{"$f":"IF(Basisdaten!$E$4<=12,Basisdaten!$O$4,0)","v":10.5}]
[1,{"$f":"Basisdaten!B5","v":10},{"$f":"Basisdaten!A5","v":"Johannes Grieser - SCBI"},{"$f":"Basisdaten!U5","v":2022},{"$f":"IF(Basisdaten!$E$5=1,Basisdaten!$O$5,0)","v":10.5},{"$f":"IF(Basisdaten!$E$5<=2,Basisdaten!$O$5,0)","v":10.5},{"$f":"IF(Basisdaten!$E$5<=3,Basisdaten!$O$5,0)","v":10.5},{"$f":"IF(Basisdaten!$E$5<=4,Basisdaten!$O$5,0)","v":10.5},{"$f":"IF(Basisdaten!$E$5<=5,Basisdaten!$O$5,0)","v":10.5},{"$f":"IF(Basisdaten!$E$5<=6,Basisdaten!$O$5,0)","v":10.5},{"$f":"IF(Basisdaten!$E$5<=7,Basisdaten!$O$5,0)","v":10.5},{"$f":"IF(Basisdaten!$E$5<=8,Basisdaten!$O$5,0)","v":10.5},{"$f":"IF(Basisdaten!$E$5<=9,Basisdaten!$O$5,0)","v":10.5},{"$f":"IF(Basisdaten!$E$5<=10,Basisdaten!$O$5,0)","v":10.5},{"$f":"IF(Basisdaten!$E$5<=11,Basisdaten!$O$5,0)","v":10.5},{"$f":"IF(Basisdaten!$E$5<=12,Basisdaten!$O$5,0)","v":10.5}]
[1,{"$f":"Basisdaten!B6","v":10},{"$f":"Basisdaten!A6","v":"Mike Weber"},{"$f":"Basisdaten!U6","v":2022},{"$f":"IF(Basisdaten!$E$6=1,Basisdaten!$O$6,0)","v":10.5},{"$f":"IF(Basisdaten!$E$6<=2,Basisdaten!$O$6,0)","v":10.5},{"$f":"IF(Basisdaten!$E$6<=3,Basisdaten!$O$6,0)","v":10.5},{"$f":"IF(Basisdaten!$E$6<=4,Basisdaten!$O$6,0)","v":10.5},{"$f":"IF(Basisdaten!$E$6<=5,Basisdaten!$O$6,0)","v":10.5},{"$f":"IF(Basisdaten!$E$6<=6,Basisdaten!$O$6,0)","v":10.5},{"$f":"IF(Basisdaten!$E$6<=7,Basisdaten!$O$6,0)","v":10.5},{"$f":"IF(Basisdaten!$E$6<=8,Basisdaten!$O$6,0)","v":10.5},{"$f":"IF(Basisdaten!$E$6<=9,Basisdaten!$O$6,0)","v":10.5},{"$f":"IF(Basisdaten!$E$6<=10,Basisdaten!$O$6,0)","v":10.5},{"$f":"IF(Basisdaten!$E$6<=11,Basisdaten!$O$6,0)","v":10.5},{"$f":"IF(Basisdaten!$E$6<=12,Basisdaten!$O$6,0)","v":10.5}]
[1,{"$f":"Basisdaten!B7","v":10},{"$f":"Basisdaten!A7","v":"Rudolf Maier"},{"$f":"Basisdaten!U7","v":2022},{"$f":"IF(Basisdaten!$E$7=1,Basisdaten!$O$7,0)","v":10.5},{"$f":"IF(Basisdaten!$E$7<=2,Basisdaten!$O$7,0)","v":10.5},{"$f":"IF(Basisdaten!$E$7<=3,Basisdaten!$O$7,0)","v":10.5},{"$f":"IF(Basisdaten!$E$7<=4,Basisdaten!$O$7,0)","v":10.5},{"$f":"IF(Basisdaten!$E$7<=5,Basisdaten!$O$7,0)","v":10.5},{"$f":"IF(Basisdaten!$E$7<=6,Basisdaten!$O$7,0)","v":10.5},{"$f":"IF(Basisdaten!$E$7<=7,Basisdaten!$O$7,0)","v":10.5},{"$f":"IF(Basisdaten!$E$7<=8,Basisdaten!$O$7,0)","v":10.5},{"$f":"IF(Basisdaten!$E$7<=9,Basisdaten!$O$7,0)","v":10.5},{"$f":"IF(Basisdaten!$E$7<=10,Basisdaten!$O$7,0)","v":10.5},{"$f":"IF(Basisdaten!$E$7<=11,Basisdaten!$O$7,0)","v":10.5},{"$f":"IF(Basisdaten!$E$7<=12,Basisdaten!$O$7,0)","v":10.5}]
[1,{"$f":"Basisdaten!B8","v":10},{"$f":"Basisdaten!A8","v":"Hermann Haller_"},{"$f":"Basisdaten!U8","v":2022},{"$f":"IF(Basisdaten!$E$8=1,Basisdaten!$O$8,0)","v":0},{"$f":"IF(Basisdaten!$E$8<=2,Basisdaten!$O$8,0)","v":0},{"$f":"IF(Basisdaten!$E$8<=3,Basisdaten!$O$8,0)","v":0},{"$f":"IF(Basisdaten!$E$8<=4,Basisdaten!$O$8,0)","v":0},{"$f":"IF(Basisdaten!$E$8<=5,Basisdaten!$O$8,0)","v":0},{"$f":"IF(Basisdaten!$E$8<=6,Basisdaten!$O$8,0)","v":0},{"$f":"IF(Basisdaten!$E$8<=7,Basisdaten!$O$8,0)","v":0},{"$f":"IF(Basisdaten!$E$8<=8,Basisdaten!$O$8,0)","v":0},{"$f":"IF(Basisdaten!$E$8<=9,Basisdaten!$O$8,0)","v":0},{"$f":"IF(Basisdaten!$E$8<=10,Basisdaten!$O$8,0)","v":0},{"$f":"IF(Basisdaten!$E$8<=11,Basisdaten!$O$8,0)","v":0},{"$f":"IF(Basisdaten!$E$8<=12,Basisdaten!$O$8,0)","v":0}]
[1,{"$f":"Basisdaten!B9","v":10},{"$f":"Basisdaten!A9","v":"Christopher Kirmayer"},{"$f":"Basisdaten!U9","v":2022},{"$f":"IF(Basisdaten!$E$9=1,Basisdaten!$O$9,0)","v":10.5},{"$f":"IF(Basisdaten!$E$9<=2,Basisdaten!$O$9,0)","v":10.5},{"$f":"IF(Basisdaten!$E$9<=3,Basisdaten!$O$9,0)","v":10.5},{"$f":"IF(Basisdaten!$E$9<=4,Basisdaten!$O$9,0)","v":10.5},{"$f":"IF(Basisdaten!$E$9<=5,Basisdaten!$O$9,0)","v":10.5},{"$f":"IF(Basisdaten!$E$9<=6,Basisdaten!$O$9,0)","v":10.5},{"$f":"IF(Basisdaten!$E$9<=7,Basisdaten!$O$9,0)","v":10.5},{"$f":"IF(Basisdaten!$E$9<=8,Basisdaten!$O$9,0)","v":10.5},{"$f":"IF(Basisdaten!$E$9<=9,Basisdaten!$O$9,0)","v":10.5},{"$f":"IF(Basisdaten!$E$9<=10,Basisdaten!$O$9,0)","v":10.5},{"$f":"IF(Basisdaten!$E$9<=11,Basisdaten!$O$9,0)","v":10.5},{"$f":"IF(Basisdaten!$E$9<=12,Basisdaten!$O$9,0)","v":10.5}]
[1,{"$f":"Basisdaten!B10","v":10},{"$f":"Basisdaten!A10","v":"Jörg Reifenrath"},{"$f":"Basisdaten!U10","v":2022},{"$f":"IF(Basisdaten!$E$10=1,Basisdaten!$O$10,0)","v":10.5},{"$f":"IF(Basisdaten!$E$10<=2,Basisdaten!$O$10,0)","v":10.5},{"$f":"IF(Basisdaten!$E$10<=3,Basisdaten!$O$10,0)","v":10.5},{"$f":"IF(Basisdaten!$E$10<=4,Basisdaten!$O$10,0)","v":10.5},{"$f":"IF(Basisdaten!$E$10<=5,Basisdaten!$O$10,0)","v":10.5},{"$f":"IF(Basisdaten!$E$10<=6,Basisdaten!$O$10,0)","v":10.5},{"$f":"IF(Basisdaten!$E$10<=7,Basisdaten!$O$10,0)","v":10.5},{"$f":"IF(Basisdaten!$E$10<=8,Basisdaten!$O$10,0)","v":10.5},{"$f":"IF(Basisdaten!$E$10<=9,Basisdaten!$O$10,0)","v":10.5},{"$f":"IF(Basisdaten!$E$10<=10,Basisdaten!$O$10,0)","v":10.5},{"$f":"IF(Basisdaten!$E$10<=11,Basisdaten!$O$10,0)","v":10.5},{"$f":"IF(Basisdaten!$E$10<=12,Basisdaten!$O$10,0)","v":10.5}]
[1,{"$f":"Basisdaten!B11","v":10},{"$f":"Basisdaten!A11","v":"Günter Küblbeck - SCBI_"},{"$f":"Basisdaten!U11","v":2022},{"$f":"IF(Basisdaten!$E$11=1,Basisdaten!$O$11,0)","v":0},{"$f":"IF(Basisdaten!$E$11<=2,Basisdaten!$O$11,0)","v":0},{"$f":"IF(Basisdaten!$E$11<=3,Basisdaten!$O$11,0)","v":0},{"$f":"IF(Basisdaten!$E$11<=4,Basisdaten!$O$11,0)","v":0},{"$f":"IF(Basisdaten!$E$11<=5,Basisdaten!$O$11,0)","v":0},{"$f":"IF(Basisdaten!$E$11<=6,Basisdaten!$O$11,0)","v":0},{"$f":"IF(Basisdaten!$E$11<=7,Basisdaten!$O$11,0)","v":0},{"$f":"IF(Basisdaten!$E$11<=8,Basisdaten!$O$11,0)","v":0},{"$f":"IF(Basisdaten!$E$11<=9,Basisdaten!$O$11,0)","v":0},{"$f":"IF(Basisdaten!$E$11<=10,Basisdaten!$O$11,0)","v":0},{"$f":"IF(Basisdaten!$E$11<=11,Basisdaten!$O$11,0)","v":0},{"$f":"IF(Basisdaten!$E$11<=12,Basisdaten!$O$11,0)","v":0}]
[1,{"$f":"Basisdaten!B12","v":10},{"$f":"Basisdaten!A12","v":"Patrick Kresser"},{"$f":"Basisdaten!U12","v":2022},{"$f":"IF(Basisdaten!$E$12=1,Basisdaten!$O$12,0)","v":10.5},{"$f":"IF(Basisdaten!$E$12<=2,Basisdaten!$O$12,0)","v":10.5},{"$f":"IF(Basisdaten!$E$12<=3,Basisdaten!$O$12,0)","v":10.5},{"$f":"IF(Basisdaten!$E$12<=4,Basisdaten!$O$12,0)","v":10.5},{"$f":"IF(Basisdaten!$E$12<=5,Basisdaten!$O$12,0)","v":10.5},{"$f":"IF(Basisdaten!$E$12<=6,Basisdaten!$O$12,0)","v":10.5},{"$f":"IF(Basisdaten!$E$12<=7,Basisdaten!$O$12,0)","v":10.5},{"$f":"IF(Basisdaten!$E$12<=8,Basisdaten!$O$12,0)","v":10.5},{"$f":"IF(Basisdaten!$E$12<=9,Basisdaten!$O$12,0)","v":10.5},{"$f":"IF(Basisdaten!$E$12<=10,Basisdaten!$O$12,0)","v":10.5},{"$f":"IF(Basisdaten!$E$12<=11,Basisdaten!$O$12,0)","v":10.5},{"$f":"IF(Basisdaten!$E$12<=12,Basisdaten!$O$12,0)","v":10.5}]
[1,{"$f":"Basisdaten!B13","v":30},{"$f":"Basisdaten!A13","v":"Ralf Ruchti"},{"$f":"Basisdaten!U13","v":2022},{"$f":"IF(Basisdaten!$E$13=1,Basisdaten!$O$13,0)","v":10.5},{"$f":"IF(Basisdaten!$E$13<=2,Basisdaten!$O$13,0)","v":10.5},{"$f":"IF(Basisdaten!$E$13<=3,Basisdaten!$O$13,0)","v":10.5},{"$f":"IF(Basisdaten!$E$13<=4,Basisdaten!$O$13,0)","v":10.5},{"$f":"IF(Basisdaten!$E$13<=5,Basisdaten!$O$13,0)","v":10.5},{"$f":"IF(Basisdaten!$E$13<=6,Basisdaten!$O$13,0)","v":10.5},{"$f":"IF(Basisdaten!$E$13<=7,Basisdaten!$O$13,0)","v":10.5},{"$f":"IF(Basisdaten!$E$13<=8,Basisdaten!$O$13,0)","v":10.5},{"$f":"IF(Basisdaten!$E$13<=9,Basisdaten!$O$13,0)","v":10.5},{"$f":"IF(Basisdaten!$E$13<=10,Basisdaten!$O$13,0)","v":10.5},{"$f":"IF(Basisdaten!$E$13<=11,Basisdaten!$O$13,0)","v":10.5},{"$f":"IF(Basisdaten!$E$13<=12,Basisdaten!$O$13,0)","v":10.5}]
[1,{"$f":"Basisdaten!B14","v":30},{"$f":"Basisdaten!A14","v":"Matthias Mirga"},{"$f":"Basisdaten!U14","v":2022},{"$f":"IF(Basisdaten!$E$14=1,Basisdaten!$O$14,0)","v":10.5},{"$f":"IF(Basisdaten!$E$14<=2,Basisdaten!$O$14,0)","v":10.5},{"$f":"IF(Basisdaten!$E$14<=3,Basisdaten!$O$14,0)","v":10.5},{"$f":"IF(Basisdaten!$E$14<=4,Basisdaten!$O$14,0)","v":10.5},{"$f":"IF(Basisdaten!$E$14<=5,Basisdaten!$O$14,0)","v":10.5},{"$f":"IF(Basisdaten!$E$14<=6,Basisdaten!$O$14,0)","v":10.5},{"$f":"IF(Basisdaten!$E$14<=7,Basisdaten!$O$14,0)","v":10.5},{"$f":"IF(Basisdaten!$E$14<=8,Basisdaten!$O$14,0)","v":10.5},{"$f":"IF(Basisdaten!$E$14<=9,Basisdaten!$O$14,0)","v":10.5},{"$f":"IF(Basisdaten!$E$14<=10,Basisdaten!$O$14,0)","v":10.5},{"$f":"IF(Basisdaten!$E$14<=11,Basisdaten!$O$14,0)","v":10.5},{"$f":"IF(Basisdaten!$E$14<=12,Basisdaten!$O$14,0)","v":10.5}]
[1,{"$f":"Basisdaten!B15","v":40},{"$f":"Basisdaten!A15","v":"Wolfgang Heckelmiller - SCBK"},{"$f":"Basisdaten!U15","v":2022},{"$f":"IF(Basisdaten!$E$15=1,Basisdaten!$O$15,0)","v":10.5},{"$f":"IF(Basisdaten!$E$15<=2,Basisdaten!$O$15,0)","v":10.5},{"$f":"IF(Basisdaten!$E$15<=3,Basisdaten!$O$15,0)","v":10.5},{"$f":"IF(Basisdaten!$E$15<=4,Basisdaten!$O$15,0)","v":10.5},{"$f":"IF(Basisdaten!$E$15<=5,Basisdaten!$O$15,0)","v":10.5},{"$f":"IF(Basisdaten!$E$15<=6,Basisdaten!$O$15,0)","v":10.5},{"$f":"IF(Basisdaten!$E$15<=7,Basisdaten!$O$15,0)","v":10.5},{"$f":"IF(Basisdaten!$E$15<=8,Basisdaten!$O$15,0)","v":10.5},{"$f":"IF(Basisdaten!$E$15<=9,Basisdaten!$O$15,0)","v":10.5},{"$f":"IF(Basisdaten!$E$15<=10,Basisdaten!$O$15,0)","v":10.5},{"$f":"IF(Basisdaten!$E$15<=11,Basisdaten!$O$15,0)","v":10.5},{"$f":"IF(Basisdaten!$E$15<=12,Basisdaten!$O$15,0)","v":10.5}]
[1,{"$f":"Basisdaten!B16","v":40},{"$f":"Basisdaten!A16","v":"Daniel Klingenstein"},{"$f":"Basisdaten!U16","v":2022},{"$f":"IF(Basisdaten!$E$16=1,Basisdaten!$O$16,0)","v":10.5},{"$f":"IF(Basisdaten!$E$16<=2,Basisdaten!$O$16,0)","v":10.5},{"$f":"IF(Basisdaten!$E$16<=3,Basisdaten!$O$16,0)","v":10.5},{"$f":"IF(Basisdaten!$E$16<=4,Basisdaten!$O$16,0)","v":10.5},{"$f":"IF(Basisdaten!$E$16<=5,Basisdaten!$O$16,0)","v":10.5},{"$f":"IF(Basisdaten!$E$16<=6,Basisdaten!$O$16,0)","v":10.5},{"$f":"IF(Basisdaten!$E$16<=7,Basisdaten!$O$16,0)","v":10.5},{"$f":"IF(Basisdaten!$E$16<=8,Basisdaten!$O$16,0)","v":10.5},{"$f":"IF(Basisdaten!$E$16<=9,Basisdaten!$O$16,0)","v":10.5},{"$f":"IF(Basisdaten!$E$16<=10,Basisdaten!$O$16,0)","v":10.5},{"$f":"IF(Basisdaten!$E$16<=11,Basisdaten!$O$16,0)","v":10.5},{"$f":"IF(Basisdaten!$E$16<=12,Basisdaten!$O$16,0)","v":10.5}]
[1,{"$f":"Basisdaten!B17","v":40},{"$f":"Basisdaten!A17","v":"Alnes Zenic"},{"$f":"Basisdaten!U17","v":2022},{"$f":"IF(Basisdaten!$E$17=1,Basisdaten!$O$17,0)","v":10.5},{"$f":"IF(Basisdaten!$E$17<=2,Basisdaten!$O$17,0)","v":10.5},{"$f":"IF(Basisdaten!$E$17<=3,Basisdaten!$O$17,0)","v":10.5},{"$f":"IF(Basisdaten!$E$17<=4,Basisdaten!$O$17,0)","v":10.5},{"$f":"IF(Basisdaten!$E$17<=5,Basisdaten!$O$17,0)","v":10.5},{"$f":"IF(Basisdaten!$E$17<=6,Basisdaten!$O$17,0)","v":10.5},{"$f":"IF(Basisdaten!$E$17<=7,Basisdaten!$O$17,0)","v":10.5},{"$f":"IF(Basisdaten!$E$17<=8,Basisdaten!$O$17,0)","v":10.5},{"$f":"IF(Basisdaten!$E$17<=9,Basisdaten!$O$17,0)","v":10.5},{"$f":"IF(Basisdaten!$E$17<=10,Basisdaten!$O$17,0)","v":10.5},{"$f":"IF(Basisdaten!$E$17<=11,Basisdaten!$O$17,0)","v":10.5},{"$f":"IF(Basisdaten!$E$17<=12,Basisdaten!$O$17,0)","v":10.5}]
[1,{"$f":"Basisdaten!B18","v":40},{"$f":"Basisdaten!A18","v":"Mehmet Dikmen"},{"$f":"Basisdaten!U18","v":2022},{"$f":"IF(Basisdaten!$E$18=1,Basisdaten!$O$18,0)","v":10.5},{"$f":"IF(Basisdaten!$E$18<=2,Basisdaten!$O$18,0)","v":10.5},{"$f":"IF(Basisdaten!$E$18<=3,Basisdaten!$O$18,0)","v":10.5},{"$f":"IF(Basisdaten!$E$18<=4,Basisdaten!$O$18,0)","v":10.5},{"$f":"IF(Basisdaten!$E$18<=5,Basisdaten!$O$18,0)","v":10.5},{"$f":"IF(Basisdaten!$E$18<=6,Basisdaten!$O$18,0)","v":10.5},{"$f":"IF(Basisdaten!$E$18<=7,Basisdaten!$O$18,0)","v":10.5},{"$f":"IF(Basisdaten!$E$18<=8,Basisdaten!$O$18,0)","v":10.5},{"$f":"IF(Basisdaten!$E$18<=9,Basisdaten!$O$18,0)","v":10.5},{"$f":"IF(Basisdaten!$E$18<=10,Basisdaten!$O$18,0)","v":10.5},{"$f":"IF(Basisdaten!$E$18<=11,Basisdaten!$O$18,0)","v":10.5},{"$f":"IF(Basisdaten!$E$18<=12,Basisdaten!$O$18,0)","v":10.5}]
[1,{"$f":"Basisdaten!B19","v":40},{"$f":"Basisdaten!A19","v":"Gerrit Heine"},{"$f":"Basisdaten!U19","v":2022},{"$f":"IF(Basisdaten!$E$19=1,Basisdaten!$O$19,0)","v":10.5},{"$f":"IF(Basisdaten!$E$19<=2,Basisdaten!$O$19,0)","v":10.5},{"$f":"IF(Basisdaten!$E$19<=3,Basisdaten!$O$19,0)","v":10.5},{"$f":"IF(Basisdaten!$E$19<=4,Basisdaten!$O$19,0)","v":10.5},{"$f":"IF(Basisdaten!$E$19<=5,Basisdaten!$O$19,0)","v":10.5},{"$f":"IF(Basisdaten!$E$19<=6,Basisdaten!$O$19,0)","v":10.5},{"$f":"IF(Basisdaten!$E$19<=7,Basisdaten!$O$19,0)","v":10.5},{"$f":"IF(Basisdaten!$E$19<=8,Basisdaten!$O$19,0)","v":10.5},{"$f":"IF(Basisdaten!$E$19<=9,Basisdaten!$O$19,0)","v":10.5},{"$f":"IF(Basisdaten!$E$19<=10,Basisdaten!$O$19,0)","v":10.5},{"$f":"IF(Basisdaten!$E$19<=11,Basisdaten!$O$19,0)","v":10.5},{"$f":"IF(Basisdaten!$E$19<=12,Basisdaten!$O$19,0)","v":10.5}]
[1,{"$f":"Basisdaten!B20","v":40},{"$f":"Basisdaten!A20","v":"Lars Krausen"},{"$f":"Basisdaten!U20","v":2022},{"$f":"IF(Basisdaten!$E$20=1,Basisdaten!$O$20,0)","v":10.5},{"$f":"IF(Basisdaten!$E$20<=2,Basisdaten!$O$20,0)","v":10.5},{"$f":"IF(Basisdaten!$E$20<=3,Basisdaten!$O$20,0)","v":10.5},{"$f":"IF(Basisdaten!$E$20<=4,Basisdaten!$O$20,0)","v":10.5},{"$f":"IF(Basisdaten!$E$20<=5,Basisdaten!$O$20,0)","v":10.5},{"$f":"IF(Basisdaten!$E$20<=6,Basisdaten!$O$20,0)","v":10.5},{"$f":"IF(Basisdaten!$E$20<=7,Basisdaten!$O$20,0)","v":10.5},{"$f":"IF(Basisdaten!$E$20<=8,Basisdaten!$O$20,0)","v":10.5},{"$f":"IF(Basisdaten!$E$20<=9,Basisdaten!$O$20,0)","v":10.5},{"$f":"IF(Basisdaten!$E$20<=10,Basisdaten!$O$20,0)","v":10.5},{"$f":"IF(Basisdaten!$E$20<=11,Basisdaten!$O$20,0)","v":10.5},{"$f":"IF(Basisdaten!$E$20<=12,Basisdaten!$O$20,0)","v":10.5}]
[1,{"$f":"Basisdaten!B21","v":40},{"$f":"Basisdaten!A21","v":"Hubert Figura - SCBI"},{"$f":"Basisdaten!U21","v":2022},{"$f":"IF(Basisdaten!$E$21=1,Basisdaten!$O$21,0)","v":10.5},{"$f":"IF(Basisdaten!$E$21<=2,Basisdaten!$O$21,0)","v":10.5},{"$f":"IF(Basisdaten!$E$21<=3,Basisdaten!$O$21,0)","v":10.5},{"$f":"IF(Basisdaten!$E$21<=4,Basisdaten!$O$21,0)","v":10.5},{"$f":"IF(Basisdaten!$E$21<=5,Basisdaten!$O$21,0)","v":10.5},{"$f":"IF(Basisdaten!$E$21<=6,Basisdaten!$O$21,0)","v":10.5},{"$f":"IF(Basisdaten!$E$21<=7,Basisdaten!$O$21,0)","v":10.5},{"$f":"IF(Basisdaten!$E$21<=8,Basisdaten!$O$21,0)","v":10.5},{"$f":"IF(Basisdaten!$E$21<=9,Basisdaten!$O$21,0)","v":10.5},{"$f":"IF(Basisdaten!$E$21<=10,Basisdaten!$O$21,0)","v":10.5},{"$f":"IF(Basisdaten!$E$21<=11,Basisdaten!$O$21,0)","v":10.5},{"$f":"IF(Basisdaten!$E$21<=12,Basisdaten!$O$21,0)","v":10.5}]
[1,{"$f":"Basisdaten!B22","v":40},{"$f":"Basisdaten!A22","v":"Jan-Oliver Knaus"},{"$f":"Basisdaten!U22","v":2022},{"$f":"IF(Basisdaten!$E$22=1,Basisdaten!$O$22,0)","v":10.5},{"$f":"IF(Basisdaten!$E$22<=2,Basisdaten!$O$22,0)","v":10.5},{"$f":"IF(Basisdaten!$E$22<=3,Basisdaten!$O$22,0)","v":10.5},{"$f":"IF(Basisdaten!$E$22<=4,Basisdaten!$O$22,0)","v":10.5},{"$f":"IF(Basisdaten!$E$22<=5,Basisdaten!$O$22,0)","v":10.5},{"$f":"IF(Basisdaten!$E$22<=6,Basisdaten!$O$22,0)","v":10.5},{"$f":"IF(Basisdaten!$E$22<=7,Basisdaten!$O$22,0)","v":10.5},{"$f":"IF(Basisdaten!$E$22<=8,Basisdaten!$O$22,0)","v":10.5},{"$f":"IF(Basisdaten!$E$22<=9,Basisdaten!$O$22,0)","v":10.5},{"$f":"IF(Basisdaten!$E$22<=10,Basisdaten!$O$22,0)","v":10.5},{"$f":"IF(Basisdaten!$E$22<=11,Basisdaten!$O$22,0)","v":10.5},{"$f":"IF(Basisdaten!$E$22<=12,Basisdaten!$O$22,0)","v":10.5}]
[1,{"$f":"Basisdaten!B23","v":40},{"$f":"Basisdaten!A23","v":"Hakan Celik_ULM"},{"$f":"Basisdaten!U23","v":2022},{"$f":"IF(Basisdaten!$E$23=1,Basisdaten!$O$23,0)","v":0},{"$f":"IF(Basisdaten!$E$23<=2,Basisdaten!$O$23,0)","v":0},{"$f":"IF(Basisdaten!$E$23<=3,Basisdaten!$O$23,0)","v":0},{"$f":"IF(Basisdaten!$E$23<=4,Basisdaten!$O$23,0)","v":0},{"$f":"IF(Basisdaten!$E$23<=5,Basisdaten!$O$23,0)","v":0},{"$f":"IF(Basisdaten!$E$23<=6,Basisdaten!$O$23,0)","v":0},{"$f":"IF(Basisdaten!$E$23<=7,Basisdaten!$O$23,0)","v":0},{"$f":"IF(Basisdaten!$E$23<=8,Basisdaten!$O$23,0)","v":0},{"$f":"IF(Basisdaten!$E$23<=9,Basisdaten!$O$23,0)","v":0},{"$f":"IF(Basisdaten!$E$23<=10,Basisdaten!$O$23,0)","v":0},{"$f":"IF(Basisdaten!$E$23<=11,Basisdaten!$O$23,0)","v":0},{"$f":"IF(Basisdaten!$E$23<=12,Basisdaten!$O$23,0)","v":0}]
[1,{"$f":"Basisdaten!B24","v":40},{"$f":"Basisdaten!A24","v":"Andreas Walter"},{"$f":"Basisdaten!U24","v":2022},{"$f":"IF(Basisdaten!$E$24=1,Basisdaten!$O$24,0)","v":10.5},{"$f":"IF(Basisdaten!$E$24<=2,Basisdaten!$O$24,0)","v":10.5},{"$f":"IF(Basisdaten!$E$24<=3,Basisdaten!$O$24,0)","v":10.5},{"$f":"IF(Basisdaten!$E$24<=4,Basisdaten!$O$24,0)","v":10.5},{"$f":"IF(Basisdaten!$E$24<=5,Basisdaten!$O$24,0)","v":10.5},{"$f":"IF(Basisdaten!$E$24<=6,Basisdaten!$O$24,0)","v":10.5},{"$f":"IF(Basisdaten!$E$24<=7,Basisdaten!$O$24,0)","v":10.5},{"$f":"IF(Basisdaten!$E$24<=8,Basisdaten!$O$24,0)","v":10.5},{"$f":"IF(Basisdaten!$E$24<=9,Basisdaten!$O$24,0)","v":10.5},{"$f":"IF(Basisdaten!$E$24<=10,Basisdaten!$O$24,0)","v":10.5},{"$f":"IF(Basisdaten!$E$24<=11,Basisdaten!$O$24,0)","v":10.5},{"$f":"IF(Basisdaten!$E$24<=12,Basisdaten!$O$24,0)","v":10.5}]
[1,{"$f":"Basisdaten!B25","v":40},{"$f":"Basisdaten!A25","v":"Fatih Cetiner"},{"$f":"Basisdaten!U25","v":2022},{"$f":"IF(Basisdaten!$E$25=1,Basisdaten!$O$25,0)","v":10.5},{"$f":"IF(Basisdaten!$E$25<=2,Basisdaten!$O$25,0)","v":10.5},{"$f":"IF(Basisdaten!$E$25<=3,Basisdaten!$O$25,0)","v":10.5},{"$f":"IF(Basisdaten!$E$25<=4,Basisdaten!$O$25,0)","v":10.5},{"$f":"IF(Basisdaten!$E$25<=5,Basisdaten!$O$25,0)","v":10.5},{"$f":"IF(Basisdaten!$E$25<=6,Basisdaten!$O$25,0)","v":10.5},{"$f":"IF(Basisdaten!$E$25<=7,Basisdaten!$O$25,0)","v":10.5},{"$f":"IF(Basisdaten!$E$25<=8,Basisdaten!$O$25,0)","v":10.5},{"$f":"IF(Basisdaten!$E$25<=9,Basisdaten!$O$25,0)","v":10.5},{"$f":"IF(Basisdaten!$E$25<=10,Basisdaten!$O$25,0)","v":10.5},{"$f":"IF(Basisdaten!$E$25<=11,Basisdaten!$O$25,0)","v":10.5},{"$f":"IF(Basisdaten!$E$25<=12,Basisdaten!$O$25,0)","v":10.5}]
[1,{"$f":"Basisdaten!B26","v":50},{"$f":"Basisdaten!A26","v":"Carlheinz Beylacher"},{"$f":"Basisdaten!U26","v":2022},{"$f":"IF(Basisdaten!$E$26=1,Basisdaten!$O$26,0)","v":10.5},{"$f":"IF(Basisdaten!$E$26<=2,Basisdaten!$O$26,0)","v":10.5},{"$f":"IF(Basisdaten!$E$26<=3,Basisdaten!$O$26,0)","v":10.5},{"$f":"IF(Basisdaten!$E$26<=4,Basisdaten!$O$26,0)","v":10.5},{"$f":"IF(Basisdaten!$E$26<=5,Basisdaten!$O$26,0)","v":10.5},{"$f":"IF(Basisdaten!$E$26<=6,Basisdaten!$O$26,0)","v":10.5},{"$f":"IF(Basisdaten!$E$26<=7,Basisdaten!$O$26,0)","v":10.5},{"$f":"IF(Basisdaten!$E$26<=8,Basisdaten!$O$26,0)","v":10.5},{"$f":"IF(Basisdaten!$E$26<=9,Basisdaten!$O$26,0)","v":10.5},{"$f":"IF(Basisdaten!$E$26<=10,Basisdaten!$O$26,0)","v":10.5},{"$f":"IF(Basisdaten!$E$26<=11,Basisdaten!$O$26,0)","v":10.5},{"$f":"IF(Basisdaten!$E$26<=12,Basisdaten!$O$26,0)","v":10.5}]
[1,{"$f":"Basisdaten!B27","v":50},{"$f":"Basisdaten!A27","v":"Christoph Ziegler"},{"$f":"Basisdaten!U27","v":2022},{"$f":"IF(Basisdaten!$E$27=1,Basisdaten!$O$27,0)","v":10.5},{"$f":"IF(Basisdaten!$E$27<=2,Basisdaten!$O$27,0)","v":10.5},{"$f":"IF(Basisdaten!$E$27<=3,Basisdaten!$O$27,0)","v":10.5},{"$f":"IF(Basisdaten!$E$27<=4,Basisdaten!$O$27,0)","v":10.5},{"$f":"IF(Basisdaten!$E$27<=5,Basisdaten!$O$27,0)","v":10.5},{"$f":"IF(Basisdaten!$E$27<=6,Basisdaten!$O$27,0)","v":10.5},{"$f":"IF(Basisdaten!$E$27<=7,Basisdaten!$O$27,0)","v":10.5},{"$f":"IF(Basisdaten!$E$27<=8,Basisdaten!$O$27,0)","v":10.5},{"$f":"IF(Basisdaten!$E$27<=9,Basisdaten!$O$27,0)","v":10.5},{"$f":"IF(Basisdaten!$E$27<=10,Basisdaten!$O$27,0)","v":10.5},{"$f":"IF(Basisdaten!$E$27<=11,Basisdaten!$O$27,0)","v":10.5},{"$f":"IF(Basisdaten!$E$27<=12,Basisdaten!$O$27,0)","v":10.5}]
[1,{"$f":"Basisdaten!B28","v":50},{"$f":"Basisdaten!A28","v":"Steffen Schiller"},{"$f":"Basisdaten!U28","v":2022},{"$f":"IF(Basisdaten!$E$28=1,Basisdaten!$O$28,0)","v":10.5},{"$f":"IF(Basisdaten!$E$28<=2,Basisdaten!$O$28,0)","v":10.5},{"$f":"IF(Basisdaten!$E$28<=3,Basisdaten!$O$28,0)","v":10.5},{"$f":"IF(Basisdaten!$E$28<=4,Basisdaten!$O$28,0)","v":10.5},{"$f":"IF(Basisdaten!$E$28<=5,Basisdaten!$O$28,0)","v":10.5},{"$f":"IF(Basisdaten!$E$28<=6,Basisdaten!$O$28,0)","v":10.5},{"$f":"IF(Basisdaten!$E$28<=7,Basisdaten!$O$28,0)","v":10.5},{"$f":"IF(Basisdaten!$E$28<=8,Basisdaten!$O$28,0)","v":10.5},{"$f":"IF(Basisdaten!$E$28<=9,Basisdaten!$O$28,0)","v":10.5},{"$f":"IF(Basisdaten!$E$28<=10,Basisdaten!$O$28,0)","v":10.5},{"$f":"IF(Basisdaten!$E$28<=11,Basisdaten!$O$28,0)","v":10.5},{"$f":"IF(Basisdaten!$E$28<=12,Basisdaten!$O$28,0)","v":10.5}]
[1,{"$f":"Basisdaten!B29","v":50},{"$f":"Basisdaten!A29","v":"André Pfeffer - SCBI"},{"$f":"Basisdaten!U29","v":2022},{"$f":"IF(Basisdaten!$E$29=1,Basisdaten!$O$29,0)","v":10.5},{"$f":"IF(Basisdaten!$E$29<=2,Basisdaten!$O$29,0)","v":10.5},{"$f":"IF(Basisdaten!$E$29<=3,Basisdaten!$O$29,0)","v":10.5},{"$f":"IF(Basisdaten!$E$29<=4,Basisdaten!$O$29,0)","v":10.5},{"$f":"IF(Basisdaten!$E$29<=5,Basisdaten!$O$29,0)","v":10.5},{"$f":"IF(Basisdaten!$E$29<=6,Basisdaten!$O$29,0)","v":10.5},{"$f":"IF(Basisdaten!$E$29<=7,Basisdaten!$O$29,0)","v":10.5},{"$f":"IF(Basisdaten!$E$29<=8,Basisdaten!$O$29,0)","v":10.5},{"$f":"IF(Basisdaten!$E$29<=9,Basisdaten!$O$29,0)","v":10.5},{"$f":"IF(Basisdaten!$E$29<=10,Basisdaten!$O$29,0)","v":10.5},{"$f":"IF(Basisdaten!$E$29<=11,Basisdaten!$O$29,0)","v":10.5},{"$f":"IF(Basisdaten!$E$29<=12,Basisdaten!$O$29,0)","v":10.5}]
[1,{"$f":"Basisdaten!B30","v":50},{"$f":"Basisdaten!A30","v":"Christian Wiedemann"},{"$f":"Basisdaten!U30","v":2022},{"$f":"IF(Basisdaten!$E$30=1,Basisdaten!$O$30,0)","v":10.5},{"$f":"IF(Basisdaten!$E$30<=2,Basisdaten!$O$30,0)","v":10.5},{"$f":"IF(Basisdaten!$E$30<=3,Basisdaten!$O$30,0)","v":10.5},{"$f":"IF(Basisdaten!$E$30<=4,Basisdaten!$O$30,0)","v":10.5},{"$f":"IF(Basisdaten!$E$30<=5,Basisdaten!$O$30,0)","v":10.5},{"$f":"IF(Basisdaten!$E$30<=6,Basisdaten!$O$30,0)","v":10.5},{"$f":"IF(Basisdaten!$E$30<=7,Basisdaten!$O$30,0)","v":10.5},{"$f":"IF(Basisdaten!$E$30<=8,Basisdaten!$O$30,0)","v":10.5},{"$f":"IF(Basisdaten!$E$30<=9,Basisdaten!$O$30,0)","v":10.5},{"$f":"IF(Basisdaten!$E$30<=10,Basisdaten!$O$30,0)","v":10.5},{"$f":"IF(Basisdaten!$E$30<=11,Basisdaten!$O$30,0)","v":10.5},{"$f":"IF(Basisdaten!$E$30<=12,Basisdaten!$O$30,0)","v":10.5}]
[1,{"$f":"Basisdaten!B31","v":50},{"$f":"Basisdaten!A31","v":"Daniel Aschmann_"},{"$f":"Basisdaten!U31","v":2022},{"$f":"IF(Basisdaten!$E$31=1,Basisdaten!$O$31,0)","v":0},{"$f":"IF(Basisdaten!$E$31<=2,Basisdaten!$O$31,0)","v":0},{"$f":"IF(Basisdaten!$E$31<=3,Basisdaten!$O$31,0)","v":0},{"$f":"IF(Basisdaten!$E$31<=4,Basisdaten!$O$31,0)","v":0},{"$f":"IF(Basisdaten!$E$31<=5,Basisdaten!$O$31,0)","v":0},{"$f":"IF(Basisdaten!$E$31<=6,Basisdaten!$O$31,0)","v":0},{"$f":"IF(Basisdaten!$E$31<=7,Basisdaten!$O$31,0)","v":0},{"$f":"IF(Basisdaten!$E$31<=8,Basisdaten!$O$31,0)","v":0},{"$f":"IF(Basisdaten!$E$31<=9,Basisdaten!$O$31,0)","v":0},{"$f":"IF(Basisdaten!$E$31<=10,Basisdaten!$O$31,0)","v":0},{"$f":"IF(Basisdaten!$E$31<=11,Basisdaten!$O$31,0)","v":0},{"$f":"IF(Basisdaten!$E$31<=12,Basisdaten!$O$31,0)","v":0}]
[2,{"$f":"Basisdaten!B32","v":60},{"$f":"Basisdaten!A32","v":"Dirk Heditzsch"},{"$f":"Basisdaten!U32","v":2022},{"$f":"IF(Basisdaten!$E$32=1,Basisdaten!$O$32,0)","v":0},{"$f":"IF(Basisdaten!$E$32<=2,Basisdaten!$O$32,0)","v":0},{"$f":"IF(Basisdaten!$E$32<=3,Basisdaten!$O$32,0)","v":0},{"$f":"IF(Basisdaten!$E$32<=4,Basisdaten!$O$32,0)","v":10.5},{"$f":"IF(Basisdaten!$E$32<=5,Basisdaten!$O$32,0)","v":10.5},{"$f":"IF(Basisdaten!$E$32<=6,Basisdaten!$O$32,0)","v":10.5},{"$f":"IF(Basisdaten!$E$32<=7,Basisdaten!$O$32,0)","v":10.5},{"$f":"IF(Basisdaten!$E$32<=8,Basisdaten!$O$32,0)","v":10.5},{"$f":"IF(Basisdaten!$E$32<=9,Basisdaten!$O$32,0)","v":10.5},{"$f":"IF(Basisdaten!$E$32<=10,Basisdaten!$O$32,0)","v":10.5},{"$f":"IF(Basisdaten!$E$32<=11,Basisdaten!$O$32,0)","v":10.5},{"$f":"IF(Basisdaten!$E$32<=12,Basisdaten!$O$32,0)","v":10.5}]
[2,{"$f":"Basisdaten!B33","v":60},{"$f":"Basisdaten!A33","v":"Marco Hanigk"},{"$f":"Basisdaten!U33","v":2022},{"$f":"IF(Basisdaten!$E$33=1,Basisdaten!$O$33,0)","v":10.5},{"$f":"IF(Basisdaten!$E$33<=2,Basisdaten!$O$33,0)","v":10.5},{"$f":"IF(Basisdaten!$E$33<=3,Basisdaten!$O$33,0)","v":10.5},{"$f":"IF(Basisdaten!$E$33<=4,Basisdaten!$O$33,0)","v":10.5},{"$f":"IF(Basisdaten!$E$33<=5,Basisdaten!$O$33,0)","v":10.5},{"$f":"IF(Basisdaten!$E$33<=6,Basisdaten!$O$33,0)","v":10.5},{"$f":"IF(Basisdaten!$E$33<=7,Basisdaten!$O$33,0)","v":10.5},{"$f":"IF(Basisdaten!$E$33<=8,Basisdaten!$O$33,0)","v":10.5},{"$f":"IF(Basisdaten!$E$33<=9,Basisdaten!$O$33,0)","v":10.5},{"$f":"IF(Basisdaten!$E$33<=10,Basisdaten!$O$33,0)","v":10.5},{"$f":"IF(Basisdaten!$E$33<=11,Basisdaten!$O$33,0)","v":10.5},{"$f":"IF(Basisdaten!$E$33<=12,Basisdaten!$O$33,0)","v":10.5}]
[2,{"$f":"Basisdaten!B34","v":60},{"$f":"Basisdaten!A34","v":"Marcel Lankes"},{"$f":"Basisdaten!U34","v":2022},{"$f":"IF(Basisdaten!$E$34=1,Basisdaten!$O$34,0)","v":0},{"$f":"IF(Basisdaten!$E$34<=2,Basisdaten!$O$34,0)","v":0},{"$f":"IF(Basisdaten!$E$34<=3,Basisdaten!$O$34,0)","v":0},{"$f":"IF(Basisdaten!$E$34<=4,Basisdaten!$O$34,0)","v":10.5},{"$f":"IF(Basisdaten!$E$34<=5,Basisdaten!$O$34,0)","v":10.5},{"$f":"IF(Basisdaten!$E$34<=6,Basisdaten!$O$34,0)","v":10.5},{"$f":"IF(Basisdaten!$E$34<=7,Basisdaten!$O$34,0)","v":10.5},{"$f":"IF(Basisdaten!$E$34<=8,Basisdaten!$O$34,0)","v":10.5},{"$f":"IF(Basisdaten!$E$34<=9,Basisdaten!$O$34,0)","v":10.5},{"$f":"IF(Basisdaten!$E$34<=10,Basisdaten!$O$34,0)","v":10.5},{"$f":"IF(Basisdaten!$E$34<=11,Basisdaten!$O$34,0)","v":10.5},{"$f":"IF(Basisdaten!$E$34<=12,Basisdaten!$O$34,0)","v":10.5}]
[2,{"$f":"Basisdaten!B35","v":60},{"$f":"Basisdaten!A35","v":"Roland Klier"},{"$f":"Basisdaten!U35","v":2022},{"$f":"IF(Basisdaten!$E$35=1,Basisdaten!$O$35,0)","v":10.5},{"$f":"IF(Basisdaten!$E$35<=2,Basisdaten!$O$35,0)","v":10.5},{"$f":"IF(Basisdaten!$E$35<=3,Basisdaten!$O$35,0)","v":10.5},{"$f":"IF(Basisdaten!$E$35<=4,Basisdaten!$O$35,0)","v":10.5},{"$f":"IF(Basisdaten!$E$35<=5,Basisdaten!$O$35,0)","v":10.5},{"$f":"IF(Basisdaten!$E$35<=6,Basisdaten!$O$35,0)","v":10.5},{"$f":"IF(Basisdaten!$E$35<=7,Basisdaten!$O$35,0)","v":10.5},{"$f":"IF(Basisdaten!$E$35<=8,Basisdaten!$O$35,0)","v":10.5},{"$f":"IF(Basisdaten!$E$35<=9,Basisdaten!$O$35,0)","v":10.5},{"$f":"IF(Basisdaten!$E$35<=10,Basisdaten!$O$35,0)","v":10.5},{"$f":"IF(Basisdaten!$E$35<=11,Basisdaten!$O$35,0)","v":10.5},{"$f":"IF(Basisdaten!$E$35<=12,Basisdaten!$O$35,0)","v":10.5}]
[2,{"$f":"Basisdaten!B36","v":60},{"$f":"Basisdaten!A36","v":"Mert Güngör"},{"$f":"Basisdaten!U36","v":2022},{"$f":"IF(Basisdaten!$E$36=1,Basisdaten!$O$36,0)","v":0},{"$f":"IF(Basisdaten!$E$36<=2,Basisdaten!$O$36,0)","v":0},{"$f":"IF(Basisdaten!$E$36<=3,Basisdaten!$O$36,0)","v":0},{"$f":"IF(Basisdaten!$E$36<=4,Basisdaten!$O$36,0)","v":0},{"$f":"IF(Basisdaten!$E$36<=5,Basisdaten!$O$36,0)","v":0},{"$f":"IF(Basisdaten!$E$36<=6,Basisdaten!$O$36,0)","v":10.5},{"$f":"IF(Basisdaten!$E$36<=7,Basisdaten!$O$36,0)","v":10.5},{"$f":"IF(Basisdaten!$E$36<=8,Basisdaten!$O$36,0)","v":10.5},{"$f":"IF(Basisdaten!$E$36<=9,Basisdaten!$O$36,0)","v":10.5},{"$f":"IF(Basisdaten!$E$36<=10,Basisdaten!$O$36,0)","v":10.5},{"$f":"IF(Basisdaten!$E$36<=11,Basisdaten!$O$36,0)","v":10.5},{"$f":"IF(Basisdaten!$E$36<=12,Basisdaten!$O$36,0)","v":10.5}]
[2,{"$f":"Basisdaten!B37","v":60},{"$f":"Basisdaten!A37","v":"Matthias Hagg"},{"$f":"Basisdaten!U37","v":2022},{"$f":"IF(Basisdaten!$E$37=1,Basisdaten!$O$37,0)","v":10.5},{"$f":"IF(Basisdaten!$E$37<=2,Basisdaten!$O$37,0)","v":10.5},{"$f":"IF(Basisdaten!$E$37<=3,Basisdaten!$O$37,0)","v":10.5},{"$f":"IF(Basisdaten!$E$37<=4,Basisdaten!$O$37,0)","v":10.5},{"$f":"IF(Basisdaten!$E$37<=5,Basisdaten!$O$37,0)","v":10.5},{"$f":"IF(Basisdaten!$E$37<=6,Basisdaten!$O$37,0)","v":10.5},{"$f":"IF(Basisdaten!$E$37<=7,Basisdaten!$O$37,0)","v":10.5},{"$f":"IF(Basisdaten!$E$37<=8,Basisdaten!$O$37,0)","v":10.5},{"$f":"IF(Basisdaten!$E$37<=9,Basisdaten!$O$37,0)","v":10.5},{"$f":"IF(Basisdaten!$E$37<=10,Basisdaten!$O$37,0)","v":10.5},{"$f":"IF(Basisdaten!$E$37<=11,Basisdaten!$O$37,0)","v":10.5},{"$f":"IF(Basisdaten!$E$37<=12,Basisdaten!$O$37,0)","v":10.5}]
[2,{"$f":"Basisdaten!B38","v":60},{"$f":"Basisdaten!A38","v":"Walter Schlosser"},{"$f":"Basisdaten!U38","v":2022},{"$f":"IF(Basisdaten!$E$38=1,Basisdaten!$O$38,0)","v":10.5},{"$f":"IF(Basisdaten!$E$38<=2,Basisdaten!$O$38,0)","v":10.5},{"$f":"IF(Basisdaten!$E$38<=3,Basisdaten!$O$38,0)","v":10.5},{"$f":"IF(Basisdaten!$E$38<=4,Basisdaten!$O$38,0)","v":10.5},{"$f":"IF(Basisdaten!$E$38<=5,Basisdaten!$O$38,0)","v":10.5},{"$f":"IF(Basisdaten!$E$38<=6,Basisdaten!$O$38,0)","v":10.5},{"$f":"IF(Basisdaten!$E$38<=7,Basisdaten!$O$38,0)","v":10.5},{"$f":"IF(Basisdaten!$E$38<=8,Basisdaten!$O$38,0)","v":10.5},{"$f":"IF(Basisdaten!$E$38<=9,Basisdaten!$O$38,0)","v":10.5},{"$f":"IF(Basisdaten!$E$38<=10,Basisdaten!$O$38,0)","v":10.5},{"$f":"IF(Basisdaten!$E$38<=11,Basisdaten!$O$38,0)","v":10.5},{"$f":"IF(Basisdaten!$E$38<=12,Basisdaten!$O$38,0)","v":10.5}]
[2,{"$f":"Basisdaten!B39","v":60},{"$f":"Basisdaten!A39","v":"Udo Spindler"},{"$f":"Basisdaten!U39","v":2022},{"$f":"IF(Basisdaten!$E$39=1,Basisdaten!$O$39,0)","v":10.5},{"$f":"IF(Basisdaten!$E$39<=2,Basisdaten!$O$39,0)","v":10.5},{"$f":"IF(Basisdaten!$E$39<=3,Basisdaten!$O$39,0)","v":10.5},{"$f":"IF(Basisdaten!$E$39<=4,Basisdaten!$O$39,0)","v":10.5},{"$f":"IF(Basisdaten!$E$39<=5,Basisdaten!$O$39,0)","v":10.5},{"$f":"IF(Basisdaten!$E$39<=6,Basisdaten!$O$39,0)","v":10.5},{"$f":"IF(Basisdaten!$E$39<=7,Basisdaten!$O$39,0)","v":10.5},{"$f":"IF(Basisdaten!$E$39<=8,Basisdaten!$O$39,0)","v":10.5},{"$f":"IF(Basisdaten!$E$39<=9,Basisdaten!$O$39,0)","v":10.5},{"$f":"IF(Basisdaten!$E$39<=10,Basisdaten!$O$39,0)","v":10.5},{"$f":"IF(Basisdaten!$E$39<=11,Basisdaten!$O$39,0)","v":10.5},{"$f":"IF(Basisdaten!$E$39<=12,Basisdaten!$O$39,0)","v":10.5}]
[2,{"$f":"Basisdaten!B40","v":60},{"$f":"Basisdaten!A40","v":"Marcel Vogler"},{"$f":"Basisdaten!U40","v":2022},{"$f":"IF(Basisdaten!$E$40=1,Basisdaten!$O$40,0)","v":10.5},{"$f":"IF(Basisdaten!$E$40<=2,Basisdaten!$O$40,0)","v":10.5},{"$f":"IF(Basisdaten!$E$40<=3,Basisdaten!$O$40,0)","v":10.5},{"$f":"IF(Basisdaten!$E$40<=4,Basisdaten!$O$40,0)","v":10.5},{"$f":"IF(Basisdaten!$E$40<=5,Basisdaten!$O$40,0)","v":10.5},{"$f":"IF(Basisdaten!$E$40<=6,Basisdaten!$O$40,0)","v":10.5},{"$f":"IF(Basisdaten!$E$40<=7,Basisdaten!$O$40,0)","v":10.5},{"$f":"IF(Basisdaten!$E$40<=8,Basisdaten!$O$40,0)","v":10.5},{"$f":"IF(Basisdaten!$E$40<=9,Basisdaten!$O$40,0)","v":10.5},{"$f":"IF(Basisdaten!$E$40<=10,Basisdaten!$O$40,0)","v":10.5},{"$f":"IF(Basisdaten!$E$40<=11,Basisdaten!$O$40,0)","v":10.5},{"$f":"IF(Basisdaten!$E$40<=12,Basisdaten!$O$40,0)","v":10.5}]
[2,{"$f":"Basisdaten!B41","v":60},{"$f":"Basisdaten!A41","v":"Raphael Marksteiner"},{"$f":"Basisdaten!U41","v":2022},{"$f":"IF(Basisdaten!$E$41=1,Basisdaten!$O$41,0)","v":0},{"$f":"IF(Basisdaten!$E$41<=2,Basisdaten!$O$41,0)","v":0},{"$f":"IF(Basisdaten!$E$41<=3,Basisdaten!$O$41,0)","v":0},{"$f":"IF(Basisdaten!$E$41<=4,Basisdaten!$O$41,0)","v":10.5},{"$f":"IF(Basisdaten!$E$41<=5,Basisdaten!$O$41,0)","v":10.5},{"$f":"IF(Basisdaten!$E$41<=6,Basisdaten!$O$41,0)","v":10.5},{"$f":"IF(Basisdaten!$E$41<=7,Basisdaten!$O$41,0)","v":10.5},{"$f":"IF(Basisdaten!$E$41<=8,Basisdaten!$O$41,0)","v":10.5},{"$f":"IF(Basisdaten!$E$41<=9,Basisdaten!$O$41,0)","v":10.5},{"$f":"IF(Basisdaten!$E$41<=10,Basisdaten!$O$41,0)","v":10.5},{"$f":"IF(Basisdaten!$E$41<=11,Basisdaten!$O$41,0)","v":10.5},{"$f":"IF(Basisdaten!$E$41<=12,Basisdaten!$O$41,0)","v":10.5}]
[2,{"$f":"Basisdaten!B42","v":60},{"$f":"Basisdaten!A42","v":"Markus Appeljun - SCBI"},{"$f":"Basisdaten!U42","v":2022},{"$f":"IF(Basisdaten!$E$42=1,Basisdaten!$O$42,0)","v":0},{"$f":"IF(Basisdaten!$E$42<=2,Basisdaten!$O$42,0)","v":10.5},{"$f":"IF(Basisdaten!$E$42<=3,Basisdaten!$O$42,0)","v":10.5},{"$f":"IF(Basisdaten!$E$42<=4,Basisdaten!$O$42,0)","v":10.5},{"$f":"IF(Basisdaten!$E$42<=5,Basisdaten!$O$42,0)","v":10.5},{"$f":"IF(Basisdaten!$E$42<=6,Basisdaten!$O$42,0)","v":10.5},{"$f":"IF(Basisdaten!$E$42<=7,Basisdaten!$O$42,0)","v":10.5},{"$f":"IF(Basisdaten!$E$42<=8,Basisdaten!$O$42,0)","v":10.5},{"$f":"IF(Basisdaten!$E$42<=9,Basisdaten!$O$42,0)","v":10.5},{"$f":"IF(Basisdaten!$E$42<=10,Basisdaten!$O$42,0)","v":10.5},{"$f":"IF(Basisdaten!$E$42<=11,Basisdaten!$O$42,0)","v":10.5},{"$f":"IF(Basisdaten!$E$42<=12,Basisdaten!$O$42,0)","v":10.5}]
[2,{"$f":"Basisdaten!B43","v":60},{"$f":"Basisdaten!A43","v":"Andreas Göllner"},{"$f":"Basisdaten!U43","v":2022},{"$f":"IF(Basisdaten!$E$43=1,Basisdaten!$O$43,0)","v":10.5},{"$f":"IF(Basisdaten!$E$43<=2,Basisdaten!$O$43,0)","v":10.5},{"$f":"IF(Basisdaten!$E$43<=3,Basisdaten!$O$43,0)","v":10.5},{"$f":"IF(Basisdaten!$E$43<=4,Basisdaten!$O$43,0)","v":10.5},{"$f":"IF(Basisdaten!$E$43<=5,Basisdaten!$O$43,0)","v":10.5},{"$f":"IF(Basisdaten!$E$43<=6,Basisdaten!$O$43,0)","v":10.5},{"$f":"IF(Basisdaten!$E$43<=7,Basisdaten!$O$43,0)","v":10.5},{"$f":"IF(Basisdaten!$E$43<=8,Basisdaten!$O$43,0)","v":10.5},{"$f":"IF(Basisdaten!$E$43<=9,Basisdaten!$O$43,0)","v":10.5},{"$f":"IF(Basisdaten!$E$43<=10,Basisdaten!$O$43,0)","v":10.5},{"$f":"IF(Basisdaten!$E$43<=11,Basisdaten!$O$43,0)","v":10.5},{"$f":"IF(Basisdaten!$E$43<=12,Basisdaten!$O$43,0)","v":10.5}]
[2,{"$f":"Basisdaten!B44","v":60},{"$f":"Basisdaten!A44","v":"Marcus Stangl"},{"$f":"Basisdaten!U44","v":2022},{"$f":"IF(Basisdaten!$E$44=1,Basisdaten!$O$44,0)","v":10.5},{"$f":"IF(Basisdaten!$E$44<=2,Basisdaten!$O$44,0)","v":10.5},{"$f":"IF(Basisdaten!$E$44<=3,Basisdaten!$O$44,0)","v":10.5},{"$f":"IF(Basisdaten!$E$44<=4,Basisdaten!$O$44,0)","v":10.5},{"$f":"IF(Basisdaten!$E$44<=5,Basisdaten!$O$44,0)","v":10.5},{"$f":"IF(Basisdaten!$E$44<=6,Basisdaten!$O$44,0)","v":10.5},{"$f":"IF(Basisdaten!$E$44<=7,Basisdaten!$O$44,0)","v":10.5},{"$f":"IF(Basisdaten!$E$44<=8,Basisdaten!$O$44,0)","v":10.5},{"$f":"IF(Basisdaten!$E$44<=9,Basisdaten!$O$44,0)","v":10.5},{"$f":"IF(Basisdaten!$E$44<=10,Basisdaten!$O$44,0)","v":10.5},{"$f":"IF(Basisdaten!$E$44<=11,Basisdaten!$O$44,0)","v":10.5},{"$f":"IF(Basisdaten!$E$44<=12,Basisdaten!$O$44,0)","v":10.5}]
[2,{"$f":"Basisdaten!B45","v":60},{"$f":"Basisdaten!A45","v":"Christoph Rottenkolber"},{"$f":"Basisdaten!U45","v":2022},{"$f":"IF(Basisdaten!$E$45=1,Basisdaten!$O$45,0)","v":0},{"$f":"IF(Basisdaten!$E$45<=2,Basisdaten!$O$45,0)","v":0},{"$f":"IF(Basisdaten!$E$45<=3,Basisdaten!$O$45,0)","v":0},{"$f":"IF(Basisdaten!$E$45<=4,Basisdaten!$O$45,0)","v":10.5},{"$f":"IF(Basisdaten!$E$45<=5,Basisdaten!$O$45,0)","v":10.5},{"$f":"IF(Basisdaten!$E$45<=6,Basisdaten!$O$45,0)","v":10.5},{"$f":"IF(Basisdaten!$E$45<=7,Basisdaten!$O$45,0)","v":10.5},{"$f":"IF(Basisdaten!$E$45<=8,Basisdaten!$O$45,0)","v":10.5},{"$f":"IF(Basisdaten!$E$45<=9,Basisdaten!$O$45,0)","v":10.5},{"$f":"IF(Basisdaten!$E$45<=10,Basisdaten!$O$45,0)","v":10.5},{"$f":"IF(Basisdaten!$E$45<=11,Basisdaten!$O$45,0)","v":10.5},{"$f":"IF(Basisdaten!$E$45<=12,Basisdaten!$O$45,0)","v":10.5}]
[2,{"$f":"Basisdaten!B46","v":60},{"$f":"Basisdaten!A46","v":"Michael Cattide - SCBI"},{"$f":"Basisdaten!U46","v":2022},{"$f":"IF(Basisdaten!$E$46=1,Basisdaten!$O$46,0)","v":10.5},{"$f":"IF(Basisdaten!$E$46<=2,Basisdaten!$O$46,0)","v":10.5},{"$f":"IF(Basisdaten!$E$46<=3,Basisdaten!$O$46,0)","v":10.5},{"$f":"IF(Basisdaten!$E$46<=4,Basisdaten!$O$46,0)","v":10.5},{"$f":"IF(Basisdaten!$E$46<=5,Basisdaten!$O$46,0)","v":10.5},{"$f":"IF(Basisdaten!$E$46<=6,Basisdaten!$O$46,0)","v":10.5},{"$f":"IF(Basisdaten!$E$46<=7,Basisdaten!$O$46,0)","v":10.5},{"$f":"IF(Basisdaten!$E$46<=8,Basisdaten!$O$46,0)","v":10.5},{"$f":"IF(Basisdaten!$E$46<=9,Basisdaten!$O$46,0)","v":10.5},{"$f":"IF(Basisdaten!$E$46<=10,Basisdaten!$O$46,0)","v":10.5},{"$f":"IF(Basisdaten!$E$46<=11,Basisdaten!$O$46,0)","v":10.5},{"$f":"IF(Basisdaten!$E$46<=12,Basisdaten!$O$46,0)","v":10.5}]
[2,{"$f":"Basisdaten!B47","v":60},{"$f":"Basisdaten!A47","v":"Dennis Grohmann"},{"$f":"Basisdaten!U47","v":2022},{"$f":"IF(Basisdaten!$E$47=1,Basisdaten!$O$47,0)","v":0},{"$f":"IF(Basisdaten!$E$47<=2,Basisdaten!$O$47,0)","v":0},{"$f":"IF(Basisdaten!$E$47<=3,Basisdaten!$O$47,0)","v":0},{"$f":"IF(Basisdaten!$E$47<=4,Basisdaten!$O$47,0)","v":0},{"$f":"IF(Basisdaten!$E$47<=5,Basisdaten!$O$47,0)","v":0},{"$f":"IF(Basisdaten!$E$47<=6,Basisdaten!$O$47,0)","v":0},{"$f":"IF(Basisdaten!$E$47<=7,Basisdaten!$O$47,0)","v":0},{"$f":"IF(Basisdaten!$E$47<=8,Basisdaten!$O$47,0)","v":0},{"$f":"IF(Basisdaten!$E$47<=9,Basisdaten!$O$47,0)","v":0},{"$f":"IF(Basisdaten!$E$47<=10,Basisdaten!$O$47,0)","v":0},{"$f":"IF(Basisdaten!$E$47<=11,Basisdaten!$O$47,0)","v":0},{"$f":"IF(Basisdaten!$E$47<=12,Basisdaten!$O$47,0)","v":0}]
[2,{"$f":"Basisdaten!B48","v":60},{"$f":"Basisdaten!A48","v":"Simone Groß - SCBZ"},{"$f":"Basisdaten!U48","v":2022},{"$f":"IF(Basisdaten!$E$48=1,Basisdaten!$O$48,0)","v":10.5},{"$f":"IF(Basisdaten!$E$48<=2,Basisdaten!$O$48,0)","v":10.5},{"$f":"IF(Basisdaten!$E$48<=3,Basisdaten!$O$48,0)","v":10.5},{"$f":"IF(Basisdaten!$E$48<=4,Basisdaten!$O$48,0)","v":10.5},{"$f":"IF(Basisdaten!$E$48<=5,Basisdaten!$O$48,0)","v":10.5},{"$f":"IF(Basisdaten!$E$48<=6,Basisdaten!$O$48,0)","v":10.5},{"$f":"IF(Basisdaten!$E$48<=7,Basisdaten!$O$48,0)","v":10.5},{"$f":"IF(Basisdaten!$E$48<=8,Basisdaten!$O$48,0)","v":10.5},{"$f":"IF(Basisdaten!$E$48<=9,Basisdaten!$O$48,0)","v":10.5},{"$f":"IF(Basisdaten!$E$48<=10,Basisdaten!$O$48,0)","v":10.5},{"$f":"IF(Basisdaten!$E$48<=11,Basisdaten!$O$48,0)","v":10.5},{"$f":"IF(Basisdaten!$E$48<=12,Basisdaten!$O$48,0)","v":10.5}]
[1,{"$f":"Basisdaten!B49","v":55},{"$f":"Basisdaten!A49","v":"Jens Haller"},{"$f":"Basisdaten!U49","v":2022},{"$f":"IF(Basisdaten!$E$49=1,Basisdaten!$O$49,0)","v":10.5},{"$f":"IF(Basisdaten!$E$49<=2,Basisdaten!$O$49,0)","v":10.5},{"$f":"IF(Basisdaten!$E$49<=3,Basisdaten!$O$49,0)","v":10.5},{"$f":"IF(Basisdaten!$E$49<=4,Basisdaten!$O$49,0)","v":10.5},{"$f":"IF(Basisdaten!$E$49<=5,Basisdaten!$O$49,0)","v":10.5},{"$f":"IF(Basisdaten!$E$49<=6,Basisdaten!$O$49,0)","v":10.5},{"$f":"IF(Basisdaten!$E$49<=7,Basisdaten!$O$49,0)","v":10.5},{"$f":"IF(Basisdaten!$E$49<=8,Basisdaten!$O$49,0)","v":10.5},{"$f":"IF(Basisdaten!$E$49<=9,Basisdaten!$O$49,0)","v":10.5},{"$f":"IF(Basisdaten!$E$49<=10,Basisdaten!$O$49,0)","v":10.5},{"$f":"IF(Basisdaten!$E$49<=11,Basisdaten!$O$49,0)","v":10.5},{"$f":"IF(Basisdaten!$E$49<=12,Basisdaten!$O$49,0)","v":10.5}]
[1,{"$f":"Basisdaten!B50","v":55},{"$f":"Basisdaten!A50","v":"Ioannis Tsesmelis_"},{"$f":"Basisdaten!U50","v":2022},{"$f":"IF(Basisdaten!$E$50=1,Basisdaten!$O$50,0)","v":0},{"$f":"IF(Basisdaten!$E$50<=2,Basisdaten!$O$50,0)","v":0},{"$f":"IF(Basisdaten!$E$50<=3,Basisdaten!$O$50,0)","v":0},{"$f":"IF(Basisdaten!$E$50<=4,Basisdaten!$O$50,0)","v":0},{"$f":"IF(Basisdaten!$E$50<=5,Basisdaten!$O$50,0)","v":0},{"$f":"IF(Basisdaten!$E$50<=6,Basisdaten!$O$50,0)","v":0},{"$f":"IF(Basisdaten!$E$50<=7,Basisdaten!$O$50,0)","v":0},{"$f":"IF(Basisdaten!$E$50<=8,Basisdaten!$O$50,0)","v":0},{"$f":"IF(Basisdaten!$E$50<=9,Basisdaten!$O$50,0)","v":0},{"$f":"IF(Basisdaten!$E$50<=10,Basisdaten!$O$50,0)","v":0},{"$f":"IF(Basisdaten!$E$50<=11,Basisdaten!$O$50,0)","v":0},{"$f":"IF(Basisdaten!$E$50<=12,Basisdaten!$O$50,0)","v":0}]
[1,{"$f":"Basisdaten!B51","v":55},{"$f":"Basisdaten!A51","v":"Matthias Mirga_GZ"},{"$f":"Basisdaten!U51","v":2022},{"$f":"IF(Basisdaten!$E$51=1,Basisdaten!$O$51,0)","v":10.5},{"$f":"IF(Basisdaten!$E$51<=2,Basisdaten!$O$51,0)","v":10.5},{"$f":"IF(Basisdaten!$E$51<=3,Basisdaten!$O$51,0)","v":10.5},{"$f":"IF(Basisdaten!$E$51<=4,Basisdaten!$O$51,0)","v":10.5},{"$f":"IF(Basisdaten!$E$51<=5,Basisdaten!$O$51,0)","v":10.5},{"$f":"IF(Basisdaten!$E$51<=6,Basisdaten!$O$51,0)","v":10.5},{"$f":"IF(Basisdaten!$E$51<=7,Basisdaten!$O$51,0)","v":10.5},{"$f":"IF(Basisdaten!$E$51<=8,Basisdaten!$O$51,0)","v":10.5},{"$f":"IF(Basisdaten!$E$51<=9,Basisdaten!$O$51,0)","v":10.5},{"$f":"IF(Basisdaten!$E$51<=10,Basisdaten!$O$51,0)","v":10.5},{"$f":"IF(Basisdaten!$E$51<=11,Basisdaten!$O$51,0)","v":10.5},{"$f":"IF(Basisdaten!$E$51<=12,Basisdaten!$O$51,0)","v":10.5}]
[2,{"$f":"Basisdaten!B52","v":60},{"$f":"Basisdaten!A52","v":"Hakan Celik"},{"$f":"Basisdaten!U52","v":2022},{"$f":"IF(Basisdaten!$E$52=1,Basisdaten!$O$52,0)","v":10.5},{"$f":"IF(Basisdaten!$E$52<=2,Basisdaten!$O$52,0)","v":10.5},{"$f":"IF(Basisdaten!$E$52<=3,Basisdaten!$O$52,0)","v":10.5},{"$f":"IF(Basisdaten!$E$52<=4,Basisdaten!$O$52,0)","v":10.5},{"$f":"IF(Basisdaten!$E$52<=5,Basisdaten!$O$52,0)","v":10.5},{"$f":"IF(Basisdaten!$E$52<=6,Basisdaten!$O$52,0)","v":10.5},{"$f":"IF(Basisdaten!$E$52<=7,Basisdaten!$O$52,0)","v":10.5},{"$f":"IF(Basisdaten!$E$52<=8,Basisdaten!$O$52,0)","v":10.5},{"$f":"IF(Basisdaten!$E$52<=9,Basisdaten!$O$52,0)","v":10.5},{"$f":"IF(Basisdaten!$E$52<=10,Basisdaten!$O$52,0)","v":10.5},{"$f":"IF(Basisdaten!$E$52<=11,Basisdaten!$O$52,0)","v":10.5},{"$f":"IF(Basisdaten!$E$52<=12,Basisdaten!$O$52,0)","v":10.5}]
[1,{"$f":"Basisdaten!B53","v":40},{"$f":"Basisdaten!A53","v":"Tom Sprongl"},{"$f":"Basisdaten!U53","v":2022},{"$f":"IF(Basisdaten!$E$53=1,Basisdaten!$O$53,0)","v":10.5},{"$f":"IF(Basisdaten!$E$53<=2,Basisdaten!$O$53,0)","v":10.5},{"$f":"IF(Basisdaten!$E$53<=3,Basisdaten!$O$53,0)","v":10.5},{"$f":"IF(Basisdaten!$E$53<=4,Basisdaten!$O$53,0)","v":10.5},{"$f":"IF(Basisdaten!$E$53<=5,Basisdaten!$O$53,0)","v":10.5},{"$f":"IF(Basisdaten!$E$53<=6,Basisdaten!$O$53,0)","v":10.5},{"$f":"IF(Basisdaten!$E$53<=7,Basisdaten!$O$53,0)","v":10.5},{"$f":"IF(Basisdaten!$E$53<=8,Basisdaten!$O$53,0)","v":10.5},{"$f":"IF(Basisdaten!$E$53<=9,Basisdaten!$O$53,0)","v":10.5},{"$f":"IF(Basisdaten!$E$53<=10,Basisdaten!$O$53,0)","v":10.5},{"$f":"IF(Basisdaten!$E$53<=11,Basisdaten!$O$53,0)","v":10.5},{"$f":"IF(Basisdaten!$E$53<=12,Basisdaten!$O$53,0)","v":10.5}]
[null,{"$f":"Basisdaten!B54","v":0},{"$f":"Basisdaten!A54","v":"SB 5"},{"$f":"Basisdaten!U54","v":0},{"$f":"IF(Basisdaten!$E$54=1,Basisdaten!$O$54,0)","v":0},{"$f":"IF(Basisdaten!$E$54<=2,Basisdaten!$O$54,0)","v":0},{"$f":"IF(Basisdaten!$E$54<=3,Basisdaten!$O$54,0)","v":0},{"$f":"IF(Basisdaten!$E$54<=4,Basisdaten!$O$54,0)","v":0},{"$f":"IF(Basisdaten!$E$54<=5,Basisdaten!$O$54,0)","v":0},{"$f":"IF(Basisdaten!$E$54<=6,Basisdaten!$O$54,0)","v":0},{"$f":"IF(Basisdaten!$E$54<=7,Basisdaten!$O$54,0)","v":0},{"$f":"IF(Basisdaten!$E$54<=8,Basisdaten!$O$54,0)","v":0},{"$f":"IF(Basisdaten!$E$54<=9,Basisdaten!$O$54,0)","v":0},{"$f":"IF(Basisdaten!$E$54<=10,Basisdaten!$O$54,0)","v":0},{"$f":"IF(Basisdaten!$E$54<=11,Basisdaten!$O$54,0)","v":0},{"$f":"IF(Basisdaten!$E$54<=12,Basisdaten!$O$54,0)","v":0}]
[null,{"$f":"Basisdaten!B55","v":0},{"$f":"Basisdaten!A55","v":"SB 6"},{"$f":"Basisdaten!U55","v":0},{"$f":"IF(Basisdaten!$E$55=1,Basisdaten!$O$55,0)","v":0},{"$f":"IF(Basisdaten!$E$55<=2,Basisdaten!$O$55,0)","v":0},{"$f":"IF(Basisdaten!$E$55<=3,Basisdaten!$O$55,0)","v":0},{"$f":"IF(Basisdaten!$E$55<=4,Basisdaten!$O$55,0)","v":0},{"$f":"IF(Basisdaten!$E$55<=5,Basisdaten!$O$55,0)","v":0},{"$f":"IF(Basisdaten!$E$55<=6,Basisdaten!$O$55,0)","v":0},{"$f":"IF(Basisdaten!$E$55<=7,Basisdaten!$O$55,0)","v":0},{"$f":"IF(Basisdaten!$E$55<=8,Basisdaten!$O$55,0)","v":0},{"$f":"IF(Basisdaten!$E$55<=9,Basisdaten!$O$55,0)","v":0},{"$f":"IF(Basisdaten!$E$55<=10,Basisdaten!$O$55,0)","v":0},{"$f":"IF(Basisdaten!$E$55<=11,Basisdaten!$O$55,0)","v":0},{"$f":"IF(Basisdaten!$E$55<=12,Basisdaten!$O$55,0)","v":0}]
[null,{"$f":"Basisdaten!B56","v":0},{"$f":"Basisdaten!A56","v":"SB 7"},{"$f":"Basisdaten!U56","v":0},{"$f":"IF(Basisdaten!$E$56=1,Basisdaten!$O$56,0)","v":0},{"$f":"IF(Basisdaten!$E$56<=2,Basisdaten!$O$56,0)","v":0},{"$f":"IF(Basisdaten!$E$56<=3,Basisdaten!$O$56,0)","v":0},{"$f":"IF(Basisdaten!$E$56<=4,Basisdaten!$O$56,0)","v":0},{"$f":"IF(Basisdaten!$E$56<=5,Basisdaten!$O$56,0)","v":0},{"$f":"IF(Basisdaten!$E$56<=6,Basisdaten!$O$56,0)","v":0},{"$f":"IF(Basisdaten!$E$56<=7,Basisdaten!$O$56,0)","v":0},{"$f":"IF(Basisdaten!$E$56<=8,Basisdaten!$O$56,0)","v":0},{"$f":"IF(Basisdaten!$E$56<=9,Basisdaten!$O$56,0)","v":0},{"$f":"IF(Basisdaten!$E$56<=10,Basisdaten!$O$56,0)","v":0},{"$f":"IF(Basisdaten!$E$56<=11,Basisdaten!$O$56,0)","v":0},{"$f":"IF(Basisdaten!$E$56<=12,Basisdaten!$O$56,0)","v":0}]
[null,{"$f":"Basisdaten!B57","v":0},{"$f":"Basisdaten!A57","v":"SB 8"},{"$f":"Basisdaten!U57","v":0},{"$f":"IF(Basisdaten!$E$57=1,Basisdaten!$O$57,0)","v":0},{"$f":"IF(Basisdaten!$E$57<=2,Basisdaten!$O$57,0)","v":0},{"$f":"IF(Basisdaten!$E$57<=3,Basisdaten!$O$57,0)","v":0},{"$f":"IF(Basisdaten!$E$57<=4,Basisdaten!$O$57,0)","v":0},{"$f":"IF(Basisdaten!$E$57<=5,Basisdaten!$O$57,0)","v":0},{"$f":"IF(Basisdaten!$E$57<=6,Basisdaten!$O$57,0)","v":0},{"$f":"IF(Basisdaten!$E$57<=7,Basisdaten!$O$57,0)","v":0},{"$f":"IF(Basisdaten!$E$57<=8,Basisdaten!$O$57,0)","v":0},{"$f":"IF(Basisdaten!$E$57<=9,Basisdaten!$O$57,0)","v":0},{"$f":"IF(Basisdaten!$E$57<=10,Basisdaten!$O$57,0)","v":0},{"$f":"IF(Basisdaten!$E$57<=11,Basisdaten!$O$57,0)","v":0},{"$f":"IF(Basisdaten!$E$57<=12,Basisdaten!$O$57,0)","v":0}]
[null,{"$f":"Basisdaten!B58","v":0},{"$f":"Basisdaten!A58","v":"SB 9"},{"$f":"Basisdaten!U58","v":0},{"$f":"IF(Basisdaten!$E$58=1,Basisdaten!$O$58,0)","v":0},{"$f":"IF(Basisdaten!$E$58<=2,Basisdaten!$O$58,0)","v":0},{"$f":"IF(Basisdaten!$E$58<=3,Basisdaten!$O$58,0)","v":0},{"$f":"IF(Basisdaten!$E$58<=4,Basisdaten!$O$58,0)","v":0},{"$f":"IF(Basisdaten!$E$58<=5,Basisdaten!$O$58,0)","v":0},{"$f":"IF(Basisdaten!$E$58<=6,Basisdaten!$O$58,0)","v":0},{"$f":"IF(Basisdaten!$E$58<=7,Basisdaten!$O$58,0)","v":0},{"$f":"IF(Basisdaten!$E$58<=8,Basisdaten!$O$58,0)","v":0},{"$f":"IF(Basisdaten!$E$58<=9,Basisdaten!$O$58,0)","v":0},{"$f":"IF(Basisdaten!$E$58<=10,Basisdaten!$O$58,0)","v":0},{"$f":"IF(Basisdaten!$E$58<=11,Basisdaten!$O$58,0)","v":0},{"$f":"IF(Basisdaten!$E$58<=12,Basisdaten!$O$58,0)","v":0}]
[null,{"$f":"Basisdaten!B59","v":0},{"$f":"Basisdaten!A59","v":"SB 10"},{"$f":"Basisdaten!U59","v":0},{"$f":"IF(Basisdaten!$E$59=1,Basisdaten!$O$59,0)","v":0},{"$f":"IF(Basisdaten!$E$59<=2,Basisdaten!$O$59,0)","v":0},{"$f":"IF(Basisdaten!$E$59<=3,Basisdaten!$O$59,0)","v":0},{"$f":"IF(Basisdaten!$E$59<=4,Basisdaten!$O$59,0)","v":0},{"$f":"IF(Basisdaten!$E$59<=5,Basisdaten!$O$59,0)","v":0},{"$f":"IF(Basisdaten!$E$59<=6,Basisdaten!$O$59,0)","v":0},{"$f":"IF(Basisdaten!$E$59<=7,Basisdaten!$O$59,0)","v":0},{"$f":"IF(Basisdaten!$E$59<=8,Basisdaten!$O$59,0)","v":0},{"$f":"IF(Basisdaten!$E$59<=9,Basisdaten!$O$59,0)","v":0},{"$f":"IF(Basisdaten!$E$59<=10,Basisdaten!$O$59,0)","v":0},{"$f":"IF(Basisdaten!$E$59<=11,Basisdaten!$O$59,0)","v":0},{"$f":"IF(Basisdaten!$E$59<=12,Basisdaten!$O$59,0)","v":0}]

{"sheet":"Verarb_Arbeitstage","index":26,"n_rows":57,"n_cols":16,"rows_kept":57,"cut":false,"hidden":false,"merged":[]}
["Hauptbetrieb","Standort","Serviceberater","Invoice Date","Arb_Tage_1","Arb_Tage_2","Arb_Tage_3","Arb_Tage_4","Arb_Tage_5","Arb_Tage_6","Arb_Tage_7","Arb_Tage_8","Arb_Tage_9","Arb_Tage_10","Arb_Tage_11","Arb_Tage_12"]
[1,{"$f":"Basisdaten!B4","v":10},{"$f":"Basisdaten!A4","v":"Erich Harzenetter - SCBK"},{"$f":"Basisdaten!U4","v":2022},{"$f":"IF(Basisdaten!E4=1,Arbeitstage!$A$2,0)","v":20},{"$f":"IF(Basisdaten!E4<=2,Arbeitstage!$B$2,0)","v":20},{"$f":"IF(Basisdaten!E4<=3,Arbeitstage!$C$2,0)","v":23},{"$f":"IF(Basisdaten!E4<=4,Arbeitstage!$D$2,0)","v":19},{"$f":"IF(Basisdaten!E4<=5,Arbeitstage!$E$2,0)","v":21},{"$f":"IF(Basisdaten!E4<=6,Arbeitstage!$F$2,0)","v":20},{"$f":"IF(Basisdaten!E4<=7,Arbeitstage!$G$2,0)","v":21},{"$f":"IF(Basisdaten!E4<=8,Arbeitstage!$H$2,0)","v":22},{"$f":"IF(Basisdaten!E4<=9,Arbeitstage!$I$2,0)","v":22},{"$f":"IF(Basisdaten!E4<=10,Arbeitstage!$J$2,0)","v":20},{"$f":"IF(Basisdaten!E4<=11,Arbeitstage!$K$2,0)","v":21},{"$f":"IF(Basisdaten!E4<=12,Arbeitstage!$L$2,0)","v":21}]
[1,{"$f":"Basisdaten!B5","v":10},{"$f":"Basisdaten!A5","v":"Johannes Grieser - SCBI"},{"$f":"Basisdaten!U5","v":2022},{"$f":"IF(Basisdaten!E5=1,Arbeitstage!$A$2,0)","v":20},{"$f":"IF(Basisdaten!E5<=2,Arbeitstage!$B$2,0)","v":20},{"$f":"IF(Basisdaten!E5<=3,Arbeitstage!$C$2,0)","v":23},{"$f":"IF(Basisdaten!E5<=4,Arbeitstage!$D$2,0)","v":19},{"$f":"IF(Basisdaten!E5<=5,Arbeitstage!$E$2,0)","v":21},{"$f":"IF(Basisdaten!E5<=6,Arbeitstage!$F$2,0)","v":20},{"$f":"IF(Basisdaten!E5<=7,Arbeitstage!$G$2,0)","v":21},{"$f":"IF(Basisdaten!E5<=8,Arbeitstage!$H$2,0)","v":22},{"$f":"IF(Basisdaten!E5<=9,Arbeitstage!$I$2,0)","v":22},{"$f":"IF(Basisdaten!E5<=10,Arbeitstage!$J$2,0)","v":20},{"$f":"IF(Basisdaten!E5<=11,Arbeitstage!$K$2,0)","v":21},{"$f":"IF(Basisdaten!E5<=12,Arbeitstage!$L$2,0)","v":21}]
[1,{"$f":"Basisdaten!B6","v":10},{"$f":"Basisdaten!A6","v":"Mike Weber"},{"$f":"Basisdaten!U6","v":2022},{"$f":"IF(Basisdaten!E6=1,Arbeitstage!$A$2,0)","v":20},{"$f":"IF(Basisdaten!E6<=2,Arbeitstage!$B$2,0)","v":20},{"$f":"IF(Basisdaten!E6<=3,Arbeitstage!$C$2,0)","v":23},{"$f":"IF(Basisdaten!E6<=4,Arbeitstage!$D$2,0)","v":19},{"$f":"IF(Basisdaten!E6<=5,Arbeitstage!$E$2,0)","v":21},{"$f":"IF(Basisdaten!E6<=6,Arbeitstage!$F$2,0)","v":20},{"$f":"IF(Basisdaten!E6<=7,Arbeitstage!$G$2,0)","v":21},{"$f":"IF(Basisdaten!E6<=8,Arbeitstage!$H$2,0)","v":22},{"$f":"IF(Basisdaten!E6<=9,Arbeitstage!$I$2,0)","v":22},{"$f":"IF(Basisdaten!E6<=10,Arbeitstage!$J$2,0)","v":20},{"$f":"IF(Basisdaten!E6<=11,Arbeitstage!$K$2,0)","v":21},{"$f":"IF(Basisdaten!E6<=12,Arbeitstage!$L$2,0)","v":21}]
[1,{"$f":"Basisdaten!B7","v":10},{"$f":"Basisdaten!A7","v":"Rudolf Maier"},{"$f":"Basisdaten!U7","v":2022},{"$f":"IF(Basisdaten!E7=1,Arbeitstage!$A$2,0)","v":20},{"$f":"IF(Basisdaten!E7<=2,Arbeitstage!$B$2,0)","v":20},{"$f":"IF(Basisdaten!E7<=3,Arbeitstage!$C$2,0)","v":23},{"$f":"IF(Basisdaten!E7<=4,Arbeitstage!$D$2,0)","v":19},{"$f":"IF(Basisdaten!E7<=5,Arbeitstage!$E$2,0)","v":21},{"$f":"IF(Basisdaten!E7<=6,Arbeitstage!$F$2,0)","v":20},{"$f":"IF(Basisdaten!E7<=7,Arbeitstage!$G$2,0)","v":21},{"$f":"IF(Basisdaten!E7<=8,Arbeitstage!$H$2,0)","v":22},{"$f":"IF(Basisdaten!E7<=9,Arbeitstage!$I$2,0)","v":22},{"$f":"IF(Basisdaten!E7<=10,Arbeitstage!$J$2,0)","v":20},{"$f":"IF(Basisdaten!E7<=11,Arbeitstage!$K$2,0)","v":21},{"$f":"IF(Basisdaten!E7<=12,Arbeitstage!$L$2,0)","v":21}]
[1,{"$f":"Basisdaten!B8","v":10},{"$f":"Basisdaten!A8","v":"Hermann Haller_"},{"$f":"Basisdaten!U8","v":2022},{"$f":"IF(Basisdaten!E8=1,Arbeitstage!$A$2,0)","v":0},{"$f":"IF(Basisdaten!E8<=2,Arbeitstage!$B$2,0)","v":0},{"$f":"IF(Basisdaten!E8<=3,Arbeitstage!$C$2,0)","v":0},{"$f":"IF(Basisdaten!E8<=4,Arbeitstage!$D$2,0)","v":0},{"$f":"IF(Basisdaten!E8<=5,Arbeitstage!$E$2,0)","v":0},{"$f":"IF(Basisdaten!E8<=6,Arbeitstage!$F$2,0)","v":0},{"$f":"IF(Basisdaten!E8<=7,Arbeitstage!$G$2,0)","v":0},{"$f":"IF(Basisdaten!E8<=8,Arbeitstage!$H$2,0)","v":0},{"$f":"IF(Basisdaten!E8<=9,Arbeitstage!$I$2,0)","v":0},{"$f":"IF(Basisdaten!E8<=10,Arbeitstage!$J$2,0)","v":0},{"$f":"IF(Basisdaten!E8<=11,Arbeitstage!$K$2,0)","v":0},{"$f":"IF(Basisdaten!E8<=12,Arbeitstage!$L$2,0)","v":0}]
[1,{"$f":"Basisdaten!B9","v":10},{"$f":"Basisdaten!A9","v":"Christopher Kirmayer"},{"$f":"Basisdaten!U9","v":2022},{"$f":"IF(Basisdaten!E9=1,Arbeitstage!$A$2,0)","v":20},{"$f":"IF(Basisdaten!E9<=2,Arbeitstage!$B$2,0)","v":20},{"$f":"IF(Basisdaten!E9<=3,Arbeitstage!$C$2,0)","v":23},{"$f":"IF(Basisdaten!E9<=4,Arbeitstage!$D$2,0)","v":19},{"$f":"IF(Basisdaten!E9<=5,Arbeitstage!$E$2,0)","v":21},{"$f":"IF(Basisdaten!E9<=6,Arbeitstage!$F$2,0)","v":20},{"$f":"IF(Basisdaten!E9<=7,Arbeitstage!$G$2,0)","v":21},{"$f":"IF(Basisdaten!E9<=8,Arbeitstage!$H$2,0)","v":22},{"$f":"IF(Basisdaten!E9<=9,Arbeitstage!$I$2,0)","v":22},{"$f":"IF(Basisdaten!E9<=10,Arbeitstage!$J$2,0)","v":20},{"$f":"IF(Basisdaten!E9<=11,Arbeitstage!$K$2,0)","v":21},{"$f":"IF(Basisdaten!E9<=12,Arbeitstage!$L$2,0)","v":21}]
[1,{"$f":"Basisdaten!B10","v":10},{"$f":"Basisdaten!A10","v":"Jörg Reifenrath"},{"$f":"Basisdaten!U10","v":2022},{"$f":"IF(Basisdaten!E10=1,Arbeitstage!$A$2,0)","v":20},{"$f":"IF(Basisdaten!E10<=2,Arbeitstage!$B$2,0)","v":20},{"$f":"IF(Basisdaten!E10<=3,Arbeitstage!$C$2,0)","v":23},{"$f":"IF(Basisdaten!E10<=4,Arbeitstage!$D$2,0)","v":19},{"$f":"IF(Basisdaten!E10<=5,Arbeitstage!$E$2,0)","v":21},{"$f":"IF(Basisdaten!E10<=6,Arbeitstage!$F$2,0)","v":20},{"$f":"IF(Basisdaten!E10<=7,Arbeitstage!$G$2,0)","v":21},{"$f":"IF(Basisdaten!E10<=8,Arbeitstage!$H$2,0)","v":22},{"$f":"IF(Basisdaten!E10<=9,Arbeitstage!$I$2,0)","v":22},{"$f":"IF(Basisdaten!E10<=10,Arbeitstage!$J$2,0)","v":20},{"$f":"IF(Basisdaten!E10<=11,Arbeitstage!$K$2,0)","v":21},{"$f":"IF(Basisdaten!E10<=12,Arbeitstage!$L$2,0)","v":21}]
[1,{"$f":"Basisdaten!B11","v":10},{"$f":"Basisdaten!A11","v":"Günter Küblbeck - SCBI_"},{"$f":"Basisdaten!U11","v":2022},{"$f":"IF(Basisdaten!E11=1,Arbeitstage!$A$2,0)","v":0},{"$f":"IF(Basisdaten!E11<=2,Arbeitstage!$B$2,0)","v":0},{"$f":"IF(Basisdaten!E11<=3,Arbeitstage!$C$2,0)","v":0},{"$f":"IF(Basisdaten!E11<=4,Arbeitstage!$D$2,0)","v":0},{"$f":"IF(Basisdaten!E11<=5,Arbeitstage!$E$2,0)","v":0},{"$f":"IF(Basisdaten!E11<=6,Arbeitstage!$F$2,0)","v":0},{"$f":"IF(Basisdaten!E11<=7,Arbeitstage!$G$2,0)","v":0},{"$f":"IF(Basisdaten!E11<=8,Arbeitstage!$H$2,0)","v":0},{"$f":"IF(Basisdaten!E11<=9,Arbeitstage!$I$2,0)","v":0},{"$f":"IF(Basisdaten!E11<=10,Arbeitstage!$J$2,0)","v":0},{"$f":"IF(Basisdaten!E11<=11,Arbeitstage!$K$2,0)","v":0},{"$f":"IF(Basisdaten!E11<=12,Arbeitstage!$L$2,0)","v":0}]
[1,{"$f":"Basisdaten!B12","v":10},{"$f":"Basisdaten!A12","v":"Patrick Kresser"},{"$f":"Basisdaten!U12","v":2022},{"$f":"IF(Basisdaten!E12=1,Arbeitstage!$A$2,0)","v":20},{"$f":"IF(Basisdaten!E12<=2,Arbeitstage!$B$2,0)","v":20},{"$f":"IF(Basisdaten!E12<=3,Arbeitstage!$C$2,0)","v":23},{"$f":"IF(Basisdaten!E12<=4,Arbeitstage!$D$2,0)","v":19},{"$f":"IF(Basisdaten!E12<=5,Arbeitstage!$E$2,0)","v":21},{"$f":"IF(Basisdaten!E12<=6,Arbeitstage!$F$2,0)","v":20},{"$f":"IF(Basisdaten!E12<=7,Arbeitstage!$G$2,0)","v":21},{"$f":"IF(Basisdaten!E12<=8,Arbeitstage!$H$2,0)","v":22},{"$f":"IF(Basisdaten!E12<=9,Arbeitstage!$I$2,0)","v":22},{"$f":"IF(Basisdaten!E12<=10,Arbeitstage!$J$2,0)","v":20},{"$f":"IF(Basisdaten!E12<=11,Arbeitstage!$K$2,0)","v":21},{"$f":"IF(Basisdaten!E12<=12,Arbeitstage!$L$2,0)","v":21}]
[1,{"$f":"Basisdaten!B13","v":30},{"$f":"Basisdaten!A13","v":"Ralf Ruchti"},{"$f":"Basisdaten!U13","v":2022},{"$f":"IF(Basisdaten!E13=1,Arbeitstage!$A$2,0)","v":20},{"$f":"IF(Basisdaten!E13<=2,Arbeitstage!$B$2,0)","v":20},{"$f":"IF(Basisdaten!E13<=3,Arbeitstage!$C$2,0)","v":23},{"$f":"IF(Basisdaten!E13<=4,Arbeitstage!$D$2,0)","v":19},{"$f":"IF(Basisdaten!E13<=5,Arbeitstage!$E$2,0)","v":21},{"$f":"IF(Basisdaten!E13<=6,Arbeitstage!$F$2,0)","v":20},{"$f":"IF(Basisdaten!E13<=7,Arbeitstage!$G$2,0)","v":21},{"$f":"IF(Basisdaten!E13<=8,Arbeitstage!$H$2,0)","v":22},{"$f":"IF(Basisdaten!E13<=9,Arbeitstage!$I$2,0)","v":22},{"$f":"IF(Basisdaten!E13<=10,Arbeitstage!$J$2,0)","v":20},{"$f":"IF(Basisdaten!E13<=11,Arbeitstage!$K$2,0)","v":21},{"$f":"IF(Basisdaten!E13<=12,Arbeitstage!$L$2,0)","v":21}]
[1,{"$f":"Basisdaten!B14","v":30},{"$f":"Basisdaten!A14","v":"Matthias Mirga"},{"$f":"Basisdaten!U14","v":2022},{"$f":"IF(Basisdaten!E14=1,Arbeitstage!$A$2,0)","v":20},{"$f":"IF(Basisdaten!E14<=2,Arbeitstage!$B$2,0)","v":20},{"$f":"IF(Basisdaten!E14<=3,Arbeitstage!$C$2,0)","v":23},{"$f":"IF(Basisdaten!E14<=4,Arbeitstage!$D$2,0)","v":19},{"$f":"IF(Basisdaten!E14<=5,Arbeitstage!$E$2,0)","v":21},{"$f":"IF(Basisdaten!E14<=6,Arbeitstage!$F$2,0)","v":20},{"$f":"IF(Basisdaten!E14<=7,Arbeitstage!$G$2,0)","v":21},{"$f":"IF(Basisdaten!E14<=8,Arbeitstage!$H$2,0)","v":22},{"$f":"IF(Basisdaten!E14<=9,Arbeitstage!$I$2,0)","v":22},{"$f":"IF(Basisdaten!E14<=10,Arbeitstage!$J$2,0)","v":20},{"$f":"IF(Basisdaten!E14<=11,Arbeitstage!$K$2,0)","v":21},{"$f":"IF(Basisdaten!E14<=12,Arbeitstage!$L$2,0)","v":21}]
[1,{"$f":"Basisdaten!B15","v":40},{"$f":"Basisdaten!A15","v":"Wolfgang Heckelmiller - SCBK"},{"$f":"Basisdaten!U15","v":2022},{"$f":"IF(Basisdaten!E15=1,Arbeitstage!$A$2,0)","v":20},{"$f":"IF(Basisdaten!E15<=2,Arbeitstage!$B$2,0)","v":20},{"$f":"IF(Basisdaten!E15<=3,Arbeitstage!$C$2,0)","v":23},{"$f":"IF(Basisdaten!E15<=4,Arbeitstage!$D$2,0)","v":19},{"$f":"IF(Basisdaten!E15<=5,Arbeitstage!$E$2,0)","v":21},{"$f":"IF(Basisdaten!E15<=6,Arbeitstage!$F$2,0)","v":20},{"$f":"IF(Basisdaten!E15<=7,Arbeitstage!$G$2,0)","v":21},{"$f":"IF(Basisdaten!E15<=8,Arbeitstage!$H$2,0)","v":22},{"$f":"IF(Basisdaten!E15<=9,Arbeitstage!$I$2,0)","v":22},{"$f":"IF(Basisdaten!E15<=10,Arbeitstage!$J$2,0)","v":20},{"$f":"IF(Basisdaten!E15<=11,Arbeitstage!$K$2,0)","v":21},{"$f":"IF(Basisdaten!E15<=12,Arbeitstage!$L$2,0)","v":21}]
[1,{"$f":"Basisdaten!B16","v":40},{"$f":"Basisdaten!A16","v":"Daniel Klingenstein"},{"$f":"Basisdaten!U16","v":2022},{"$f":"IF(Basisdaten!E16=1,Arbeitstage!$A$2,0)","v":20},{"$f":"IF(Basisdaten!E16<=2,Arbeitstage!$B$2,0)","v":20},{"$f":"IF(Basisdaten!E16<=3,Arbeitstage!$C$2,0)","v":23},{"$f":"IF(Basisdaten!E16<=4,Arbeitstage!$D$2,0)","v":19},{"$f":"IF(Basisdaten!E16<=5,Arbeitstage!$E$2,0)","v":21},{"$f":"IF(Basisdaten!E16<=6,Arbeitstage!$F$2,0)","v":20},{"$f":"IF(Basisdaten!E16<=7,Arbeitstage!$G$2,0)","v":21},{"$f":"IF(Basisdaten!E16<=8,Arbeitstage!$H$2,0)","v":22},{"$f":"IF(Basisdaten!E16<=9,Arbeitstage!$I$2,0)","v":22},{"$f":"IF(Basisdaten!E16<=10,Arbeitstage!$J$2,0)","v":20},{"$f":"IF(Basisdaten!E16<=11,Arbeitstage!$K$2,0)","v":21},{"$f":"IF(Basisdaten!E16<=12,Arbeitstage!$L$2,0)","v":21}]
[1,{"$f":"Basisdaten!B17","v":40},{"$f":"Basisdaten!A17","v":"Alnes Zenic"},{"$f":"Basisdaten!U17","v":2022},{"$f":"IF(Basisdaten!E17=1,Arbeitstage!$A$2,0)","v":20},{"$f":"IF(Basisdaten!E17<=2,Arbeitstage!$B$2,0)","v":20},{"$f":"IF(Basisdaten!E17<=3,Arbeitstage!$C$2,0)","v":23},{"$f":"IF(Basisdaten!E17<=4,Arbeitstage!$D$2,0)","v":19},{"$f":"IF(Basisdaten!E17<=5,Arbeitstage!$E$2,0)","v":21},{"$f":"IF(Basisdaten!E17<=6,Arbeitstage!$F$2,0)","v":20},{"$f":"IF(Basisdaten!E17<=7,Arbeitstage!$G$2,0)","v":21},{"$f":"IF(Basisdaten!E17<=8,Arbeitstage!$H$2,0)","v":22},{"$f":"IF(Basisdaten!E17<=9,Arbeitstage!$I$2,0)","v":22},{"$f":"IF(Basisdaten!E17<=10,Arbeitstage!$J$2,0)","v":20},{"$f":"IF(Basisdaten!E17<=11,Arbeitstage!$K$2,0)","v":21},{"$f":"IF(Basisdaten!E17<=12,Arbeitstage!$L$2,0)","v":21}]
[1,{"$f":"Basisdaten!B18","v":40},{"$f":"Basisdaten!A18","v":"Mehmet Dikmen"},{"$f":"Basisdaten!U18","v":2022},{"$f":"IF(Basisdaten!E18=1,Arbeitstage!$A$2,0)","v":20},{"$f":"IF(Basisdaten!E18<=2,Arbeitstage!$B$2,0)","v":20},{"$f":"IF(Basisdaten!E18<=3,Arbeitstage!$C$2,0)","v":23},{"$f":"IF(Basisdaten!E18<=4,Arbeitstage!$D$2,0)","v":19},{"$f":"IF(Basisdaten!E18<=5,Arbeitstage!$E$2,0)","v":21},{"$f":"IF(Basisdaten!E18<=6,Arbeitstage!$F$2,0)","v":20},{"$f":"IF(Basisdaten!E18<=7,Arbeitstage!$G$2,0)","v":21},{"$f":"IF(Basisdaten!E18<=8,Arbeitstage!$H$2,0)","v":22},{"$f":"IF(Basisdaten!E18<=9,Arbeitstage!$I$2,0)","v":22},{"$f":"IF(Basisdaten!E18<=10,Arbeitstage!$J$2,0)","v":20},{"$f":"IF(Basisdaten!E18<=11,Arbeitstage!$K$2,0)","v":21},{"$f":"IF(Basisdaten!E18<=12,Arbeitstage!$L$2,0)","v":21}]
[1,{"$f":"Basisdaten!B19","v":40},{"$f":"Basisdaten!A19","v":"Gerrit Heine"},{"$f":"Basisdaten!U19","v":2022},{"$f":"IF(Basisdaten!E19=1,Arbeitstage!$A$2,0)","v":20},{"$f":"IF(Basisdaten!E19<=2,Arbeitstage!$B$2,0)","v":20},{"$f":"IF(Basisdaten!E19<=3,Arbeitstage!$C$2,0)","v":23},{"$f":"IF(Basisdaten!E19<=4,Arbeitstage!$D$2,0)","v":19},{"$f":"IF(Basisdaten!E19<=5,Arbeitstage!$E$2,0)","v":21},{"$f":"IF(Basisdaten!E19<=6,Arbeitstage!$F$2,0)","v":20},{"$f":"IF(Basisdaten!E19<=7,Arbeitstage!$G$2,0)","v":21},{"$f":"IF(Basisdaten!E19<=8,Arbeitstage!$H$2,0)","v":22},{"$f":"IF(Basisdaten!E19<=9,Arbeitstage!$I$2,0)","v":22},{"$f":"IF(Basisdaten!E19<=10,Arbeitstage!$J$2,0)","v":20},{"$f":"IF(Basisdaten!E19<=11,Arbeitstage!$K$2,0)","v":21},{"$f":"IF(Basisdaten!E19<=12,Arbeitstage!$L$2,0)","v":21}]
[1,{"$f":"Basisdaten!B20","v":40},{"$f":"Basisdaten!A20","v":"Lars Krausen"},{"$f":"Basisdaten!U20","v":2022},{"$f":"IF(Basisdaten!E20=1,Arbeitstage!$A$2,0)","v":20},{"$f":"IF(Basisdaten!E20<=2,Arbeitstage!$B$2,0)","v":20},{"$f":"IF(Basisdaten!E20<=3,Arbeitstage!$C$2,0)","v":23},{"$f":"IF(Basisdaten!E20<=4,Arbeitstage!$D$2,0)","v":19},{"$f":"IF(Basisdaten!E20<=5,Arbeitstage!$E$2,0)","v":21},{"$f":"IF(Basisdaten!E20<=6,Arbeitstage!$F$2,0)","v":20},{"$f":"IF(Basisdaten!E20<=7,Arbeitstage!$G$2,0)","v":21},{"$f":"IF(Basisdaten!E20<=8,Arbeitstage!$H$2,0)","v":22},{"$f":"IF(Basisdaten!E20<=9,Arbeitstage!$I$2,0)","v":22},{"$f":"IF(Basisdaten!E20<=10,Arbeitstage!$J$2,0)","v":20},{"$f":"IF(Basisdaten!E20<=11,Arbeitstage!$K$2,0)","v":21},{"$f":"IF(Basisdaten!E20<=12,Arbeitstage!$L$2,0)","v":21}]
[1,{"$f":"Basisdaten!B21","v":40},{"$f":"Basisdaten!A21","v":"Hubert Figura - SCBI"},{"$f":"Basisdaten!U21","v":2022},{"$f":"IF(Basisdaten!E21=1,Arbeitstage!$A$2,0)","v":20},{"$f":"IF(Basisdaten!E21<=2,Arbeitstage!$B$2,0)","v":20},{"$f":"IF(Basisdaten!E21<=3,Arbeitstage!$C$2,0)","v":23},{"$f":"IF(Basisdaten!E21<=4,Arbeitstage!$D$2,0)","v":19},{"$f":"IF(Basisdaten!E21<=5,Arbeitstage!$E$2,0)","v":21},{"$f":"IF(Basisdaten!E21<=6,Arbeitstage!$F$2,0)","v":20},{"$f":"IF(Basisdaten!E21<=7,Arbeitstage!$G$2,0)","v":21},{"$f":"IF(Basisdaten!E21<=8,Arbeitstage!$H$2,0)","v":22},{"$f":"IF(Basisdaten!E21<=9,Arbeitstage!$I$2,0)","v":22},{"$f":"IF(Basisdaten!E21<=10,Arbeitstage!$J$2,0)","v":20},{"$f":"IF(Basisdaten!E21<=11,Arbeitstage!$K$2,0)","v":21},{"$f":"IF(Basisdaten!E21<=12,Arbeitstage!$L$2,0)","v":21}]
[1,{"$f":"Basisdaten!B22","v":40},{"$f":"Basisdaten!A22","v":"Jan-Oliver Knaus"},{"$f":"Basisdaten!U22","v":2022},{"$f":"IF(Basisdaten!E22=1,Arbeitstage!$A$2,0)","v":20},{"$f":"IF(Basisdaten!E22<=2,Arbeitstage!$B$2,0)","v":20},{"$f":"IF(Basisdaten!E22<=3,Arbeitstage!$C$2,0)","v":23},{"$f":"IF(Basisdaten!E22<=4,Arbeitstage!$D$2,0)","v":19},{"$f":"IF(Basisdaten!E22<=5,Arbeitstage!$E$2,0)","v":21},{"$f":"IF(Basisdaten!E22<=6,Arbeitstage!$F$2,0)","v":20},{"$f":"IF(Basisdaten!E22<=7,Arbeitstage!$G$2,0)","v":21},{"$f":"IF(Basisdaten!E22<=8,Arbeitstage!$H$2,0)","v":22},{"$f":"IF(Basisdaten!E22<=9,Arbeitstage!$I$2,0)","v":22},{"$f":"IF(Basisdaten!E22<=10,Arbeitstage!$J$2,0)","v":20},{"$f":"IF(Basisdaten!E22<=11,Arbeitstage!$K$2,0)","v":21},{"$f":"IF(Basisdaten!E22<=12,Arbeitstage!$L$2,0)","v":21}]
[1,{"$f":"Basisdaten!B23","v":40},{"$f":"Basisdaten!A23","v":"Hakan Celik_ULM"},{"$f":"Basisdaten!U23","v":2022},{"$f":"IF(Basisdaten!E23=1,Arbeitstage!$A$2,0)","v":0},{"$f":"IF(Basisdaten!E23<=2,Arbeitstage!$B$2,0)","v":0},{"$f":"IF(Basisdaten!E23<=3,Arbeitstage!$C$2,0)","v":0},{"$f":"IF(Basisdaten!E23<=4,Arbeitstage!$D$2,0)","v":0},{"$f":"IF(Basisdaten!E23<=5,Arbeitstage!$E$2,0)","v":0},{"$f":"IF(Basisdaten!E23<=6,Arbeitstage!$F$2,0)","v":0},{"$f":"IF(Basisdaten!E23<=7,Arbeitstage!$G$2,0)","v":0},{"$f":"IF(Basisdaten!E23<=8,Arbeitstage!$H$2,0)","v":0},{"$f":"IF(Basisdaten!E23<=9,Arbeitstage!$I$2,0)","v":0},{"$f":"IF(Basisdaten!E23<=10,Arbeitstage!$J$2,0)","v":0},{"$f":"IF(Basisdaten!E23<=11,Arbeitstage!$K$2,0)","v":0},{"$f":"IF(Basisdaten!E23<=12,Arbeitstage!$L$2,0)","v":0}]
[1,{"$f":"Basisdaten!B24","v":40},{"$f":"Basisdaten!A24","v":"Andreas Walter"},{"$f":"Basisdaten!U24","v":2022},{"$f":"IF(Basisdaten!E24=1,Arbeitstage!$A$2,0)","v":20},{"$f":"IF(Basisdaten!E24<=2,Arbeitstage!$B$2,0)","v":20},{"$f":"IF(Basisdaten!E24<=3,Arbeitstage!$C$2,0)","v":23},{"$f":"IF(Basisdaten!E24<=4,Arbeitstage!$D$2,0)","v":19},{"$f":"IF(Basisdaten!E24<=5,Arbeitstage!$E$2,0)","v":21},{"$f":"IF(Basisdaten!E24<=6,Arbeitstage!$F$2,0)","v":20},{"$f":"IF(Basisdaten!E24<=7,Arbeitstage!$G$2,0)","v":21},{"$f":"IF(Basisdaten!E24<=8,Arbeitstage!$H$2,0)","v":22},{"$f":"IF(Basisdaten!E24<=9,Arbeitstage!$I$2,0)","v":22},{"$f":"IF(Basisdaten!E24<=10,Arbeitstage!$J$2,0)","v":20},{"$f":"IF(Basisdaten!E24<=11,Arbeitstage!$K$2,0)","v":21},{"$f":"IF(Basisdaten!E24<=12,Arbeitstage!$L$2,0)","v":21}]
[1,{"$f":"Basisdaten!B25","v":40},{"$f":"Basisdaten!A25","v":"Fatih Cetiner"},{"$f":"Basisdaten!U25","v":2022},{"$f":"IF(Basisdaten!E25=1,Arbeitstage!$A$2,0)","v":20},{"$f":"IF(Basisdaten!E25<=2,Arbeitstage!$B$2,0)","v":20},{"$f":"IF(Basisdaten!E25<=3,Arbeitstage!$C$2,0)","v":23},{"$f":"IF(Basisdaten!E25<=4,Arbeitstage!$D$2,0)","v":19},{"$f":"IF(Basisdaten!E25<=5,Arbeitstage!$E$2,0)","v":21},{"$f":"IF(Basisdaten!E25<=6,Arbeitstage!$F$2,0)","v":20},{"$f":"IF(Basisdaten!E25<=7,Arbeitstage!$G$2,0)","v":21},{"$f":"IF(Basisdaten!E25<=8,Arbeitstage!$H$2,0)","v":22},{"$f":"IF(Basisdaten!E25<=9,Arbeitstage!$I$2,0)","v":22},{"$f":"IF(Basisdaten!E25<=10,Arbeitstage!$J$2,0)","v":20},{"$f":"IF(Basisdaten!E25<=11,Arbeitstage!$K$2,0)","v":21},{"$f":"IF(Basisdaten!E25<=12,Arbeitstage!$L$2,0)","v":21}]
[1,{"$f":"Basisdaten!B26","v":50},{"$f":"Basisdaten!A26","v":"Carlheinz Beylacher"},{"$f":"Basisdaten!U26","v":2022},{"$f":"IF(Basisdaten!E26=1,Arbeitstage!$A$2,0)","v":20},{"$f":"IF(Basisdaten!E26<=2,Arbeitstage!$B$2,0)","v":20},{"$f":"IF(Basisdaten!E26<=3,Arbeitstage!$C$2,0)","v":23},{"$f":"IF(Basisdaten!E26<=4,Arbeitstage!$D$2,0)","v":19},{"$f":"IF(Basisdaten!E26<=5,Arbeitstage!$E$2,0)","v":21},{"$f":"IF(Basisdaten!E26<=6,Arbeitstage!$F$2,0)","v":20},{"$f":"IF(Basisdaten!E26<=7,Arbeitstage!$G$2,0)","v":21},{"$f":"IF(Basisdaten!E26<=8,Arbeitstage!$H$2,0)","v":22},{"$f":"IF(Basisdaten!E26<=9,Arbeitstage!$I$2,0)","v":22},{"$f":"IF(Basisdaten!E26<=10,Arbeitstage!$J$2,0)","v":20},{"$f":"IF(Basisdaten!E26<=11,Arbeitstage!$K$2,0)","v":21},{"$f":"IF(Basisdaten!E26<=12,Arbeitstage!$L$2,0)","v":21}]
[1,{"$f":"Basisdaten!B27","v":50},{"$f":"Basisdaten!A27","v":"Christoph Ziegler"},{"$f":"Basisdaten!U27","v":2022},{"$f":"IF(Basisdaten!E27=1,Arbeitstage!$A$2,0)","v":20},{"$f":"IF(Basisdaten!E27<=2,Arbeitstage!$B$2,0)","v":20},{"$f":"IF(Basisdaten!E27<=3,Arbeitstage!$C$2,0)","v":23},{"$f":"IF(Basisdaten!E27<=4,Arbeitstage!$D$2,0)","v":19},{"$f":"IF(Basisdaten!E27<=5,Arbeitstage!$E$2,0)","v":21},{"$f":"IF(Basisdaten!E27<=6,Arbeitstage!$F$2,0)","v":20},{"$f":"IF(Basisdaten!E27<=7,Arbeitstage!$G$2,0)","v":21},{"$f":"IF(Basisdaten!E27<=8,Arbeitstage!$H$2,0)","v":22},{"$f":"IF(Basisdaten!E27<=9,Arbeitstage!$I$2,0)","v":22},{"$f":"IF(Basisdaten!E27<=10,Arbeitstage!$J$2,0)","v":20},{"$f":"IF(Basisdaten!E27<=11,Arbeitstage!$K$2,0)","v":21},{"$f":"IF(Basisdaten!E27<=12,Arbeitstage!$L$2,0)","v":21}]
[1,{"$f":"Basisdaten!B28","v":50},{"$f":"Basisdaten!A28","v":"Steffen Schiller"},{"$f":"Basisdaten!U28","v":2022},{"$f":"IF(Basisdaten!E28=1,Arbeitstage!$A$2,0)","v":20},{"$f":"IF(Basisdaten!E28<=2,Arbeitstage!$B$2,0)","v":20},{"$f":"IF(Basisdaten!E28<=3,Arbeitstage!$C$2,0)","v":23},{"$f":"IF(Basisdaten!E28<=4,Arbeitstage!$D$2,0)","v":19},{"$f":"IF(Basisdaten!E28<=5,Arbeitstage!$E$2,0)","v":21},{"$f":"IF(Basisdaten!E28<=6,Arbeitstage!$F$2,0)","v":20},{"$f":"IF(Basisdaten!E28<=7,Arbeitstage!$G$2,0)","v":21},{"$f":"IF(Basisdaten!E28<=8,Arbeitstage!$H$2,0)","v":22},{"$f":"IF(Basisdaten!E28<=9,Arbeitstage!$I$2,0)","v":22},{"$f":"IF(Basisdaten!E28<=10,Arbeitstage!$J$2,0)","v":20},{"$f":"IF(Basisdaten!E28<=11,Arbeitstage!$K$2,0)","v":21},{"$f":"IF(Basisdaten!E28<=12,Arbeitstage!$L$2,0)","v":21}]
[1,{"$f":"Basisdaten!B29","v":50},{"$f":"Basisdaten!A29","v":"André Pfeffer - SCBI"},{"$f":"Basisdaten!U29","v":2022},{"$f":"IF(Basisdaten!E29=1,Arbeitstage!$A$2,0)","v":20},{"$f":"IF(Basisdaten!E29<=2,Arbeitstage!$B$2,0)","v":20},{"$f":"IF(Basisdaten!E29<=3,Arbeitstage!$C$2,0)","v":23},{"$f":"IF(Basisdaten!E29<=4,Arbeitstage!$D$2,0)","v":19},{"$f":"IF(Basisdaten!E29<=5,Arbeitstage!$E$2,0)","v":21},{"$f":"IF(Basisdaten!E29<=6,Arbeitstage!$F$2,0)","v":20},{"$f":"IF(Basisdaten!E29<=7,Arbeitstage!$G$2,0)","v":21},{"$f":"IF(Basisdaten!E29<=8,Arbeitstage!$H$2,0)","v":22},{"$f":"IF(Basisdaten!E29<=9,Arbeitstage!$I$2,0)","v":22},{"$f":"IF(Basisdaten!E29<=10,Arbeitstage!$J$2,0)","v":20},{"$f":"IF(Basisdaten!E29<=11,Arbeitstage!$K$2,0)","v":21},{"$f":"IF(Basisdaten!E29<=12,Arbeitstage!$L$2,0)","v":21}]
[1,{"$f":"Basisdaten!B30","v":50},{"$f":"Basisdaten!A30","v":"Christian Wiedemann"},{"$f":"Basisdaten!U30","v":2022},{"$f":"IF(Basisdaten!E30=1,Arbeitstage!$A$2,0)","v":20},{"$f":"IF(Basisdaten!E30<=2,Arbeitstage!$B$2,0)","v":20},{"$f":"IF(Basisdaten!E30<=3,Arbeitstage!$C$2,0)","v":23},{"$f":"IF(Basisdaten!E30<=4,Arbeitstage!$D$2,0)","v":19},{"$f":"IF(Basisdaten!E30<=5,Arbeitstage!$E$2,0)","v":21},{"$f":"IF(Basisdaten!E30<=6,Arbeitstage!$F$2,0)","v":20},{"$f":"IF(Basisdaten!E30<=7,Arbeitstage!$G$2,0)","v":21},{"$f":"IF(Basisdaten!E30<=8,Arbeitstage!$H$2,0)","v":22},{"$f":"IF(Basisdaten!E30<=9,Arbeitstage!$I$2,0)","v":22},{"$f":"IF(Basisdaten!E30<=10,Arbeitstage!$J$2,0)","v":20},{"$f":"IF(Basisdaten!E30<=11,Arbeitstage!$K$2,0)","v":21},{"$f":"IF(Basisdaten!E30<=12,Arbeitstage!$L$2,0)","v":21}]
[1,{"$f":"Basisdaten!B31","v":50},{"$f":"Basisdaten!A31","v":"Daniel Aschmann_"},{"$f":"Basisdaten!U31","v":2022},{"$f":"IF(Basisdaten!E31=1,Arbeitstage!$A$2,0)","v":0},{"$f":"IF(Basisdaten!E31<=2,Arbeitstage!$B$2,0)","v":0},{"$f":"IF(Basisdaten!E31<=3,Arbeitstage!$C$2,0)","v":0},{"$f":"IF(Basisdaten!E31<=4,Arbeitstage!$D$2,0)","v":0},{"$f":"IF(Basisdaten!E31<=5,Arbeitstage!$E$2,0)","v":0},{"$f":"IF(Basisdaten!E31<=6,Arbeitstage!$F$2,0)","v":0},{"$f":"IF(Basisdaten!E31<=7,Arbeitstage!$G$2,0)","v":0},{"$f":"IF(Basisdaten!E31<=8,Arbeitstage!$H$2,0)","v":0},{"$f":"IF(Basisdaten!E31<=9,Arbeitstage!$I$2,0)","v":0},{"$f":"IF(Basisdaten!E31<=10,Arbeitstage!$J$2,0)","v":0},{"$f":"IF(Basisdaten!E31<=11,Arbeitstage!$K$2,0)","v":0},{"$f":"IF(Basisdaten!E31<=12,Arbeitstage!$L$2,0)","v":0}]
[2,{"$f":"Basisdaten!B32","v":60},{"$f":"Basisdaten!A32","v":"Dirk Heditzsch"},{"$f":"Basisdaten!U32","v":2022},{"$f":"IF(Basisdaten!E32=1,Arbeitstage!$A$2,0)","v":0},{"$f":"IF(Basisdaten!E32<=2,Arbeitstage!$B$2,0)","v":0},{"$f":"IF(Basisdaten!E32<=3,Arbeitstage!$C$2,0)","v":0},{"$f":"IF(Basisdaten!E32<=4,Arbeitstage!$D$2,0)","v":19},{"$f":"IF(Basisdaten!E32<=5,Arbeitstage!$E$2,0)","v":21},{"$f":"IF(Basisdaten!E32<=6,Arbeitstage!$F$2,0)","v":20},{"$f":"IF(Basisdaten!E32<=7,Arbeitstage!$G$2,0)","v":21},{"$f":"IF(Basisdaten!E32<=8,Arbeitstage!$H$2,0)","v":22},{"$f":"IF(Basisdaten!E32<=9,Arbeitstage!$I$2,0)","v":22},{"$f":"IF(Basisdaten!E32<=10,Arbeitstage!$J$2,0)","v":20},{"$f":"IF(Basisdaten!E32<=11,Arbeitstage!$K$2,0)","v":21},{"$f":"IF(Basisdaten!E32<=12,Arbeitstage!$L$2,0)","v":21}]
[2,{"$f":"Basisdaten!B33","v":60},{"$f":"Basisdaten!A33","v":"Marco Hanigk"},{"$f":"Basisdaten!U33","v":2022},{"$f":"IF(Basisdaten!E33=1,Arbeitstage!$A$2,0)","v":20},{"$f":"IF(Basisdaten!E33<=2,Arbeitstage!$B$2,0)","v":20},{"$f":"IF(Basisdaten!E33<=3,Arbeitstage!$C$2,0)","v":23},{"$f":"IF(Basisdaten!E33<=4,Arbeitstage!$D$2,0)","v":19},{"$f":"IF(Basisdaten!E33<=5,Arbeitstage!$E$2,0)","v":21},{"$f":"IF(Basisdaten!E33<=6,Arbeitstage!$F$2,0)","v":20},{"$f":"IF(Basisdaten!E33<=7,Arbeitstage!$G$2,0)","v":21},{"$f":"IF(Basisdaten!E33<=8,Arbeitstage!$H$2,0)","v":22},{"$f":"IF(Basisdaten!E33<=9,Arbeitstage!$I$2,0)","v":22},{"$f":"IF(Basisdaten!E33<=10,Arbeitstage!$J$2,0)","v":20},{"$f":"IF(Basisdaten!E33<=11,Arbeitstage!$K$2,0)","v":21},{"$f":"IF(Basisdaten!E33<=12,Arbeitstage!$L$2,0)","v":21}]
[2,{"$f":"Basisdaten!B34","v":60},{"$f":"Basisdaten!A34","v":"Marcel Lankes"},{"$f":"Basisdaten!U34","v":2022},{"$f":"IF(Basisdaten!E34=1,Arbeitstage!$A$2,0)","v":0},{"$f":"IF(Basisdaten!E34<=2,Arbeitstage!$B$2,0)","v":0},{"$f":"IF(Basisdaten!E34<=3,Arbeitstage!$C$2,0)","v":0},{"$f":"IF(Basisdaten!E34<=4,Arbeitstage!$D$2,0)","v":19},{"$f":"IF(Basisdaten!E34<=5,Arbeitstage!$E$2,0)","v":21},{"$f":"IF(Basisdaten!E34<=6,Arbeitstage!$F$2,0)","v":20},{"$f":"IF(Basisdaten!E34<=7,Arbeitstage!$G$2,0)","v":21},{"$f":"IF(Basisdaten!E34<=8,Arbeitstage!$H$2,0)","v":22},{"$f":"IF(Basisdaten!E34<=9,Arbeitstage!$I$2,0)","v":22},{"$f":"IF(Basisdaten!E34<=10,Arbeitstage!$J$2,0)","v":20},{"$f":"IF(Basisdaten!E34<=11,Arbeitstage!$K$2,0)","v":21},{"$f":"IF(Basisdaten!E34<=12,Arbeitstage!$L$2,0)","v":21}]
[2,{"$f":"Basisdaten!B35","v":60},{"$f":"Basisdaten!A35","v":"Roland Klier"},{"$f":"Basisdaten!U35","v":2022},{"$f":"IF(Basisdaten!E35=1,Arbeitstage!$A$2,0)","v":20},{"$f":"IF(Basisdaten!E35<=2,Arbeitstage!$B$2,0)","v":20},{"$f":"IF(Basisdaten!E35<=3,Arbeitstage!$C$2,0)","v":23},{"$f":"IF(Basisdaten!E35<=4,Arbeitstage!$D$2,0)","v":19},{"$f":"IF(Basisdaten!E35<=5,Arbeitstage!$E$2,0)","v":21},{"$f":"IF(Basisdaten!E35<=6,Arbeitstage!$F$2,0)","v":20},{"$f":"IF(Basisdaten!E35<=7,Arbeitstage!$G$2,0)","v":21},{"$f":"IF(Basisdaten!E35<=8,Arbeitstage!$H$2,0)","v":22},{"$f":"IF(Basisdaten!E35<=9,Arbeitstage!$I$2,0)","v":22},{"$f":"IF(Basisdaten!E35<=10,Arbeitstage!$J$2,0)","v":20},{"$f":"IF(Basisdaten!E35<=11,Arbeitstage!$K$2,0)","v":21},{"$f":"IF(Basisdaten!E35<=12,Arbeitstage!$L$2,0)","v":21}]
[2,{"$f":"Basisdaten!B36","v":60},{"$f":"Basisdaten!A36","v":"Mert Güngör"},{"$f":"Basisdaten!U36","v":2022},{"$f":"IF(Basisdaten!E36=1,Arbeitstage!$A$2,0)","v":0},{"$f":"IF(Basisdaten!E36<=2,Arbeitstage!$B$2,0)","v":0},{"$f":"IF(Basisdaten!E36<=3,Arbeitstage!$C$2,0)","v":0},{"$f":"IF(Basisdaten!E36<=4,Arbeitstage!$D$2,0)","v":0},{"$f":"IF(Basisdaten!E36<=5,Arbeitstage!$E$2,0)","v":0},{"$f":"IF(Basisdaten!E36<=6,Arbeitstage!$F$2,0)","v":20},{"$f":"IF(Basisdaten!E36<=7,Arbeitstage!$G$2,0)","v":21},{"$f":"IF(Basisdaten!E36<=8,Arbeitstage!$H$2,0)","v":22},{"$f":"IF(Basisdaten!E36<=9,Arbeitstage!$I$2,0)","v":22},{"$f":"IF(Basisdaten!E36<=10,Arbeitstage!$J$2,0)","v":20},{"$f":"IF(Basisdaten!E36<=11,Arbeitstage!$K$2,0)","v":21},{"$f":"IF(Basisdaten!E36<=12,Arbeitstage!$L$2,0)","v":21}]
[2,{"$f":"Basisdaten!B37","v":60},{"$f":"Basisdaten!A37","v":"Matthias Hagg"},{"$f":"Basisdaten!U37","v":2022},{"$f":"IF(Basisdaten!E37=1,Arbeitstage!$A$2,0)","v":20},{"$f":"IF(Basisdaten!E37<=2,Arbeitstage!$B$2,0)","v":20},{"$f":"IF(Basisdaten!E37<=3,Arbeitstage!$C$2,0)","v":23},{"$f":"IF(Basisdaten!E37<=4,Arbeitstage!$D$2,0)","v":19},{"$f":"IF(Basisdaten!E37<=5,Arbeitstage!$E$2,0)","v":21},{"$f":"IF(Basisdaten!E37<=6,Arbeitstage!$F$2,0)","v":20},{"$f":"IF(Basisdaten!E37<=7,Arbeitstage!$G$2,0)","v":21},{"$f":"IF(Basisdaten!E37<=8,Arbeitstage!$H$2,0)","v":22},{"$f":"IF(Basisdaten!E37<=9,Arbeitstage!$I$2,0)","v":22},{"$f":"IF(Basisdaten!E37<=10,Arbeitstage!$J$2,0)","v":20},{"$f":"IF(Basisdaten!E37<=11,Arbeitstage!$K$2,0)","v":21},{"$f":"IF(Basisdaten!E37<=12,Arbeitstage!$L$2,0)","v":21}]
[2,{"$f":"Basisdaten!B38","v":60},{"$f":"Basisdaten!A38","v":"Walter Schlosser"},{"$f":"Basisdaten!U38","v":2022},{"$f":"IF(Basisdaten!E38=1,Arbeitstage!$A$2,0)","v":20},{"$f":"IF(Basisdaten!E38<=2,Arbeitstage!$B$2,0)","v":20},{"$f":"IF(Basisdaten!E38<=3,Arbeitstage!$C$2,0)","v":23},{"$f":"IF(Basisdaten!E38<=4,Arbeitstage!$D$2,0)","v":19},{"$f":"IF(Basisdaten!E38<=5,Arbeitstage!$E$2,0)","v":21},{"$f":"IF(Basisdaten!E38<=6,Arbeitstage!$F$2,0)","v":20},{"$f":"IF(Basisdaten!E38<=7,Arbeitstage!$G$2,0)","v":21},{"$f":"IF(Basisdaten!E38<=8,Arbeitstage!$H$2,0)","v":22},{"$f":"IF(Basisdaten!E38<=9,Arbeitstage!$I$2,0)","v":22},{"$f":"IF(Basisdaten!E38<=10,Arbeitstage!$J$2,0)","v":20},{"$f":"IF(Basisdaten!E38<=11,Arbeitstage!$K$2,0)","v":21},{"$f":"IF(Basisdaten!E38<=12,Arbeitstage!$L$2,0)","v":21}]
[2,{"$f":"Basisdaten!B39","v":60},{"$f":"Basisdaten!A39","v":"Udo Spindler"},{"$f":"Basisdaten!U39","v":2022},{"$f":"IF(Basisdaten!E39=1,Arbeitstage!$A$2,0)","v":20},{"$f":"IF(Basisdaten!E39<=2,Arbeitstage!$B$2,0)","v":20},{"$f":"IF(Basisdaten!E39<=3,Arbeitstage!$C$2,0)","v":23},{"$f":"IF(Basisdaten!E39<=4,Arbeitstage!$D$2,0)","v":19},{"$f":"IF(Basisdaten!E39<=5,Arbeitstage!$E$2,0)","v":21},{"$f":"IF(Basisdaten!E39<=6,Arbeitstage!$F$2,0)","v":20},{"$f":"IF(Basisdaten!E39<=7,Arbeitstage!$G$2,0)","v":21},{"$f":"IF(Basisdaten!E39<=8,Arbeitstage!$H$2,0)","v":22},{"$f":"IF(Basisdaten!E39<=9,Arbeitstage!$I$2,0)","v":22},{"$f":"IF(Basisdaten!E39<=10,Arbeitstage!$J$2,0)","v":20},{"$f":"IF(Basisdaten!E39<=11,Arbeitstage!$K$2,0)","v":21},{"$f":"IF(Basisdaten!E39<=12,Arbeitstage!$L$2,0)","v":21}]
[2,{"$f":"Basisdaten!B40","v":60},{"$f":"Basisdaten!A40","v":"Marcel Vogler"},{"$f":"Basisdaten!U40","v":2022},{"$f":"IF(Basisdaten!E40=1,Arbeitstage!$A$2,0)","v":20},{"$f":"IF(Basisdaten!E40<=2,Arbeitstage!$B$2,0)","v":20},{"$f":"IF(Basisdaten!E40<=3,Arbeitstage!$C$2,0)","v":23},{"$f":"IF(Basisdaten!E40<=4,Arbeitstage!$D$2,0)","v":19},{"$f":"IF(Basisdaten!E40<=5,Arbeitstage!$E$2,0)","v":21},{"$f":"IF(Basisdaten!E40<=6,Arbeitstage!$F$2,0)","v":20},{"$f":"IF(Basisdaten!E40<=7,Arbeitstage!$G$2,0)","v":21},{"$f":"IF(Basisdaten!E40<=8,Arbeitstage!$H$2,0)","v":22},{"$f":"IF(Basisdaten!E40<=9,Arbeitstage!$I$2,0)","v":22},{"$f":"IF(Basisdaten!E40<=10,Arbeitstage!$J$2,0)","v":20},{"$f":"IF(Basisdaten!E40<=11,Arbeitstage!$K$2,0)","v":21},{"$f":"IF(Basisdaten!E40<=12,Arbeitstage!$L$2,0)","v":21}]
[2,{"$f":"Basisdaten!B41","v":60},{"$f":"Basisdaten!A41","v":"Raphael Marksteiner"},{"$f":"Basisdaten!U41","v":2022},{"$f":"IF(Basisdaten!E41=1,Arbeitstage!$A$2,0)","v":0},{"$f":"IF(Basisdaten!E41<=2,Arbeitstage!$B$2,0)","v":0},{"$f":"IF(Basisdaten!E41<=3,Arbeitstage!$C$2,0)","v":0},{"$f":"IF(Basisdaten!E41<=4,Arbeitstage!$D$2,0)","v":19},{"$f":"IF(Basisdaten!E41<=5,Arbeitstage!$E$2,0)","v":21},{"$f":"IF(Basisdaten!E41<=6,Arbeitstage!$F$2,0)","v":20},{"$f":"IF(Basisdaten!E41<=7,Arbeitstage!$G$2,0)","v":21},{"$f":"IF(Basisdaten!E41<=8,Arbeitstage!$H$2,0)","v":22},{"$f":"IF(Basisdaten!E41<=9,Arbeitstage!$I$2,0)","v":22},{"$f":"IF(Basisdaten!E41<=10,Arbeitstage!$J$2,0)","v":20},{"$f":"IF(Basisdaten!E41<=11,Arbeitstage!$K$2,0)","v":21},{"$f":"IF(Basisdaten!E41<=12,Arbeitstage!$L$2,0)","v":21}]
[2,{"$f":"Basisdaten!B42","v":60},{"$f":"Basisdaten!A42","v":"Markus Appeljun - SCBI"},{"$f":"Basisdaten!U42","v":2022},{"$f":"IF(Basisdaten!E42=1,Arbeitstage!$A$2,0)","v":0},{"$f":"IF(Basisdaten!E42<=2,Arbeitstage!$B$2,0)","v":20},{"$f":"IF(Basisdaten!E42<=3,Arbeitstage!$C$2,0)","v":23},{"$f":"IF(Basisdaten!E42<=4,Arbeitstage!$D$2,0)","v":19},{"$f":"IF(Basisdaten!E42<=5,Arbeitstage!$E$2,0)","v":21},{"$f":"IF(Basisdaten!E42<=6,Arbeitstage!$F$2,0)","v":20},{"$f":"IF(Basisdaten!E42<=7,Arbeitstage!$G$2,0)","v":21},{"$f":"IF(Basisdaten!E42<=8,Arbeitstage!$H$2,0)","v":22},{"$f":"IF(Basisdaten!E42<=9,Arbeitstage!$I$2,0)","v":22},{"$f":"IF(Basisdaten!E42<=10,Arbeitstage!$J$2,0)","v":20},{"$f":"IF(Basisdaten!E42<=11,Arbeitstage!$K$2,0)","v":21},{"$f":"IF(Basisdaten!E42<=12,Arbeitstage!$L$2,0)","v":21}]
[2,{"$f":"Basisdaten!B43","v":60},{"$f":"Basisdaten!A43","v":"Andreas Göllner"},{"$f":"Basisdaten!U43","v":2022},{"$f":"IF(Basisdaten!E43=1,Arbeitstage!$A$2,0)","v":20},{"$f":"IF(Basisdaten!E43<=2,Arbeitstage!$B$2,0)","v":20},{"$f":"IF(Basisdaten!E43<=3,Arbeitstage!$C$2,0)","v":23},{"$f":"IF(Basisdaten!E43<=4,Arbeitstage!$D$2,0)","v":19},{"$f":"IF(Basisdaten!E43<=5,Arbeitstage!$E$2,0)","v":21},{"$f":"IF(Basisdaten!E43<=6,Arbeitstage!$F$2,0)","v":20},{"$f":"IF(Basisdaten!E43<=7,Arbeitstage!$G$2,0)","v":21},{"$f":"IF(Basisdaten!E43<=8,Arbeitstage!$H$2,0)","v":22},{"$f":"IF(Basisdaten!E43<=9,Arbeitstage!$I$2,0)","v":22},{"$f":"IF(Basisdaten!E43<=10,Arbeitstage!$J$2,0)","v":20},{"$f":"IF(Basisdaten!E43<=11,Arbeitstage!$K$2,0)","v":21},{"$f":"IF(Basisdaten!E43<=12,Arbeitstage!$L$2,0)","v":21}]
[2,{"$f":"Basisdaten!B44","v":60},{"$f":"Basisdaten!A44","v":"Marcus Stangl"},{"$f":"Basisdaten!U44","v":2022},{"$f":"IF(Basisdaten!E44=1,Arbeitstage!$A$2,0)","v":20},{"$f":"IF(Basisdaten!E44<=2,Arbeitstage!$B$2,0)","v":20},{"$f":"IF(Basisdaten!E44<=3,Arbeitstage!$C$2,0)","v":23},{"$f":"IF(Basisdaten!E44<=4,Arbeitstage!$D$2,0)","v":19},{"$f":"IF(Basisdaten!E44<=5,Arbeitstage!$E$2,0)","v":21},{"$f":"IF(Basisdaten!E44<=6,Arbeitstage!$F$2,0)","v":20},{"$f":"IF(Basisdaten!E44<=7,Arbeitstage!$G$2,0)","v":21},{"$f":"IF(Basisdaten!E44<=8,Arbeitstage!$H$2,0)","v":22},{"$f":"IF(Basisdaten!E44<=9,Arbeitstage!$I$2,0)","v":22},{"$f":"IF(Basisdaten!E44<=10,Arbeitstage!$J$2,0)","v":20},{"$f":"IF(Basisdaten!E44<=11,Arbeitstage!$K$2,0)","v":21},{"$f":"IF(Basisdaten!E44<=12,Arbeitstage!$L$2,0)","v":21}]
[2,{"$f":"Basisdaten!B45","v":60},{"$f":"Basisdaten!A45","v":"Christoph Rottenkolber"},{"$f":"Basisdaten!U45","v":2022},{"$f":"IF(Basisdaten!E45=1,Arbeitstage!$A$2,0)","v":0},{"$f":"IF(Basisdaten!E45<=2,Arbeitstage!$B$2,0)","v":0},{"$f":"IF(Basisdaten!E45<=3,Arbeitstage!$C$2,0)","v":0},{"$f":"IF(Basisdaten!E45<=4,Arbeitstage!$D$2,0)","v":19},{"$f":"IF(Basisdaten!E45<=5,Arbeitstage!$E$2,0)","v":21},{"$f":"IF(Basisdaten!E45<=6,Arbeitstage!$F$2,0)","v":20},{"$f":"IF(Basisdaten!E45<=7,Arbeitstage!$G$2,0)","v":21},{"$f":"IF(Basisdaten!E45<=8,Arbeitstage!$H$2,0)","v":22},{"$f":"IF(Basisdaten!E45<=9,Arbeitstage!$I$2,0)","v":22},{"$f":"IF(Basisdaten!E45<=10,Arbeitstage!$J$2,0)","v":20},{"$f":"IF(Basisdaten!E45<=11,Arbeitstage!$K$2,0)","v":21},{"$f":"IF(Basisdaten!E45<=12,Arbeitstage!$L$2,0)","v":21}]
[2,{"$f":"Basisdaten!B46","v":60},{"$f":"Basisdaten!A46","v":"Michael Cattide - SCBI"},{"$f":"Basisdaten!U46","v":2022},{"$f":"IF(Basisdaten!E46=1,Arbeitstage!$A$2,0)","v":20},{"$f":"IF(Basisdaten!E46<=2,Arbeitstage!$B$2,0)","v":20},{"$f":"IF(Basisdaten!E46<=3,Arbeitstage!$C$2,0)","v":23},{"$f":"IF(Basisdaten!E46<=4,Arbeitstage!$D$2,0)","v":19},{"$f":"IF(Basisdaten!E46<=5,Arbeitstage!$E$2,0)","v":21},{"$f":"IF(Basisdaten!E46<=6,Arbeitstage!$F$2,0)","v":20},{"$f":"IF(Basisdaten!E46<=7,Arbeitstage!$G$2,0)","v":21},{"$f":"IF(Basisdaten!E46<=8,Arbeitstage!$H$2,0)","v":22},{"$f":"IF(Basisdaten!E46<=9,Arbeitstage!$I$2,0)","v":22},{"$f":"IF(Basisdaten!E46<=10,Arbeitstage!$J$2,0)","v":20},{"$f":"IF(Basisdaten!E46<=11,Arbeitstage!$K$2,0)","v":21},{"$f":"IF(Basisdaten!E46<=12,Arbeitstage!$L$2,0)","v":21}]
[2,{"$f":"Basisdaten!B47","v":60},{"$f":"Basisdaten!A47","v":"Dennis Grohmann"},{"$f":"Basisdaten!U47","v":2022},{"$f":"IF(Basisdaten!E47=1,Arbeitstage!$A$2,0)","v":0},{"$f":"IF(Basisdaten!E47<=2,Arbeitstage!$B$2,0)","v":0},{"$f":"IF(Basisdaten!E47<=3,Arbeitstage!$C$2,0)","v":0},{"$f":"IF(Basisdaten!E47<=4,Arbeitstage!$D$2,0)","v":0},{"$f":"IF(Basisdaten!E47<=5,Arbeitstage!$E$2,0)","v":0},{"$f":"IF(Basisdaten!E47<=6,Arbeitstage!$F$2,0)","v":0},{"$f":"IF(Basisdaten!E47<=7,Arbeitstage!$G$2,0)","v":0},{"$f":"IF(Basisdaten!E47<=8,Arbeitstage!$H$2,0)","v":0},{"$f":"IF(Basisdaten!E47<=9,Arbeitstage!$I$2,0)","v":0},{"$f":"IF(Basisdaten!E47<=10,Arbeitstage!$J$2,0)","v":0},{"$f":"IF(Basisdaten!E47<=11,Arbeitstage!$K$2,0)","v":0},{"$f":"IF(Basisdaten!E47<=12,Arbeitstage!$L$2,0)","v":0}]
[2,{"$f":"Basisdaten!B48","v":60},{"$f":"Basisdaten!A48","v":"Simone Groß - SCBZ"},{"$f":"Basisdaten!U48","v":2022},{"$f":"IF(Basisdaten!E48=1,Arbeitstage!$A$2,0)","v":20},{"$f":"IF(Basisdaten!E48<=2,Arbeitstage!$B$2,0)","v":20},{"$f":"IF(Basisdaten!E48<=3,Arbeitstage!$C$2,0)","v":23},{"$f":"IF(Basisdaten!E48<=4,Arbeitstage!$D$2,0)","v":19},{"$f":"IF(Basisdaten!E48<=5,Arbeitstage!$E$2,0)","v":21},{"$f":"IF(Basisdaten!E48<=6,Arbeitstage!$F$2,0)","v":20},{"$f":"IF(Basisdaten!E48<=7,Arbeitstage!$G$2,0)","v":21},{"$f":"IF(Basisdaten!E48<=8,Arbeitstage!$H$2,0)","v":22},{"$f":"IF(Basisdaten!E48<=9,Arbeitstage!$I$2,0)","v":22},{"$f":"IF(Basisdaten!E48<=10,Arbeitstage!$J$2,0)","v":20},{"$f":"IF(Basisdaten!E48<=11,Arbeitstage!$K$2,0)","v":21},{"$f":"IF(Basisdaten!E48<=12,Arbeitstage!$L$2,0)","v":21}]
[1,{"$f":"Basisdaten!B49","v":55},{"$f":"Basisdaten!A49","v":"Jens Haller"},{"$f":"Basisdaten!U49","v":2022},{"$f":"IF(Basisdaten!E49=1,Arbeitstage!$A$2,0)","v":20},{"$f":"IF(Basisdaten!E49<=2,Arbeitstage!$B$2,0)","v":20},{"$f":"IF(Basisdaten!E49<=3,Arbeitstage!$C$2,0)","v":23},{"$f":"IF(Basisdaten!E49<=4,Arbeitstage!$D$2,0)","v":19},{"$f":"IF(Basisdaten!E49<=5,Arbeitstage!$E$2,0)","v":21},{"$f":"IF(Basisdaten!E49<=6,Arbeitstage!$F$2,0)","v":20},{"$f":"IF(Basisdaten!E49<=7,Arbeitstage!$G$2,0)","v":21},{"$f":"IF(Basisdaten!E49<=8,Arbeitstage!$H$2,0)","v":22},{"$f":"IF(Basisdaten!E49<=9,Arbeitstage!$I$2,0)","v":22},{"$f":"IF(Basisdaten!E49<=10,Arbeitstage!$J$2,0)","v":20},{"$f":"IF(Basisdaten!E49<=11,Arbeitstage!$K$2,0)","v":21},{"$f":"IF(Basisdaten!E49<=12,Arbeitstage!$L$2,0)","v":21}]
[1,{"$f":"Basisdaten!B50","v":55},{"$f":"Basisdaten!A50","v":"Ioannis Tsesmelis_"},{"$f":"Basisdaten!U50","v":2022},{"$f":"IF(Basisdaten!E50=1,Arbeitstage!$A$2,0)","v":0},{"$f":"IF(Basisdaten!E50<=2,Arbeitstage!$B$2,0)","v":0},{"$f":"IF(Basisdaten!E50<=3,Arbeitstage!$C$2,0)","v":0},{"$f":"IF(Basisdaten!E50<=4,Arbeitstage!$D$2,0)","v":0},{"$f":"IF(Basisdaten!E50<=5,Arbeitstage!$E$2,0)","v":0},{"$f":"IF(Basisdaten!E50<=6,Arbeitstage!$F$2,0)","v":0},{"$f":"IF(Basisdaten!E50<=7,Arbeitstage!$G$2,0)","v":0},{"$f":"IF(Basisdaten!E50<=8,Arbeitstage!$H$2,0)","v":0},{"$f":"IF(Basisdaten!E50<=9,Arbeitstage!$I$2,0)","v":0},{"$f":"IF(Basisdaten!E50<=10,Arbeitstage!$J$2,0)","v":0},{"$f":"IF(Basisdaten!E50<=11,Arbeitstage!$K$2,0)","v":0},{"$f":"IF(Basisdaten!E50<=12,Arbeitstage!$L$2,0)","v":0}]
[1,{"$f":"Basisdaten!B51","v":55},{"$f":"Basisdaten!A51","v":"Matthias Mirga_GZ"},{"$f":"Basisdaten!U51","v":2022},{"$f":"IF(Basisdaten!E51=1,Arbeitstage!$A$2,0)","v":20},{"$f":"IF(Basisdaten!E51<=2,Arbeitstage!$B$2,0)","v":20},{"$f":"IF(Basisdaten!E51<=3,Arbeitstage!$C$2,0)","v":23},{"$f":"IF(Basisdaten!E51<=4,Arbeitstage!$D$2,0)","v":19},{"$f":"IF(Basisdaten!E51<=5,Arbeitstage!$E$2,0)","v":21},{"$f":"IF(Basisdaten!E51<=6,Arbeitstage!$F$2,0)","v":20},{"$f":"IF(Basisdaten!E51<=7,Arbeitstage!$G$2,0)","v":21},{"$f":"IF(Basisdaten!E51<=8,Arbeitstage!$H$2,0)","v":22},{"$f":"IF(Basisdaten!E51<=9,Arbeitstage!$I$2,0)","v":22},{"$f":"IF(Basisdaten!E51<=10,Arbeitstage!$J$2,0)","v":20},{"$f":"IF(Basisdaten!E51<=11,Arbeitstage!$K$2,0)","v":21},{"$f":"IF(Basisdaten!E51<=12,Arbeitstage!$L$2,0)","v":21}]
[2,{"$f":"Basisdaten!B52","v":60},{"$f":"Basisdaten!A52","v":"Hakan Celik"},{"$f":"Basisdaten!U52","v":2022},{"$f":"IF(Basisdaten!E52=1,Arbeitstage!$A$2,0)","v":20},{"$f":"IF(Basisdaten!E52<=2,Arbeitstage!$B$2,0)","v":20},{"$f":"IF(Basisdaten!E52<=3,Arbeitstage!$C$2,0)","v":23},{"$f":"IF(Basisdaten!E52<=4,Arbeitstage!$D$2,0)","v":19},{"$f":"IF(Basisdaten!E52<=5,Arbeitstage!$E$2,0)","v":21},{"$f":"IF(Basisdaten!E52<=6,Arbeitstage!$F$2,0)","v":20},{"$f":"IF(Basisdaten!E52<=7,Arbeitstage!$G$2,0)","v":21},{"$f":"IF(Basisdaten!E52<=8,Arbeitstage!$H$2,0)","v":22},{"$f":"IF(Basisdaten!E52<=9,Arbeitstage!$I$2,0)","v":22},{"$f":"IF(Basisdaten!E52<=10,Arbeitstage!$J$2,0)","v":20},{"$f":"IF(Basisdaten!E52<=11,Arbeitstage!$K$2,0)","v":21},{"$f":"IF(Basisdaten!E52<=12,Arbeitstage!$L$2,0)","v":21}]
[1,{"$f":"Basisdaten!B53","v":40},{"$f":"Basisdaten!A53","v":"Tom Sprongl"}]
[null,{"$f":"Basisdaten!B54","v":0},{"$f":"Basisdaten!A54","v":"SB 5"}]
[null,{"$f":"Basisdaten!B55","v":0},{"$f":"Basisdaten!A55","v":"SB 6"}]
[null,{"$f":"Basisdaten!B56","v":0},{"$f":"Basisdaten!A56","v":"SB 7"}]
[null,{"$f":"Basisdaten!B57","v":0},{"$f":"Basisdaten!A57","v":"SB 8"}]
[null,{"$f":"Basisdaten!B58","v":0},{"$f":"Basisdaten!A58","v":"SB 9"}]
[null,{"$f":"Basisdaten!B59","v":0},{"$f":"Basisdaten!A59","v":"SB 10"}]